{"text_format":"3","workbook":"xlsx","n_sheets":19,"sheets":["Instructions","Order Form","Proposal","Install Calc","Install Bid","Items","Accessories","Modifications and Fees","Job Options","Sage Upload","New Customer Upload","Dealer Support Items","Color","Species","Door Style","Drawer Head","Custom Finish","Misc Dropdowns","CONCAT"],"not_rendered":{"images":40,"external_links":4,"defined_names":66,"comments":3},"read":"whole","date_system":"1900"}

{"sheet":"Instructions","index":0,"n_rows":160,"n_cols":11,"rows_kept":160,"merged":[[0,1,0,11],[1,1,5,5],[2,6,3,11],[4,6,4,11],[5,6,5,11],[6,1,6,5],[8,2,8,5],[8,6,8,10],[9,2,9,5],[9,7,9,10],[11,2,13,7],[14,2,15,7],[16,2,21,7],[22,2,24,7],[25,2,27,7],[28,2,31,7],[32,2,33,7],[32,8,32,10],[34,2,34,7],[35,2,38,7],[39,2,44,7],[45,2,48,7],[49,2,50,7],[51,2,52,7],[53,2,56,7],[57,2,58,7],[59,2,60,7],[61,2,64,7],[65,2,66,7],[67,2,70,7],[76,2,78,7],[79,2,79,7],[80,2,80,7],[81,2,81,7],[82,2,82,7],[83,2,85,7],[86,2,87,7],[88,2,89,7],[90,2,92,7],[93,2,94,7],[95,2,98,7],[108,5,109,5],[108,6,109,6],[108,9,108,10],[109,9,109,10],[110,6,111,6],[110,9,110,10],[111,9,111,10],[112,6,113,6],[112,9,112,10],[113,9,113,10],[114,6,115,6],[114,9,114,10],[115,9,115,10],[116,3,117,3],[116,6,117,6],[116,9,116,10],[117,9,117,10],[117,14,118,14],[117,15,118,16],[118,3,119,3],[118,9,118,10],[119,9,119,10],[119,14,120,14],[119,15,120,16],[120,3,121,3],[120,9,120,10],[121,9,121,10],[121,14,122,14],[121,15,122,16],[122,2,123,2],[122,3,123,3],[124,2,125,2],[124,3,125,3],[128,9,128,10],[129,5,130,5],[129,6,130,6],[129,8,130,8],[129,9,130,10],[131,5,132,5],[131,6,132,6],[131,8,132,8],[131,9,132,10],[133,5,134,5],[133,6,134,6],[137,2,139,2],[137,3,139,3],[137,8,138,8],[137,9,138,10],[139,8,141,8],[139,9,141,10],[140,2,141,2],[140,3,141,3],[141,5,142,5],[141,6,142,6],[142,2,143,2],[142,3,143,3],[142,8,144,8],[142,9,144,10],[143,5,144,5],[143,6,144,6],[144,2,145,2],[144,3,145,3],[145,5,146,5],[145,6,146,6],[145,8,146,8],[145,9,146,10],[146,2,147,2],[146,3,147,3],[147,5,148,5],[147,6,148,6],[147,8,149,8],[147,9,149,10],[148,2,149,2],[148,3,149,3],[149,5,150,5],[149,6,150,6],[150,2,151,2],[150,3,151,3],[150,8,151,8],[150,9,151,10],[151,5,152,5],[151,6,152,6],[152,2,154,2],[152,3,154,3],[152,8,153,8],[152,9,153,10],[153,5,154,5],[153,6,154,6],[154,8,155,8],[154,9,155,10],[156,5,158,6],[156,8,157,8],[156,9,157,10]]}
[]
[]
[{"$nulls":6},"Welcome to the Founder's Choice Order Form!"]
[]
[]
[{"$nulls":6},"Please read below as our menu options have changed. "]
[null,"Instructions Page"]
[]
[null,null,"Fill out the order form as completely as possible!",{"$nulls":3}," Please check the following link to make sure you have the most updated order form.  The revision dates will match the following:"]
[null,null,"As of 2018 the order desk will only be accepting fully filled out orders. This means it needs to have a green border before sending to Orders@foundershoice.com",{"$nulls":3},{"$f":"K160","v":"Revision Date: 7.16.2018"},"Link"]
[null,null,"Instructions:"]
[null,null,"·The Craftsman and Select order form have merged! This means that if you have a mixed order that is 90% Select but just a few items that are Craftsman they can be on one order form. However, if just one cabinet is added to the order that is craftsman, it will subject the order to a Craftsman lead time."]
[]
[]
[null,null,"·Different Color Order Borders – The order desk will only accept orders that have a green border. When an order is in the process of being filled out, the form will say what you are missing in red."]
[]
[null,null,"·Lead Times- Have been added to the order form, they change as you update your order, please note that these lead times are from the point of approval, NOT when the order is turned in.  \n                 -Craftsman is 5 weeks\n                 -Select FC Paint is 4 weeks\n                 -Select FC Stain is 4 weeks\n                 -Select In Stock Color is 3 weeks (Mocha, White Pearl, Wheat, Espresso)"]
[]
[]
[]
[]
[]
[null,null,"·Tax Rate- Is no longer filled in, however if you put the address in the hyperlink (Blue underline) it will give you the correct tax rate. Be sure to use Total Tax Rate.  Please use Firefox or Internet Explorer to open, the website does not allow Chrome. The Tax Rate site is working to resolve this issue. For customers with valid reseller permits who are exempt from tax, simply enter the text \"RESELLER\" in that field. For customers who are out of state, write \"OOS\" or \"Out of State\" to calculate a 0% tax."]
[]
[]
[null,null,"·Contact Information- Should be filled out for whoever is paying for the job.  This includes Customer Name, Contact Name, Customer PO, Telephone, Email and of course, Billing Information. Telephone Number – Please enter in the number with no spaces, dashes or parenthesis. There is a formula to ensure we are receiving a complete number."]
[]
[]
[null,null,"·Customer Number, Bill to and Ship to Addresses, Ship to Method, Delivery Cost, and Same as Bill to Address – After selecting ship to method and entering customer number (if available) some unnecessary fields will disappear. This is to aid you with quick, accurate order placement. See the sales order response to the right for the location of your customer number. "]
[]
[]
[]
[null,null,"·Ship to Method – The option for will call has been changed to Will Call - McKinley Ave E to ensure the pick up location is clear. "]
[]
[null,null,"·Factor – Please call in to the order desk with any questions about your approved factor. "]
[null,null,"·Customer Number and Customer PO – Customer number is the number on all of your Sales Orders, it is how they are billed in our accounting system. A repeat customer will always maintain the same customer number, and it is visible on every sales order response (see image to right). Customer PO - Please assign an unique identifier for each particular job that will distinguish them for billing purposes."]
[]
[]
[]
[null,null,"· Order Selections for a Select Order – The \"Select\" Order Type and pricing will be produced with following:\nSpecies - White Birch\nDrawer Head - 5 Piece\nCustom Finish - None\nDoor Style-Grandview or Select Shaker\nColor - Any option, this selection won't affect Order type, but it will affect lead times"]
[]
[]
[]
[]
[]
[null,null,"·Item List– Please try to only sell items that are on the item list and use the corresponding codes. If you are unsure what item to use, please contact the order desk. Also these forms are uploaded, every item needs to have a cabinet code in the left column. Notes are okay, if there is a specific note that is with that item, make sure they are on the same line."]
[]
[]
[]
[null,null,"·Add lines on Order Form– There is a drop down icon just to the left of where the items are entered. Check both 1 and 2 pages in order to get more lines. The pull line is hidden for administrative purposes. "]
[]
[null,null,"·Custom Requests - If the order form prompts that a drawing is required, use the notes field for the custom item's name and the quote number. The custom cabinet request must also be submitted to the order desk with the order."]
[]
[null,null,"·Farm Sinks- We require farm sinks to be delivered to our McKinley Ave location in order to ensure that we deliver an accurate product. When there is a farm sink on the order, use the notes field to list the Manufacturer's item code for the sink and the estimated delivery date for when the sink will arrive in order for our engineering department  to create a drawing."]
[]
[]
[]
[null,null,"·Same Items with Multiple Options- In order to help with confusion in the shop. If you are ordering multiple of the same Item Code, with different options/notes on each, please use separate lines."]
[]
[null,null,"·Notes, Accessories and Modifications on Items- Please make sure that the cabinet is referenced in the modifications and accessories AND the modifications and Accessories are mentions on the cabinet line. Applied Skins- This will automatically add the price for applied skins if right, left or both is selected."]
[]
[null,null,"·Install on Multiple Orders- Please use one single install bid for orders that are going to be installed on the same day. If the orders are installed on separate days, they need to make the minimum quantity requirements. Please add INSTALL as an item to largest order and make notes on other orders.  Example: (INSTALL should be on kitchen order, largest order. On the Bathroom order, should have a note saying \"Install Total on Kitchen\""]
[]
[]
[]
[null,null,"·Two Delivery Drivers- The sheet now automatically calculates if a second delivery driver is needed. This applies to deliveries with Tall cabinets (OC, LC, and UC), or orders with greater than 30 cabinets will be charged an extra x1.5 the selected delivery charge."]
[]
[null,null,"·Craftsman Modifications-  There are some modifications that are craftsman only modifications, because they require more customization. These are noted on the modification tab with a CR in the order type. Please make sure the cabinet with this modification has a Craftsman (CR) order type. It can be modified on this column by selecting \"Craftsman Pricing\" on the right hand column of the order form. This will only be used when an otherwise Select order, needs to have craftsman modification, thus switching this particular item to craftsman order type. "]
[]
[]
[]
[]
[{"$nulls":10},"Incorrect"]
[{"$nulls":10},"Correct"]
[]
[null,null,"Updates:"]
[null,null,"·Cut For Glass (CFG)– If you would like a Cut for Glass cabinet, simply use the drop down menu and the price will automatically change. For the divided option, number of dividers differs depending on the size of the cabinet. For the framed option, the design will stay consistent."]
[]
[]
[null,null,"·Colors– Nutmeg has officially been retired. Please use Amber for a similar color."]
[null,null,"·Species – Hickory has been added to the species drop down list"]
[null,null,"·Drawer Head – Top drawer Slab Only / 5 Piece Only are now options."]
[null,null,"·Job Options Tab – Compare Order Specification Upcharges, Craftsman and Select on one sheet!"]
[null,null,"·Species Match Interior & Color Matched Interior – Are also located in the same drop down menu as Dual Tone. Color Matched interior will be a stained or painted White Birch interior. Species Matched interior will be a color and species matched interior to the rest of the order specifications.  "]
[]
[]
[null,null,"·Furniture Bottom–Face Frame of the cabinet is stretched towards the bottom to eliminate the toekick\n Furniture Toe kick–Face frame of the cabinet is extended to be flush with the bottom of the cabinet."]
[]
[null,null,"·Order Type – Since the order forms have merged the order type field will show you Craftsman and Select items line by line. Notice if you add Cut for glass to a select cabinet it will change the item to Craftsman. If you use a modification that is Craftsman only, please use column S to manually switch the cabinet to Craftsman pricing. "]
[]
[null,null,"·Dual Tone – Use this when door and drawers of cabinet are one color and the remainder of the cabinet is a second color. The color that is selected in Order Specifications will be the frame color. Make a note on the item line for the second color. Make sure to add two touch up kits!"]
[]
[]
[null,null,"·Modifications and Fee and Accessories– These are now separate tabs. Delivery Fees are on the Modifications and Fee Tab."]
[]
[null,null,"·Order Totals– Install Price has been added to the order totals, and also populates on the side. There is a portion that says less deposit. Please use this for tracking design deposits, or how much was paid initial deposit. It will help the order desk to match up checks. If there is no install, the Install and Cabinet Total will just say Total."]
{"$rows_empty":11}
[null,null,"New Items:"]
[null,null,"6DB24R","6 Drawer Base 24 Right",null,"FHBCB42R","Full Height Blind Corner Base 42\" (Blind Right)",null,"FSB39","Farm Sink Base 39\""]
[null,null,"6DB24L","6 Drawer Base 24 Left",{"$nulls":4},"ROS39","Roll Out Shelf 39"]
[null,null,"6DB24-ISLAND","6 Drawer Base Island  24",null,"FHBCB45L","Full Height Blind Corner Base 45\" (Blind Left)",null,"UC1590","Utility Cabinet 15\" x 90\""]
[null,null,"B39-SHELF","Base Shelf For 39\" Wide Cabinet",{"$nulls":4},"UC1596","Utility Cabinet 15\" x 96\""]
[null,null,"CROWN1","8' Crown Installs at 2 3/4\" Tall",null,"FHBCB45R","Full Height Blind Corner Base 45\" (Blind Right)",null,"UC3084","Utility Cabinet 30\" x 84\""]
[null,null,"CROWN1.12","12' Crown Installs at 2 3/4\" Tall",{"$nulls":4},"UC3090","Utility Cabinet 30\" x 90\""]
[null,null,"CROWN2","8' Crown Installs at 1 5/8\" Tall",null,"FHBCB48L","Full Height Blind Corner Base 48\" (Blind Left)",null,"UC3096","Utility Cabinet 30\" x 96\""]
[null,null,"CROWN2.12","12' Crown Installs at 1 5/8\" Tall",{"$nulls":4},"VKD24","Vanity Knee Drawer 24\""]
[null,null,"FHBCB36L","Full Height Blind Corner Base 36\" (Blind Left)",null,"FHBCB48R","Full Height Blind Corner Base 48\" (Blind Right)",null,"VKD27","Vanity Knee Drawer 27\""]
[{"$nulls":8},"VKD30","Vanity Knee Drawer 30\""]
[null,null,"FHBCB36R","Full Height Blind Corner Base 36\" (Blind Right)",null,"FHDFC18","Full Height Door File Cabinet 18\"",null,"VKD33","Vanity Knee Drawer 33\""]
[{"$nulls":5},"MWB24","Microwave Base 24",null,"VKD36","Vanity Knee Drawer 36\""]
[null,null,"FHBCB39L","Full Height Blind Corner Base 39\" (Blind Left)",null,"MWB27","Microwave Base 27",null,"PLY WHITE BIRCH 12MM-RAW","12mm White Birch Plywood Raw"]
[{"$nulls":5},"MWB30","Microwave Base 30",null,"PLY WHITE BIRCH 19MM-RAW","19mm White Birch Plywood Raw"]
[null,null,"FHBCB39R","Full Height Blind Corner Base 39\" (Blind Right)",null,"MWBC24","Microwave Base Custom 24"]
[{"$nulls":5},"MWBC27","Microwave Base Custom 27"]
[null,null,"FHBCB42L","Full Height Blind Corner Base 42\" (Blind Left)",null,"MWBC30","Microwave Base Custom 30"]
[]
[]
[null,null,"Name Change: "]
[null,null,"DWEP.75","Dishwasher End Panel .75\"",null,"FHBCB PULLOUT-OPTIMIZER45","Added the Full Height to the front, since they only fit in FHBCB Cabs",null,"SKIN4848","More practical Sizing for skin, instead SKIN4842"]
[null,null,"DWEP1.5","Dishwasher End Panel 1.5\"",null,"FHBCB PULLOUT-OPTIMIZER48","Added the Full Height to the front, since they only fit in FHBCB Cabs",null,"SKIN4896","This is the same as HGP4896 "]
[null,null,"DWEP3","Dishwasher End Panel 3\""]
[null,null,"PULL-NONSTOCK","This is the same as Pull-Order",null,"FHBCB PULLOUT-PREMIERE45","Added the Full Height to the front, since they only fit in FHBCB Cabs",null,"TOESKIN","This is the same as Toekick"]
[]
[{"$nulls":5},"FHBCB PULLOUT-PREMIERE42","Added the Full Height to the front, since they only fit in FHBCB Cabs"]
[]
[]
[null,null,"Custom Items: ",null,null,"New Accessories:",null,null,"New Modifications or Fees:"]
[null,null,"CUSTOM-CABINET","Non catalog full cabinet- drawing and approved price must be attached.",null,"ACCESSORY","Misc Accessory",null,"MOD-NODOOR","20% Discount for No Doors on Craftsman"]
[{"$nulls":5},"ADHESIVE200","Approved Adhesive for Attaching Skins"]
[{"$nulls":5},"COMPOST BIN-DOUBLE","Two Bin Compost",null,"MOD-FURNITURE BOTTOM","The face of the cabinet is stretched towards the bottom to eliminate the toekick"]
[null,null,"CUSTOM-DOOR-FRAME","Code for custom frame and/or door - approved price must be attached.",null,"COMPOST BIN-SINGLE","Single Bin Compost"]
[{"$nulls":5},"RECYCLE SINGLE-WOOD REV","Single 35QT can -w/ Wood System for B15"]
[null,null,"CUSTOM-HOOD","Custom Hood -  drawing and approved price must be attached.",{"$nulls":4},"MOD-FURNITURE TOEKICK","The face frame of the cabinet is extended to flush with the bottom of the cabinet"]
[{"$nulls":5},"PAINT-5 GALLON","Paint to Spray, Not Brush - 5 Gallons- 50% more if Custom Color"]
[null,null,"CUSTOM-PD","Custom Plant on Door - approved price must be attached and dimensions."]
[{"$nulls":5},"PAINT-GALLON","Paint to Spray, Not Brush - Gallons - 50% more if Custom Color",null,"MOD-LS TO SHELF","Switch Lazy Susan to a Fixed shelf"]
[null,null,"CUSTOM-ROS","Custom Size Roll Out Shelf - corresponding cabinet must be noted."]
[{"$nulls":5},"PAINT-QUART","Paint to Spray, Not Brush - Quart - 50% more if Custom Color",null,"MOD-SINGLE DOUBLE DOOR","Change cabinet from a double door to a single door. Applies to 24\" wide cabinets (No warping warranty).\n"]
[null,null,"CUSTOM-SHELF","Custom Size Shelf - corresponding cabinet must be noted."]
[{"$nulls":5},"STAIN-5 GALLON","Stain to Spray, Not Brush - 5 Gallons- 50% more if Custom Color"]
[null,null,"CUSTOM-TRIM","Custom Size Trim - drawing and approved price must be attached.",{"$nulls":4},"MOD-SINGLE DOUBLE DRAWER","Change cabinet from double drawer to a single drawer. Applies to cabinet widths 33\", 36\", 39\"."]
[{"$nulls":5},"STAIN-GALLON","Stain to Spray, Not Brush - Gallons - 50% more if Custom Color"]
[null,null,"CUSTOM-FLOATING SHELF","Floating Custom Shelf Provide the Dimensions, the color and species ",{"$nulls":4},"MOD-V-INV","Modify a Vanity Base to a Vanity Sink Base Inverted"]
[{"$nulls":5},"STAIN-QUART","Stain to Spray, Not Brush - Quart - 50% more if Custom Color"]
[{"$nulls":8},"RESTOCKING FEE","25% but only after the return has been approved by the order desk"]
[]
[{"$nulls":8},"SAMPLE DOOR CREDIT","Credit for sample door that was previously paid"]
[]
[]
[{"$nulls":10},{"$f":"'Order Form'!M129","v":"Revision Date: 7.16.2018"}]

{"sheet":"Order Form","index":1,"n_rows":130,"n_cols":48,"rows_kept":130,"merged":[[0,1,0,17],[1,2,6,5],[1,14,1,15],[2,14,2,15],[3,14,3,15],[4,12,5,13],[4,14,5,15],[7,3,7,5],[7,12,7,15],[8,3,8,5],[8,12,8,15],[9,3,9,5],[9,12,9,15],[10,3,10,5],[10,12,10,15],[11,3,11,5],[11,12,11,15],[12,3,12,5],[14,2,14,16],[16,6,16,8],[16,11,16,15],[17,11,17,15],[18,6,18,8],[18,11,18,15],[20,2,21,16],[22,13,22,14],[22,15,22,16],[23,9,23,11],[23,13,23,14],[23,15,23,16],[24,9,24,11],[24,13,24,14],[24,15,24,16],[25,9,25,11],[25,13,25,14],[25,15,25,16],[26,9,26,11],[26,13,26,14],[26,15,26,16],[27,9,27,11],[27,13,27,14],[27,15,27,16],[28,9,28,11],[28,13,28,14],[28,15,28,16],[29,9,29,11],[29,13,29,14],[29,15,29,16],[30,9,30,11],[30,13,30,14],[30,15,30,16],[31,9,31,11],[31,13,31,14],[31,15,31,16],[32,9,32,11],[32,13,32,14],[32,15,32,16],[33,9,33,11],[33,13,33,14],[33,15,33,16],[34,9,34,11],[34,13,34,14],[34,15,34,16],[35,9,35,11],[35,13,35,14],[35,15,35,16],[36,9,36,11],[36,13,36,14],[36,15,36,16],[37,9,37,11],[37,13,37,14],[37,15,37,16],[38,9,38,11],[38,13,38,14],[38,15,38,16],[39,9,39,11],[39,13,39,14],[39,15,39,16],[40,9,40,11],[40,13,40,14],[40,15,40,16],[41,9,41,11],[41,13,41,14],[41,15,41,16],[42,9,42,11],[42,13,42,14],[42,15,42,16],[43,9,43,11],[43,13,43,14],[43,15,43,16],[44,9,44,11],[44,13,44,14],[44,15,44,16],[45,9,45,11],[45,13,45,14],[45,15,45,16],[46,9,46,11],[46,13,46,14],[46,15,46,16],[47,9,47,11],[47,13,47,14],[47,15,47,16],[48,9,48,11],[48,13,48,14],[48,15,48,16],[49,9,49,11],[49,13,49,14],[49,15,49,16],[50,9,50,11],[50,13,50,14],[50,15,50,16],[51,9,51,11],[51,13,51,14],[51,15,51,16],[52,9,52,11],[52,13,52,14],[52,15,52,16],[53,9,53,11],[53,13,53,14],[53,15,53,16],[54,9,54,11],[54,13,54,14],[54,15,54,16],[55,9,55,11],[55,13,55,14],[55,15,55,16],[56,9,56,11],[56,13,56,14],[56,15,56,16],[57,9,57,11],[57,13,57,14],[57,15,57,16],[58,9,58,11],[58,13,58,14],[58,15,58,16],[59,9,59,11],[59,13,59,14],[59,15,59,16],[60,9,60,11],[60,13,60,14],[60,15,60,16],[61,9,61,11],[61,13,61,14],[61,15,61,16],[62,9,62,11],[62,13,62,14],[62,15,62,16],[63,9,63,11],[63,13,63,14],[63,15,63,16],[64,9,64,11],[64,13,64,14],[64,15,64,16],[65,9,65,11],[65,13,65,14],[65,15,65,16],[66,9,66,11],[66,13,66,14],[66,15,66,16],[67,9,67,11],[67,13,67,14],[67,15,67,16],[68,9,68,11],[68,13,68,14],[68,15,68,16],[69,9,69,11],[69,13,69,14],[69,15,69,16],[70,9,70,11],[70,13,70,14],[70,15,70,16],[71,9,71,11],[71,13,71,14],[71,15,71,16],[72,9,72,11],[72,13,72,14],[72,15,72,16],[73,9,73,11],[73,13,73,14],[73,15,73,16],[74,9,74,11],[74,13,74,14],[74,15,74,16],[75,9,75,11],[75,13,75,14],[75,15,75,16],[76,9,76,11],[76,13,76,14],[76,15,76,16],[77,9,77,11],[77,13,77,14],[77,15,77,16],[78,9,78,11],[78,13,78,14],[78,15,78,16],[79,9,79,11],[79,13,79,14],[79,15,79,16],[80,9,80,11],[80,13,80,14],[80,15,80,16],[81,9,81,11],[81,13,81,14],[81,15,81,16],[82,9,82,11],[82,13,82,14],[82,15,82,16],[83,9,83,11],[83,13,83,14],[83,15,83,16],[84,9,84,11],[84,13,84,14],[84,15,84,16],[85,9,85,11],[85,13,85,14],[85,15,85,16],[86,9,86,11],[86,13,86,14],[86,15,86,16],[87,9,87,11],[87,13,87,14],[87,15,87,16],[88,9,88,11],[88,13,88,14],[88,15,88,16],[89,9,89,11],[89,13,89,14],[89,15,89,16],[90,9,90,11],[90,13,90,14],[90,15,90,16],[91,9,91,11],[91,13,91,14],[91,15,91,16],[92,9,92,11],[92,13,92,14],[92,15,92,16],[93,9,93,11],[93,13,93,14],[93,15,93,16],[94,9,94,11],[94,13,94,14],[94,15,94,16],[95,9,95,11],[95,13,95,14],[95,15,95,16],[96,9,96,11],[96,13,96,14],[96,15,96,16],[97,9,97,11],[97,13,97,14],[97,15,97,16],[98,9,98,11],[98,13,98,14],[98,15,98,16],[99,9,99,11],[99,13,99,14],[99,15,99,16],[100,9,100,11],[100,13,100,14],[100,15,100,16],[101,9,101,11],[101,13,101,14],[101,15,101,16],[102,9,102,11],[102,13,102,14],[102,15,102,16],[103,9,103,11],[103,13,103,14],[103,15,103,16],[104,9,104,11],[104,13,104,14],[104,15,104,16],[105,9,105,11],[105,13,105,14],[105,15,105,16],[106,9,106,11],[106,13,106,14],[106,15,106,16],[107,9,107,11],[107,13,107,14],[107,15,107,16],[108,9,108,11],[108,13,108,14],[108,15,108,16],[109,9,109,11],[109,13,109,14],[109,15,109,16],[110,9,110,11],[110,13,110,14],[110,15,110,16],[111,9,111,11],[111,13,111,14],[111,15,111,16],[112,9,112,11],[112,13,112,14],[112,15,112,16],[113,9,113,11],[113,13,113,14],[113,15,113,16],[115,3,115,4],[115,10,115,12],[115,13,115,15],[116,3,116,4],[116,10,116,12],[116,13,116,15],[117,3,117,4],[117,10,117,12],[117,13,117,15],[118,3,118,4],[118,10,118,12],[118,13,118,15],[119,10,119,12],[119,13,119,15],[120,10,120,12],[120,13,120,15],[121,3,121,7],[121,10,121,12],[121,13,121,15],[122,3,122,4],[122,10,122,12],[122,13,122,15],[123,10,123,12],[123,13,123,15],[125,11,125,15],[126,11,126,12],[127,2,128,8]]}
[null,{"$f":"'Misc Dropdowns'!L34","v":"Welcome to the Order Form Sheet"}]
[{"$nulls":6},"Customer Name",{"$nulls":5},"Quote Date"]
[{"$nulls":6},"Contact Name",{"$nulls":5},"Sales Rep"]
[{"$nulls":6},"Customer PO",{"$nulls":5},"Customer No."]
[{"$nulls":6},"Telephone",{"$nulls":5},"Requested Delivery Date"]
[{"$nulls":6},"Email"]
[]
[null,null,"Bill to Name",{"$nulls":7},"Ship to Name"]
[null,null,"Address",{"$nulls":3},"  Ship to Method",{"$nulls":3},"Address"]
[null,null," City",{"$nulls":7},"City"]
[null,null," State",{"$nulls":7},"State"]
[null,null," Zip",{"$nulls":7},"Zip"]
[null,null,"Total Tax Rate",{"$nulls":7},"Delivery Cost",{"$nulls":3},"Extra Delivery Driver",{"$f":"IF(M13=\"Replace with Custom Quote\",0,IF(OR(AQ22>29,AR22>0),M13*0.5,0))","v":0}]
[]
[null,null,"Order Specifications"]
[]
[null,null,"Species:",{"$nulls":3},"    Color:",{"$nulls":4},"Replace this text with Stain/Paint Name and/or Number.",{"$nulls":6},"Factor"]
[null,null,"Drawer Head:"]
[null,null,"Custom Finish: ",{"$nulls":3},"    Door Style:",{"$nulls":4},"Replace this text with door style specification."]
[]
[null,null,{"$f":"IF('Misc Dropdowns'!C34=0,\"\",VLOOKUP(AF22,'Misc Dropdowns'!A45:C47,3,FALSE))","v":""},{"$nulls":39},"Sum"]
[{"$nulls":31},{"$f":"MAX(AF24:AF468)","v":2},{"$f":"MIN('Misc Dropdowns'!C34:C39)","v":0},{"$nulls":3},{"$f":"SUM(AK25:AK114)","v":0},{"$nulls":4},{"$f":"SUM(AP25:AP114)","v":0},{"$f":"SUM(AQ25:AQ602)","v":{"v":0,"d":"0.00"}},{"$f":"IF(SUM(AR25:AR602)>0,1,0)","v":{"v":0,"d":"0.00"}},{"$f":"IF(CONCAT!G2=\"CRAFTSMAN\",0,SUM(AS25:AS601))","v":{"v":0,"d":"0.00"}},{"$f":"IF(CONCAT!G2=\"CRAFTSMAN\",0,SUM(AT25:AT601))","v":{"v":0,"d":"0.00"}},{"$f":"SUM(AU25:AU114)","v":{"v":0,"d":"0.00"}},{"$f":"SUM(AV25:AV114)","v":{"v":0,"d":"0.00"}}]
[null,null," Cabinet Code"," Count"," Cut for Glass-\nClear? Divided?\nFramed?","Dual Tone and Finished Interior?"," Drawings?"," Order Type"," Applied Skins?",null," NOTES",null," Cabinet Price"," Total",null," Custom Price",null,null," Override Item with Craftsman Price",{"$nulls":6},"List Price","Qty *List Price",null,"If Pull","Item Order Type","SO Order Type","Maximum","Minimum","Price without item Upcharges","Glass Options","Color Species options","Applied Skin","Applied Skin Qty","Proposal Notes","Proposal Notes","Proposal Notes","Install?","Number of Cabinets","Extra Driver","CR override","Highlighting with CR Override","List Price Glass Options","List Price Color Species options"]
["Pull",null,{"$f":"IF($AC$115>0,\"LONG SCREWS-PULLS OR KNOBS\",\"\")","v":""},{"$f":"IFERROR(IF(AC115>0,1,0),0)","v":0},null,null,{"$f":"IF(C24=\"\",\"\",VLOOKUP(C24,Items!A:N,12,FALSE))","v":""},{"$f":"IF(S24=\"Craftsman Pricing\",\"CR\",IF(C24=\"\",\"\",IF('Misc Dropdowns'!$C$34=0,\"\",IF(E24&F24=\"\",VLOOKUP(AF24,'Misc Dropdowns'!$A$45:$B$47,2,FALSE),\"CR\"))))","v":""},{"$nulls":17},{"$f":"ROUND(IF($S$18=\"\",0,IF(P24<>0,P24,IF(H24=\"SEL\",VLOOKUP(C24,Items!A:Y,25,FALSE),IF(H24=\"CR\",VLOOKUP(C24,Items!A:Z,26,FALSE),0)))),2)","v":{"v":0,"d":"0.00"}},{"$f":"(Z24*D24)","v":0},null,{"$f":"IFERROR(VLOOKUP(C24,#REF!,6,FALSE),0)","v":0},{"$f":"IF(C24=\"\",\"\",IF(E24&F24=\"\",VLOOKUP(C24,Items!A:D,4,FALSE),\"3\"))","v":""},{"$f":"IF(C24=\"\",\"\",'Misc Dropdowns'!$C$35)","v":""},{"$f":"MAX(AD24:AE24)","v":0},{"$f":"MIN(AE24)","v":0},{"$f":"IF($H24=\"Select\",VLOOKUP($C24,Items!A:F,6,FALSE),IF($H24=\"CR\",VLOOKUP('Order Form'!$C24,Items!A:G,7,FALSE),0))","v":0},{"$f":"IFERROR(VLOOKUP(E24,'Misc Dropdowns'!$J$12:$M$26,4,FALSE)*AH24,0)","v":0},{"$f":"IFERROR(VLOOKUP(F24,'Misc Dropdowns'!$J$12:$M$26,4,FALSE)*AH24,0)","v":0}]
[1,null,"TOUCH UP",{"$f":"IF(OR(Color!B3=2,Color!B3=8),0,1)","v":1},null,null,{"$f":"IF(C25=\"\",\"\",VLOOKUP(C25,Items!A:N,12,FALSE))","v":{"v":0,"d":"$0.00"}},{"$f":"IF(S25=\"Craftsman Pricing\",\"CR\",IF(C25=\"\",\"\",IF('Misc Dropdowns'!$C$34=0,\"\",IF(E25&F25=\"\",VLOOKUP(AF25,'Misc Dropdowns'!$A$45:$B$47,2,FALSE),\"CR\"))))","v":""},{"$nulls":4},{"$f":"IFERROR(ROUND(SUM(AH25:AK25),2),0)","v":{"v":0,"d":"0.00"}},{"$f":"D25*M25","v":{"v":0,"d":"0.00"}},{"$nulls":11},{"$f":"ROUND(IF($S$18=\"\",0,IF(H25=\"SEL\",VLOOKUP(C25,Items!A:Y,25,FALSE),IF(H25=\"CR\",VLOOKUP(C25,Items!A:Z,26,FALSE),0))),2)","v":{"v":0,"d":"0.00"}},0,null,{"$f":"IFERROR(VLOOKUP(C25,Items!A:H,8,FALSE),0)","v":0},{"$f":"IF(C25=\"\",\"\",IF(E25&F25=\"\",VLOOKUP(C25,Items!A:D,4,FALSE),3))","v":2},{"$f":"IF(C25=\"\",\"\",'Misc Dropdowns'!$C$35)","v":0},{"$f":"MAX(AD25,AE25)","v":2},{"$f":"MIN(AE25)","v":0},{"$f":"IF($H25=\"SEL\",VLOOKUP($C25,Items!A:F,6,FALSE),IF($H25=\"CR\",VLOOKUP('Order Form'!$C25,Items!A:G,7,FALSE),0))","v":0},{"$f":"IFERROR(AH25*(VLOOKUP(E25,'Misc Dropdowns'!$J$12:$M$16,4,FALSE)),0)","v":0},{"$f":"IFERROR(VLOOKUP(F25,'Misc Dropdowns'!$J$23:$M$27,4,FALSE)*AH25,0)","v":0},{"$f":"IFERROR((AL25*(15*(VLOOKUP(C25,Items!A:AE,31,FALSE)))),0)","v":0},{"$f":"IF(I25=\"\",0,IF(I25=\"Both\",2,1))","v":0},{"$f":"IF(E25=\"\",\"\",\" - \"&E25)","v":""},{"$f":"IF(F25=\"\",\"\",\" - \"&F25)","v":""},{"$f":"IF(I25=\"\",\"\",\" -APP SKN \"&LEFT(I25,1))","v":""},{"$f":"IF(C25=\"INSTALL\",1,0)","v":0},{"$f":"IF(C25=\"\",0,D25*VLOOKUP(C25,Items!A:M,13,FALSE))","v":{"v":0,"d":"0.00"}},{"$f":"IF(OR(LEFT(C25,2)=\"LC\",LEFT(C25,2)=\"UC\",LEFT(C25,2)=\"OC\",LEFT(C25,3)=\"SBD\"),1,0)","v":{"v":0,"d":"0.00"}},{"$f":"IFERROR(IF(VLOOKUP(C25,'Modifications and Fees'!B:H,2,FALSE)=\"CR\",1*D25,\"\"),\"\")","v":""},{"$f":"IF(S25=\"Craftsman Pricing\",1*D25,0)","v":{"v":0,"d":"0.00"}},{"$f":"ROUND(IFERROR(D25*Z25*(VLOOKUP(E25,'Misc Dropdowns'!$J$12:$M$16,4,FALSE)),0),2)","v":{"v":0,"d":"0.00"}},{"$f":"ROUND(IFERROR(VLOOKUP(F25,'Misc Dropdowns'!$J$23:$M$27,4,FALSE)*Z25*D25,0),2)","v":{"v":0,"d":"0.00"}}]
[1,null,null,{"$f":"IF(C26>1,1,0)","v":0},null,null,{"$f":"IF(C26=\"\",\"\",VLOOKUP(C26,Items!A:N,12,FALSE))","v":""},{"$f":"IF(S26=\"Craftsman Pricing\",\"CR\",IF(C26=\"\",\"\",IF('Misc Dropdowns'!$C$34=0,\"\",IF(E26&F26=\"\",VLOOKUP(AF26,'Misc Dropdowns'!$A$45:$B$47,2,FALSE),\"CR\"))))","v":""},{"$nulls":4},{"v":0,"d":"0.00"},{"v":0,"d":"0.00"},{"$nulls":11},{"$f":"ROUND(IF($S$18=\"\",0,IF(H26=\"SEL\",VLOOKUP(C26,Items!A:Y,25,FALSE),IF(H26=\"CR\",VLOOKUP(C26,Items!A:Z,26,FALSE),0))),2)","v":{"v":0,"d":"0.00"}},0,null,{"$f":"IFERROR(VLOOKUP(C26,Items!A:H,8,FALSE),0)","v":0},{"$f":"IF(C26=\"\",\"\",IF(E26&F26=\"\",VLOOKUP(C26,Items!A:D,4,FALSE),3))","v":""},{"$f":"IF(C26=\"\",\"\",'Misc Dropdowns'!$C$35)","v":""},{"$f":"MAX(AD26,AE26)","v":0},0,{"$f":"IF($H26=\"SEL\",VLOOKUP($C26,Items!A:F,6,FALSE),IF($H26=\"CR\",VLOOKUP('Order Form'!$C26,Items!A:G,7,FALSE),0))","v":0},{"$f":"IFERROR(AH26*(VLOOKUP(E26,'Misc Dropdowns'!$J$12:$M$16,4,FALSE)),0)","v":0},{"$f":"IFERROR(VLOOKUP(F26,'Misc Dropdowns'!$J$23:$M$27,4,FALSE)*AH26,0)","v":0},{"$f":"IFERROR((AL26*(15*(VLOOKUP(C26,Items!A:AE,31,FALSE)))),0)","v":0},{"$f":"IF(I26=\"\",0,IF(I26=\"Both\",2,1))","v":0},"","","",0,{"$f":"IF(C26=\"\",0,D26*VLOOKUP(C26,Items!A:M,13,FALSE))","v":{"v":0,"d":"0.00"}},{"$f":"IF(OR(LEFT(C26,2)=\"LC\",LEFT(C26,2)=\"UC\",LEFT(C26,2)=\"OC\",LEFT(C26,3)=\"SBD\"),1,0)","v":{"v":0,"d":"0.00"}},{"$f":"IFERROR(IF(VLOOKUP(C26,'Modifications and Fees'!B:H,2,FALSE)=\"CR\",1*D26,\"\"),\"\")","v":""},{"$f":"IF(S26=\"Craftsman Pricing\",1*D26,0)","v":{"v":0,"d":"0.00"}},{"$f":"ROUND(IFERROR(D26*Z26*(VLOOKUP(E26,'Misc Dropdowns'!$J$12:$M$16,4,FALSE)),0),2)","v":{"v":0,"d":"0.00"}},{"$f":"ROUND(IFERROR(VLOOKUP(F26,'Misc Dropdowns'!$J$23:$M$27,4,FALSE)*Z26*D26,0),2)","v":{"v":0,"d":"0.00"}}]
[1,null,null,0,null,null,{"$f":"IF(C27=\"\",\"\",VLOOKUP(C27,Items!A:N,12,FALSE))","v":""},{"$f":"IF(S27=\"Craftsman Pricing\",\"CR\",IF(C27=\"\",\"\",IF('Misc Dropdowns'!$C$34=0,\"\",IF(E27&F27=\"\",VLOOKUP(AF27,'Misc Dropdowns'!$A$45:$B$47,2,FALSE),\"CR\"))))","v":""},{"$nulls":4},{"$f":"IFERROR(ROUND(SUM(AH27:AK27),2),0)","v":{"v":0,"d":"0.00"}},{"v":0,"d":"0.00"},{"$nulls":11},{"$f":"ROUND(IF($S$18=\"\",0,IF(H27=\"SEL\",VLOOKUP(C27,Items!A:Y,25,FALSE),IF(H27=\"CR\",VLOOKUP(C27,Items!A:Z,26,FALSE),0))),2)","v":{"v":0,"d":"0.00"}},0,null,{"$f":"IFERROR(VLOOKUP(C27,Items!A:H,8,FALSE),0)","v":0},{"$f":"IF(C27=\"\",\"\",IF(E27&F27=\"\",VLOOKUP(C27,Items!A:D,4,FALSE),3))","v":""},{"$f":"IF(C27=\"\",\"\",'Misc Dropdowns'!$C$35)","v":""},{"v":0,"d":"0.00"},{"v":0,"d":"0.00"},{"$f":"IF($H27=\"SEL\",VLOOKUP($C27,Items!A:F,6,FALSE),IF($H27=\"CR\",VLOOKUP('Order Form'!$C27,Items!A:G,7,FALSE),0))","v":0},{"$f":"IFERROR(AH27*(VLOOKUP(E27,'Misc Dropdowns'!$J$12:$M$16,4,FALSE)),0)","v":0},{"$f":"IFERROR(VLOOKUP(F27,'Misc Dropdowns'!$J$23:$M$27,4,FALSE)*AH27,0)","v":0},{"$f":"IFERROR((AL27*(15*(VLOOKUP(C27,Items!A:AE,31,FALSE)))),0)","v":0},0,"","","",0,{"$f":"IF(C27=\"\",0,D27*VLOOKUP(C27,Items!A:M,13,FALSE))","v":{"v":0,"d":"0.00"}},{"v":0,"d":"0.00"},{"$f":"IFERROR(IF(VLOOKUP(C27,'Modifications and Fees'!B:H,2,FALSE)=\"CR\",1*D27,\"\"),\"\")","v":""},{"v":0,"d":"0.00"},{"$f":"ROUND(IFERROR(D27*Z27*(VLOOKUP(E27,'Misc Dropdowns'!$J$12:$M$16,4,FALSE)),0),2)","v":{"v":0,"d":"0.00"}},{"$f":"ROUND(IFERROR(VLOOKUP(F27,'Misc Dropdowns'!$J$23:$M$27,4,FALSE)*Z27*D27,0),2)","v":{"v":0,"d":"0.00"}}]
[1,null,null,0,null,null,{"$f":"IF(C28=\"\",\"\",VLOOKUP(C28,Items!A:N,12,FALSE))","v":""},{"$f":"IF(S28=\"Craftsman Pricing\",\"CR\",IF(C28=\"\",\"\",IF('Misc Dropdowns'!$C$34=0,\"\",IF(E28&F28=\"\",VLOOKUP(AF28,'Misc Dropdowns'!$A$45:$B$47,2,FALSE),\"CR\"))))","v":""},{"$nulls":4},{"v":0,"d":"0.00"},{"v":0,"d":"0.00"},{"$nulls":11},{"$f":"ROUND(IF($S$18=\"\",0,IF(H28=\"SEL\",VLOOKUP(C28,Items!A:Y,25,FALSE),IF(H28=\"CR\",VLOOKUP(C28,Items!A:Z,26,FALSE),0))),2)","v":{"v":0,"d":"0.00"}},0,null,{"$f":"IFERROR(VLOOKUP(C28,Items!A:H,8,FALSE),0)","v":0},{"$f":"IF(C28=\"\",\"\",IF(E28&F28=\"\",VLOOKUP(C28,Items!A:D,4,FALSE),3))","v":""},{"$f":"IF(C28=\"\",\"\",'Misc Dropdowns'!$C$35)","v":""},{"v":0,"d":"0.00"},0,{"$f":"IF($H28=\"SEL\",VLOOKUP($C28,Items!A:F,6,FALSE),IF($H28=\"CR\",VLOOKUP('Order Form'!$C28,Items!A:G,7,FALSE),0))","v":0},{"$f":"IFERROR(AH28*(VLOOKUP(E28,'Misc Dropdowns'!$J$12:$M$16,4,FALSE)),0)","v":0},{"$f":"IFERROR(VLOOKUP(F28,'Misc Dropdowns'!$J$23:$M$27,4,FALSE)*AH28,0)","v":0},{"$f":"IFERROR((AL28*(15*(VLOOKUP(C28,Items!A:AE,31,FALSE)))),0)","v":0},0,"","","",0,{"$f":"IF(C28=\"\",0,D28*VLOOKUP(C28,Items!A:M,13,FALSE))","v":{"v":0,"d":"0.00"}},{"v":0,"d":"0.00"},{"$f":"IFERROR(IF(VLOOKUP(C28,'Modifications and Fees'!B:H,2,FALSE)=\"CR\",1*D28,\"\"),\"\")","v":""},{"v":0,"d":"0.00"},{"$f":"ROUND(IFERROR(D28*Z28*(VLOOKUP(E28,'Misc Dropdowns'!$J$12:$M$16,4,FALSE)),0),2)","v":{"v":0,"d":"0.00"}},{"$f":"ROUND(IFERROR(VLOOKUP(F28,'Misc Dropdowns'!$J$23:$M$27,4,FALSE)*Z28*D28,0),2)","v":{"v":0,"d":"0.00"}}]
[1,null,null,0,null,null,{"$f":"IF(C29=\"\",\"\",VLOOKUP(C29,Items!A:N,12,FALSE))","v":""},{"$f":"IF(S29=\"Craftsman Pricing\",\"CR\",IF(C29=\"\",\"\",IF('Misc Dropdowns'!$C$34=0,\"\",IF(E29&F29=\"\",VLOOKUP(AF29,'Misc Dropdowns'!$A$45:$B$47,2,FALSE),\"CR\"))))","v":""},{"$nulls":4},{"v":0,"d":"0.00"},{"v":0,"d":"0.00"},{"$nulls":11},{"$f":"ROUND(IF($S$18=\"\",0,IF(H29=\"SEL\",VLOOKUP(C29,Items!A:Y,25,FALSE),IF(H29=\"CR\",VLOOKUP(C29,Items!A:Z,26,FALSE),0))),2)","v":{"v":0,"d":"0.00"}},0,null,{"$f":"IFERROR(VLOOKUP(C29,Items!A:H,8,FALSE),0)","v":0},{"$f":"IF(C29=\"\",\"\",IF(E29&F29=\"\",VLOOKUP(C29,Items!A:D,4,FALSE),3))","v":""},{"$f":"IF(C29=\"\",\"\",'Misc Dropdowns'!$C$35)","v":""},{"v":0,"d":"0.00"},0,{"$f":"IF($H29=\"SEL\",VLOOKUP($C29,Items!A:F,6,FALSE),IF($H29=\"CR\",VLOOKUP('Order Form'!$C29,Items!A:G,7,FALSE),0))","v":0},{"$f":"IFERROR(AH29*(VLOOKUP(E29,'Misc Dropdowns'!$J$12:$M$16,4,FALSE)),0)","v":0},{"$f":"IFERROR(VLOOKUP(F29,'Misc Dropdowns'!$J$23:$M$27,4,FALSE)*AH29,0)","v":0},{"$f":"IFERROR((AL29*(15*(VLOOKUP(C29,Items!A:AE,31,FALSE)))),0)","v":0},0,"","","",0,{"$f":"IF(C29=\"\",0,D29*VLOOKUP(C29,Items!A:M,13,FALSE))","v":{"v":0,"d":"0.00"}},{"v":0,"d":"0.00"},{"$f":"IFERROR(IF(VLOOKUP(C29,'Modifications and Fees'!B:H,2,FALSE)=\"CR\",1*D29,\"\"),\"\")","v":""},{"v":0,"d":"0.00"},{"$f":"ROUND(IFERROR(D29*Z29*(VLOOKUP(E29,'Misc Dropdowns'!$J$12:$M$16,4,FALSE)),0),2)","v":{"v":0,"d":"0.00"}},{"$f":"ROUND(IFERROR(VLOOKUP(F29,'Misc Dropdowns'!$J$23:$M$27,4,FALSE)*Z29*D29,0),2)","v":{"v":0,"d":"0.00"}}]
[1,null,null,0,null,null,{"$f":"IF(C30=\"\",\"\",VLOOKUP(C30,Items!A:N,12,FALSE))","v":""},{"$f":"IF(S30=\"Craftsman Pricing\",\"CR\",IF(C30=\"\",\"\",IF('Misc Dropdowns'!$C$34=0,\"\",IF(E30&F30=\"\",VLOOKUP(AF30,'Misc Dropdowns'!$A$45:$B$47,2,FALSE),\"CR\"))))","v":""},{"$nulls":4},{"v":0,"d":"0.00"},{"v":0,"d":"0.00"},{"$nulls":11},{"$f":"ROUND(IF($S$18=\"\",0,IF(H30=\"SEL\",VLOOKUP(C30,Items!A:Y,25,FALSE),IF(H30=\"CR\",VLOOKUP(C30,Items!A:Z,26,FALSE),0))),2)","v":{"v":0,"d":"0.00"}},0,null,{"$f":"IFERROR(VLOOKUP(C30,Items!A:H,8,FALSE),0)","v":0},{"$f":"IF(C30=\"\",\"\",IF(E30&F30=\"\",VLOOKUP(C30,Items!A:D,4,FALSE),3))","v":""},{"$f":"IF(C30=\"\",\"\",'Misc Dropdowns'!$C$35)","v":""},{"v":0,"d":"0.00"},0,{"$f":"IF($H30=\"SEL\",VLOOKUP($C30,Items!A:F,6,FALSE),IF($H30=\"CR\",VLOOKUP('Order Form'!$C30,Items!A:G,7,FALSE),0))","v":0},{"$f":"IFERROR(AH30*(VLOOKUP(E30,'Misc Dropdowns'!$J$12:$M$16,4,FALSE)),0)","v":0},{"$f":"IFERROR(VLOOKUP(F30,'Misc Dropdowns'!$J$23:$M$27,4,FALSE)*AH30,0)","v":0},{"$f":"IFERROR((AL30*(15*(VLOOKUP(C30,Items!A:AE,31,FALSE)))),0)","v":0},0,"","","",0,{"$f":"IF(C30=\"\",0,D30*VLOOKUP(C30,Items!A:M,13,FALSE))","v":{"v":0,"d":"0.00"}},{"v":0,"d":"0.00"},{"$f":"IFERROR(IF(VLOOKUP(C30,'Modifications and Fees'!B:H,2,FALSE)=\"CR\",1*D30,\"\"),\"\")","v":""},{"v":0,"d":"0.00"},{"$f":"ROUND(IFERROR(D30*Z30*(VLOOKUP(E30,'Misc Dropdowns'!$J$12:$M$16,4,FALSE)),0),2)","v":{"v":0,"d":"0.00"}},{"$f":"ROUND(IFERROR(VLOOKUP(F30,'Misc Dropdowns'!$J$23:$M$27,4,FALSE)*Z30*D30,0),2)","v":{"v":0,"d":"0.00"}}]
[1,null,null,0,null,null,{"$f":"IF(C31=\"\",\"\",VLOOKUP(C31,Items!A:N,12,FALSE))","v":""},{"$f":"IF(S31=\"Craftsman Pricing\",\"CR\",IF(C31=\"\",\"\",IF('Misc Dropdowns'!$C$34=0,\"\",IF(E31&F31=\"\",VLOOKUP(AF31,'Misc Dropdowns'!$A$45:$B$47,2,FALSE),\"CR\"))))","v":""},{"$nulls":4},{"v":0,"d":"0.00"},{"v":0,"d":"0.00"},{"$nulls":11},{"$f":"ROUND(IF($S$18=\"\",0,IF(H31=\"SEL\",VLOOKUP(C31,Items!A:Y,25,FALSE),IF(H31=\"CR\",VLOOKUP(C31,Items!A:Z,26,FALSE),0))),2)","v":{"v":0,"d":"0.00"}},0,null,{"$f":"IFERROR(VLOOKUP(C31,Items!A:H,8,FALSE),0)","v":0},{"$f":"IF(C31=\"\",\"\",IF(E31&F31=\"\",VLOOKUP(C31,Items!A:D,4,FALSE),3))","v":""},{"$f":"IF(C31=\"\",\"\",'Misc Dropdowns'!$C$35)","v":""},{"v":0,"d":"0.00"},0,{"$f":"IF($H31=\"SEL\",VLOOKUP($C31,Items!A:F,6,FALSE),IF($H31=\"CR\",VLOOKUP('Order Form'!$C31,Items!A:G,7,FALSE),0))","v":0},{"$f":"IFERROR(AH31*(VLOOKUP(E31,'Misc Dropdowns'!$J$12:$M$16,4,FALSE)),0)","v":0},{"$f":"IFERROR(VLOOKUP(F31,'Misc Dropdowns'!$J$23:$M$27,4,FALSE)*AH31,0)","v":0},{"$f":"IFERROR((AL31*(15*(VLOOKUP(C31,Items!A:AE,31,FALSE)))),0)","v":0},0,"","","",0,{"$f":"IF(C31=\"\",0,D31*VLOOKUP(C31,Items!A:M,13,FALSE))","v":{"v":0,"d":"0.00"}},{"v":0,"d":"0.00"},{"$f":"IFERROR(IF(VLOOKUP(C31,'Modifications and Fees'!B:H,2,FALSE)=\"CR\",1*D31,\"\"),\"\")","v":""},{"v":0,"d":"0.00"},{"$f":"ROUND(IFERROR(D31*Z31*(VLOOKUP(E31,'Misc Dropdowns'!$J$12:$M$16,4,FALSE)),0),2)","v":{"v":0,"d":"0.00"}},{"$f":"ROUND(IFERROR(VLOOKUP(F31,'Misc Dropdowns'!$J$23:$M$27,4,FALSE)*Z31*D31,0),2)","v":{"v":0,"d":"0.00"}}]
[1,null,null,0,null,null,{"$f":"IF(C32=\"\",\"\",VLOOKUP(C32,Items!A:N,12,FALSE))","v":""},{"$f":"IF(S32=\"Craftsman Pricing\",\"CR\",IF(C32=\"\",\"\",IF('Misc Dropdowns'!$C$34=0,\"\",IF(E32&F32=\"\",VLOOKUP(AF32,'Misc Dropdowns'!$A$45:$B$47,2,FALSE),\"CR\"))))","v":""},{"$nulls":4},{"v":0,"d":"0.00"},{"v":0,"d":"0.00"},{"$nulls":11},{"$f":"ROUND(IF($S$18=\"\",0,IF(H32=\"SEL\",VLOOKUP(C32,Items!A:Y,25,FALSE),IF(H32=\"CR\",VLOOKUP(C32,Items!A:Z,26,FALSE),0))),2)","v":{"v":0,"d":"0.00"}},0,null,{"$f":"IFERROR(VLOOKUP(C32,Items!A:H,8,FALSE),0)","v":0},{"$f":"IF(C32=\"\",\"\",IF(E32&F32=\"\",VLOOKUP(C32,Items!A:D,4,FALSE),3))","v":""},{"$f":"IF(C32=\"\",\"\",'Misc Dropdowns'!$C$35)","v":""},{"v":0,"d":"0.00"},0,{"$f":"IF($H32=\"SEL\",VLOOKUP($C32,Items!A:F,6,FALSE),IF($H32=\"CR\",VLOOKUP('Order Form'!$C32,Items!A:G,7,FALSE),0))","v":0},{"$f":"IFERROR(AH32*(VLOOKUP(E32,'Misc Dropdowns'!$J$12:$M$16,4,FALSE)),0)","v":0},{"$f":"IFERROR(VLOOKUP(F32,'Misc Dropdowns'!$J$23:$M$27,4,FALSE)*AH32,0)","v":0},{"$f":"IFERROR((AL32*(15*(VLOOKUP(C32,Items!A:AE,31,FALSE)))),0)","v":0},0,"","","",0,{"$f":"IF(C32=\"\",0,D32*VLOOKUP(C32,Items!A:M,13,FALSE))","v":{"v":0,"d":"0.00"}},{"v":0,"d":"0.00"},{"$f":"IFERROR(IF(VLOOKUP(C32,'Modifications and Fees'!B:H,2,FALSE)=\"CR\",1*D32,\"\"),\"\")","v":""},{"v":0,"d":"0.00"},{"$f":"ROUND(IFERROR(D32*Z32*(VLOOKUP(E32,'Misc Dropdowns'!$J$12:$M$16,4,FALSE)),0),2)","v":{"v":0,"d":"0.00"}},{"$f":"ROUND(IFERROR(VLOOKUP(F32,'Misc Dropdowns'!$J$23:$M$27,4,FALSE)*Z32*D32,0),2)","v":{"v":0,"d":"0.00"}}]
[1,null,null,0,null,null,{"$f":"IF(C33=\"\",\"\",VLOOKUP(C33,Items!A:N,12,FALSE))","v":""},{"$f":"IF(S33=\"Craftsman Pricing\",\"CR\",IF(C33=\"\",\"\",IF('Misc Dropdowns'!$C$34=0,\"\",IF(E33&F33=\"\",VLOOKUP(AF33,'Misc Dropdowns'!$A$45:$B$47,2,FALSE),\"CR\"))))","v":""},{"$nulls":4},{"v":0,"d":"0.00"},{"v":0,"d":"0.00"},{"$nulls":11},{"$f":"ROUND(IF($S$18=\"\",0,IF(H33=\"SEL\",VLOOKUP(C33,Items!A:Y,25,FALSE),IF(H33=\"CR\",VLOOKUP(C33,Items!A:Z,26,FALSE),0))),2)","v":{"v":0,"d":"0.00"}},0,null,{"$f":"IFERROR(VLOOKUP(C33,Items!A:H,8,FALSE),0)","v":0},{"$f":"IF(C33=\"\",\"\",IF(E33&F33=\"\",VLOOKUP(C33,Items!A:D,4,FALSE),3))","v":""},{"$f":"IF(C33=\"\",\"\",'Misc Dropdowns'!$C$35)","v":""},{"v":0,"d":"0.00"},0,{"$f":"IF($H33=\"SEL\",VLOOKUP($C33,Items!A:F,6,FALSE),IF($H33=\"CR\",VLOOKUP('Order Form'!$C33,Items!A:G,7,FALSE),0))","v":0},{"$f":"IFERROR(AH33*(VLOOKUP(E33,'Misc Dropdowns'!$J$12:$M$16,4,FALSE)),0)","v":0},{"$f":"IFERROR(VLOOKUP(F33,'Misc Dropdowns'!$J$23:$M$27,4,FALSE)*AH33,0)","v":0},{"$f":"IFERROR((AL33*(15*(VLOOKUP(C33,Items!A:AE,31,FALSE)))),0)","v":0},0,"","","",0,{"$f":"IF(C33=\"\",0,D33*VLOOKUP(C33,Items!A:M,13,FALSE))","v":{"v":0,"d":"0.00"}},{"v":0,"d":"0.00"},{"$f":"IFERROR(IF(VLOOKUP(C33,'Modifications and Fees'!B:H,2,FALSE)=\"CR\",1*D33,\"\"),\"\")","v":""},{"v":0,"d":"0.00"},{"$f":"ROUND(IFERROR(D33*Z33*(VLOOKUP(E33,'Misc Dropdowns'!$J$12:$M$16,4,FALSE)),0),2)","v":{"v":0,"d":"0.00"}},{"$f":"ROUND(IFERROR(VLOOKUP(F33,'Misc Dropdowns'!$J$23:$M$27,4,FALSE)*Z33*D33,0),2)","v":{"v":0,"d":"0.00"}}]
[1,null,null,0,null,null,{"$f":"IF(C34=\"\",\"\",VLOOKUP(C34,Items!A:N,12,FALSE))","v":""},{"$f":"IF(S34=\"Craftsman Pricing\",\"CR\",IF(C34=\"\",\"\",IF('Misc Dropdowns'!$C$34=0,\"\",IF(E34&F34=\"\",VLOOKUP(AF34,'Misc Dropdowns'!$A$45:$B$47,2,FALSE),\"CR\"))))","v":""},{"$nulls":4},{"v":0,"d":"0.00"},{"v":0,"d":"0.00"},{"$nulls":11},{"$f":"ROUND(IF($S$18=\"\",0,IF(H34=\"SEL\",VLOOKUP(C34,Items!A:Y,25,FALSE),IF(H34=\"CR\",VLOOKUP(C34,Items!A:Z,26,FALSE),0))),2)","v":{"v":0,"d":"0.00"}},0,null,{"$f":"IFERROR(VLOOKUP(C34,Items!A:H,8,FALSE),0)","v":0},{"$f":"IF(C34=\"\",\"\",IF(E34&F34=\"\",VLOOKUP(C34,Items!A:D,4,FALSE),3))","v":""},{"$f":"IF(C34=\"\",\"\",'Misc Dropdowns'!$C$35)","v":""},{"v":0,"d":"0.00"},0,{"$f":"IF($H34=\"SEL\",VLOOKUP($C34,Items!A:F,6,FALSE),IF($H34=\"CR\",VLOOKUP('Order Form'!$C34,Items!A:G,7,FALSE),0))","v":0},{"$f":"IFERROR(AH34*(VLOOKUP(E34,'Misc Dropdowns'!$J$12:$M$16,4,FALSE)),0)","v":0},{"$f":"IFERROR(VLOOKUP(F34,'Misc Dropdowns'!$J$23:$M$27,4,FALSE)*AH34,0)","v":0},{"$f":"IFERROR((AL34*(15*(VLOOKUP(C34,Items!A:AE,31,FALSE)))),0)","v":0},0,"","","",0,{"$f":"IF(C34=\"\",0,D34*VLOOKUP(C34,Items!A:M,13,FALSE))","v":{"v":0,"d":"0.00"}},{"v":0,"d":"0.00"},{"$f":"IFERROR(IF(VLOOKUP(C34,'Modifications and Fees'!B:H,2,FALSE)=\"CR\",1*D34,\"\"),\"\")","v":""},{"v":0,"d":"0.00"},{"$f":"ROUND(IFERROR(D34*Z34*(VLOOKUP(E34,'Misc Dropdowns'!$J$12:$M$16,4,FALSE)),0),2)","v":{"v":0,"d":"0.00"}},{"$f":"ROUND(IFERROR(VLOOKUP(F34,'Misc Dropdowns'!$J$23:$M$27,4,FALSE)*Z34*D34,0),2)","v":{"v":0,"d":"0.00"}}]
[1,null,null,0,null,null,{"$f":"IF(C35=\"\",\"\",VLOOKUP(C35,Items!A:N,12,FALSE))","v":""},{"$f":"IF(S35=\"Craftsman Pricing\",\"CR\",IF(C35=\"\",\"\",IF('Misc Dropdowns'!$C$34=0,\"\",IF(E35&F35=\"\",VLOOKUP(AF35,'Misc Dropdowns'!$A$45:$B$47,2,FALSE),\"CR\"))))","v":""},{"$nulls":4},{"v":0,"d":"0.00"},{"v":0,"d":"0.00"},null,{"v":0,"d":"0.00"},{"$nulls":9},{"$f":"ROUND(IF($S$18=\"\",0,IF(H35=\"SEL\",VLOOKUP(C35,Items!A:Y,25,FALSE),IF(H35=\"CR\",VLOOKUP(C35,Items!A:Z,26,FALSE),0))),2)","v":{"v":0,"d":"0.00"}},0,null,{"$f":"IFERROR(VLOOKUP(C35,Items!A:H,8,FALSE),0)","v":0},{"$f":"IF(C35=\"\",\"\",IF(E35&F35=\"\",VLOOKUP(C35,Items!A:D,4,FALSE),3))","v":""},{"$f":"IF(C35=\"\",\"\",'Misc Dropdowns'!$C$35)","v":""},{"v":0,"d":"0.00"},0,{"$f":"IF($H35=\"SEL\",VLOOKUP($C35,Items!A:F,6,FALSE),IF($H35=\"CR\",VLOOKUP('Order Form'!$C35,Items!A:G,7,FALSE),0))","v":0},{"$f":"IFERROR(AH35*(VLOOKUP(E35,'Misc Dropdowns'!$J$12:$M$16,4,FALSE)),0)","v":0},{"$f":"IFERROR(VLOOKUP(F35,'Misc Dropdowns'!$J$23:$M$27,4,FALSE)*AH35,0)","v":0},{"$f":"IFERROR((AL35*(15*(VLOOKUP(C35,Items!A:AE,31,FALSE)))),0)","v":0},0,"","","",0,{"$f":"IF(C35=\"\",0,D35*VLOOKUP(C35,Items!A:M,13,FALSE))","v":{"v":0,"d":"0.00"}},{"v":0,"d":"0.00"},{"$f":"IFERROR(IF(VLOOKUP(C35,'Modifications and Fees'!B:H,2,FALSE)=\"CR\",1*D35,\"\"),\"\")","v":""},{"v":0,"d":"0.00"},{"$f":"ROUND(IFERROR(D35*Z35*(VLOOKUP(E35,'Misc Dropdowns'!$J$12:$M$16,4,FALSE)),0),2)","v":{"v":0,"d":"0.00"}},{"$f":"ROUND(IFERROR(VLOOKUP(F35,'Misc Dropdowns'!$J$23:$M$27,4,FALSE)*Z35*D35,0),2)","v":{"v":0,"d":"0.00"}}]
[1,null,null,0,null,null,{"$f":"IF(C36=\"\",\"\",VLOOKUP(C36,Items!A:N,12,FALSE))","v":""},{"$f":"IF(S36=\"Craftsman Pricing\",\"CR\",IF(C36=\"\",\"\",IF('Misc Dropdowns'!$C$34=0,\"\",IF(E36&F36=\"\",VLOOKUP(AF36,'Misc Dropdowns'!$A$45:$B$47,2,FALSE),\"CR\"))))","v":""},{"$nulls":4},{"v":0,"d":"0.00"},{"v":0,"d":"0.00"},{"$nulls":11},{"$f":"ROUND(IF($S$18=\"\",0,IF(H36=\"SEL\",VLOOKUP(C36,Items!A:Y,25,FALSE),IF(H36=\"CR\",VLOOKUP(C36,Items!A:Z,26,FALSE),0))),2)","v":{"v":0,"d":"0.00"}},0,null,{"$f":"IFERROR(VLOOKUP(C36,Items!A:H,8,FALSE),0)","v":0},{"$f":"IF(C36=\"\",\"\",IF(E36&F36=\"\",VLOOKUP(C36,Items!A:D,4,FALSE),3))","v":""},{"$f":"IF(C36=\"\",\"\",'Misc Dropdowns'!$C$35)","v":""},{"v":0,"d":"0.00"},0,{"$f":"IF($H36=\"SEL\",VLOOKUP($C36,Items!A:F,6,FALSE),IF($H36=\"CR\",VLOOKUP('Order Form'!$C36,Items!A:G,7,FALSE),0))","v":0},{"$f":"IFERROR(AH36*(VLOOKUP(E36,'Misc Dropdowns'!$J$12:$M$16,4,FALSE)),0)","v":0},{"$f":"IFERROR(VLOOKUP(F36,'Misc Dropdowns'!$J$23:$M$27,4,FALSE)*AH36,0)","v":0},{"$f":"IFERROR((AL36*(15*(VLOOKUP(C36,Items!A:AE,31,FALSE)))),0)","v":0},0,"","","",0,{"$f":"IF(C36=\"\",0,D36*VLOOKUP(C36,Items!A:M,13,FALSE))","v":{"v":0,"d":"0.00"}},{"v":0,"d":"0.00"},{"$f":"IFERROR(IF(VLOOKUP(C36,'Modifications and Fees'!B:H,2,FALSE)=\"CR\",1*D36,\"\"),\"\")","v":""},{"v":0,"d":"0.00"},{"$f":"ROUND(IFERROR(D36*Z36*(VLOOKUP(E36,'Misc Dropdowns'!$J$12:$M$16,4,FALSE)),0),2)","v":{"v":0,"d":"0.00"}},{"$f":"ROUND(IFERROR(VLOOKUP(F36,'Misc Dropdowns'!$J$23:$M$27,4,FALSE)*Z36*D36,0),2)","v":{"v":0,"d":"0.00"}}]
[1,null,null,0,null,null,{"$f":"IF(C37=\"\",\"\",VLOOKUP(C37,Items!A:N,12,FALSE))","v":""},{"$f":"IF(S37=\"Craftsman Pricing\",\"CR\",IF(C37=\"\",\"\",IF('Misc Dropdowns'!$C$34=0,\"\",IF(E37&F37=\"\",VLOOKUP(AF37,'Misc Dropdowns'!$A$45:$B$47,2,FALSE),\"CR\"))))","v":""},{"$nulls":4},{"v":0,"d":"0.00"},{"v":0,"d":"0.00"},{"$nulls":11},{"$f":"ROUND(IF($S$18=\"\",0,IF(H37=\"SEL\",VLOOKUP(C37,Items!A:Y,25,FALSE),IF(H37=\"CR\",VLOOKUP(C37,Items!A:Z,26,FALSE),0))),2)","v":{"v":0,"d":"0.00"}},0,null,{"$f":"IFERROR(VLOOKUP(C37,Items!A:H,8,FALSE),0)","v":0},{"$f":"IF(C37=\"\",\"\",IF(E37&F37=\"\",VLOOKUP(C37,Items!A:D,4,FALSE),3))","v":""},{"$f":"IF(C37=\"\",\"\",'Misc Dropdowns'!$C$35)","v":""},{"v":0,"d":"0.00"},0,{"$f":"IF($H37=\"SEL\",VLOOKUP($C37,Items!A:F,6,FALSE),IF($H37=\"CR\",VLOOKUP('Order Form'!$C37,Items!A:G,7,FALSE),0))","v":0},{"$f":"IFERROR(AH37*(VLOOKUP(E37,'Misc Dropdowns'!$J$12:$M$16,4,FALSE)),0)","v":0},{"$f":"IFERROR(VLOOKUP(F37,'Misc Dropdowns'!$J$23:$M$27,4,FALSE)*AH37,0)","v":0},{"$f":"IFERROR((AL37*(15*(VLOOKUP(C37,Items!A:AE,31,FALSE)))),0)","v":0},0,"","","",0,{"$f":"IF(C37=\"\",0,D37*VLOOKUP(C37,Items!A:M,13,FALSE))","v":{"v":0,"d":"0.00"}},{"v":0,"d":"0.00"},{"$f":"IFERROR(IF(VLOOKUP(C37,'Modifications and Fees'!B:H,2,FALSE)=\"CR\",1*D37,\"\"),\"\")","v":""},{"v":0,"d":"0.00"},{"$f":"ROUND(IFERROR(D37*Z37*(VLOOKUP(E37,'Misc Dropdowns'!$J$12:$M$16,4,FALSE)),0),2)","v":{"v":0,"d":"0.00"}},{"$f":"ROUND(IFERROR(VLOOKUP(F37,'Misc Dropdowns'!$J$23:$M$27,4,FALSE)*Z37*D37,0),2)","v":{"v":0,"d":"0.00"}}]
[1,null,null,0,null,null,{"$f":"IF(C38=\"\",\"\",VLOOKUP(C38,Items!A:N,12,FALSE))","v":""},{"$f":"IF(S38=\"Craftsman Pricing\",\"CR\",IF(C38=\"\",\"\",IF('Misc Dropdowns'!$C$34=0,\"\",IF(E38&F38=\"\",VLOOKUP(AF38,'Misc Dropdowns'!$A$45:$B$47,2,FALSE),\"CR\"))))","v":""},{"$nulls":4},{"v":0,"d":"0.00"},{"v":0,"d":"0.00"},{"$nulls":11},{"$f":"ROUND(IF($S$18=\"\",0,IF(H38=\"SEL\",VLOOKUP(C38,Items!A:Y,25,FALSE),IF(H38=\"CR\",VLOOKUP(C38,Items!A:Z,26,FALSE),0))),2)","v":{"v":0,"d":"0.00"}},0,null,{"$f":"IFERROR(VLOOKUP(C38,Items!A:H,8,FALSE),0)","v":0},{"$f":"IF(C38=\"\",\"\",IF(E38&F38=\"\",VLOOKUP(C38,Items!A:D,4,FALSE),3))","v":""},{"$f":"IF(C38=\"\",\"\",'Misc Dropdowns'!$C$35)","v":""},{"v":0,"d":"0.00"},0,{"$f":"IF($H38=\"SEL\",VLOOKUP($C38,Items!A:F,6,FALSE),IF($H38=\"CR\",VLOOKUP('Order Form'!$C38,Items!A:G,7,FALSE),0))","v":0},{"$f":"IFERROR(AH38*(VLOOKUP(E38,'Misc Dropdowns'!$J$12:$M$16,4,FALSE)),0)","v":0},{"$f":"IFERROR(VLOOKUP(F38,'Misc Dropdowns'!$J$23:$M$27,4,FALSE)*AH38,0)","v":0},{"$f":"IFERROR((AL38*(15*(VLOOKUP(C38,Items!A:AE,31,FALSE)))),0)","v":0},0,"","","",0,{"$f":"IF(C38=\"\",0,D38*VLOOKUP(C38,Items!A:M,13,FALSE))","v":{"v":0,"d":"0.00"}},{"v":0,"d":"0.00"},{"$f":"IFERROR(IF(VLOOKUP(C38,'Modifications and Fees'!B:H,2,FALSE)=\"CR\",1*D38,\"\"),\"\")","v":""},{"v":0,"d":"0.00"},{"$f":"ROUND(IFERROR(D38*Z38*(VLOOKUP(E38,'Misc Dropdowns'!$J$12:$M$16,4,FALSE)),0),2)","v":{"v":0,"d":"0.00"}},{"$f":"ROUND(IFERROR(VLOOKUP(F38,'Misc Dropdowns'!$J$23:$M$27,4,FALSE)*Z38*D38,0),2)","v":{"v":0,"d":"0.00"}}]
[1,null,null,0,null,null,{"$f":"IF(C39=\"\",\"\",VLOOKUP(C39,Items!A:N,12,FALSE))","v":""},{"$f":"IF(S39=\"Craftsman Pricing\",\"CR\",IF(C39=\"\",\"\",IF('Misc Dropdowns'!$C$34=0,\"\",IF(E39&F39=\"\",VLOOKUP(AF39,'Misc Dropdowns'!$A$45:$B$47,2,FALSE),\"CR\"))))","v":""},{"$nulls":4},{"v":0,"d":"0.00"},{"v":0,"d":"0.00"},{"$nulls":11},{"$f":"ROUND(IF($S$18=\"\",0,IF(H39=\"SEL\",VLOOKUP(C39,Items!A:Y,25,FALSE),IF(H39=\"CR\",VLOOKUP(C39,Items!A:Z,26,FALSE),0))),2)","v":{"v":0,"d":"0.00"}},0,null,{"$f":"IFERROR(VLOOKUP(C39,Items!A:H,8,FALSE),0)","v":0},{"$f":"IF(C39=\"\",\"\",IF(E39&F39=\"\",VLOOKUP(C39,Items!A:D,4,FALSE),3))","v":""},{"$f":"IF(C39=\"\",\"\",'Misc Dropdowns'!$C$35)","v":""},{"v":0,"d":"0.00"},0,{"$f":"IF($H39=\"SEL\",VLOOKUP($C39,Items!A:F,6,FALSE),IF($H39=\"CR\",VLOOKUP('Order Form'!$C39,Items!A:G,7,FALSE),0))","v":0},{"$f":"IFERROR(AH39*(VLOOKUP(E39,'Misc Dropdowns'!$J$12:$M$16,4,FALSE)),0)","v":0},{"$f":"IFERROR(VLOOKUP(F39,'Misc Dropdowns'!$J$23:$M$27,4,FALSE)*AH39,0)","v":0},{"$f":"IFERROR((AL39*(15*(VLOOKUP(C39,Items!A:AE,31,FALSE)))),0)","v":0},0,"","","",0,{"$f":"IF(C39=\"\",0,D39*VLOOKUP(C39,Items!A:M,13,FALSE))","v":{"v":0,"d":"0.00"}},{"v":0,"d":"0.00"},{"$f":"IFERROR(IF(VLOOKUP(C39,'Modifications and Fees'!B:H,2,FALSE)=\"CR\",1*D39,\"\"),\"\")","v":""},{"v":0,"d":"0.00"},{"$f":"ROUND(IFERROR(D39*Z39*(VLOOKUP(E39,'Misc Dropdowns'!$J$12:$M$16,4,FALSE)),0),2)","v":{"v":0,"d":"0.00"}},{"$f":"ROUND(IFERROR(VLOOKUP(F39,'Misc Dropdowns'!$J$23:$M$27,4,FALSE)*Z39*D39,0),2)","v":{"v":0,"d":"0.00"}}]
[1,null,null,0,null,null,{"$f":"IF(C40=\"\",\"\",VLOOKUP(C40,Items!A:N,12,FALSE))","v":""},{"$f":"IF(S40=\"Craftsman Pricing\",\"CR\",IF(C40=\"\",\"\",IF('Misc Dropdowns'!$C$34=0,\"\",IF(E40&F40=\"\",VLOOKUP(AF40,'Misc Dropdowns'!$A$45:$B$47,2,FALSE),\"CR\"))))","v":""},{"$nulls":4},{"v":0,"d":"0.00"},{"v":0,"d":"0.00"},{"$nulls":11},{"$f":"ROUND(IF($S$18=\"\",0,IF(H40=\"SEL\",VLOOKUP(C40,Items!A:Y,25,FALSE),IF(H40=\"CR\",VLOOKUP(C40,Items!A:Z,26,FALSE),0))),2)","v":{"v":0,"d":"0.00"}},0,null,{"$f":"IFERROR(VLOOKUP(C40,Items!A:H,8,FALSE),0)","v":0},{"$f":"IF(C40=\"\",\"\",IF(E40&F40=\"\",VLOOKUP(C40,Items!A:D,4,FALSE),3))","v":""},{"$f":"IF(C40=\"\",\"\",'Misc Dropdowns'!$C$35)","v":""},{"v":0,"d":"0.00"},0,{"$f":"IF($H40=\"SEL\",VLOOKUP($C40,Items!A:F,6,FALSE),IF($H40=\"CR\",VLOOKUP('Order Form'!$C40,Items!A:G,7,FALSE),0))","v":0},{"$f":"IFERROR(AH40*(VLOOKUP(E40,'Misc Dropdowns'!$J$12:$M$16,4,FALSE)),0)","v":0},{"$f":"IFERROR(VLOOKUP(F40,'Misc Dropdowns'!$J$23:$M$27,4,FALSE)*AH40,0)","v":0},{"$f":"IFERROR((AL40*(15*(VLOOKUP(C40,Items!A:AE,31,FALSE)))),0)","v":0},0,"","","",0,{"$f":"IF(C40=\"\",0,D40*VLOOKUP(C40,Items!A:M,13,FALSE))","v":{"v":0,"d":"0.00"}},{"v":0,"d":"0.00"},{"$f":"IFERROR(IF(VLOOKUP(C40,'Modifications and Fees'!B:H,2,FALSE)=\"CR\",1*D40,\"\"),\"\")","v":""},{"v":0,"d":"0.00"},{"$f":"ROUND(IFERROR(D40*Z40*(VLOOKUP(E40,'Misc Dropdowns'!$J$12:$M$16,4,FALSE)),0),2)","v":{"v":0,"d":"0.00"}},{"$f":"ROUND(IFERROR(VLOOKUP(F40,'Misc Dropdowns'!$J$23:$M$27,4,FALSE)*Z40*D40,0),2)","v":{"v":0,"d":"0.00"}}]
[1,null,null,0,null,null,{"$f":"IF(C41=\"\",\"\",VLOOKUP(C41,Items!A:N,12,FALSE))","v":""},{"$f":"IF(S41=\"Craftsman Pricing\",\"CR\",IF(C41=\"\",\"\",IF('Misc Dropdowns'!$C$34=0,\"\",IF(E41&F41=\"\",VLOOKUP(AF41,'Misc Dropdowns'!$A$45:$B$47,2,FALSE),\"CR\"))))","v":""},{"$nulls":4},{"v":0,"d":"0.00"},{"v":0,"d":"0.00"},{"$nulls":11},{"$f":"ROUND(IF($S$18=\"\",0,IF(H41=\"SEL\",VLOOKUP(C41,Items!A:Y,25,FALSE),IF(H41=\"CR\",VLOOKUP(C41,Items!A:Z,26,FALSE),0))),2)","v":{"v":0,"d":"0.00"}},0,null,{"$f":"IFERROR(VLOOKUP(C41,Items!A:H,8,FALSE),0)","v":0},{"$f":"IF(C41=\"\",\"\",IF(E41&F41=\"\",VLOOKUP(C41,Items!A:D,4,FALSE),3))","v":""},{"$f":"IF(C41=\"\",\"\",'Misc Dropdowns'!$C$35)","v":""},{"v":0,"d":"0.00"},0,{"$f":"IF($H41=\"SEL\",VLOOKUP($C41,Items!A:F,6,FALSE),IF($H41=\"CR\",VLOOKUP('Order Form'!$C41,Items!A:G,7,FALSE),0))","v":0},{"$f":"IFERROR(AH41*(VLOOKUP(E41,'Misc Dropdowns'!$J$12:$M$16,4,FALSE)),0)","v":0},{"$f":"IFERROR(VLOOKUP(F41,'Misc Dropdowns'!$J$23:$M$27,4,FALSE)*AH41,0)","v":0},{"$f":"IFERROR((AL41*(15*(VLOOKUP(C41,Items!A:AE,31,FALSE)))),0)","v":0},0,"","","",0,{"$f":"IF(C41=\"\",0,D41*VLOOKUP(C41,Items!A:M,13,FALSE))","v":{"v":0,"d":"0.00"}},{"v":0,"d":"0.00"},{"$f":"IFERROR(IF(VLOOKUP(C41,'Modifications and Fees'!B:H,2,FALSE)=\"CR\",1*D41,\"\"),\"\")","v":""},{"v":0,"d":"0.00"},{"$f":"ROUND(IFERROR(D41*Z41*(VLOOKUP(E41,'Misc Dropdowns'!$J$12:$M$16,4,FALSE)),0),2)","v":{"v":0,"d":"0.00"}},{"$f":"ROUND(IFERROR(VLOOKUP(F41,'Misc Dropdowns'!$J$23:$M$27,4,FALSE)*Z41*D41,0),2)","v":{"v":0,"d":"0.00"}}]
[1,null,null,0,null,null,{"$f":"IF(C42=\"\",\"\",VLOOKUP(C42,Items!A:N,12,FALSE))","v":""},{"$f":"IF(S42=\"Craftsman Pricing\",\"CR\",IF(C42=\"\",\"\",IF('Misc Dropdowns'!$C$34=0,\"\",IF(E42&F42=\"\",VLOOKUP(AF42,'Misc Dropdowns'!$A$45:$B$47,2,FALSE),\"CR\"))))","v":""},{"$nulls":4},{"v":0,"d":"0.00"},{"v":0,"d":"0.00"},{"$nulls":11},{"$f":"ROUND(IF($S$18=\"\",0,IF(H42=\"SEL\",VLOOKUP(C42,Items!A:Y,25,FALSE),IF(H42=\"CR\",VLOOKUP(C42,Items!A:Z,26,FALSE),0))),2)","v":{"v":0,"d":"0.00"}},0,null,{"$f":"IFERROR(VLOOKUP(C42,Items!A:H,8,FALSE),0)","v":0},{"$f":"IF(C42=\"\",\"\",IF(E42&F42=\"\",VLOOKUP(C42,Items!A:D,4,FALSE),3))","v":""},{"$f":"IF(C42=\"\",\"\",'Misc Dropdowns'!$C$35)","v":""},{"v":0,"d":"0.00"},0,{"$f":"IF($H42=\"SEL\",VLOOKUP($C42,Items!A:F,6,FALSE),IF($H42=\"CR\",VLOOKUP('Order Form'!$C42,Items!A:G,7,FALSE),0))","v":0},{"$f":"IFERROR(AH42*(VLOOKUP(E42,'Misc Dropdowns'!$J$12:$M$16,4,FALSE)),0)","v":0},{"$f":"IFERROR(VLOOKUP(F42,'Misc Dropdowns'!$J$23:$M$27,4,FALSE)*AH42,0)","v":0},{"$f":"IFERROR((AL42*(15*(VLOOKUP(C42,Items!A:AE,31,FALSE)))),0)","v":0},0,"","","",0,{"$f":"IF(C42=\"\",0,D42*VLOOKUP(C42,Items!A:M,13,FALSE))","v":{"v":0,"d":"0.00"}},{"v":0,"d":"0.00"},{"$f":"IFERROR(IF(VLOOKUP(C42,'Modifications and Fees'!B:H,2,FALSE)=\"CR\",1*D42,\"\"),\"\")","v":""},{"v":0,"d":"0.00"},{"$f":"ROUND(IFERROR(D42*Z42*(VLOOKUP(E42,'Misc Dropdowns'!$J$12:$M$16,4,FALSE)),0),2)","v":{"v":0,"d":"0.00"}},{"$f":"ROUND(IFERROR(VLOOKUP(F42,'Misc Dropdowns'!$J$23:$M$27,4,FALSE)*Z42*D42,0),2)","v":{"v":0,"d":"0.00"}}]
[1,null,null,0,null,null,{"$f":"IF(C43=\"\",\"\",VLOOKUP(C43,Items!A:N,12,FALSE))","v":""},{"$f":"IF(S43=\"Craftsman Pricing\",\"CR\",IF(C43=\"\",\"\",IF('Misc Dropdowns'!$C$34=0,\"\",IF(E43&F43=\"\",VLOOKUP(AF43,'Misc Dropdowns'!$A$45:$B$47,2,FALSE),\"CR\"))))","v":""},{"$nulls":4},{"v":0,"d":"0.00"},{"v":0,"d":"0.00"},{"$nulls":11},{"$f":"ROUND(IF($S$18=\"\",0,IF(H43=\"SEL\",VLOOKUP(C43,Items!A:Y,25,FALSE),IF(H43=\"CR\",VLOOKUP(C43,Items!A:Z,26,FALSE),0))),2)","v":{"v":0,"d":"0.00"}},0,null,{"$f":"IFERROR(VLOOKUP(C43,Items!A:H,8,FALSE),0)","v":0},{"$f":"IF(C43=\"\",\"\",IF(E43&F43=\"\",VLOOKUP(C43,Items!A:D,4,FALSE),3))","v":""},{"$f":"IF(C43=\"\",\"\",'Misc Dropdowns'!$C$35)","v":""},{"v":0,"d":"0.00"},0,{"$f":"IF($H43=\"SEL\",VLOOKUP($C43,Items!A:F,6,FALSE),IF($H43=\"CR\",VLOOKUP('Order Form'!$C43,Items!A:G,7,FALSE),0))","v":0},{"$f":"IFERROR(AH43*(VLOOKUP(E43,'Misc Dropdowns'!$J$12:$M$16,4,FALSE)),0)","v":0},{"$f":"IFERROR(VLOOKUP(F43,'Misc Dropdowns'!$J$23:$M$27,4,FALSE)*AH43,0)","v":0},{"$f":"IFERROR((AL43*(15*(VLOOKUP(C43,Items!A:AE,31,FALSE)))),0)","v":0},0,"","","",0,{"$f":"IF(C43=\"\",0,D43*VLOOKUP(C43,Items!A:M,13,FALSE))","v":{"v":0,"d":"0.00"}},{"v":0,"d":"0.00"},{"$f":"IFERROR(IF(VLOOKUP(C43,'Modifications and Fees'!B:H,2,FALSE)=\"CR\",1*D43,\"\"),\"\")","v":""},{"v":0,"d":"0.00"},{"$f":"ROUND(IFERROR(D43*Z43*(VLOOKUP(E43,'Misc Dropdowns'!$J$12:$M$16,4,FALSE)),0),2)","v":{"v":0,"d":"0.00"}},{"$f":"ROUND(IFERROR(VLOOKUP(F43,'Misc Dropdowns'!$J$23:$M$27,4,FALSE)*Z43*D43,0),2)","v":{"v":0,"d":"0.00"}}]
[1,null,null,0,null,null,{"$f":"IF(C44=\"\",\"\",VLOOKUP(C44,Items!A:N,12,FALSE))","v":""},{"$f":"IF(S44=\"Craftsman Pricing\",\"CR\",IF(C44=\"\",\"\",IF('Misc Dropdowns'!$C$34=0,\"\",IF(E44&F44=\"\",VLOOKUP(AF44,'Misc Dropdowns'!$A$45:$B$47,2,FALSE),\"CR\"))))","v":""},{"$nulls":4},{"v":0,"d":"0.00"},{"v":0,"d":"0.00"},{"$nulls":11},{"$f":"ROUND(IF($S$18=\"\",0,IF(H44=\"SEL\",VLOOKUP(C44,Items!A:Y,25,FALSE),IF(H44=\"CR\",VLOOKUP(C44,Items!A:Z,26,FALSE),0))),2)","v":{"v":0,"d":"0.00"}},0,null,{"$f":"IFERROR(VLOOKUP(C44,Items!A:H,8,FALSE),0)","v":0},{"$f":"IF(C44=\"\",\"\",IF(E44&F44=\"\",VLOOKUP(C44,Items!A:D,4,FALSE),3))","v":""},{"$f":"IF(C44=\"\",\"\",'Misc Dropdowns'!$C$35)","v":""},{"v":0,"d":"0.00"},0,{"$f":"IF($H44=\"SEL\",VLOOKUP($C44,Items!A:F,6,FALSE),IF($H44=\"CR\",VLOOKUP('Order Form'!$C44,Items!A:G,7,FALSE),0))","v":0},{"$f":"IFERROR(AH44*(VLOOKUP(E44,'Misc Dropdowns'!$J$12:$M$16,4,FALSE)),0)","v":0},{"$f":"IFERROR(VLOOKUP(F44,'Misc Dropdowns'!$J$23:$M$27,4,FALSE)*AH44,0)","v":0},{"$f":"IFERROR((AL44*(15*(VLOOKUP(C44,Items!A:AE,31,FALSE)))),0)","v":0},0,"","","",0,{"$f":"IF(C44=\"\",0,D44*VLOOKUP(C44,Items!A:M,13,FALSE))","v":{"v":0,"d":"0.00"}},{"v":0,"d":"0.00"},{"$f":"IFERROR(IF(VLOOKUP(C44,'Modifications and Fees'!B:H,2,FALSE)=\"CR\",1*D44,\"\"),\"\")","v":""},{"v":0,"d":"0.00"},{"$f":"ROUND(IFERROR(D44*Z44*(VLOOKUP(E44,'Misc Dropdowns'!$J$12:$M$16,4,FALSE)),0),2)","v":{"v":0,"d":"0.00"}},{"$f":"ROUND(IFERROR(VLOOKUP(F44,'Misc Dropdowns'!$J$23:$M$27,4,FALSE)*Z44*D44,0),2)","v":{"v":0,"d":"0.00"}}]
[1,null,null,0,null,null,{"$f":"IF(C45=\"\",\"\",VLOOKUP(C45,Items!A:N,12,FALSE))","v":""},{"$f":"IF(S45=\"Craftsman Pricing\",\"CR\",IF(C45=\"\",\"\",IF('Misc Dropdowns'!$C$34=0,\"\",IF(E45&F45=\"\",VLOOKUP(AF45,'Misc Dropdowns'!$A$45:$B$47,2,FALSE),\"CR\"))))","v":""},{"$nulls":4},{"v":0,"d":"0.00"},{"v":0,"d":"0.00"},{"$nulls":11},{"$f":"ROUND(IF($S$18=\"\",0,IF(H45=\"SEL\",VLOOKUP(C45,Items!A:Y,25,FALSE),IF(H45=\"CR\",VLOOKUP(C45,Items!A:Z,26,FALSE),0))),2)","v":{"v":0,"d":"0.00"}},0,null,{"$f":"IFERROR(VLOOKUP(C45,Items!A:H,8,FALSE),0)","v":0},{"$f":"IF(C45=\"\",\"\",IF(E45&F45=\"\",VLOOKUP(C45,Items!A:D,4,FALSE),3))","v":""},{"$f":"IF(C45=\"\",\"\",'Misc Dropdowns'!$C$35)","v":""},{"v":0,"d":"0.00"},0,{"$f":"IF($H45=\"SEL\",VLOOKUP($C45,Items!A:F,6,FALSE),IF($H45=\"CR\",VLOOKUP('Order Form'!$C45,Items!A:G,7,FALSE),0))","v":0},{"$f":"IFERROR(AH45*(VLOOKUP(E45,'Misc Dropdowns'!$J$12:$M$16,4,FALSE)),0)","v":0},{"$f":"IFERROR(VLOOKUP(F45,'Misc Dropdowns'!$J$23:$M$27,4,FALSE)*AH45,0)","v":0},{"$f":"IFERROR((AL45*(15*(VLOOKUP(C45,Items!A:AE,31,FALSE)))),0)","v":0},0,"","","",0,{"$f":"IF(C45=\"\",0,D45*VLOOKUP(C45,Items!A:M,13,FALSE))","v":{"v":0,"d":"0.00"}},{"v":0,"d":"0.00"},{"$f":"IFERROR(IF(VLOOKUP(C45,'Modifications and Fees'!B:H,2,FALSE)=\"CR\",1*D45,\"\"),\"\")","v":""},{"v":0,"d":"0.00"},{"$f":"ROUND(IFERROR(D45*Z45*(VLOOKUP(E45,'Misc Dropdowns'!$J$12:$M$16,4,FALSE)),0),2)","v":{"v":0,"d":"0.00"}},{"$f":"ROUND(IFERROR(VLOOKUP(F45,'Misc Dropdowns'!$J$23:$M$27,4,FALSE)*Z45*D45,0),2)","v":{"v":0,"d":"0.00"}}]
[1,null,null,0,null,null,{"$f":"IF(C46=\"\",\"\",VLOOKUP(C46,Items!A:N,12,FALSE))","v":""},{"$f":"IF(S46=\"Craftsman Pricing\",\"CR\",IF(C46=\"\",\"\",IF('Misc Dropdowns'!$C$34=0,\"\",IF(E46&F46=\"\",VLOOKUP(AF46,'Misc Dropdowns'!$A$45:$B$47,2,FALSE),\"CR\"))))","v":""},{"$nulls":4},{"v":0,"d":"0.00"},{"v":0,"d":"0.00"},{"$nulls":11},{"$f":"ROUND(IF($S$18=\"\",0,IF(H46=\"SEL\",VLOOKUP(C46,Items!A:Y,25,FALSE),IF(H46=\"CR\",VLOOKUP(C46,Items!A:Z,26,FALSE),0))),2)","v":{"v":0,"d":"0.00"}},0,null,{"$f":"IFERROR(VLOOKUP(C46,Items!A:H,8,FALSE),0)","v":0},{"$f":"IF(C46=\"\",\"\",IF(E46&F46=\"\",VLOOKUP(C46,Items!A:D,4,FALSE),3))","v":""},{"$f":"IF(C46=\"\",\"\",'Misc Dropdowns'!$C$35)","v":""},{"v":0,"d":"0.00"},0,{"$f":"IF($H46=\"SEL\",VLOOKUP($C46,Items!A:F,6,FALSE),IF($H46=\"CR\",VLOOKUP('Order Form'!$C46,Items!A:G,7,FALSE),0))","v":0},{"$f":"IFERROR(AH46*(VLOOKUP(E46,'Misc Dropdowns'!$J$12:$M$16,4,FALSE)),0)","v":0},{"$f":"IFERROR(VLOOKUP(F46,'Misc Dropdowns'!$J$23:$M$27,4,FALSE)*AH46,0)","v":0},{"$f":"IFERROR((AL46*(15*(VLOOKUP(C46,Items!A:AE,31,FALSE)))),0)","v":0},0,"","","",0,{"$f":"IF(C46=\"\",0,D46*VLOOKUP(C46,Items!A:M,13,FALSE))","v":{"v":0,"d":"0.00"}},{"v":0,"d":"0.00"},{"$f":"IFERROR(IF(VLOOKUP(C46,'Modifications and Fees'!B:H,2,FALSE)=\"CR\",1*D46,\"\"),\"\")","v":""},{"v":0,"d":"0.00"},{"$f":"ROUND(IFERROR(D46*Z46*(VLOOKUP(E46,'Misc Dropdowns'!$J$12:$M$16,4,FALSE)),0),2)","v":{"v":0,"d":"0.00"}},{"$f":"ROUND(IFERROR(VLOOKUP(F46,'Misc Dropdowns'!$J$23:$M$27,4,FALSE)*Z46*D46,0),2)","v":{"v":0,"d":"0.00"}}]
[1,null,null,0,null,null,{"$f":"IF(C47=\"\",\"\",VLOOKUP(C47,Items!A:N,12,FALSE))","v":""},{"$f":"IF(S47=\"Craftsman Pricing\",\"CR\",IF(C47=\"\",\"\",IF('Misc Dropdowns'!$C$34=0,\"\",IF(E47&F47=\"\",VLOOKUP(AF47,'Misc Dropdowns'!$A$45:$B$47,2,FALSE),\"CR\"))))","v":""},{"$nulls":4},{"v":0,"d":"0.00"},{"v":0,"d":"0.00"},{"$nulls":11},{"$f":"ROUND(IF($S$18=\"\",0,IF(H47=\"SEL\",VLOOKUP(C47,Items!A:Y,25,FALSE),IF(H47=\"CR\",VLOOKUP(C47,Items!A:Z,26,FALSE),0))),2)","v":{"v":0,"d":"0.00"}},0,null,{"$f":"IFERROR(VLOOKUP(C47,Items!A:H,8,FALSE),0)","v":0},{"$f":"IF(C47=\"\",\"\",IF(E47&F47=\"\",VLOOKUP(C47,Items!A:D,4,FALSE),3))","v":""},{"$f":"IF(C47=\"\",\"\",'Misc Dropdowns'!$C$35)","v":""},{"v":0,"d":"0.00"},0,{"$f":"IF($H47=\"SEL\",VLOOKUP($C47,Items!A:F,6,FALSE),IF($H47=\"CR\",VLOOKUP('Order Form'!$C47,Items!A:G,7,FALSE),0))","v":0},{"$f":"IFERROR(AH47*(VLOOKUP(E47,'Misc Dropdowns'!$J$12:$M$16,4,FALSE)),0)","v":0},{"$f":"IFERROR(VLOOKUP(F47,'Misc Dropdowns'!$J$23:$M$27,4,FALSE)*AH47,0)","v":0},{"$f":"IFERROR((AL47*(15*(VLOOKUP(C47,Items!A:AE,31,FALSE)))),0)","v":0},0,"","","",0,{"$f":"IF(C47=\"\",0,D47*VLOOKUP(C47,Items!A:M,13,FALSE))","v":{"v":0,"d":"0.00"}},{"v":0,"d":"0.00"},{"$f":"IFERROR(IF(VLOOKUP(C47,'Modifications and Fees'!B:H,2,FALSE)=\"CR\",1*D47,\"\"),\"\")","v":""},{"v":0,"d":"0.00"},{"$f":"ROUND(IFERROR(D47*Z47*(VLOOKUP(E47,'Misc Dropdowns'!$J$12:$M$16,4,FALSE)),0),2)","v":{"v":0,"d":"0.00"}},{"$f":"ROUND(IFERROR(VLOOKUP(F47,'Misc Dropdowns'!$J$23:$M$27,4,FALSE)*Z47*D47,0),2)","v":{"v":0,"d":"0.00"}}]
[1,null,null,0,null,null,{"$f":"IF(C48=\"\",\"\",VLOOKUP(C48,Items!A:N,12,FALSE))","v":""},{"$f":"IF(S48=\"Craftsman Pricing\",\"CR\",IF(C48=\"\",\"\",IF('Misc Dropdowns'!$C$34=0,\"\",IF(E48&F48=\"\",VLOOKUP(AF48,'Misc Dropdowns'!$A$45:$B$47,2,FALSE),\"CR\"))))","v":""},{"$nulls":4},{"v":0,"d":"0.00"},{"v":0,"d":"0.00"},{"$nulls":11},{"$f":"ROUND(IF($S$18=\"\",0,IF(H48=\"SEL\",VLOOKUP(C48,Items!A:Y,25,FALSE),IF(H48=\"CR\",VLOOKUP(C48,Items!A:Z,26,FALSE),0))),2)","v":{"v":0,"d":"0.00"}},0,null,{"$f":"IFERROR(VLOOKUP(C48,Items!A:H,8,FALSE),0)","v":0},{"$f":"IF(C48=\"\",\"\",IF(E48&F48=\"\",VLOOKUP(C48,Items!A:D,4,FALSE),3))","v":""},{"$f":"IF(C48=\"\",\"\",'Misc Dropdowns'!$C$35)","v":""},{"v":0,"d":"0.00"},0,{"$f":"IF($H48=\"SEL\",VLOOKUP($C48,Items!A:F,6,FALSE),IF($H48=\"CR\",VLOOKUP('Order Form'!$C48,Items!A:G,7,FALSE),0))","v":0},{"$f":"IFERROR(AH48*(VLOOKUP(E48,'Misc Dropdowns'!$J$12:$M$16,4,FALSE)),0)","v":0},{"$f":"IFERROR(VLOOKUP(F48,'Misc Dropdowns'!$J$23:$M$27,4,FALSE)*AH48,0)","v":0},{"$f":"IFERROR((AL48*(15*(VLOOKUP(C48,Items!A:AE,31,FALSE)))),0)","v":0},0,"","","",0,{"$f":"IF(C48=\"\",0,D48*VLOOKUP(C48,Items!A:M,13,FALSE))","v":{"v":0,"d":"0.00"}},{"v":0,"d":"0.00"},{"$f":"IFERROR(IF(VLOOKUP(C48,'Modifications and Fees'!B:H,2,FALSE)=\"CR\",1*D48,\"\"),\"\")","v":""},{"v":0,"d":"0.00"},{"$f":"ROUND(IFERROR(D48*Z48*(VLOOKUP(E48,'Misc Dropdowns'!$J$12:$M$16,4,FALSE)),0),2)","v":{"v":0,"d":"0.00"}},{"$f":"ROUND(IFERROR(VLOOKUP(F48,'Misc Dropdowns'!$J$23:$M$27,4,FALSE)*Z48*D48,0),2)","v":{"v":0,"d":"0.00"}}]
[1,null,null,0,null,null,{"$f":"IF(C49=\"\",\"\",VLOOKUP(C49,Items!A:N,12,FALSE))","v":""},{"$f":"IF(S49=\"Craftsman Pricing\",\"CR\",IF(C49=\"\",\"\",IF('Misc Dropdowns'!$C$34=0,\"\",IF(E49&F49=\"\",VLOOKUP(AF49,'Misc Dropdowns'!$A$45:$B$47,2,FALSE),\"CR\"))))","v":""},{"$nulls":4},{"v":0,"d":"0.00"},{"v":0,"d":"0.00"},{"$nulls":11},{"$f":"ROUND(IF($S$18=\"\",0,IF(H49=\"SEL\",VLOOKUP(C49,Items!A:Y,25,FALSE),IF(H49=\"CR\",VLOOKUP(C49,Items!A:Z,26,FALSE),0))),2)","v":{"v":0,"d":"0.00"}},0,null,{"$f":"IFERROR(VLOOKUP(C49,Items!A:H,8,FALSE),0)","v":0},{"$f":"IF(C49=\"\",\"\",IF(E49&F49=\"\",VLOOKUP(C49,Items!A:D,4,FALSE),3))","v":""},{"$f":"IF(C49=\"\",\"\",'Misc Dropdowns'!$C$35)","v":""},{"v":0,"d":"0.00"},0,{"$f":"IF($H49=\"SEL\",VLOOKUP($C49,Items!A:F,6,FALSE),IF($H49=\"CR\",VLOOKUP('Order Form'!$C49,Items!A:G,7,FALSE),0))","v":0},{"$f":"IFERROR(AH49*(VLOOKUP(E49,'Misc Dropdowns'!$J$12:$M$16,4,FALSE)),0)","v":0},{"$f":"IFERROR(VLOOKUP(F49,'Misc Dropdowns'!$J$23:$M$27,4,FALSE)*AH49,0)","v":0},{"$f":"IFERROR((AL49*(15*(VLOOKUP(C49,Items!A:AE,31,FALSE)))),0)","v":0},0,"","","",0,{"$f":"IF(C49=\"\",0,D49*VLOOKUP(C49,Items!A:M,13,FALSE))","v":{"v":0,"d":"0.00"}},{"v":0,"d":"0.00"},{"$f":"IFERROR(IF(VLOOKUP(C49,'Modifications and Fees'!B:H,2,FALSE)=\"CR\",1*D49,\"\"),\"\")","v":""},{"v":0,"d":"0.00"},{"$f":"ROUND(IFERROR(D49*Z49*(VLOOKUP(E49,'Misc Dropdowns'!$J$12:$M$16,4,FALSE)),0),2)","v":{"v":0,"d":"0.00"}},{"$f":"ROUND(IFERROR(VLOOKUP(F49,'Misc Dropdowns'!$J$23:$M$27,4,FALSE)*Z49*D49,0),2)","v":{"v":0,"d":"0.00"}}]
[1,null,null,0,null,null,{"$f":"IF(C50=\"\",\"\",VLOOKUP(C50,Items!A:N,12,FALSE))","v":""},{"$f":"IF(S50=\"Craftsman Pricing\",\"CR\",IF(C50=\"\",\"\",IF('Misc Dropdowns'!$C$34=0,\"\",IF(E50&F50=\"\",VLOOKUP(AF50,'Misc Dropdowns'!$A$45:$B$47,2,FALSE),\"CR\"))))","v":""},{"$nulls":4},{"v":0,"d":"0.00"},{"v":0,"d":"0.00"},{"$nulls":11},{"$f":"ROUND(IF($S$18=\"\",0,IF(H50=\"SEL\",VLOOKUP(C50,Items!A:Y,25,FALSE),IF(H50=\"CR\",VLOOKUP(C50,Items!A:Z,26,FALSE),0))),2)","v":{"v":0,"d":"0.00"}},0,null,{"$f":"IFERROR(VLOOKUP(C50,Items!A:H,8,FALSE),0)","v":0},{"$f":"IF(C50=\"\",\"\",IF(E50&F50=\"\",VLOOKUP(C50,Items!A:D,4,FALSE),3))","v":""},{"$f":"IF(C50=\"\",\"\",'Misc Dropdowns'!$C$35)","v":""},{"v":0,"d":"0.00"},0,{"$f":"IF($H50=\"SEL\",VLOOKUP($C50,Items!A:F,6,FALSE),IF($H50=\"CR\",VLOOKUP('Order Form'!$C50,Items!A:G,7,FALSE),0))","v":0},{"$f":"IFERROR(AH50*(VLOOKUP(E50,'Misc Dropdowns'!$J$12:$M$16,4,FALSE)),0)","v":0},{"$f":"IFERROR(VLOOKUP(F50,'Misc Dropdowns'!$J$23:$M$27,4,FALSE)*AH50,0)","v":0},{"$f":"IFERROR((AL50*(15*(VLOOKUP(C50,Items!A:AE,31,FALSE)))),0)","v":0},0,"","","",0,{"$f":"IF(C50=\"\",0,D50*VLOOKUP(C50,Items!A:M,13,FALSE))","v":{"v":0,"d":"0.00"}},{"v":0,"d":"0.00"},{"$f":"IFERROR(IF(VLOOKUP(C50,'Modifications and Fees'!B:H,2,FALSE)=\"CR\",1*D50,\"\"),\"\")","v":""},{"v":0,"d":"0.00"},{"$f":"ROUND(IFERROR(D50*Z50*(VLOOKUP(E50,'Misc Dropdowns'!$J$12:$M$16,4,FALSE)),0),2)","v":{"v":0,"d":"0.00"}},{"$f":"ROUND(IFERROR(VLOOKUP(F50,'Misc Dropdowns'!$J$23:$M$27,4,FALSE)*Z50*D50,0),2)","v":{"v":0,"d":"0.00"}}]
[1,null,null,0,null,null,{"$f":"IF(C51=\"\",\"\",VLOOKUP(C51,Items!A:N,12,FALSE))","v":""},{"$f":"IF(S51=\"Craftsman Pricing\",\"CR\",IF(C51=\"\",\"\",IF('Misc Dropdowns'!$C$34=0,\"\",IF(E51&F51=\"\",VLOOKUP(AF51,'Misc Dropdowns'!$A$45:$B$47,2,FALSE),\"CR\"))))","v":""},{"$nulls":4},{"v":0,"d":"0.00"},{"v":0,"d":"0.00"},{"$nulls":11},{"$f":"ROUND(IF($S$18=\"\",0,IF(H51=\"SEL\",VLOOKUP(C51,Items!A:Y,25,FALSE),IF(H51=\"CR\",VLOOKUP(C51,Items!A:Z,26,FALSE),0))),2)","v":{"v":0,"d":"0.00"}},0,null,{"$f":"IFERROR(VLOOKUP(C51,Items!A:H,8,FALSE),0)","v":0},{"$f":"IF(C51=\"\",\"\",IF(E51&F51=\"\",VLOOKUP(C51,Items!A:D,4,FALSE),3))","v":""},{"$f":"IF(C51=\"\",\"\",'Misc Dropdowns'!$C$35)","v":""},{"v":0,"d":"0.00"},0,{"$f":"IF($H51=\"SEL\",VLOOKUP($C51,Items!A:F,6,FALSE),IF($H51=\"CR\",VLOOKUP('Order Form'!$C51,Items!A:G,7,FALSE),0))","v":0},{"$f":"IFERROR(AH51*(VLOOKUP(E51,'Misc Dropdowns'!$J$12:$M$16,4,FALSE)),0)","v":0},{"$f":"IFERROR(VLOOKUP(F51,'Misc Dropdowns'!$J$23:$M$27,4,FALSE)*AH51,0)","v":0},{"$f":"IFERROR((AL51*(15*(VLOOKUP(C51,Items!A:AE,31,FALSE)))),0)","v":0},0,"","","",0,{"$f":"IF(C51=\"\",0,D51*VLOOKUP(C51,Items!A:M,13,FALSE))","v":{"v":0,"d":"0.00"}},{"v":0,"d":"0.00"},{"$f":"IFERROR(IF(VLOOKUP(C51,'Modifications and Fees'!B:H,2,FALSE)=\"CR\",1*D51,\"\"),\"\")","v":""},{"v":0,"d":"0.00"},{"$f":"ROUND(IFERROR(D51*Z51*(VLOOKUP(E51,'Misc Dropdowns'!$J$12:$M$16,4,FALSE)),0),2)","v":{"v":0,"d":"0.00"}},{"$f":"ROUND(IFERROR(VLOOKUP(F51,'Misc Dropdowns'!$J$23:$M$27,4,FALSE)*Z51*D51,0),2)","v":{"v":0,"d":"0.00"}}]
[1,null,null,0,null,null,{"$f":"IF(C52=\"\",\"\",VLOOKUP(C52,Items!A:N,12,FALSE))","v":""},{"$f":"IF(S52=\"Craftsman Pricing\",\"CR\",IF(C52=\"\",\"\",IF('Misc Dropdowns'!$C$34=0,\"\",IF(E52&F52=\"\",VLOOKUP(AF52,'Misc Dropdowns'!$A$45:$B$47,2,FALSE),\"CR\"))))","v":""},{"$nulls":4},{"v":0,"d":"0.00"},{"v":0,"d":"0.00"},{"$nulls":11},{"$f":"ROUND(IF($S$18=\"\",0,IF(H52=\"SEL\",VLOOKUP(C52,Items!A:Y,25,FALSE),IF(H52=\"CR\",VLOOKUP(C52,Items!A:Z,26,FALSE),0))),2)","v":{"v":0,"d":"0.00"}},0,null,{"$f":"IFERROR(VLOOKUP(C52,Items!A:H,8,FALSE),0)","v":0},{"$f":"IF(C52=\"\",\"\",IF(E52&F52=\"\",VLOOKUP(C52,Items!A:D,4,FALSE),3))","v":""},{"$f":"IF(C52=\"\",\"\",'Misc Dropdowns'!$C$35)","v":""},{"v":0,"d":"0.00"},0,{"$f":"IF($H52=\"SEL\",VLOOKUP($C52,Items!A:F,6,FALSE),IF($H52=\"CR\",VLOOKUP('Order Form'!$C52,Items!A:G,7,FALSE),0))","v":0},{"$f":"IFERROR(AH52*(VLOOKUP(E52,'Misc Dropdowns'!$J$12:$M$16,4,FALSE)),0)","v":0},{"$f":"IFERROR(VLOOKUP(F52,'Misc Dropdowns'!$J$23:$M$27,4,FALSE)*AH52,0)","v":0},{"$f":"IFERROR((AL52*(15*(VLOOKUP(C52,Items!A:AE,31,FALSE)))),0)","v":0},0,"","","",0,{"$f":"IF(C52=\"\",0,D52*VLOOKUP(C52,Items!A:M,13,FALSE))","v":{"v":0,"d":"0.00"}},{"v":0,"d":"0.00"},{"$f":"IFERROR(IF(VLOOKUP(C52,'Modifications and Fees'!B:H,2,FALSE)=\"CR\",1*D52,\"\"),\"\")","v":""},{"v":0,"d":"0.00"},{"$f":"ROUND(IFERROR(D52*Z52*(VLOOKUP(E52,'Misc Dropdowns'!$J$12:$M$16,4,FALSE)),0),2)","v":{"v":0,"d":"0.00"}},{"$f":"ROUND(IFERROR(VLOOKUP(F52,'Misc Dropdowns'!$J$23:$M$27,4,FALSE)*Z52*D52,0),2)","v":{"v":0,"d":"0.00"}}]
[2,null,null,0,null,null,{"$f":"IF(C53=\"\",\"\",VLOOKUP(C53,Items!A:N,12,FALSE))","v":""},{"$f":"IF(S53=\"Craftsman Pricing\",\"CR\",IF(C53=\"\",\"\",IF('Misc Dropdowns'!$C$34=0,\"\",IF(E53&F53=\"\",VLOOKUP(AF53,'Misc Dropdowns'!$A$45:$B$47,2,FALSE),\"CR\"))))","v":""},{"$nulls":4},{"v":0,"d":"0.00"},{"v":0,"d":"0.00"},{"$nulls":11},{"$f":"ROUND(IF($S$18=\"\",0,IF(H53=\"SEL\",VLOOKUP(C53,Items!A:Y,25,FALSE),IF(H53=\"CR\",VLOOKUP(C53,Items!A:Z,26,FALSE),0))),2)","v":{"v":0,"d":"0.00"}},0,null,{"$f":"IFERROR(VLOOKUP(C53,Items!A:H,8,FALSE),0)","v":0},{"$f":"IF(C53=\"\",\"\",IF(E53&F53=\"\",VLOOKUP(C53,Items!A:D,4,FALSE),3))","v":""},{"$f":"IF(C53=\"\",\"\",'Misc Dropdowns'!$C$35)","v":""},{"v":0,"d":"0.00"},0,{"$f":"IF($H53=\"SEL\",VLOOKUP($C53,Items!A:F,6,FALSE),IF($H53=\"CR\",VLOOKUP('Order Form'!$C53,Items!A:G,7,FALSE),0))","v":0},{"$f":"IFERROR(AH53*(VLOOKUP(E53,'Misc Dropdowns'!$J$12:$M$16,4,FALSE)),0)","v":0},{"$f":"IFERROR(VLOOKUP(F53,'Misc Dropdowns'!$J$23:$M$27,4,FALSE)*AH53,0)","v":0},{"$f":"IFERROR((AL53*(15*(VLOOKUP(C53,Items!A:AE,31,FALSE)))),0)","v":0},0,"","","",0,{"$f":"IF(C53=\"\",0,D53*VLOOKUP(C53,Items!A:M,13,FALSE))","v":{"v":0,"d":"0.00"}},{"v":0,"d":"0.00"},{"$f":"IFERROR(IF(VLOOKUP(C53,'Modifications and Fees'!B:H,2,FALSE)=\"CR\",1*D53,\"\"),\"\")","v":""},{"v":0,"d":"0.00"},{"$f":"ROUND(IFERROR(D53*Z53*(VLOOKUP(E53,'Misc Dropdowns'!$J$12:$M$16,4,FALSE)),0),2)","v":{"v":0,"d":"0.00"}},{"$f":"ROUND(IFERROR(VLOOKUP(F53,'Misc Dropdowns'!$J$23:$M$27,4,FALSE)*Z53*D53,0),2)","v":{"v":0,"d":"0.00"}}]
[2,null,null,0,null,null,{"$f":"IF(C54=\"\",\"\",VLOOKUP(C54,Items!A:N,12,FALSE))","v":""},{"$f":"IF(S54=\"Craftsman Pricing\",\"CR\",IF(C54=\"\",\"\",IF('Misc Dropdowns'!$C$34=0,\"\",IF(E54&F54=\"\",VLOOKUP(AF54,'Misc Dropdowns'!$A$45:$B$47,2,FALSE),\"CR\"))))","v":""},{"$nulls":4},{"v":0,"d":"0.00"},{"v":0,"d":"0.00"},{"$nulls":11},{"$f":"ROUND(IF($S$18=\"\",0,IF(H54=\"SEL\",VLOOKUP(C54,Items!A:Y,25,FALSE),IF(H54=\"CR\",VLOOKUP(C54,Items!A:Z,26,FALSE),0))),2)","v":{"v":0,"d":"0.00"}},0,null,{"$f":"IFERROR(VLOOKUP(C54,Items!A:H,8,FALSE),0)","v":0},{"$f":"IF(C54=\"\",\"\",IF(E54&F54=\"\",VLOOKUP(C54,Items!A:D,4,FALSE),3))","v":""},{"$f":"IF(C54=\"\",\"\",'Misc Dropdowns'!$C$35)","v":""},{"v":0,"d":"0.00"},0,{"$f":"IF($H54=\"SEL\",VLOOKUP($C54,Items!A:F,6,FALSE),IF($H54=\"CR\",VLOOKUP('Order Form'!$C54,Items!A:G,7,FALSE),0))","v":0},{"$f":"IFERROR(AH54*(VLOOKUP(E54,'Misc Dropdowns'!$J$12:$M$16,4,FALSE)),0)","v":0},{"$f":"IFERROR(VLOOKUP(F54,'Misc Dropdowns'!$J$23:$M$27,4,FALSE)*AH54,0)","v":0},{"$f":"IFERROR((AL54*(15*(VLOOKUP(C54,Items!A:AE,31,FALSE)))),0)","v":0},0,"","","",0,{"$f":"IF(C54=\"\",0,D54*VLOOKUP(C54,Items!A:M,13,FALSE))","v":{"v":0,"d":"0.00"}},{"v":0,"d":"0.00"},{"$f":"IFERROR(IF(VLOOKUP(C54,'Modifications and Fees'!B:H,2,FALSE)=\"CR\",1*D54,\"\"),\"\")","v":""},{"v":0,"d":"0.00"},{"$f":"ROUND(IFERROR(D54*Z54*(VLOOKUP(E54,'Misc Dropdowns'!$J$12:$M$16,4,FALSE)),0),2)","v":{"v":0,"d":"0.00"}},{"$f":"ROUND(IFERROR(VLOOKUP(F54,'Misc Dropdowns'!$J$23:$M$27,4,FALSE)*Z54*D54,0),2)","v":{"v":0,"d":"0.00"}}]
[2,null,null,0,null,null,{"$f":"IF(C55=\"\",\"\",VLOOKUP(C55,Items!A:N,12,FALSE))","v":""},{"$f":"IF(S55=\"Craftsman Pricing\",\"CR\",IF(C55=\"\",\"\",IF('Misc Dropdowns'!$C$34=0,\"\",IF(E55&F55=\"\",VLOOKUP(AF55,'Misc Dropdowns'!$A$45:$B$47,2,FALSE),\"CR\"))))","v":""},{"$nulls":4},{"v":0,"d":"0.00"},{"v":0,"d":"0.00"},{"$nulls":11},{"$f":"ROUND(IF($S$18=\"\",0,IF(H55=\"SEL\",VLOOKUP(C55,Items!A:Y,25,FALSE),IF(H55=\"CR\",VLOOKUP(C55,Items!A:Z,26,FALSE),0))),2)","v":{"v":0,"d":"0.00"}},0,null,{"$f":"IFERROR(VLOOKUP(C55,Items!A:H,8,FALSE),0)","v":0},{"$f":"IF(C55=\"\",\"\",IF(E55&F55=\"\",VLOOKUP(C55,Items!A:D,4,FALSE),3))","v":""},{"$f":"IF(C55=\"\",\"\",'Misc Dropdowns'!$C$35)","v":""},{"v":0,"d":"0.00"},0,{"$f":"IF($H55=\"SEL\",VLOOKUP($C55,Items!A:F,6,FALSE),IF($H55=\"CR\",VLOOKUP('Order Form'!$C55,Items!A:G,7,FALSE),0))","v":0},{"$f":"IFERROR(AH55*(VLOOKUP(E55,'Misc Dropdowns'!$J$12:$M$16,4,FALSE)),0)","v":0},{"$f":"IFERROR(VLOOKUP(F55,'Misc Dropdowns'!$J$23:$M$27,4,FALSE)*AH55,0)","v":0},{"$f":"IFERROR((AL55*(15*(VLOOKUP(C55,Items!A:AE,31,FALSE)))),0)","v":0},0,"","","",0,{"$f":"IF(C55=\"\",0,D55*VLOOKUP(C55,Items!A:M,13,FALSE))","v":{"v":0,"d":"0.00"}},{"v":0,"d":"0.00"},{"$f":"IFERROR(IF(VLOOKUP(C55,'Modifications and Fees'!B:H,2,FALSE)=\"CR\",1*D55,\"\"),\"\")","v":""},{"v":0,"d":"0.00"},{"$f":"ROUND(IFERROR(D55*Z55*(VLOOKUP(E55,'Misc Dropdowns'!$J$12:$M$16,4,FALSE)),0),2)","v":{"v":0,"d":"0.00"}},{"$f":"ROUND(IFERROR(VLOOKUP(F55,'Misc Dropdowns'!$J$23:$M$27,4,FALSE)*Z55*D55,0),2)","v":{"v":0,"d":"0.00"}}]
[2,null,null,0,null,null,{"$f":"IF(C56=\"\",\"\",VLOOKUP(C56,Items!A:N,12,FALSE))","v":""},{"$f":"IF(S56=\"Craftsman Pricing\",\"CR\",IF(C56=\"\",\"\",IF('Misc Dropdowns'!$C$34=0,\"\",IF(E56&F56=\"\",VLOOKUP(AF56,'Misc Dropdowns'!$A$45:$B$47,2,FALSE),\"CR\"))))","v":""},{"$nulls":4},{"v":0,"d":"0.00"},{"v":0,"d":"0.00"},{"$nulls":11},{"$f":"ROUND(IF($S$18=\"\",0,IF(H56=\"SEL\",VLOOKUP(C56,Items!A:Y,25,FALSE),IF(H56=\"CR\",VLOOKUP(C56,Items!A:Z,26,FALSE),0))),2)","v":{"v":0,"d":"0.00"}},0,null,{"$f":"IFERROR(VLOOKUP(C56,Items!A:H,8,FALSE),0)","v":0},{"$f":"IF(C56=\"\",\"\",IF(E56&F56=\"\",VLOOKUP(C56,Items!A:D,4,FALSE),3))","v":""},{"$f":"IF(C56=\"\",\"\",'Misc Dropdowns'!$C$35)","v":""},{"v":0,"d":"0.00"},0,{"$f":"IF($H56=\"SEL\",VLOOKUP($C56,Items!A:F,6,FALSE),IF($H56=\"CR\",VLOOKUP('Order Form'!$C56,Items!A:G,7,FALSE),0))","v":0},{"$f":"IFERROR(AH56*(VLOOKUP(E56,'Misc Dropdowns'!$J$12:$M$16,4,FALSE)),0)","v":0},{"$f":"IFERROR(VLOOKUP(F56,'Misc Dropdowns'!$J$23:$M$27,4,FALSE)*AH56,0)","v":0},{"$f":"IFERROR((AL56*(15*(VLOOKUP(C56,Items!A:AE,31,FALSE)))),0)","v":0},0,"","","",0,{"$f":"IF(C56=\"\",0,D56*VLOOKUP(C56,Items!A:M,13,FALSE))","v":{"v":0,"d":"0.00"}},{"v":0,"d":"0.00"},{"$f":"IFERROR(IF(VLOOKUP(C56,'Modifications and Fees'!B:H,2,FALSE)=\"CR\",1*D56,\"\"),\"\")","v":""},{"v":0,"d":"0.00"},{"$f":"ROUND(IFERROR(D56*Z56*(VLOOKUP(E56,'Misc Dropdowns'!$J$12:$M$16,4,FALSE)),0),2)","v":{"v":0,"d":"0.00"}},{"$f":"ROUND(IFERROR(VLOOKUP(F56,'Misc Dropdowns'!$J$23:$M$27,4,FALSE)*Z56*D56,0),2)","v":{"v":0,"d":"0.00"}}]
[2,null,null,0,null,null,{"$f":"IF(C57=\"\",\"\",VLOOKUP(C57,Items!A:N,12,FALSE))","v":""},{"$f":"IF(S57=\"Craftsman Pricing\",\"CR\",IF(C57=\"\",\"\",IF('Misc Dropdowns'!$C$34=0,\"\",IF(E57&F57=\"\",VLOOKUP(AF57,'Misc Dropdowns'!$A$45:$B$47,2,FALSE),\"CR\"))))","v":""},{"$nulls":4},{"$f":"IFERROR(ROUND(SUM(AH57:AK57),2),0)","v":{"v":0,"d":"0.00"}},{"$f":"D57*M57","v":{"v":0,"d":"0.00"}},{"$nulls":11},{"$f":"ROUND(IF($S$18=\"\",0,IF(H57=\"SEL\",VLOOKUP(C57,Items!A:Y,25,FALSE),IF(H57=\"CR\",VLOOKUP(C57,Items!A:Z,26,FALSE),0))),2)","v":{"v":0,"d":"0.00"}},0,null,{"$f":"IFERROR(VLOOKUP(C57,Items!A:H,8,FALSE),0)","v":0},{"$f":"IF(C57=\"\",\"\",IF(E57&F57=\"\",VLOOKUP(C57,Items!A:D,4,FALSE),3))","v":""},{"$f":"IF(C57=\"\",\"\",'Misc Dropdowns'!$C$35)","v":""},{"v":0,"d":"0.00"},0,{"$f":"IF($H57=\"SEL\",VLOOKUP($C57,Items!A:F,6,FALSE),IF($H57=\"CR\",VLOOKUP('Order Form'!$C57,Items!A:G,7,FALSE),0))","v":0},{"$f":"IFERROR(AH57*(VLOOKUP(E57,'Misc Dropdowns'!$J$12:$M$16,4,FALSE)),0)","v":0},{"$f":"IFERROR(VLOOKUP(F57,'Misc Dropdowns'!$J$23:$M$27,4,FALSE)*AH57,0)","v":0},{"$f":"IFERROR((AL57*(15*(VLOOKUP(C57,Items!A:AE,31,FALSE)))),0)","v":0},0,{"$f":"IF(E57=\"\",\"\",\" - \"&E57)","v":""},{"$f":"IF(F57=\"\",\"\",\" - \"&F57)","v":""},{"$f":"IF(I57=\"\",\"\",\" -APP SKN \"&LEFT(I57,1))","v":""},{"$f":"IF(C57=\"INSTALL\",1,0)","v":0},{"$f":"IF(C57=\"\",0,D57*VLOOKUP(C57,Items!A:M,13,FALSE))","v":{"v":0,"d":"0.00"}},{"v":0,"d":"0.00"},{"$f":"IFERROR(IF(VLOOKUP(C57,'Modifications and Fees'!B:H,2,FALSE)=\"CR\",1*D57,\"\"),\"\")","v":""},{"v":0,"d":"0.00"},{"$f":"ROUND(IFERROR(D57*Z57*(VLOOKUP(E57,'Misc Dropdowns'!$J$12:$M$16,4,FALSE)),0),2)","v":{"v":0,"d":"0.00"}},{"$f":"ROUND(IFERROR(VLOOKUP(F57,'Misc Dropdowns'!$J$23:$M$27,4,FALSE)*Z57*D57,0),2)","v":{"v":0,"d":"0.00"}}]
[2,null,null,0,null,null,{"$f":"IF(C58=\"\",\"\",VLOOKUP(C58,Items!A:N,12,FALSE))","v":""},{"$f":"IF(S58=\"Craftsman Pricing\",\"CR\",IF(C58=\"\",\"\",IF('Misc Dropdowns'!$C$34=0,\"\",IF(E58&F58=\"\",VLOOKUP(AF58,'Misc Dropdowns'!$A$45:$B$47,2,FALSE),\"CR\"))))","v":""},{"$nulls":4},{"v":0,"d":"0.00"},{"v":0,"d":"0.00"},{"$nulls":11},{"$f":"ROUND(IF($S$18=\"\",0,IF(H58=\"SEL\",VLOOKUP(C58,Items!A:Y,25,FALSE),IF(H58=\"CR\",VLOOKUP(C58,Items!A:Z,26,FALSE),0))),2)","v":{"v":0,"d":"0.00"}},0,null,{"$f":"IFERROR(VLOOKUP(C58,Items!A:H,8,FALSE),0)","v":0},{"$f":"IF(C58=\"\",\"\",IF(E58&F58=\"\",VLOOKUP(C58,Items!A:D,4,FALSE),3))","v":""},{"$f":"IF(C58=\"\",\"\",'Misc Dropdowns'!$C$35)","v":""},{"v":0,"d":"0.00"},0,{"$f":"IF($H58=\"SEL\",VLOOKUP($C58,Items!A:F,6,FALSE),IF($H58=\"CR\",VLOOKUP('Order Form'!$C58,Items!A:G,7,FALSE),0))","v":0},{"$f":"IFERROR(AH58*(VLOOKUP(E58,'Misc Dropdowns'!$J$12:$M$16,4,FALSE)),0)","v":0},{"$f":"IFERROR(VLOOKUP(F58,'Misc Dropdowns'!$J$23:$M$27,4,FALSE)*AH58,0)","v":0},{"$f":"IFERROR((AL58*(15*(VLOOKUP(C58,Items!A:AE,31,FALSE)))),0)","v":0},0,"","","",0,{"$f":"IF(C58=\"\",0,D58*VLOOKUP(C58,Items!A:M,13,FALSE))","v":{"v":0,"d":"0.00"}},{"v":0,"d":"0.00"},{"$f":"IFERROR(IF(VLOOKUP(C58,'Modifications and Fees'!B:H,2,FALSE)=\"CR\",1*D58,\"\"),\"\")","v":""},{"v":0,"d":"0.00"},{"$f":"ROUND(IFERROR(D58*Z58*(VLOOKUP(E58,'Misc Dropdowns'!$J$12:$M$16,4,FALSE)),0),2)","v":{"v":0,"d":"0.00"}},{"$f":"ROUND(IFERROR(VLOOKUP(F58,'Misc Dropdowns'!$J$23:$M$27,4,FALSE)*Z58*D58,0),2)","v":{"v":0,"d":"0.00"}}]
[2,null,null,0,null,null,{"$f":"IF(C59=\"\",\"\",VLOOKUP(C59,Items!A:N,12,FALSE))","v":""},{"$f":"IF(S59=\"Craftsman Pricing\",\"CR\",IF(C59=\"\",\"\",IF('Misc Dropdowns'!$C$34=0,\"\",IF(E59&F59=\"\",VLOOKUP(AF59,'Misc Dropdowns'!$A$45:$B$47,2,FALSE),\"CR\"))))","v":""},{"$nulls":4},{"v":0,"d":"0.00"},{"v":0,"d":"0.00"},{"$nulls":11},{"$f":"ROUND(IF($S$18=\"\",0,IF(H59=\"SEL\",VLOOKUP(C59,Items!A:Y,25,FALSE),IF(H59=\"CR\",VLOOKUP(C59,Items!A:Z,26,FALSE),0))),2)","v":{"v":0,"d":"0.00"}},0,null,{"$f":"IFERROR(VLOOKUP(C59,Items!A:H,8,FALSE),0)","v":0},{"$f":"IF(C59=\"\",\"\",IF(E59&F59=\"\",VLOOKUP(C59,Items!A:D,4,FALSE),3))","v":""},{"$f":"IF(C59=\"\",\"\",'Misc Dropdowns'!$C$35)","v":""},{"v":0,"d":"0.00"},0,{"$f":"IF($H59=\"SEL\",VLOOKUP($C59,Items!A:F,6,FALSE),IF($H59=\"CR\",VLOOKUP('Order Form'!$C59,Items!A:G,7,FALSE),0))","v":0},{"$f":"IFERROR(AH59*(VLOOKUP(E59,'Misc Dropdowns'!$J$12:$M$16,4,FALSE)),0)","v":0},{"$f":"IFERROR(VLOOKUP(F59,'Misc Dropdowns'!$J$23:$M$27,4,FALSE)*AH59,0)","v":0},{"$f":"IFERROR((AL59*(15*(VLOOKUP(C59,Items!A:AE,31,FALSE)))),0)","v":0},0,"","","",0,{"$f":"IF(C59=\"\",0,D59*VLOOKUP(C59,Items!A:M,13,FALSE))","v":{"v":0,"d":"0.00"}},{"v":0,"d":"0.00"},{"$f":"IFERROR(IF(VLOOKUP(C59,'Modifications and Fees'!B:H,2,FALSE)=\"CR\",1*D59,\"\"),\"\")","v":""},{"v":0,"d":"0.00"},{"$f":"ROUND(IFERROR(D59*Z59*(VLOOKUP(E59,'Misc Dropdowns'!$J$12:$M$16,4,FALSE)),0),2)","v":{"v":0,"d":"0.00"}},{"$f":"ROUND(IFERROR(VLOOKUP(F59,'Misc Dropdowns'!$J$23:$M$27,4,FALSE)*Z59*D59,0),2)","v":{"v":0,"d":"0.00"}}]
[2,null,null,0,null,null,{"$f":"IF(C60=\"\",\"\",VLOOKUP(C60,Items!A:N,12,FALSE))","v":""},{"$f":"IF(S60=\"Craftsman Pricing\",\"CR\",IF(C60=\"\",\"\",IF('Misc Dropdowns'!$C$34=0,\"\",IF(E60&F60=\"\",VLOOKUP(AF60,'Misc Dropdowns'!$A$45:$B$47,2,FALSE),\"CR\"))))","v":""},{"$nulls":4},{"v":0,"d":"0.00"},{"v":0,"d":"0.00"},{"$nulls":11},{"$f":"ROUND(IF($S$18=\"\",0,IF(H60=\"SEL\",VLOOKUP(C60,Items!A:Y,25,FALSE),IF(H60=\"CR\",VLOOKUP(C60,Items!A:Z,26,FALSE),0))),2)","v":{"v":0,"d":"0.00"}},0,null,{"$f":"IFERROR(VLOOKUP(C60,Items!A:H,8,FALSE),0)","v":0},{"$f":"IF(C60=\"\",\"\",IF(E60&F60=\"\",VLOOKUP(C60,Items!A:D,4,FALSE),3))","v":""},{"$f":"IF(C60=\"\",\"\",'Misc Dropdowns'!$C$35)","v":""},{"v":0,"d":"0.00"},0,{"$f":"IF($H60=\"SEL\",VLOOKUP($C60,Items!A:F,6,FALSE),IF($H60=\"CR\",VLOOKUP('Order Form'!$C60,Items!A:G,7,FALSE),0))","v":0},{"$f":"IFERROR(AH60*(VLOOKUP(E60,'Misc Dropdowns'!$J$12:$M$16,4,FALSE)),0)","v":0},{"$f":"IFERROR(VLOOKUP(F60,'Misc Dropdowns'!$J$23:$M$27,4,FALSE)*AH60,0)","v":0},{"$f":"IFERROR((AL60*(15*(VLOOKUP(C60,Items!A:AE,31,FALSE)))),0)","v":0},0,"","","",0,{"$f":"IF(C60=\"\",0,D60*VLOOKUP(C60,Items!A:M,13,FALSE))","v":{"v":0,"d":"0.00"}},{"v":0,"d":"0.00"},{"$f":"IFERROR(IF(VLOOKUP(C60,'Modifications and Fees'!B:H,2,FALSE)=\"CR\",1*D60,\"\"),\"\")","v":""},{"v":0,"d":"0.00"},{"$f":"ROUND(IFERROR(D60*Z60*(VLOOKUP(E60,'Misc Dropdowns'!$J$12:$M$16,4,FALSE)),0),2)","v":{"v":0,"d":"0.00"}},{"$f":"ROUND(IFERROR(VLOOKUP(F60,'Misc Dropdowns'!$J$23:$M$27,4,FALSE)*Z60*D60,0),2)","v":{"v":0,"d":"0.00"}}]
[2,null,null,0,null,null,{"$f":"IF(C61=\"\",\"\",VLOOKUP(C61,Items!A:N,12,FALSE))","v":""},{"$f":"IF(S61=\"Craftsman Pricing\",\"CR\",IF(C61=\"\",\"\",IF('Misc Dropdowns'!$C$34=0,\"\",IF(E61&F61=\"\",VLOOKUP(AF61,'Misc Dropdowns'!$A$45:$B$47,2,FALSE),\"CR\"))))","v":""},{"$nulls":4},{"v":0,"d":"0.00"},{"v":0,"d":"0.00"},{"$nulls":11},{"$f":"ROUND(IF($S$18=\"\",0,IF(H61=\"SEL\",VLOOKUP(C61,Items!A:Y,25,FALSE),IF(H61=\"CR\",VLOOKUP(C61,Items!A:Z,26,FALSE),0))),2)","v":{"v":0,"d":"0.00"}},0,null,{"$f":"IFERROR(VLOOKUP(C61,Items!A:H,8,FALSE),0)","v":0},{"$f":"IF(C61=\"\",\"\",IF(E61&F61=\"\",VLOOKUP(C61,Items!A:D,4,FALSE),3))","v":""},{"$f":"IF(C61=\"\",\"\",'Misc Dropdowns'!$C$35)","v":""},{"v":0,"d":"0.00"},0,{"$f":"IF($H61=\"SEL\",VLOOKUP($C61,Items!A:F,6,FALSE),IF($H61=\"CR\",VLOOKUP('Order Form'!$C61,Items!A:G,7,FALSE),0))","v":0},{"$f":"IFERROR(AH61*(VLOOKUP(E61,'Misc Dropdowns'!$J$12:$M$16,4,FALSE)),0)","v":0},{"$f":"IFERROR(VLOOKUP(F61,'Misc Dropdowns'!$J$23:$M$27,4,FALSE)*AH61,0)","v":0},{"$f":"IFERROR((AL61*(15*(VLOOKUP(C61,Items!A:AE,31,FALSE)))),0)","v":0},0,"","","",0,{"$f":"IF(C61=\"\",0,D61*VLOOKUP(C61,Items!A:M,13,FALSE))","v":{"v":0,"d":"0.00"}},{"v":0,"d":"0.00"},{"$f":"IFERROR(IF(VLOOKUP(C61,'Modifications and Fees'!B:H,2,FALSE)=\"CR\",1*D61,\"\"),\"\")","v":""},{"v":0,"d":"0.00"},{"$f":"ROUND(IFERROR(D61*Z61*(VLOOKUP(E61,'Misc Dropdowns'!$J$12:$M$16,4,FALSE)),0),2)","v":{"v":0,"d":"0.00"}},{"$f":"ROUND(IFERROR(VLOOKUP(F61,'Misc Dropdowns'!$J$23:$M$27,4,FALSE)*Z61*D61,0),2)","v":{"v":0,"d":"0.00"}}]
[2,null,null,0,null,null,{"$f":"IF(C62=\"\",\"\",VLOOKUP(C62,Items!A:N,12,FALSE))","v":""},{"$f":"IF(S62=\"Craftsman Pricing\",\"CR\",IF(C62=\"\",\"\",IF('Misc Dropdowns'!$C$34=0,\"\",IF(E62&F62=\"\",VLOOKUP(AF62,'Misc Dropdowns'!$A$45:$B$47,2,FALSE),\"CR\"))))","v":""},{"$nulls":4},{"v":0,"d":"0.00"},{"v":0,"d":"0.00"},{"$nulls":11},{"$f":"ROUND(IF($S$18=\"\",0,IF(H62=\"SEL\",VLOOKUP(C62,Items!A:Y,25,FALSE),IF(H62=\"CR\",VLOOKUP(C62,Items!A:Z,26,FALSE),0))),2)","v":{"v":0,"d":"0.00"}},0,null,{"$f":"IFERROR(VLOOKUP(C62,Items!A:H,8,FALSE),0)","v":0},{"$f":"IF(C62=\"\",\"\",IF(E62&F62=\"\",VLOOKUP(C62,Items!A:D,4,FALSE),3))","v":""},{"$f":"IF(C62=\"\",\"\",'Misc Dropdowns'!$C$35)","v":""},{"v":0,"d":"0.00"},0,{"$f":"IF($H62=\"SEL\",VLOOKUP($C62,Items!A:F,6,FALSE),IF($H62=\"CR\",VLOOKUP('Order Form'!$C62,Items!A:G,7,FALSE),0))","v":0},{"$f":"IFERROR(AH62*(VLOOKUP(E62,'Misc Dropdowns'!$J$12:$M$16,4,FALSE)),0)","v":0},{"$f":"IFERROR(VLOOKUP(F62,'Misc Dropdowns'!$J$23:$M$27,4,FALSE)*AH62,0)","v":0},{"$f":"IFERROR((AL62*(15*(VLOOKUP(C62,Items!A:AE,31,FALSE)))),0)","v":0},0,"","","",0,{"$f":"IF(C62=\"\",0,D62*VLOOKUP(C62,Items!A:M,13,FALSE))","v":{"v":0,"d":"0.00"}},{"v":0,"d":"0.00"},{"$f":"IFERROR(IF(VLOOKUP(C62,'Modifications and Fees'!B:H,2,FALSE)=\"CR\",1*D62,\"\"),\"\")","v":""},{"v":0,"d":"0.00"},{"$f":"ROUND(IFERROR(D62*Z62*(VLOOKUP(E62,'Misc Dropdowns'!$J$12:$M$16,4,FALSE)),0),2)","v":{"v":0,"d":"0.00"}},{"$f":"ROUND(IFERROR(VLOOKUP(F62,'Misc Dropdowns'!$J$23:$M$27,4,FALSE)*Z62*D62,0),2)","v":{"v":0,"d":"0.00"}}]
[2,null,null,0,null,null,{"$f":"IF(C63=\"\",\"\",VLOOKUP(C63,Items!A:N,12,FALSE))","v":""},{"$f":"IF(S63=\"Craftsman Pricing\",\"CR\",IF(C63=\"\",\"\",IF('Misc Dropdowns'!$C$34=0,\"\",IF(E63&F63=\"\",VLOOKUP(AF63,'Misc Dropdowns'!$A$45:$B$47,2,FALSE),\"CR\"))))","v":""},{"$nulls":4},{"v":0,"d":"0.00"},{"v":0,"d":"0.00"},{"$nulls":11},{"$f":"ROUND(IF($S$18=\"\",0,IF(H63=\"SEL\",VLOOKUP(C63,Items!A:Y,25,FALSE),IF(H63=\"CR\",VLOOKUP(C63,Items!A:Z,26,FALSE),0))),2)","v":{"v":0,"d":"0.00"}},0,null,{"$f":"IFERROR(VLOOKUP(C63,Items!A:H,8,FALSE),0)","v":0},{"$f":"IF(C63=\"\",\"\",IF(E63&F63=\"\",VLOOKUP(C63,Items!A:D,4,FALSE),3))","v":""},{"$f":"IF(C63=\"\",\"\",'Misc Dropdowns'!$C$35)","v":""},{"v":0,"d":"0.00"},0,{"$f":"IF($H63=\"SEL\",VLOOKUP($C63,Items!A:F,6,FALSE),IF($H63=\"CR\",VLOOKUP('Order Form'!$C63,Items!A:G,7,FALSE),0))","v":0},{"$f":"IFERROR(AH63*(VLOOKUP(E63,'Misc Dropdowns'!$J$12:$M$16,4,FALSE)),0)","v":0},{"$f":"IFERROR(VLOOKUP(F63,'Misc Dropdowns'!$J$23:$M$27,4,FALSE)*AH63,0)","v":0},{"$f":"IFERROR((AL63*(15*(VLOOKUP(C63,Items!A:AE,31,FALSE)))),0)","v":0},0,"","","",0,{"$f":"IF(C63=\"\",0,D63*VLOOKUP(C63,Items!A:M,13,FALSE))","v":{"v":0,"d":"0.00"}},{"v":0,"d":"0.00"},{"$f":"IFERROR(IF(VLOOKUP(C63,'Modifications and Fees'!B:H,2,FALSE)=\"CR\",1*D63,\"\"),\"\")","v":""},{"v":0,"d":"0.00"},{"$f":"ROUND(IFERROR(D63*Z63*(VLOOKUP(E63,'Misc Dropdowns'!$J$12:$M$16,4,FALSE)),0),2)","v":{"v":0,"d":"0.00"}},{"$f":"ROUND(IFERROR(VLOOKUP(F63,'Misc Dropdowns'!$J$23:$M$27,4,FALSE)*Z63*D63,0),2)","v":{"v":0,"d":"0.00"}}]
[2,null,null,0,null,null,{"$f":"IF(C64=\"\",\"\",VLOOKUP(C64,Items!A:N,12,FALSE))","v":""},{"$f":"IF(S64=\"Craftsman Pricing\",\"CR\",IF(C64=\"\",\"\",IF('Misc Dropdowns'!$C$34=0,\"\",IF(E64&F64=\"\",VLOOKUP(AF64,'Misc Dropdowns'!$A$45:$B$47,2,FALSE),\"CR\"))))","v":""},{"$nulls":4},{"v":0,"d":"0.00"},{"v":0,"d":"0.00"},{"$nulls":11},{"$f":"ROUND(IF($S$18=\"\",0,IF(H64=\"SEL\",VLOOKUP(C64,Items!A:Y,25,FALSE),IF(H64=\"CR\",VLOOKUP(C64,Items!A:Z,26,FALSE),0))),2)","v":{"v":0,"d":"0.00"}},0,null,{"$f":"IFERROR(VLOOKUP(C64,Items!A:H,8,FALSE),0)","v":0},{"$f":"IF(C64=\"\",\"\",IF(E64&F64=\"\",VLOOKUP(C64,Items!A:D,4,FALSE),3))","v":""},{"$f":"IF(C64=\"\",\"\",'Misc Dropdowns'!$C$35)","v":""},{"v":0,"d":"0.00"},0,{"$f":"IF($H64=\"SEL\",VLOOKUP($C64,Items!A:F,6,FALSE),IF($H64=\"CR\",VLOOKUP('Order Form'!$C64,Items!A:G,7,FALSE),0))","v":0},{"$f":"IFERROR(AH64*(VLOOKUP(E64,'Misc Dropdowns'!$J$12:$M$16,4,FALSE)),0)","v":0},{"$f":"IFERROR(VLOOKUP(F64,'Misc Dropdowns'!$J$23:$M$27,4,FALSE)*AH64,0)","v":0},{"$f":"IFERROR((AL64*(15*(VLOOKUP(C64,Items!A:AE,31,FALSE)))),0)","v":0},0,"","","",0,{"$f":"IF(C64=\"\",0,D64*VLOOKUP(C64,Items!A:M,13,FALSE))","v":{"v":0,"d":"0.00"}},{"v":0,"d":"0.00"},{"$f":"IFERROR(IF(VLOOKUP(C64,'Modifications and Fees'!B:H,2,FALSE)=\"CR\",1*D64,\"\"),\"\")","v":""},{"v":0,"d":"0.00"},{"$f":"ROUND(IFERROR(D64*Z64*(VLOOKUP(E64,'Misc Dropdowns'!$J$12:$M$16,4,FALSE)),0),2)","v":{"v":0,"d":"0.00"}},{"$f":"ROUND(IFERROR(VLOOKUP(F64,'Misc Dropdowns'!$J$23:$M$27,4,FALSE)*Z64*D64,0),2)","v":{"v":0,"d":"0.00"}}]
[2,null,null,0,null,null,{"$f":"IF(C65=\"\",\"\",VLOOKUP(C65,Items!A:N,12,FALSE))","v":""},{"$f":"IF(S65=\"Craftsman Pricing\",\"CR\",IF(C65=\"\",\"\",IF('Misc Dropdowns'!$C$34=0,\"\",IF(E65&F65=\"\",VLOOKUP(AF65,'Misc Dropdowns'!$A$45:$B$47,2,FALSE),\"CR\"))))","v":""},{"$nulls":4},{"v":0,"d":"0.00"},{"v":0,"d":"0.00"},{"$nulls":11},{"$f":"ROUND(IF($S$18=\"\",0,IF(H65=\"SEL\",VLOOKUP(C65,Items!A:Y,25,FALSE),IF(H65=\"CR\",VLOOKUP(C65,Items!A:Z,26,FALSE),0))),2)","v":{"v":0,"d":"0.00"}},0,null,{"$f":"IFERROR(VLOOKUP(C65,Items!A:H,8,FALSE),0)","v":0},{"$f":"IF(C65=\"\",\"\",IF(E65&F65=\"\",VLOOKUP(C65,Items!A:D,4,FALSE),3))","v":""},{"$f":"IF(C65=\"\",\"\",'Misc Dropdowns'!$C$35)","v":""},{"v":0,"d":"0.00"},0,{"$f":"IF($H65=\"SEL\",VLOOKUP($C65,Items!A:F,6,FALSE),IF($H65=\"CR\",VLOOKUP('Order Form'!$C65,Items!A:G,7,FALSE),0))","v":0},{"$f":"IFERROR(AH65*(VLOOKUP(E65,'Misc Dropdowns'!$J$12:$M$16,4,FALSE)),0)","v":0},{"$f":"IFERROR(VLOOKUP(F65,'Misc Dropdowns'!$J$23:$M$27,4,FALSE)*AH65,0)","v":0},{"$f":"IFERROR((AL65*(15*(VLOOKUP(C65,Items!A:AE,31,FALSE)))),0)","v":0},0,"","","",0,{"$f":"IF(C65=\"\",0,D65*VLOOKUP(C65,Items!A:M,13,FALSE))","v":{"v":0,"d":"0.00"}},{"v":0,"d":"0.00"},{"$f":"IFERROR(IF(VLOOKUP(C65,'Modifications and Fees'!B:H,2,FALSE)=\"CR\",1*D65,\"\"),\"\")","v":""},{"v":0,"d":"0.00"},{"$f":"ROUND(IFERROR(D65*Z65*(VLOOKUP(E65,'Misc Dropdowns'!$J$12:$M$16,4,FALSE)),0),2)","v":{"v":0,"d":"0.00"}},{"$f":"ROUND(IFERROR(VLOOKUP(F65,'Misc Dropdowns'!$J$23:$M$27,4,FALSE)*Z65*D65,0),2)","v":{"v":0,"d":"0.00"}}]
[2,null,null,0,null,null,{"$f":"IF(C66=\"\",\"\",VLOOKUP(C66,Items!A:N,12,FALSE))","v":""},{"$f":"IF(S66=\"Craftsman Pricing\",\"CR\",IF(C66=\"\",\"\",IF('Misc Dropdowns'!$C$34=0,\"\",IF(E66&F66=\"\",VLOOKUP(AF66,'Misc Dropdowns'!$A$45:$B$47,2,FALSE),\"CR\"))))","v":""},{"$nulls":4},{"v":0,"d":"0.00"},{"v":0,"d":"0.00"},{"$nulls":11},{"$f":"ROUND(IF($S$18=\"\",0,IF(H66=\"SEL\",VLOOKUP(C66,Items!A:Y,25,FALSE),IF(H66=\"CR\",VLOOKUP(C66,Items!A:Z,26,FALSE),0))),2)","v":{"v":0,"d":"0.00"}},0,null,{"$f":"IFERROR(VLOOKUP(C66,Items!A:H,8,FALSE),0)","v":0},{"$f":"IF(C66=\"\",\"\",IF(E66&F66=\"\",VLOOKUP(C66,Items!A:D,4,FALSE),3))","v":""},{"$f":"IF(C66=\"\",\"\",'Misc Dropdowns'!$C$35)","v":""},{"v":0,"d":"0.00"},0,{"$f":"IF($H66=\"SEL\",VLOOKUP($C66,Items!A:F,6,FALSE),IF($H66=\"CR\",VLOOKUP('Order Form'!$C66,Items!A:G,7,FALSE),0))","v":0},{"$f":"IFERROR(AH66*(VLOOKUP(E66,'Misc Dropdowns'!$J$12:$M$16,4,FALSE)),0)","v":0},{"$f":"IFERROR(VLOOKUP(F66,'Misc Dropdowns'!$J$23:$M$27,4,FALSE)*AH66,0)","v":0},{"$f":"IFERROR((AL66*(15*(VLOOKUP(C66,Items!A:AE,31,FALSE)))),0)","v":0},0,"","","",0,{"$f":"IF(C66=\"\",0,D66*VLOOKUP(C66,Items!A:M,13,FALSE))","v":{"v":0,"d":"0.00"}},{"v":0,"d":"0.00"},{"$f":"IFERROR(IF(VLOOKUP(C66,'Modifications and Fees'!B:H,2,FALSE)=\"CR\",1*D66,\"\"),\"\")","v":""},{"v":0,"d":"0.00"},{"$f":"ROUND(IFERROR(D66*Z66*(VLOOKUP(E66,'Misc Dropdowns'!$J$12:$M$16,4,FALSE)),0),2)","v":{"v":0,"d":"0.00"}},{"$f":"ROUND(IFERROR(VLOOKUP(F66,'Misc Dropdowns'!$J$23:$M$27,4,FALSE)*Z66*D66,0),2)","v":{"v":0,"d":"0.00"}}]
[2,null,null,0,null,null,{"$f":"IF(C67=\"\",\"\",VLOOKUP(C67,Items!A:N,12,FALSE))","v":""},{"$f":"IF(S67=\"Craftsman Pricing\",\"CR\",IF(C67=\"\",\"\",IF('Misc Dropdowns'!$C$34=0,\"\",IF(E67&F67=\"\",VLOOKUP(AF67,'Misc Dropdowns'!$A$45:$B$47,2,FALSE),\"CR\"))))","v":""},{"$nulls":4},{"v":0,"d":"0.00"},{"v":0,"d":"0.00"},{"$nulls":11},{"$f":"ROUND(IF($S$18=\"\",0,IF(H67=\"SEL\",VLOOKUP(C67,Items!A:Y,25,FALSE),IF(H67=\"CR\",VLOOKUP(C67,Items!A:Z,26,FALSE),0))),2)","v":{"v":0,"d":"0.00"}},0,null,{"$f":"IFERROR(VLOOKUP(C67,Items!A:H,8,FALSE),0)","v":0},{"$f":"IF(C67=\"\",\"\",IF(E67&F67=\"\",VLOOKUP(C67,Items!A:D,4,FALSE),3))","v":""},{"$f":"IF(C67=\"\",\"\",'Misc Dropdowns'!$C$35)","v":""},{"v":0,"d":"0.00"},0,{"$f":"IF($H67=\"SEL\",VLOOKUP($C67,Items!A:F,6,FALSE),IF($H67=\"CR\",VLOOKUP('Order Form'!$C67,Items!A:G,7,FALSE),0))","v":0},{"$f":"IFERROR(AH67*(VLOOKUP(E67,'Misc Dropdowns'!$J$12:$M$16,4,FALSE)),0)","v":0},{"$f":"IFERROR(VLOOKUP(F67,'Misc Dropdowns'!$J$23:$M$27,4,FALSE)*AH67,0)","v":0},{"$f":"IFERROR((AL67*(15*(VLOOKUP(C67,Items!A:AE,31,FALSE)))),0)","v":0},0,"","","",0,{"$f":"IF(C67=\"\",0,D67*VLOOKUP(C67,Items!A:M,13,FALSE))","v":{"v":0,"d":"0.00"}},{"v":0,"d":"0.00"},{"$f":"IFERROR(IF(VLOOKUP(C67,'Modifications and Fees'!B:H,2,FALSE)=\"CR\",1*D67,\"\"),\"\")","v":""},{"v":0,"d":"0.00"},{"$f":"ROUND(IFERROR(D67*Z67*(VLOOKUP(E67,'Misc Dropdowns'!$J$12:$M$16,4,FALSE)),0),2)","v":{"v":0,"d":"0.00"}},{"$f":"ROUND(IFERROR(VLOOKUP(F67,'Misc Dropdowns'!$J$23:$M$27,4,FALSE)*Z67*D67,0),2)","v":{"v":0,"d":"0.00"}}]
[2,null,null,0,null,null,{"$f":"IF(C68=\"\",\"\",VLOOKUP(C68,Items!A:N,12,FALSE))","v":""},{"$f":"IF(S68=\"Craftsman Pricing\",\"CR\",IF(C68=\"\",\"\",IF('Misc Dropdowns'!$C$34=0,\"\",IF(E68&F68=\"\",VLOOKUP(AF68,'Misc Dropdowns'!$A$45:$B$47,2,FALSE),\"CR\"))))","v":""},{"$nulls":4},{"v":0,"d":"0.00"},{"v":0,"d":"0.00"},{"$nulls":11},{"$f":"ROUND(IF($S$18=\"\",0,IF(H68=\"SEL\",VLOOKUP(C68,Items!A:Y,25,FALSE),IF(H68=\"CR\",VLOOKUP(C68,Items!A:Z,26,FALSE),0))),2)","v":{"v":0,"d":"0.00"}},0,null,{"$f":"IFERROR(VLOOKUP(C68,Items!A:H,8,FALSE),0)","v":0},{"$f":"IF(C68=\"\",\"\",IF(E68&F68=\"\",VLOOKUP(C68,Items!A:D,4,FALSE),3))","v":""},{"$f":"IF(C68=\"\",\"\",'Misc Dropdowns'!$C$35)","v":""},{"v":0,"d":"0.00"},0,{"$f":"IF($H68=\"SEL\",VLOOKUP($C68,Items!A:F,6,FALSE),IF($H68=\"CR\",VLOOKUP('Order Form'!$C68,Items!A:G,7,FALSE),0))","v":0},{"$f":"IFERROR(AH68*(VLOOKUP(E68,'Misc Dropdowns'!$J$12:$M$16,4,FALSE)),0)","v":0},{"$f":"IFERROR(VLOOKUP(F68,'Misc Dropdowns'!$J$23:$M$27,4,FALSE)*AH68,0)","v":0},{"$f":"IFERROR((AL68*(15*(VLOOKUP(C68,Items!A:AE,31,FALSE)))),0)","v":0},0,"","","",0,{"$f":"IF(C68=\"\",0,D68*VLOOKUP(C68,Items!A:M,13,FALSE))","v":{"v":0,"d":"0.00"}},{"v":0,"d":"0.00"},{"$f":"IFERROR(IF(VLOOKUP(C68,'Modifications and Fees'!B:H,2,FALSE)=\"CR\",1*D68,\"\"),\"\")","v":""},{"v":0,"d":"0.00"},{"$f":"ROUND(IFERROR(D68*Z68*(VLOOKUP(E68,'Misc Dropdowns'!$J$12:$M$16,4,FALSE)),0),2)","v":{"v":0,"d":"0.00"}},{"$f":"ROUND(IFERROR(VLOOKUP(F68,'Misc Dropdowns'!$J$23:$M$27,4,FALSE)*Z68*D68,0),2)","v":{"v":0,"d":"0.00"}}]
[2,null,null,0,null,null,{"$f":"IF(C69=\"\",\"\",VLOOKUP(C69,Items!A:N,12,FALSE))","v":""},{"$f":"IF(S69=\"Craftsman Pricing\",\"CR\",IF(C69=\"\",\"\",IF('Misc Dropdowns'!$C$34=0,\"\",IF(E69&F69=\"\",VLOOKUP(AF69,'Misc Dropdowns'!$A$45:$B$47,2,FALSE),\"CR\"))))","v":""},{"$nulls":4},{"v":0,"d":"0.00"},{"v":0,"d":"0.00"},{"$nulls":11},{"$f":"ROUND(IF($S$18=\"\",0,IF(H69=\"SEL\",VLOOKUP(C69,Items!A:Y,25,FALSE),IF(H69=\"CR\",VLOOKUP(C69,Items!A:Z,26,FALSE),0))),2)","v":{"v":0,"d":"0.00"}},0,null,{"$f":"IFERROR(VLOOKUP(C69,Items!A:H,8,FALSE),0)","v":0},{"$f":"IF(C69=\"\",\"\",IF(E69&F69=\"\",VLOOKUP(C69,Items!A:D,4,FALSE),3))","v":""},{"$f":"IF(C69=\"\",\"\",'Misc Dropdowns'!$C$35)","v":""},{"v":0,"d":"0.00"},0,{"$f":"IF($H69=\"SEL\",VLOOKUP($C69,Items!A:F,6,FALSE),IF($H69=\"CR\",VLOOKUP('Order Form'!$C69,Items!A:G,7,FALSE),0))","v":0},{"$f":"IFERROR(AH69*(VLOOKUP(E69,'Misc Dropdowns'!$J$12:$M$16,4,FALSE)),0)","v":0},{"$f":"IFERROR(VLOOKUP(F69,'Misc Dropdowns'!$J$23:$M$27,4,FALSE)*AH69,0)","v":0},{"$f":"IFERROR((AL69*(15*(VLOOKUP(C69,Items!A:AE,31,FALSE)))),0)","v":0},0,"","","",0,{"$f":"IF(C69=\"\",0,D69*VLOOKUP(C69,Items!A:M,13,FALSE))","v":{"v":0,"d":"0.00"}},{"v":0,"d":"0.00"},{"$f":"IFERROR(IF(VLOOKUP(C69,'Modifications and Fees'!B:H,2,FALSE)=\"CR\",1*D69,\"\"),\"\")","v":""},{"v":0,"d":"0.00"},{"$f":"ROUND(IFERROR(D69*Z69*(VLOOKUP(E69,'Misc Dropdowns'!$J$12:$M$16,4,FALSE)),0),2)","v":{"v":0,"d":"0.00"}},{"$f":"ROUND(IFERROR(VLOOKUP(F69,'Misc Dropdowns'!$J$23:$M$27,4,FALSE)*Z69*D69,0),2)","v":{"v":0,"d":"0.00"}}]
[2,null,null,0,null,null,{"$f":"IF(C70=\"\",\"\",VLOOKUP(C70,Items!A:N,12,FALSE))","v":""},{"$f":"IF(S70=\"Craftsman Pricing\",\"CR\",IF(C70=\"\",\"\",IF('Misc Dropdowns'!$C$34=0,\"\",IF(E70&F70=\"\",VLOOKUP(AF70,'Misc Dropdowns'!$A$45:$B$47,2,FALSE),\"CR\"))))","v":""},{"$nulls":4},{"v":0,"d":"0.00"},{"v":0,"d":"0.00"},{"$nulls":11},{"$f":"ROUND(IF($S$18=\"\",0,IF(H70=\"SEL\",VLOOKUP(C70,Items!A:Y,25,FALSE),IF(H70=\"CR\",VLOOKUP(C70,Items!A:Z,26,FALSE),0))),2)","v":{"v":0,"d":"0.00"}},0,null,{"$f":"IFERROR(VLOOKUP(C70,Items!A:H,8,FALSE),0)","v":0},{"$f":"IF(C70=\"\",\"\",IF(E70&F70=\"\",VLOOKUP(C70,Items!A:D,4,FALSE),3))","v":""},{"$f":"IF(C70=\"\",\"\",'Misc Dropdowns'!$C$35)","v":""},{"v":0,"d":"0.00"},0,{"$f":"IF($H70=\"SEL\",VLOOKUP($C70,Items!A:F,6,FALSE),IF($H70=\"CR\",VLOOKUP('Order Form'!$C70,Items!A:G,7,FALSE),0))","v":0},{"$f":"IFERROR(AH70*(VLOOKUP(E70,'Misc Dropdowns'!$J$12:$M$16,4,FALSE)),0)","v":0},{"$f":"IFERROR(VLOOKUP(F70,'Misc Dropdowns'!$J$23:$M$27,4,FALSE)*AH70,0)","v":0},{"$f":"IFERROR((AL70*(15*(VLOOKUP(C70,Items!A:AE,31,FALSE)))),0)","v":0},0,"","","",0,{"$f":"IF(C70=\"\",0,D70*VLOOKUP(C70,Items!A:M,13,FALSE))","v":{"v":0,"d":"0.00"}},{"v":0,"d":"0.00"},{"$f":"IFERROR(IF(VLOOKUP(C70,'Modifications and Fees'!B:H,2,FALSE)=\"CR\",1*D70,\"\"),\"\")","v":""},{"v":0,"d":"0.00"},{"$f":"ROUND(IFERROR(D70*Z70*(VLOOKUP(E70,'Misc Dropdowns'!$J$12:$M$16,4,FALSE)),0),2)","v":{"v":0,"d":"0.00"}},{"$f":"ROUND(IFERROR(VLOOKUP(F70,'Misc Dropdowns'!$J$23:$M$27,4,FALSE)*Z70*D70,0),2)","v":{"v":0,"d":"0.00"}}]
[2,null,null,0,null,null,{"$f":"IF(C71=\"\",\"\",VLOOKUP(C71,Items!A:N,12,FALSE))","v":""},{"$f":"IF(S71=\"Craftsman Pricing\",\"CR\",IF(C71=\"\",\"\",IF('Misc Dropdowns'!$C$34=0,\"\",IF(E71&F71=\"\",VLOOKUP(AF71,'Misc Dropdowns'!$A$45:$B$47,2,FALSE),\"CR\"))))","v":""},{"$nulls":4},{"v":0,"d":"0.00"},{"v":0,"d":"0.00"},{"$nulls":11},{"$f":"ROUND(IF($S$18=\"\",0,IF(H71=\"SEL\",VLOOKUP(C71,Items!A:Y,25,FALSE),IF(H71=\"CR\",VLOOKUP(C71,Items!A:Z,26,FALSE),0))),2)","v":{"v":0,"d":"0.00"}},0,null,{"$f":"IFERROR(VLOOKUP(C71,Items!A:H,8,FALSE),0)","v":0},{"$f":"IF(C71=\"\",\"\",IF(E71&F71=\"\",VLOOKUP(C71,Items!A:D,4,FALSE),3))","v":""},{"$f":"IF(C71=\"\",\"\",'Misc Dropdowns'!$C$35)","v":""},{"v":0,"d":"0.00"},0,{"$f":"IF($H71=\"SEL\",VLOOKUP($C71,Items!A:F,6,FALSE),IF($H71=\"CR\",VLOOKUP('Order Form'!$C71,Items!A:G,7,FALSE),0))","v":0},{"$f":"IFERROR(AH71*(VLOOKUP(E71,'Misc Dropdowns'!$J$12:$M$16,4,FALSE)),0)","v":0},{"$f":"IFERROR(VLOOKUP(F71,'Misc Dropdowns'!$J$23:$M$27,4,FALSE)*AH71,0)","v":0},{"$f":"IFERROR((AL71*(15*(VLOOKUP(C71,Items!A:AE,31,FALSE)))),0)","v":0},0,"","","",0,{"$f":"IF(C71=\"\",0,D71*VLOOKUP(C71,Items!A:M,13,FALSE))","v":{"v":0,"d":"0.00"}},{"v":0,"d":"0.00"},{"$f":"IFERROR(IF(VLOOKUP(C71,'Modifications and Fees'!B:H,2,FALSE)=\"CR\",1*D71,\"\"),\"\")","v":""},{"v":0,"d":"0.00"},{"$f":"ROUND(IFERROR(D71*Z71*(VLOOKUP(E71,'Misc Dropdowns'!$J$12:$M$16,4,FALSE)),0),2)","v":{"v":0,"d":"0.00"}},{"$f":"ROUND(IFERROR(VLOOKUP(F71,'Misc Dropdowns'!$J$23:$M$27,4,FALSE)*Z71*D71,0),2)","v":{"v":0,"d":"0.00"}}]
[2,null,null,0,null,null,{"$f":"IF(C72=\"\",\"\",VLOOKUP(C72,Items!A:N,12,FALSE))","v":""},{"$f":"IF(S72=\"Craftsman Pricing\",\"CR\",IF(C72=\"\",\"\",IF('Misc Dropdowns'!$C$34=0,\"\",IF(E72&F72=\"\",VLOOKUP(AF72,'Misc Dropdowns'!$A$45:$B$47,2,FALSE),\"CR\"))))","v":""},{"$nulls":4},{"v":0,"d":"0.00"},{"v":0,"d":"0.00"},{"$nulls":11},{"$f":"ROUND(IF($S$18=\"\",0,IF(H72=\"SEL\",VLOOKUP(C72,Items!A:Y,25,FALSE),IF(H72=\"CR\",VLOOKUP(C72,Items!A:Z,26,FALSE),0))),2)","v":{"v":0,"d":"0.00"}},0,null,{"$f":"IFERROR(VLOOKUP(C72,Items!A:H,8,FALSE),0)","v":0},{"$f":"IF(C72=\"\",\"\",IF(E72&F72=\"\",VLOOKUP(C72,Items!A:D,4,FALSE),3))","v":""},{"$f":"IF(C72=\"\",\"\",'Misc Dropdowns'!$C$35)","v":""},{"v":0,"d":"0.00"},0,{"$f":"IF($H72=\"SEL\",VLOOKUP($C72,Items!A:F,6,FALSE),IF($H72=\"CR\",VLOOKUP('Order Form'!$C72,Items!A:G,7,FALSE),0))","v":0},{"$f":"IFERROR(AH72*(VLOOKUP(E72,'Misc Dropdowns'!$J$12:$M$16,4,FALSE)),0)","v":0},{"$f":"IFERROR(VLOOKUP(F72,'Misc Dropdowns'!$J$23:$M$27,4,FALSE)*AH72,0)","v":0},{"$f":"IFERROR((AL72*(15*(VLOOKUP(C72,Items!A:AE,31,FALSE)))),0)","v":0},0,"","","",0,{"$f":"IF(C72=\"\",0,D72*VLOOKUP(C72,Items!A:M,13,FALSE))","v":{"v":0,"d":"0.00"}},{"v":0,"d":"0.00"},{"$f":"IFERROR(IF(VLOOKUP(C72,'Modifications and Fees'!B:H,2,FALSE)=\"CR\",1*D72,\"\"),\"\")","v":""},{"v":0,"d":"0.00"},{"$f":"ROUND(IFERROR(D72*Z72*(VLOOKUP(E72,'Misc Dropdowns'!$J$12:$M$16,4,FALSE)),0),2)","v":{"v":0,"d":"0.00"}},{"$f":"ROUND(IFERROR(VLOOKUP(F72,'Misc Dropdowns'!$J$23:$M$27,4,FALSE)*Z72*D72,0),2)","v":{"v":0,"d":"0.00"}}]
[2,null,null,0,null,null,{"$f":"IF(C73=\"\",\"\",VLOOKUP(C73,Items!A:N,12,FALSE))","v":""},{"$f":"IF(S73=\"Craftsman Pricing\",\"CR\",IF(C73=\"\",\"\",IF('Misc Dropdowns'!$C$34=0,\"\",IF(E73&F73=\"\",VLOOKUP(AF73,'Misc Dropdowns'!$A$45:$B$47,2,FALSE),\"CR\"))))","v":""},{"$nulls":4},{"v":0,"d":"0.00"},{"v":0,"d":"0.00"},{"$nulls":11},{"$f":"ROUND(IF($S$18=\"\",0,IF(H73=\"SEL\",VLOOKUP(C73,Items!A:Y,25,FALSE),IF(H73=\"CR\",VLOOKUP(C73,Items!A:Z,26,FALSE),0))),2)","v":{"v":0,"d":"0.00"}},0,null,{"$f":"IFERROR(VLOOKUP(C73,Items!A:H,8,FALSE),0)","v":0},{"$f":"IF(C73=\"\",\"\",IF(E73&F73=\"\",VLOOKUP(C73,Items!A:D,4,FALSE),3))","v":""},{"$f":"IF(C73=\"\",\"\",'Misc Dropdowns'!$C$35)","v":""},{"v":0,"d":"0.00"},0,{"$f":"IF($H73=\"SEL\",VLOOKUP($C73,Items!A:F,6,FALSE),IF($H73=\"CR\",VLOOKUP('Order Form'!$C73,Items!A:G,7,FALSE),0))","v":0},{"$f":"IFERROR(AH73*(VLOOKUP(E73,'Misc Dropdowns'!$J$12:$M$16,4,FALSE)),0)","v":0},{"$f":"IFERROR(VLOOKUP(F73,'Misc Dropdowns'!$J$23:$M$27,4,FALSE)*AH73,0)","v":0},{"$f":"IFERROR((AL73*(15*(VLOOKUP(C73,Items!A:AE,31,FALSE)))),0)","v":0},0,"","","",0,{"$f":"IF(C73=\"\",0,D73*VLOOKUP(C73,Items!A:M,13,FALSE))","v":{"v":0,"d":"0.00"}},{"v":0,"d":"0.00"},{"$f":"IFERROR(IF(VLOOKUP(C73,'Modifications and Fees'!B:H,2,FALSE)=\"CR\",1*D73,\"\"),\"\")","v":""},{"v":0,"d":"0.00"},{"$f":"ROUND(IFERROR(D73*Z73*(VLOOKUP(E73,'Misc Dropdowns'!$J$12:$M$16,4,FALSE)),0),2)","v":{"v":0,"d":"0.00"}},{"$f":"ROUND(IFERROR(VLOOKUP(F73,'Misc Dropdowns'!$J$23:$M$27,4,FALSE)*Z73*D73,0),2)","v":{"v":0,"d":"0.00"}}]
[2,null,null,0,null,null,{"$f":"IF(C74=\"\",\"\",VLOOKUP(C74,Items!A:N,12,FALSE))","v":""},{"$f":"IF(S74=\"Craftsman Pricing\",\"CR\",IF(C74=\"\",\"\",IF('Misc Dropdowns'!$C$34=0,\"\",IF(E74&F74=\"\",VLOOKUP(AF74,'Misc Dropdowns'!$A$45:$B$47,2,FALSE),\"CR\"))))","v":""},{"$nulls":4},{"v":0,"d":"0.00"},{"v":0,"d":"0.00"},{"$nulls":11},{"$f":"ROUND(IF($S$18=\"\",0,IF(H74=\"SEL\",VLOOKUP(C74,Items!A:Y,25,FALSE),IF(H74=\"CR\",VLOOKUP(C74,Items!A:Z,26,FALSE),0))),2)","v":{"v":0,"d":"0.00"}},0,null,{"$f":"IFERROR(VLOOKUP(C74,Items!A:H,8,FALSE),0)","v":0},{"$f":"IF(C74=\"\",\"\",IF(E74&F74=\"\",VLOOKUP(C74,Items!A:D,4,FALSE),3))","v":""},{"$f":"IF(C74=\"\",\"\",'Misc Dropdowns'!$C$35)","v":""},{"v":0,"d":"0.00"},0,{"$f":"IF($H74=\"SEL\",VLOOKUP($C74,Items!A:F,6,FALSE),IF($H74=\"CR\",VLOOKUP('Order Form'!$C74,Items!A:G,7,FALSE),0))","v":0},{"$f":"IFERROR(AH74*(VLOOKUP(E74,'Misc Dropdowns'!$J$12:$M$16,4,FALSE)),0)","v":0},{"$f":"IFERROR(VLOOKUP(F74,'Misc Dropdowns'!$J$23:$M$27,4,FALSE)*AH74,0)","v":0},{"$f":"IFERROR((AL74*(15*(VLOOKUP(C74,Items!A:AE,31,FALSE)))),0)","v":0},0,"","","",0,{"$f":"IF(C74=\"\",0,D74*VLOOKUP(C74,Items!A:M,13,FALSE))","v":{"v":0,"d":"0.00"}},{"v":0,"d":"0.00"},{"$f":"IFERROR(IF(VLOOKUP(C74,'Modifications and Fees'!B:H,2,FALSE)=\"CR\",1*D74,\"\"),\"\")","v":""},{"v":0,"d":"0.00"},{"$f":"ROUND(IFERROR(D74*Z74*(VLOOKUP(E74,'Misc Dropdowns'!$J$12:$M$16,4,FALSE)),0),2)","v":{"v":0,"d":"0.00"}},{"$f":"ROUND(IFERROR(VLOOKUP(F74,'Misc Dropdowns'!$J$23:$M$27,4,FALSE)*Z74*D74,0),2)","v":{"v":0,"d":"0.00"}}]
[2,null,null,0,null,null,{"$f":"IF(C75=\"\",\"\",VLOOKUP(C75,Items!A:N,12,FALSE))","v":""},{"$f":"IF(S75=\"Craftsman Pricing\",\"CR\",IF(C75=\"\",\"\",IF('Misc Dropdowns'!$C$34=0,\"\",IF(E75&F75=\"\",VLOOKUP(AF75,'Misc Dropdowns'!$A$45:$B$47,2,FALSE),\"CR\"))))","v":""},{"$nulls":4},{"v":0,"d":"0.00"},{"v":0,"d":"0.00"},{"$nulls":11},{"$f":"ROUND(IF($S$18=\"\",0,IF(H75=\"SEL\",VLOOKUP(C75,Items!A:Y,25,FALSE),IF(H75=\"CR\",VLOOKUP(C75,Items!A:Z,26,FALSE),0))),2)","v":{"v":0,"d":"0.00"}},0,null,{"$f":"IFERROR(VLOOKUP(C75,Items!A:H,8,FALSE),0)","v":0},{"$f":"IF(C75=\"\",\"\",IF(E75&F75=\"\",VLOOKUP(C75,Items!A:D,4,FALSE),3))","v":""},{"$f":"IF(C75=\"\",\"\",'Misc Dropdowns'!$C$35)","v":""},{"v":0,"d":"0.00"},0,{"$f":"IF($H75=\"SEL\",VLOOKUP($C75,Items!A:F,6,FALSE),IF($H75=\"CR\",VLOOKUP('Order Form'!$C75,Items!A:G,7,FALSE),0))","v":0},{"$f":"IFERROR(AH75*(VLOOKUP(E75,'Misc Dropdowns'!$J$12:$M$16,4,FALSE)),0)","v":0},{"$f":"IFERROR(VLOOKUP(F75,'Misc Dropdowns'!$J$23:$M$27,4,FALSE)*AH75,0)","v":0},{"$f":"IFERROR((AL75*(15*(VLOOKUP(C75,Items!A:AE,31,FALSE)))),0)","v":0},0,"","","",0,{"$f":"IF(C75=\"\",0,D75*VLOOKUP(C75,Items!A:M,13,FALSE))","v":{"v":0,"d":"0.00"}},{"v":0,"d":"0.00"},{"$f":"IFERROR(IF(VLOOKUP(C75,'Modifications and Fees'!B:H,2,FALSE)=\"CR\",1*D75,\"\"),\"\")","v":""},{"v":0,"d":"0.00"},{"$f":"ROUND(IFERROR(D75*Z75*(VLOOKUP(E75,'Misc Dropdowns'!$J$12:$M$16,4,FALSE)),0),2)","v":{"v":0,"d":"0.00"}},{"$f":"ROUND(IFERROR(VLOOKUP(F75,'Misc Dropdowns'!$J$23:$M$27,4,FALSE)*Z75*D75,0),2)","v":{"v":0,"d":"0.00"}}]
[2,null,null,0,null,null,{"$f":"IF(C76=\"\",\"\",VLOOKUP(C76,Items!A:N,12,FALSE))","v":""},{"$f":"IF(S76=\"Craftsman Pricing\",\"CR\",IF(C76=\"\",\"\",IF('Misc Dropdowns'!$C$34=0,\"\",IF(E76&F76=\"\",VLOOKUP(AF76,'Misc Dropdowns'!$A$45:$B$47,2,FALSE),\"CR\"))))","v":""},{"$nulls":4},{"v":0,"d":"0.00"},{"v":0,"d":"0.00"},{"$nulls":11},{"$f":"ROUND(IF($S$18=\"\",0,IF(H76=\"SEL\",VLOOKUP(C76,Items!A:Y,25,FALSE),IF(H76=\"CR\",VLOOKUP(C76,Items!A:Z,26,FALSE),0))),2)","v":{"v":0,"d":"0.00"}},0,null,{"$f":"IFERROR(VLOOKUP(C76,Items!A:H,8,FALSE),0)","v":0},{"$f":"IF(C76=\"\",\"\",IF(E76&F76=\"\",VLOOKUP(C76,Items!A:D,4,FALSE),3))","v":""},{"$f":"IF(C76=\"\",\"\",'Misc Dropdowns'!$C$35)","v":""},{"v":0,"d":"0.00"},0,{"$f":"IF($H76=\"SEL\",VLOOKUP($C76,Items!A:F,6,FALSE),IF($H76=\"CR\",VLOOKUP('Order Form'!$C76,Items!A:G,7,FALSE),0))","v":0},{"$f":"IFERROR(AH76*(VLOOKUP(E76,'Misc Dropdowns'!$J$12:$M$16,4,FALSE)),0)","v":0},{"$f":"IFERROR(VLOOKUP(F76,'Misc Dropdowns'!$J$23:$M$27,4,FALSE)*AH76,0)","v":0},{"$f":"IFERROR((AL76*(15*(VLOOKUP(C76,Items!A:AE,31,FALSE)))),0)","v":0},0,"","","",0,{"$f":"IF(C76=\"\",0,D76*VLOOKUP(C76,Items!A:M,13,FALSE))","v":{"v":0,"d":"0.00"}},{"v":0,"d":"0.00"},{"$f":"IFERROR(IF(VLOOKUP(C76,'Modifications and Fees'!B:H,2,FALSE)=\"CR\",1*D76,\"\"),\"\")","v":""},{"v":0,"d":"0.00"},{"$f":"ROUND(IFERROR(D76*Z76*(VLOOKUP(E76,'Misc Dropdowns'!$J$12:$M$16,4,FALSE)),0),2)","v":{"v":0,"d":"0.00"}},{"$f":"ROUND(IFERROR(VLOOKUP(F76,'Misc Dropdowns'!$J$23:$M$27,4,FALSE)*Z76*D76,0),2)","v":{"v":0,"d":"0.00"}}]
[2,null,null,0,null,null,{"$f":"IF(C77=\"\",\"\",VLOOKUP(C77,Items!A:N,12,FALSE))","v":""},{"$f":"IF(S77=\"Craftsman Pricing\",\"CR\",IF(C77=\"\",\"\",IF('Misc Dropdowns'!$C$34=0,\"\",IF(E77&F77=\"\",VLOOKUP(AF77,'Misc Dropdowns'!$A$45:$B$47,2,FALSE),\"CR\"))))","v":""},{"$nulls":4},{"v":0,"d":"0.00"},{"v":0,"d":"0.00"},{"$nulls":11},{"$f":"ROUND(IF($S$18=\"\",0,IF(H77=\"SEL\",VLOOKUP(C77,Items!A:Y,25,FALSE),IF(H77=\"CR\",VLOOKUP(C77,Items!A:Z,26,FALSE),0))),2)","v":{"v":0,"d":"0.00"}},0,null,{"$f":"IFERROR(VLOOKUP(C77,Items!A:H,8,FALSE),0)","v":0},{"$f":"IF(C77=\"\",\"\",IF(E77&F77=\"\",VLOOKUP(C77,Items!A:D,4,FALSE),3))","v":""},{"$f":"IF(C77=\"\",\"\",'Misc Dropdowns'!$C$35)","v":""},{"v":0,"d":"0.00"},0,{"$f":"IF($H77=\"SEL\",VLOOKUP($C77,Items!A:F,6,FALSE),IF($H77=\"CR\",VLOOKUP('Order Form'!$C77,Items!A:G,7,FALSE),0))","v":0},{"$f":"IFERROR(AH77*(VLOOKUP(E77,'Misc Dropdowns'!$J$12:$M$16,4,FALSE)),0)","v":0},{"$f":"IFERROR(VLOOKUP(F77,'Misc Dropdowns'!$J$23:$M$27,4,FALSE)*AH77,0)","v":0},{"$f":"IFERROR((AL77*(15*(VLOOKUP(C77,Items!A:AE,31,FALSE)))),0)","v":0},0,"","","",0,{"$f":"IF(C77=\"\",0,D77*VLOOKUP(C77,Items!A:M,13,FALSE))","v":{"v":0,"d":"0.00"}},{"v":0,"d":"0.00"},{"$f":"IFERROR(IF(VLOOKUP(C77,'Modifications and Fees'!B:H,2,FALSE)=\"CR\",1*D77,\"\"),\"\")","v":""},{"v":0,"d":"0.00"},{"$f":"ROUND(IFERROR(D77*Z77*(VLOOKUP(E77,'Misc Dropdowns'!$J$12:$M$16,4,FALSE)),0),2)","v":{"v":0,"d":"0.00"}},{"$f":"ROUND(IFERROR(VLOOKUP(F77,'Misc Dropdowns'!$J$23:$M$27,4,FALSE)*Z77*D77,0),2)","v":{"v":0,"d":"0.00"}}]
[2,null,null,0,null,null,{"$f":"IF(C78=\"\",\"\",VLOOKUP(C78,Items!A:N,12,FALSE))","v":""},{"$f":"IF(S78=\"Craftsman Pricing\",\"CR\",IF(C78=\"\",\"\",IF('Misc Dropdowns'!$C$34=0,\"\",IF(E78&F78=\"\",VLOOKUP(AF78,'Misc Dropdowns'!$A$45:$B$47,2,FALSE),\"CR\"))))","v":""},{"$nulls":4},{"v":0,"d":"0.00"},{"v":0,"d":"0.00"},{"$nulls":11},{"$f":"ROUND(IF($S$18=\"\",0,IF(H78=\"SEL\",VLOOKUP(C78,Items!A:Y,25,FALSE),IF(H78=\"CR\",VLOOKUP(C78,Items!A:Z,26,FALSE),0))),2)","v":{"v":0,"d":"0.00"}},0,null,{"$f":"IFERROR(VLOOKUP(C78,Items!A:H,8,FALSE),0)","v":0},{"$f":"IF(C78=\"\",\"\",IF(E78&F78=\"\",VLOOKUP(C78,Items!A:D,4,FALSE),3))","v":""},{"$f":"IF(C78=\"\",\"\",'Misc Dropdowns'!$C$35)","v":""},{"v":0,"d":"0.00"},0,{"$f":"IF($H78=\"SEL\",VLOOKUP($C78,Items!A:F,6,FALSE),IF($H78=\"CR\",VLOOKUP('Order Form'!$C78,Items!A:G,7,FALSE),0))","v":0},{"$f":"IFERROR(AH78*(VLOOKUP(E78,'Misc Dropdowns'!$J$12:$M$16,4,FALSE)),0)","v":0},{"$f":"IFERROR(VLOOKUP(F78,'Misc Dropdowns'!$J$23:$M$27,4,FALSE)*AH78,0)","v":0},{"$f":"IFERROR((AL78*(15*(VLOOKUP(C78,Items!A:AE,31,FALSE)))),0)","v":0},0,"","","",0,{"$f":"IF(C78=\"\",0,D78*VLOOKUP(C78,Items!A:M,13,FALSE))","v":{"v":0,"d":"0.00"}},{"v":0,"d":"0.00"},{"$f":"IFERROR(IF(VLOOKUP(C78,'Modifications and Fees'!B:H,2,FALSE)=\"CR\",1*D78,\"\"),\"\")","v":""},{"v":0,"d":"0.00"},{"$f":"ROUND(IFERROR(D78*Z78*(VLOOKUP(E78,'Misc Dropdowns'!$J$12:$M$16,4,FALSE)),0),2)","v":{"v":0,"d":"0.00"}},{"$f":"ROUND(IFERROR(VLOOKUP(F78,'Misc Dropdowns'!$J$23:$M$27,4,FALSE)*Z78*D78,0),2)","v":{"v":0,"d":"0.00"}}]
[2,null,null,0,null,null,{"$f":"IF(C79=\"\",\"\",VLOOKUP(C79,Items!A:N,12,FALSE))","v":""},{"$f":"IF(S79=\"Craftsman Pricing\",\"CR\",IF(C79=\"\",\"\",IF('Misc Dropdowns'!$C$34=0,\"\",IF(E79&F79=\"\",VLOOKUP(AF79,'Misc Dropdowns'!$A$45:$B$47,2,FALSE),\"CR\"))))","v":""},{"$nulls":4},{"v":0,"d":"0.00"},{"v":0,"d":"0.00"},{"$nulls":11},{"$f":"ROUND(IF($S$18=\"\",0,IF(H79=\"SEL\",VLOOKUP(C79,Items!A:Y,25,FALSE),IF(H79=\"CR\",VLOOKUP(C79,Items!A:Z,26,FALSE),0))),2)","v":{"v":0,"d":"0.00"}},0,null,{"$f":"IFERROR(VLOOKUP(C79,Items!A:H,8,FALSE),0)","v":0},{"$f":"IF(C79=\"\",\"\",IF(E79&F79=\"\",VLOOKUP(C79,Items!A:D,4,FALSE),3))","v":""},{"$f":"IF(C79=\"\",\"\",'Misc Dropdowns'!$C$35)","v":""},{"v":0,"d":"0.00"},0,{"$f":"IF($H79=\"SEL\",VLOOKUP($C79,Items!A:F,6,FALSE),IF($H79=\"CR\",VLOOKUP('Order Form'!$C79,Items!A:G,7,FALSE),0))","v":0},{"$f":"IFERROR(AH79*(VLOOKUP(E79,'Misc Dropdowns'!$J$12:$M$16,4,FALSE)),0)","v":0},{"$f":"IFERROR(VLOOKUP(F79,'Misc Dropdowns'!$J$23:$M$27,4,FALSE)*AH79,0)","v":0},{"$f":"IFERROR((AL79*(15*(VLOOKUP(C79,Items!A:AE,31,FALSE)))),0)","v":0},0,"","","",0,{"$f":"IF(C79=\"\",0,D79*VLOOKUP(C79,Items!A:M,13,FALSE))","v":{"v":0,"d":"0.00"}},{"v":0,"d":"0.00"},{"$f":"IFERROR(IF(VLOOKUP(C79,'Modifications and Fees'!B:H,2,FALSE)=\"CR\",1*D79,\"\"),\"\")","v":""},{"v":0,"d":"0.00"},{"$f":"ROUND(IFERROR(D79*Z79*(VLOOKUP(E79,'Misc Dropdowns'!$J$12:$M$16,4,FALSE)),0),2)","v":{"v":0,"d":"0.00"}},{"$f":"ROUND(IFERROR(VLOOKUP(F79,'Misc Dropdowns'!$J$23:$M$27,4,FALSE)*Z79*D79,0),2)","v":{"v":0,"d":"0.00"}}]
[2,null,null,0,null,null,{"$f":"IF(C80=\"\",\"\",VLOOKUP(C80,Items!A:N,12,FALSE))","v":""},{"$f":"IF(S80=\"Craftsman Pricing\",\"CR\",IF(C80=\"\",\"\",IF('Misc Dropdowns'!$C$34=0,\"\",IF(E80&F80=\"\",VLOOKUP(AF80,'Misc Dropdowns'!$A$45:$B$47,2,FALSE),\"CR\"))))","v":""},{"$nulls":4},{"v":0,"d":"0.00"},{"v":0,"d":"0.00"},{"$nulls":11},{"$f":"ROUND(IF($S$18=\"\",0,IF(H80=\"SEL\",VLOOKUP(C80,Items!A:Y,25,FALSE),IF(H80=\"CR\",VLOOKUP(C80,Items!A:Z,26,FALSE),0))),2)","v":{"v":0,"d":"0.00"}},0,null,{"$f":"IFERROR(VLOOKUP(C80,Items!A:H,8,FALSE),0)","v":0},{"$f":"IF(C80=\"\",\"\",IF(E80&F80=\"\",VLOOKUP(C80,Items!A:D,4,FALSE),3))","v":""},{"$f":"IF(C80=\"\",\"\",'Misc Dropdowns'!$C$35)","v":""},{"v":0,"d":"0.00"},0,{"$f":"IF($H80=\"SEL\",VLOOKUP($C80,Items!A:F,6,FALSE),IF($H80=\"CR\",VLOOKUP('Order Form'!$C80,Items!A:G,7,FALSE),0))","v":0},{"$f":"IFERROR(AH80*(VLOOKUP(E80,'Misc Dropdowns'!$J$12:$M$16,4,FALSE)),0)","v":0},{"$f":"IFERROR(VLOOKUP(F80,'Misc Dropdowns'!$J$23:$M$27,4,FALSE)*AH80,0)","v":0},{"$f":"IFERROR((AL80*(15*(VLOOKUP(C80,Items!A:AE,31,FALSE)))),0)","v":0},0,"","","",0,{"$f":"IF(C80=\"\",0,D80*VLOOKUP(C80,Items!A:M,13,FALSE))","v":{"v":0,"d":"0.00"}},{"v":0,"d":"0.00"},{"$f":"IFERROR(IF(VLOOKUP(C80,'Modifications and Fees'!B:H,2,FALSE)=\"CR\",1*D80,\"\"),\"\")","v":""},{"v":0,"d":"0.00"},{"$f":"ROUND(IFERROR(D80*Z80*(VLOOKUP(E80,'Misc Dropdowns'!$J$12:$M$16,4,FALSE)),0),2)","v":{"v":0,"d":"0.00"}},{"$f":"ROUND(IFERROR(VLOOKUP(F80,'Misc Dropdowns'!$J$23:$M$27,4,FALSE)*Z80*D80,0),2)","v":{"v":0,"d":"0.00"}}]
[2,null,null,0,null,null,{"$f":"IF(C81=\"\",\"\",VLOOKUP(C81,Items!A:N,12,FALSE))","v":""},{"$f":"IF(S81=\"Craftsman Pricing\",\"CR\",IF(C81=\"\",\"\",IF('Misc Dropdowns'!$C$34=0,\"\",IF(E81&F81=\"\",VLOOKUP(AF81,'Misc Dropdowns'!$A$45:$B$47,2,FALSE),\"CR\"))))","v":""},{"$nulls":4},{"v":0,"d":"0.00"},{"v":0,"d":"0.00"},{"$nulls":11},{"$f":"ROUND(IF($S$18=\"\",0,IF(H81=\"SEL\",VLOOKUP(C81,Items!A:Y,25,FALSE),IF(H81=\"CR\",VLOOKUP(C81,Items!A:Z,26,FALSE),0))),2)","v":{"v":0,"d":"0.00"}},0,null,{"$f":"IFERROR(VLOOKUP(C81,Items!A:H,8,FALSE),0)","v":0},{"$f":"IF(C81=\"\",\"\",IF(E81&F81=\"\",VLOOKUP(C81,Items!A:D,4,FALSE),3))","v":""},{"$f":"IF(C81=\"\",\"\",'Misc Dropdowns'!$C$35)","v":""},{"v":0,"d":"0.00"},0,{"$f":"IF($H81=\"SEL\",VLOOKUP($C81,Items!A:F,6,FALSE),IF($H81=\"CR\",VLOOKUP('Order Form'!$C81,Items!A:G,7,FALSE),0))","v":0},{"$f":"IFERROR(AH81*(VLOOKUP(E81,'Misc Dropdowns'!$J$12:$M$16,4,FALSE)),0)","v":0},{"$f":"IFERROR(VLOOKUP(F81,'Misc Dropdowns'!$J$23:$M$27,4,FALSE)*AH81,0)","v":0},{"$f":"IFERROR((AL81*(15*(VLOOKUP(C81,Items!A:AE,31,FALSE)))),0)","v":0},0,"","","",0,{"$f":"IF(C81=\"\",0,D81*VLOOKUP(C81,Items!A:M,13,FALSE))","v":{"v":0,"d":"0.00"}},{"v":0,"d":"0.00"},{"$f":"IFERROR(IF(VLOOKUP(C81,'Modifications and Fees'!B:H,2,FALSE)=\"CR\",1*D81,\"\"),\"\")","v":""},{"v":0,"d":"0.00"},{"$f":"ROUND(IFERROR(D81*Z81*(VLOOKUP(E81,'Misc Dropdowns'!$J$12:$M$16,4,FALSE)),0),2)","v":{"v":0,"d":"0.00"}},{"$f":"ROUND(IFERROR(VLOOKUP(F81,'Misc Dropdowns'!$J$23:$M$27,4,FALSE)*Z81*D81,0),2)","v":{"v":0,"d":"0.00"}}]
[2,null,null,0,null,null,{"$f":"IF(C82=\"\",\"\",VLOOKUP(C82,Items!A:N,12,FALSE))","v":""},{"$f":"IF(S82=\"Craftsman Pricing\",\"CR\",IF(C82=\"\",\"\",IF('Misc Dropdowns'!$C$34=0,\"\",IF(E82&F82=\"\",VLOOKUP(AF82,'Misc Dropdowns'!$A$45:$B$47,2,FALSE),\"CR\"))))","v":""},{"$nulls":4},{"v":0,"d":"0.00"},{"v":0,"d":"0.00"},{"$nulls":11},{"$f":"ROUND(IF($S$18=\"\",0,IF(H82=\"SEL\",VLOOKUP(C82,Items!A:Y,25,FALSE),IF(H82=\"CR\",VLOOKUP(C82,Items!A:Z,26,FALSE),0))),2)","v":{"v":0,"d":"0.00"}},0,null,{"$f":"IFERROR(VLOOKUP(C82,Items!A:H,8,FALSE),0)","v":0},{"$f":"IF(C82=\"\",\"\",IF(E82&F82=\"\",VLOOKUP(C82,Items!A:D,4,FALSE),3))","v":""},{"$f":"IF(C82=\"\",\"\",'Misc Dropdowns'!$C$35)","v":""},{"v":0,"d":"0.00"},0,{"$f":"IF($H82=\"SEL\",VLOOKUP($C82,Items!A:F,6,FALSE),IF($H82=\"CR\",VLOOKUP('Order Form'!$C82,Items!A:G,7,FALSE),0))","v":0},{"$f":"IFERROR(AH82*(VLOOKUP(E82,'Misc Dropdowns'!$J$12:$M$16,4,FALSE)),0)","v":0},{"$f":"IFERROR(VLOOKUP(F82,'Misc Dropdowns'!$J$23:$M$27,4,FALSE)*AH82,0)","v":0},{"$f":"IFERROR((AL82*(15*(VLOOKUP(C82,Items!A:AE,31,FALSE)))),0)","v":0},0,"","","",0,{"$f":"IF(C82=\"\",0,D82*VLOOKUP(C82,Items!A:M,13,FALSE))","v":{"v":0,"d":"0.00"}},{"v":0,"d":"0.00"},{"$f":"IFERROR(IF(VLOOKUP(C82,'Modifications and Fees'!B:H,2,FALSE)=\"CR\",1*D82,\"\"),\"\")","v":""},{"v":0,"d":"0.00"},{"$f":"ROUND(IFERROR(D82*Z82*(VLOOKUP(E82,'Misc Dropdowns'!$J$12:$M$16,4,FALSE)),0),2)","v":{"v":0,"d":"0.00"}},{"$f":"ROUND(IFERROR(VLOOKUP(F82,'Misc Dropdowns'!$J$23:$M$27,4,FALSE)*Z82*D82,0),2)","v":{"v":0,"d":"0.00"}}]
[2,null,null,0,null,null,{"$f":"IF(C83=\"\",\"\",VLOOKUP(C83,Items!A:N,12,FALSE))","v":""},{"$f":"IF(S83=\"Craftsman Pricing\",\"CR\",IF(C83=\"\",\"\",IF('Misc Dropdowns'!$C$34=0,\"\",IF(E83&F83=\"\",VLOOKUP(AF83,'Misc Dropdowns'!$A$45:$B$47,2,FALSE),\"CR\"))))","v":""},{"$nulls":4},{"v":0,"d":"0.00"},{"v":0,"d":"0.00"},{"$nulls":11},{"$f":"ROUND(IF($S$18=\"\",0,IF(H83=\"SEL\",VLOOKUP(C83,Items!A:Y,25,FALSE),IF(H83=\"CR\",VLOOKUP(C83,Items!A:Z,26,FALSE),0))),2)","v":{"v":0,"d":"0.00"}},0,null,{"$f":"IFERROR(VLOOKUP(C83,Items!A:H,8,FALSE),0)","v":0},{"$f":"IF(C83=\"\",\"\",IF(E83&F83=\"\",VLOOKUP(C83,Items!A:D,4,FALSE),3))","v":""},{"$f":"IF(C83=\"\",\"\",'Misc Dropdowns'!$C$35)","v":""},{"v":0,"d":"0.00"},0,{"$f":"IF($H83=\"SEL\",VLOOKUP($C83,Items!A:F,6,FALSE),IF($H83=\"CR\",VLOOKUP('Order Form'!$C83,Items!A:G,7,FALSE),0))","v":0},{"$f":"IFERROR(AH83*(VLOOKUP(E83,'Misc Dropdowns'!$J$12:$M$16,4,FALSE)),0)","v":0},{"$f":"IFERROR(VLOOKUP(F83,'Misc Dropdowns'!$J$23:$M$27,4,FALSE)*AH83,0)","v":0},{"$f":"IFERROR((AL83*(15*(VLOOKUP(C83,Items!A:AE,31,FALSE)))),0)","v":0},0,"","","",0,{"$f":"IF(C83=\"\",0,D83*VLOOKUP(C83,Items!A:M,13,FALSE))","v":{"v":0,"d":"0.00"}},{"v":0,"d":"0.00"},{"$f":"IFERROR(IF(VLOOKUP(C83,'Modifications and Fees'!B:H,2,FALSE)=\"CR\",1*D83,\"\"),\"\")","v":""},{"v":0,"d":"0.00"},{"$f":"ROUND(IFERROR(D83*Z83*(VLOOKUP(E83,'Misc Dropdowns'!$J$12:$M$16,4,FALSE)),0),2)","v":{"v":0,"d":"0.00"}},{"$f":"ROUND(IFERROR(VLOOKUP(F83,'Misc Dropdowns'!$J$23:$M$27,4,FALSE)*Z83*D83,0),2)","v":{"v":0,"d":"0.00"}}]
[2,null,null,0,null,null,{"$f":"IF(C84=\"\",\"\",VLOOKUP(C84,Items!A:N,12,FALSE))","v":""},{"$f":"IF(S84=\"Craftsman Pricing\",\"CR\",IF(C84=\"\",\"\",IF('Misc Dropdowns'!$C$34=0,\"\",IF(E84&F84=\"\",VLOOKUP(AF84,'Misc Dropdowns'!$A$45:$B$47,2,FALSE),\"CR\"))))","v":""},{"$nulls":4},{"v":0,"d":"0.00"},{"v":0,"d":"0.00"},{"$nulls":11},{"$f":"ROUND(IF($S$18=\"\",0,IF(H84=\"SEL\",VLOOKUP(C84,Items!A:Y,25,FALSE),IF(H84=\"CR\",VLOOKUP(C84,Items!A:Z,26,FALSE),0))),2)","v":{"v":0,"d":"0.00"}},0,null,{"$f":"IFERROR(VLOOKUP(C84,Items!A:H,8,FALSE),0)","v":0},{"$f":"IF(C84=\"\",\"\",IF(E84&F84=\"\",VLOOKUP(C84,Items!A:D,4,FALSE),3))","v":""},{"$f":"IF(C84=\"\",\"\",'Misc Dropdowns'!$C$35)","v":""},{"v":0,"d":"0.00"},0,{"$f":"IF($H84=\"SEL\",VLOOKUP($C84,Items!A:F,6,FALSE),IF($H84=\"CR\",VLOOKUP('Order Form'!$C84,Items!A:G,7,FALSE),0))","v":0},{"$f":"IFERROR(AH84*(VLOOKUP(E84,'Misc Dropdowns'!$J$12:$M$16,4,FALSE)),0)","v":0},{"$f":"IFERROR(VLOOKUP(F84,'Misc Dropdowns'!$J$23:$M$27,4,FALSE)*AH84,0)","v":0},{"$f":"IFERROR((AL84*(15*(VLOOKUP(C84,Items!A:AE,31,FALSE)))),0)","v":0},0,"","","",0,{"$f":"IF(C84=\"\",0,D84*VLOOKUP(C84,Items!A:M,13,FALSE))","v":{"v":0,"d":"0.00"}},{"v":0,"d":"0.00"},{"$f":"IFERROR(IF(VLOOKUP(C84,'Modifications and Fees'!B:H,2,FALSE)=\"CR\",1*D84,\"\"),\"\")","v":""},{"v":0,"d":"0.00"},{"$f":"ROUND(IFERROR(D84*Z84*(VLOOKUP(E84,'Misc Dropdowns'!$J$12:$M$16,4,FALSE)),0),2)","v":{"v":0,"d":"0.00"}},{"$f":"ROUND(IFERROR(VLOOKUP(F84,'Misc Dropdowns'!$J$23:$M$27,4,FALSE)*Z84*D84,0),2)","v":{"v":0,"d":"0.00"}}]
[2,null,null,0,null,null,{"$f":"IF(C85=\"\",\"\",VLOOKUP(C85,Items!A:N,12,FALSE))","v":""},{"$f":"IF(S85=\"Craftsman Pricing\",\"CR\",IF(C85=\"\",\"\",IF('Misc Dropdowns'!$C$34=0,\"\",IF(E85&F85=\"\",VLOOKUP(AF85,'Misc Dropdowns'!$A$45:$B$47,2,FALSE),\"CR\"))))","v":""},{"$nulls":4},{"v":0,"d":"0.00"},{"v":0,"d":"0.00"},{"$nulls":11},{"$f":"ROUND(IF($S$18=\"\",0,IF(H85=\"SEL\",VLOOKUP(C85,Items!A:Y,25,FALSE),IF(H85=\"CR\",VLOOKUP(C85,Items!A:Z,26,FALSE),0))),2)","v":{"v":0,"d":"0.00"}},0,null,{"$f":"IFERROR(VLOOKUP(C85,Items!A:H,8,FALSE),0)","v":0},{"$f":"IF(C85=\"\",\"\",IF(E85&F85=\"\",VLOOKUP(C85,Items!A:D,4,FALSE),3))","v":""},{"$f":"IF(C85=\"\",\"\",'Misc Dropdowns'!$C$35)","v":""},{"v":0,"d":"0.00"},0,{"$f":"IF($H85=\"SEL\",VLOOKUP($C85,Items!A:F,6,FALSE),IF($H85=\"CR\",VLOOKUP('Order Form'!$C85,Items!A:G,7,FALSE),0))","v":0},{"$f":"IFERROR(AH85*(VLOOKUP(E85,'Misc Dropdowns'!$J$12:$M$16,4,FALSE)),0)","v":0},{"$f":"IFERROR(VLOOKUP(F85,'Misc Dropdowns'!$J$23:$M$27,4,FALSE)*AH85,0)","v":0},{"$f":"IFERROR((AL85*(15*(VLOOKUP(C85,Items!A:AE,31,FALSE)))),0)","v":0},0,"","","",0,{"$f":"IF(C85=\"\",0,D85*VLOOKUP(C85,Items!A:M,13,FALSE))","v":{"v":0,"d":"0.00"}},{"v":0,"d":"0.00"},{"$f":"IFERROR(IF(VLOOKUP(C85,'Modifications and Fees'!B:H,2,FALSE)=\"CR\",1*D85,\"\"),\"\")","v":""},{"v":0,"d":"0.00"},{"$f":"ROUND(IFERROR(D85*Z85*(VLOOKUP(E85,'Misc Dropdowns'!$J$12:$M$16,4,FALSE)),0),2)","v":{"v":0,"d":"0.00"}},{"$f":"ROUND(IFERROR(VLOOKUP(F85,'Misc Dropdowns'!$J$23:$M$27,4,FALSE)*Z85*D85,0),2)","v":{"v":0,"d":"0.00"}}]
[2,null,null,0,null,null,{"$f":"IF(C86=\"\",\"\",VLOOKUP(C86,Items!A:N,12,FALSE))","v":""},{"$f":"IF(S86=\"Craftsman Pricing\",\"CR\",IF(C86=\"\",\"\",IF('Misc Dropdowns'!$C$34=0,\"\",IF(E86&F86=\"\",VLOOKUP(AF86,'Misc Dropdowns'!$A$45:$B$47,2,FALSE),\"CR\"))))","v":""},{"$nulls":4},{"v":0,"d":"0.00"},{"v":0,"d":"0.00"},{"$nulls":11},{"$f":"ROUND(IF($S$18=\"\",0,IF(H86=\"SEL\",VLOOKUP(C86,Items!A:Y,25,FALSE),IF(H86=\"CR\",VLOOKUP(C86,Items!A:Z,26,FALSE),0))),2)","v":{"v":0,"d":"0.00"}},0,null,{"$f":"IFERROR(VLOOKUP(C86,Items!A:H,8,FALSE),0)","v":0},{"$f":"IF(C86=\"\",\"\",IF(E86&F86=\"\",VLOOKUP(C86,Items!A:D,4,FALSE),3))","v":""},{"$f":"IF(C86=\"\",\"\",'Misc Dropdowns'!$C$35)","v":""},{"v":0,"d":"0.00"},0,{"$f":"IF($H86=\"SEL\",VLOOKUP($C86,Items!A:F,6,FALSE),IF($H86=\"CR\",VLOOKUP('Order Form'!$C86,Items!A:G,7,FALSE),0))","v":0},{"$f":"IFERROR(AH86*(VLOOKUP(E86,'Misc Dropdowns'!$J$12:$M$16,4,FALSE)),0)","v":0},{"$f":"IFERROR(VLOOKUP(F86,'Misc Dropdowns'!$J$23:$M$27,4,FALSE)*AH86,0)","v":0},{"$f":"IFERROR((AL86*(15*(VLOOKUP(C86,Items!A:AE,31,FALSE)))),0)","v":0},0,"","","",0,{"$f":"IF(C86=\"\",0,D86*VLOOKUP(C86,Items!A:M,13,FALSE))","v":{"v":0,"d":"0.00"}},{"v":0,"d":"0.00"},{"$f":"IFERROR(IF(VLOOKUP(C86,'Modifications and Fees'!B:H,2,FALSE)=\"CR\",1*D86,\"\"),\"\")","v":""},{"v":0,"d":"0.00"},{"$f":"ROUND(IFERROR(D86*Z86*(VLOOKUP(E86,'Misc Dropdowns'!$J$12:$M$16,4,FALSE)),0),2)","v":{"v":0,"d":"0.00"}},{"$f":"ROUND(IFERROR(VLOOKUP(F86,'Misc Dropdowns'!$J$23:$M$27,4,FALSE)*Z86*D86,0),2)","v":{"v":0,"d":"0.00"}}]
[2,null,null,0,null,null,{"$f":"IF(C87=\"\",\"\",VLOOKUP(C87,Items!A:N,12,FALSE))","v":""},{"$f":"IF(S87=\"Craftsman Pricing\",\"CR\",IF(C87=\"\",\"\",IF('Misc Dropdowns'!$C$34=0,\"\",IF(E87&F87=\"\",VLOOKUP(AF87,'Misc Dropdowns'!$A$45:$B$47,2,FALSE),\"CR\"))))","v":""},{"$nulls":4},{"v":0,"d":"0.00"},{"v":0,"d":"0.00"},{"$nulls":11},{"$f":"ROUND(IF($S$18=\"\",0,IF(H87=\"SEL\",VLOOKUP(C87,Items!A:Y,25,FALSE),IF(H87=\"CR\",VLOOKUP(C87,Items!A:Z,26,FALSE),0))),2)","v":{"v":0,"d":"0.00"}},0,null,{"$f":"IFERROR(VLOOKUP(C87,Items!A:H,8,FALSE),0)","v":0},{"$f":"IF(C87=\"\",\"\",IF(E87&F87=\"\",VLOOKUP(C87,Items!A:D,4,FALSE),3))","v":""},{"$f":"IF(C87=\"\",\"\",'Misc Dropdowns'!$C$35)","v":""},{"v":0,"d":"0.00"},0,{"$f":"IF($H87=\"SEL\",VLOOKUP($C87,Items!A:F,6,FALSE),IF($H87=\"CR\",VLOOKUP('Order Form'!$C87,Items!A:G,7,FALSE),0))","v":0},{"$f":"IFERROR(AH87*(VLOOKUP(E87,'Misc Dropdowns'!$J$12:$M$16,4,FALSE)),0)","v":0},{"$f":"IFERROR(VLOOKUP(F87,'Misc Dropdowns'!$J$23:$M$27,4,FALSE)*AH87,0)","v":0},{"$f":"IFERROR((AL87*(15*(VLOOKUP(C87,Items!A:AE,31,FALSE)))),0)","v":0},0,"","","",0,{"$f":"IF(C87=\"\",0,D87*VLOOKUP(C87,Items!A:M,13,FALSE))","v":{"v":0,"d":"0.00"}},{"v":0,"d":"0.00"},{"$f":"IFERROR(IF(VLOOKUP(C87,'Modifications and Fees'!B:H,2,FALSE)=\"CR\",1*D87,\"\"),\"\")","v":""},{"v":0,"d":"0.00"},{"$f":"ROUND(IFERROR(D87*Z87*(VLOOKUP(E87,'Misc Dropdowns'!$J$12:$M$16,4,FALSE)),0),2)","v":{"v":0,"d":"0.00"}},{"$f":"ROUND(IFERROR(VLOOKUP(F87,'Misc Dropdowns'!$J$23:$M$27,4,FALSE)*Z87*D87,0),2)","v":{"v":0,"d":"0.00"}}]
[2,null,null,0,null,null,{"$f":"IF(C88=\"\",\"\",VLOOKUP(C88,Items!A:N,12,FALSE))","v":""},{"$f":"IF(S88=\"Craftsman Pricing\",\"CR\",IF(C88=\"\",\"\",IF('Misc Dropdowns'!$C$34=0,\"\",IF(E88&F88=\"\",VLOOKUP(AF88,'Misc Dropdowns'!$A$45:$B$47,2,FALSE),\"CR\"))))","v":""},{"$nulls":4},{"v":0,"d":"0.00"},{"v":0,"d":"0.00"},{"$nulls":11},{"$f":"ROUND(IF($S$18=\"\",0,IF(H88=\"SEL\",VLOOKUP(C88,Items!A:Y,25,FALSE),IF(H88=\"CR\",VLOOKUP(C88,Items!A:Z,26,FALSE),0))),2)","v":{"v":0,"d":"0.00"}},{"$f":"(Z88*D88)","v":0},null,{"$f":"IFERROR(VLOOKUP(C88,Items!A:H,8,FALSE),0)","v":0},{"$f":"IF(C88=\"\",\"\",IF(E88&F88=\"\",VLOOKUP(C88,Items!A:D,4,FALSE),3))","v":""},{"$f":"IF(C88=\"\",\"\",'Misc Dropdowns'!$C$35)","v":""},{"v":0,"d":"0.00"},0,{"$f":"IF($H88=\"SEL\",VLOOKUP($C88,Items!A:F,6,FALSE),IF($H88=\"CR\",VLOOKUP('Order Form'!$C88,Items!A:G,7,FALSE),0))","v":0},{"$f":"IFERROR(AH88*(VLOOKUP(E88,'Misc Dropdowns'!$J$12:$M$16,4,FALSE)),0)","v":0},{"$f":"IFERROR(VLOOKUP(F88,'Misc Dropdowns'!$J$23:$M$27,4,FALSE)*AH88,0)","v":0},{"$f":"IFERROR((AL88*(15*(VLOOKUP(C88,Items!A:AE,31,FALSE)))),0)","v":0},0,"","","",0,{"$f":"IF(C88=\"\",0,D88*VLOOKUP(C88,Items!A:M,13,FALSE))","v":{"v":0,"d":"0.00"}},{"v":0,"d":"0.00"},{"$f":"IFERROR(IF(VLOOKUP(C88,'Modifications and Fees'!B:H,2,FALSE)=\"CR\",1*D88,\"\"),\"\")","v":""},{"v":0,"d":"0.00"},{"$f":"ROUND(IFERROR(D88*Z88*(VLOOKUP(E88,'Misc Dropdowns'!$J$12:$M$16,4,FALSE)),0),2)","v":{"v":0,"d":"0.00"}},{"$f":"ROUND(IFERROR(VLOOKUP(F88,'Misc Dropdowns'!$J$23:$M$27,4,FALSE)*Z88*D88,0),2)","v":{"v":0,"d":"0.00"}}]
[2,null,null,{"$f":"IF(C89>1,1,0)","v":0},null,null,{"$f":"IF(C89=\"\",\"\",VLOOKUP(C89,Items!A:N,12,FALSE))","v":""},{"$f":"IF(S89=\"Craftsman Pricing\",\"CR\",IF(C89=\"\",\"\",IF('Misc Dropdowns'!$C$34=0,\"\",IF(E89&F89=\"\",VLOOKUP(AF89,'Misc Dropdowns'!$A$45:$B$47,2,FALSE),\"CR\"))))","v":""},{"$nulls":4},{"v":0,"d":"0.00"},{"$f":"D89*M89","v":{"v":0,"d":"0.00"}},{"$nulls":11},{"$f":"ROUND(IF($S$18=\"\",0,IF(H89=\"SEL\",VLOOKUP(C89,Items!A:Y,25,FALSE),IF(H89=\"CR\",VLOOKUP(C89,Items!A:Z,26,FALSE),0))),2)","v":{"v":0,"d":"0.00"}},0,null,{"$f":"IFERROR(VLOOKUP(C89,Items!A:H,8,FALSE),0)","v":0},{"$f":"IF(C89=\"\",\"\",IF(E89&F89=\"\",VLOOKUP(C89,Items!A:D,4,FALSE),3))","v":""},{"$f":"IF(C89=\"\",\"\",'Misc Dropdowns'!$C$35)","v":""},{"v":0,"d":"0.00"},{"$f":"MIN(AE89)","v":0},{"$f":"IF($H89=\"SEL\",VLOOKUP($C89,Items!A:F,6,FALSE),IF($H89=\"CR\",VLOOKUP('Order Form'!$C89,Items!A:G,7,FALSE),0))","v":0},{"$f":"IFERROR(AH89*(VLOOKUP(E89,'Misc Dropdowns'!$J$12:$M$16,4,FALSE)),0)","v":0},{"$f":"IFERROR(VLOOKUP(F89,'Misc Dropdowns'!$J$23:$M$27,4,FALSE)*AH89,0)","v":0},{"$f":"IFERROR((AL89*(15*(VLOOKUP(C89,Items!A:AE,31,FALSE)))),0)","v":0},0,{"$f":"IF(E89=\"\",\"\",\" - \"&E89)","v":""},{"$f":"IF(F89=\"\",\"\",\" - \"&F89)","v":""},{"$f":"IF(I89=\"\",\"\",\" -APP SKN \"&LEFT(I89,1))","v":""},{"$f":"IF(C89=\"INSTALL\",1,0)","v":0},{"$f":"IF(C89=\"\",0,D89*VLOOKUP(C89,Items!A:M,13,FALSE))","v":{"v":0,"d":"0.00"}},{"v":0,"d":"0.00"},{"$f":"IFERROR(IF(VLOOKUP(C89,'Modifications and Fees'!B:H,2,FALSE)=\"CR\",1*D89,\"\"),\"\")","v":""},{"v":0,"d":"0.00"},{"$f":"ROUND(IFERROR(D89*Z89*(VLOOKUP(E89,'Misc Dropdowns'!$J$12:$M$16,4,FALSE)),0),2)","v":{"v":0,"d":"0.00"}},{"$f":"ROUND(IFERROR(VLOOKUP(F89,'Misc Dropdowns'!$J$23:$M$27,4,FALSE)*Z89*D89,0),2)","v":{"v":0,"d":"0.00"}}]
[2,null,null,0,null,null,{"$f":"IF(C90=\"\",\"\",VLOOKUP(C90,Items!A:N,12,FALSE))","v":""},{"$f":"IF(S90=\"Craftsman Pricing\",\"CR\",IF(C90=\"\",\"\",IF('Misc Dropdowns'!$C$34=0,\"\",IF(E90&F90=\"\",VLOOKUP(AF90,'Misc Dropdowns'!$A$45:$B$47,2,FALSE),\"CR\"))))","v":""},{"$nulls":4},{"$f":"IFERROR(ROUND(SUM(AH90:AK90),2),0)","v":{"v":0,"d":"0.00"}},{"v":0,"d":"0.00"},{"$nulls":11},{"$f":"ROUND(IF($S$18=\"\",0,IF(H90=\"SEL\",VLOOKUP(C90,Items!A:Y,25,FALSE),IF(H90=\"CR\",VLOOKUP(C90,Items!A:Z,26,FALSE),0))),2)","v":{"v":0,"d":"0.00"}},0,null,{"$f":"IFERROR(VLOOKUP(C90,Items!A:H,8,FALSE),0)","v":0},{"$f":"IF(C90=\"\",\"\",IF(E90&F90=\"\",VLOOKUP(C90,Items!A:D,4,FALSE),3))","v":""},{"$f":"IF(C90=\"\",\"\",'Misc Dropdowns'!$C$35)","v":""},{"$f":"MAX(AD90,AE90)","v":{"v":0,"d":"0.00"}},0,{"$f":"IF($H90=\"SEL\",VLOOKUP($C90,Items!A:F,6,FALSE),IF($H90=\"CR\",VLOOKUP('Order Form'!$C90,Items!A:G,7,FALSE),0))","v":0},{"$f":"IFERROR(AH90*(VLOOKUP(E90,'Misc Dropdowns'!$J$12:$M$16,4,FALSE)),0)","v":0},{"$f":"IFERROR(VLOOKUP(F90,'Misc Dropdowns'!$J$23:$M$27,4,FALSE)*AH90,0)","v":0},{"$f":"IFERROR((AL90*(15*(VLOOKUP(C90,Items!A:AE,31,FALSE)))),0)","v":0},{"$f":"IF(I90=\"\",0,IF(I90=\"Both\",2,1))","v":0},"","","",0,{"$f":"IF(C90=\"\",0,D90*VLOOKUP(C90,Items!A:M,13,FALSE))","v":{"v":0,"d":"0.00"}},{"$f":"IF(OR(LEFT(C90,2)=\"LC\",LEFT(C90,2)=\"UC\",LEFT(C90,2)=\"OC\",LEFT(C90,3)=\"SBD\"),1,0)","v":{"v":0,"d":"0.00"}},{"$f":"IFERROR(IF(VLOOKUP(C90,'Modifications and Fees'!B:H,2,FALSE)=\"CR\",1*D90,\"\"),\"\")","v":""},{"$f":"IF(S90=\"Craftsman Pricing\",1*D90,0)","v":{"v":0,"d":"0.00"}},{"$f":"ROUND(IFERROR(D90*Z90*(VLOOKUP(E90,'Misc Dropdowns'!$J$12:$M$16,4,FALSE)),0),2)","v":{"v":0,"d":"0.00"}},{"$f":"ROUND(IFERROR(VLOOKUP(F90,'Misc Dropdowns'!$J$23:$M$27,4,FALSE)*Z90*D90,0),2)","v":{"v":0,"d":"0.00"}}]
[2,null,null,0,null,null,{"$f":"IF(C91=\"\",\"\",VLOOKUP(C91,Items!A:N,12,FALSE))","v":""},{"$f":"IF(S91=\"Craftsman Pricing\",\"CR\",IF(C91=\"\",\"\",IF('Misc Dropdowns'!$C$34=0,\"\",IF(E91&F91=\"\",VLOOKUP(AF91,'Misc Dropdowns'!$A$45:$B$47,2,FALSE),\"CR\"))))","v":""},{"$nulls":4},{"v":0,"d":"0.00"},{"v":0,"d":"0.00"},{"$nulls":11},{"$f":"ROUND(IF($S$18=\"\",0,IF(H91=\"SEL\",VLOOKUP(C91,Items!A:Y,25,FALSE),IF(H91=\"CR\",VLOOKUP(C91,Items!A:Z,26,FALSE),0))),2)","v":{"v":0,"d":"0.00"}},0,null,{"$f":"IFERROR(VLOOKUP(C91,Items!A:H,8,FALSE),0)","v":0},{"$f":"IF(C91=\"\",\"\",IF(E91&F91=\"\",VLOOKUP(C91,Items!A:D,4,FALSE),3))","v":""},{"$f":"IF(C91=\"\",\"\",'Misc Dropdowns'!$C$35)","v":""},{"v":0,"d":"0.00"},0,{"$f":"IF($H91=\"SEL\",VLOOKUP($C91,Items!A:F,6,FALSE),IF($H91=\"CR\",VLOOKUP('Order Form'!$C91,Items!A:G,7,FALSE),0))","v":0},{"$f":"IFERROR(AH91*(VLOOKUP(E91,'Misc Dropdowns'!$J$12:$M$16,4,FALSE)),0)","v":0},{"$f":"IFERROR(VLOOKUP(F91,'Misc Dropdowns'!$J$23:$M$27,4,FALSE)*AH91,0)","v":0},{"$f":"IFERROR((AL91*(15*(VLOOKUP(C91,Items!A:AE,31,FALSE)))),0)","v":0},0,"","","",0,{"$f":"IF(C91=\"\",0,D91*VLOOKUP(C91,Items!A:M,13,FALSE))","v":{"v":0,"d":"0.00"}},{"v":0,"d":"0.00"},{"$f":"IFERROR(IF(VLOOKUP(C91,'Modifications and Fees'!B:H,2,FALSE)=\"CR\",1*D91,\"\"),\"\")","v":""},{"v":0,"d":"0.00"},{"$f":"ROUND(IFERROR(D91*Z91*(VLOOKUP(E91,'Misc Dropdowns'!$J$12:$M$16,4,FALSE)),0),2)","v":{"v":0,"d":"0.00"}},{"$f":"ROUND(IFERROR(VLOOKUP(F91,'Misc Dropdowns'!$J$23:$M$27,4,FALSE)*Z91*D91,0),2)","v":{"v":0,"d":"0.00"}}]
[2,null,null,0,null,null,{"$f":"IF(C92=\"\",\"\",VLOOKUP(C92,Items!A:N,12,FALSE))","v":""},{"$f":"IF(S92=\"Craftsman Pricing\",\"CR\",IF(C92=\"\",\"\",IF('Misc Dropdowns'!$C$34=0,\"\",IF(E92&F92=\"\",VLOOKUP(AF92,'Misc Dropdowns'!$A$45:$B$47,2,FALSE),\"CR\"))))","v":""},{"$nulls":4},{"v":0,"d":"0.00"},{"v":0,"d":"0.00"},{"$nulls":11},{"$f":"ROUND(IF($S$18=\"\",0,IF(H92=\"SEL\",VLOOKUP(C92,Items!A:Y,25,FALSE),IF(H92=\"CR\",VLOOKUP(C92,Items!A:Z,26,FALSE),0))),2)","v":{"v":0,"d":"0.00"}},0,null,{"$f":"IFERROR(VLOOKUP(C92,Items!A:H,8,FALSE),0)","v":0},{"$f":"IF(C92=\"\",\"\",IF(E92&F92=\"\",VLOOKUP(C92,Items!A:D,4,FALSE),3))","v":""},{"$f":"IF(C92=\"\",\"\",'Misc Dropdowns'!$C$35)","v":""},{"v":0,"d":"0.00"},0,{"$f":"IF($H92=\"SEL\",VLOOKUP($C92,Items!A:F,6,FALSE),IF($H92=\"CR\",VLOOKUP('Order Form'!$C92,Items!A:G,7,FALSE),0))","v":0},{"$f":"IFERROR(AH92*(VLOOKUP(E92,'Misc Dropdowns'!$J$12:$M$16,4,FALSE)),0)","v":0},{"$f":"IFERROR(VLOOKUP(F92,'Misc Dropdowns'!$J$23:$M$27,4,FALSE)*AH92,0)","v":0},{"$f":"IFERROR((AL92*(15*(VLOOKUP(C92,Items!A:AE,31,FALSE)))),0)","v":0},0,"","","",0,{"$f":"IF(C92=\"\",0,D92*VLOOKUP(C92,Items!A:M,13,FALSE))","v":{"v":0,"d":"0.00"}},{"v":0,"d":"0.00"},{"$f":"IFERROR(IF(VLOOKUP(C92,'Modifications and Fees'!B:H,2,FALSE)=\"CR\",1*D92,\"\"),\"\")","v":""},{"v":0,"d":"0.00"},{"$f":"ROUND(IFERROR(D92*Z92*(VLOOKUP(E92,'Misc Dropdowns'!$J$12:$M$16,4,FALSE)),0),2)","v":{"v":0,"d":"0.00"}},{"$f":"ROUND(IFERROR(VLOOKUP(F92,'Misc Dropdowns'!$J$23:$M$27,4,FALSE)*Z92*D92,0),2)","v":{"v":0,"d":"0.00"}}]
[2,null,null,0,null,null,{"$f":"IF(C93=\"\",\"\",VLOOKUP(C93,Items!A:N,12,FALSE))","v":""},{"$f":"IF(S93=\"Craftsman Pricing\",\"CR\",IF(C93=\"\",\"\",IF('Misc Dropdowns'!$C$34=0,\"\",IF(E93&F93=\"\",VLOOKUP(AF93,'Misc Dropdowns'!$A$45:$B$47,2,FALSE),\"CR\"))))","v":""},{"$nulls":4},{"v":0,"d":"0.00"},{"v":0,"d":"0.00"},{"$nulls":11},{"$f":"ROUND(IF($S$18=\"\",0,IF(H93=\"SEL\",VLOOKUP(C93,Items!A:Y,25,FALSE),IF(H93=\"CR\",VLOOKUP(C93,Items!A:Z,26,FALSE),0))),2)","v":{"v":0,"d":"0.00"}},0,null,{"$f":"IFERROR(VLOOKUP(C93,Items!A:H,8,FALSE),0)","v":0},{"$f":"IF(C93=\"\",\"\",IF(E93&F93=\"\",VLOOKUP(C93,Items!A:D,4,FALSE),3))","v":""},{"$f":"IF(C93=\"\",\"\",'Misc Dropdowns'!$C$35)","v":""},{"v":0,"d":"0.00"},0,{"$f":"IF($H93=\"SEL\",VLOOKUP($C93,Items!A:F,6,FALSE),IF($H93=\"CR\",VLOOKUP('Order Form'!$C93,Items!A:G,7,FALSE),0))","v":0},{"$f":"IFERROR(AH93*(VLOOKUP(E93,'Misc Dropdowns'!$J$12:$M$16,4,FALSE)),0)","v":0},{"$f":"IFERROR(VLOOKUP(F93,'Misc Dropdowns'!$J$23:$M$27,4,FALSE)*AH93,0)","v":0},{"$f":"IFERROR((AL93*(15*(VLOOKUP(C93,Items!A:AE,31,FALSE)))),0)","v":0},0,"","","",0,{"$f":"IF(C93=\"\",0,D93*VLOOKUP(C93,Items!A:M,13,FALSE))","v":{"v":0,"d":"0.00"}},{"v":0,"d":"0.00"},{"$f":"IFERROR(IF(VLOOKUP(C93,'Modifications and Fees'!B:H,2,FALSE)=\"CR\",1*D93,\"\"),\"\")","v":""},{"v":0,"d":"0.00"},{"$f":"ROUND(IFERROR(D93*Z93*(VLOOKUP(E93,'Misc Dropdowns'!$J$12:$M$16,4,FALSE)),0),2)","v":{"v":0,"d":"0.00"}},{"$f":"ROUND(IFERROR(VLOOKUP(F93,'Misc Dropdowns'!$J$23:$M$27,4,FALSE)*Z93*D93,0),2)","v":{"v":0,"d":"0.00"}}]
[2,null,null,0,null,null,{"$f":"IF(C94=\"\",\"\",VLOOKUP(C94,Items!A:N,12,FALSE))","v":""},{"$f":"IF(S94=\"Craftsman Pricing\",\"CR\",IF(C94=\"\",\"\",IF('Misc Dropdowns'!$C$34=0,\"\",IF(E94&F94=\"\",VLOOKUP(AF94,'Misc Dropdowns'!$A$45:$B$47,2,FALSE),\"CR\"))))","v":""},{"$nulls":4},{"v":0,"d":"0.00"},{"v":0,"d":"0.00"},{"$nulls":11},{"$f":"ROUND(IF($S$18=\"\",0,IF(H94=\"SEL\",VLOOKUP(C94,Items!A:Y,25,FALSE),IF(H94=\"CR\",VLOOKUP(C94,Items!A:Z,26,FALSE),0))),2)","v":{"v":0,"d":"0.00"}},0,null,{"$f":"IFERROR(VLOOKUP(C94,Items!A:H,8,FALSE),0)","v":0},{"$f":"IF(C94=\"\",\"\",IF(E94&F94=\"\",VLOOKUP(C94,Items!A:D,4,FALSE),3))","v":""},{"$f":"IF(C94=\"\",\"\",'Misc Dropdowns'!$C$35)","v":""},{"v":0,"d":"0.00"},0,{"$f":"IF($H94=\"SEL\",VLOOKUP($C94,Items!A:F,6,FALSE),IF($H94=\"CR\",VLOOKUP('Order Form'!$C94,Items!A:G,7,FALSE),0))","v":0},{"$f":"IFERROR(AH94*(VLOOKUP(E94,'Misc Dropdowns'!$J$12:$M$16,4,FALSE)),0)","v":0},{"$f":"IFERROR(VLOOKUP(F94,'Misc Dropdowns'!$J$23:$M$27,4,FALSE)*AH94,0)","v":0},{"$f":"IFERROR((AL94*(15*(VLOOKUP(C94,Items!A:AE,31,FALSE)))),0)","v":0},0,"","","",0,{"$f":"IF(C94=\"\",0,D94*VLOOKUP(C94,Items!A:M,13,FALSE))","v":{"v":0,"d":"0.00"}},{"v":0,"d":"0.00"},{"$f":"IFERROR(IF(VLOOKUP(C94,'Modifications and Fees'!B:H,2,FALSE)=\"CR\",1*D94,\"\"),\"\")","v":""},{"v":0,"d":"0.00"},{"$f":"ROUND(IFERROR(D94*Z94*(VLOOKUP(E94,'Misc Dropdowns'!$J$12:$M$16,4,FALSE)),0),2)","v":{"v":0,"d":"0.00"}},{"$f":"ROUND(IFERROR(VLOOKUP(F94,'Misc Dropdowns'!$J$23:$M$27,4,FALSE)*Z94*D94,0),2)","v":{"v":0,"d":"0.00"}}]
[2,null,null,0,null,null,{"$f":"IF(C95=\"\",\"\",VLOOKUP(C95,Items!A:N,12,FALSE))","v":""},{"$f":"IF(S95=\"Craftsman Pricing\",\"CR\",IF(C95=\"\",\"\",IF('Misc Dropdowns'!$C$34=0,\"\",IF(E95&F95=\"\",VLOOKUP(AF95,'Misc Dropdowns'!$A$45:$B$47,2,FALSE),\"CR\"))))","v":""},{"$nulls":4},{"v":0,"d":"0.00"},{"v":0,"d":"0.00"},{"$nulls":11},{"$f":"ROUND(IF($S$18=\"\",0,IF(H95=\"SEL\",VLOOKUP(C95,Items!A:Y,25,FALSE),IF(H95=\"CR\",VLOOKUP(C95,Items!A:Z,26,FALSE),0))),2)","v":{"v":0,"d":"0.00"}},0,null,{"$f":"IFERROR(VLOOKUP(C95,Items!A:H,8,FALSE),0)","v":0},{"$f":"IF(C95=\"\",\"\",IF(E95&F95=\"\",VLOOKUP(C95,Items!A:D,4,FALSE),3))","v":""},{"$f":"IF(C95=\"\",\"\",'Misc Dropdowns'!$C$35)","v":""},{"v":0,"d":"0.00"},0,{"$f":"IF($H95=\"SEL\",VLOOKUP($C95,Items!A:F,6,FALSE),IF($H95=\"CR\",VLOOKUP('Order Form'!$C95,Items!A:G,7,FALSE),0))","v":0},{"$f":"IFERROR(AH95*(VLOOKUP(E95,'Misc Dropdowns'!$J$12:$M$16,4,FALSE)),0)","v":0},{"$f":"IFERROR(VLOOKUP(F95,'Misc Dropdowns'!$J$23:$M$27,4,FALSE)*AH95,0)","v":0},{"$f":"IFERROR((AL95*(15*(VLOOKUP(C95,Items!A:AE,31,FALSE)))),0)","v":0},0,"","","",0,{"$f":"IF(C95=\"\",0,D95*VLOOKUP(C95,Items!A:M,13,FALSE))","v":{"v":0,"d":"0.00"}},{"v":0,"d":"0.00"},{"$f":"IFERROR(IF(VLOOKUP(C95,'Modifications and Fees'!B:H,2,FALSE)=\"CR\",1*D95,\"\"),\"\")","v":""},{"v":0,"d":"0.00"},{"$f":"ROUND(IFERROR(D95*Z95*(VLOOKUP(E95,'Misc Dropdowns'!$J$12:$M$16,4,FALSE)),0),2)","v":{"v":0,"d":"0.00"}},{"$f":"ROUND(IFERROR(VLOOKUP(F95,'Misc Dropdowns'!$J$23:$M$27,4,FALSE)*Z95*D95,0),2)","v":{"v":0,"d":"0.00"}}]
[2,null,null,0,null,null,{"$f":"IF(C96=\"\",\"\",VLOOKUP(C96,Items!A:N,12,FALSE))","v":""},{"$f":"IF(S96=\"Craftsman Pricing\",\"CR\",IF(C96=\"\",\"\",IF('Misc Dropdowns'!$C$34=0,\"\",IF(E96&F96=\"\",VLOOKUP(AF96,'Misc Dropdowns'!$A$45:$B$47,2,FALSE),\"CR\"))))","v":""},{"$nulls":4},{"v":0,"d":"0.00"},{"v":0,"d":"0.00"},{"$nulls":11},{"$f":"ROUND(IF($S$18=\"\",0,IF(H96=\"SEL\",VLOOKUP(C96,Items!A:Y,25,FALSE),IF(H96=\"CR\",VLOOKUP(C96,Items!A:Z,26,FALSE),0))),2)","v":{"v":0,"d":"0.00"}},0,null,{"$f":"IFERROR(VLOOKUP(C96,Items!A:H,8,FALSE),0)","v":0},{"$f":"IF(C96=\"\",\"\",IF(E96&F96=\"\",VLOOKUP(C96,Items!A:D,4,FALSE),3))","v":""},{"$f":"IF(C96=\"\",\"\",'Misc Dropdowns'!$C$35)","v":""},{"v":0,"d":"0.00"},0,{"$f":"IF($H96=\"SEL\",VLOOKUP($C96,Items!A:F,6,FALSE),IF($H96=\"CR\",VLOOKUP('Order Form'!$C96,Items!A:G,7,FALSE),0))","v":0},{"$f":"IFERROR(AH96*(VLOOKUP(E96,'Misc Dropdowns'!$J$12:$M$16,4,FALSE)),0)","v":0},{"$f":"IFERROR(VLOOKUP(F96,'Misc Dropdowns'!$J$23:$M$27,4,FALSE)*AH96,0)","v":0},{"$f":"IFERROR((AL96*(15*(VLOOKUP(C96,Items!A:AE,31,FALSE)))),0)","v":0},0,"","","",0,{"$f":"IF(C96=\"\",0,D96*VLOOKUP(C96,Items!A:M,13,FALSE))","v":{"v":0,"d":"0.00"}},{"v":0,"d":"0.00"},{"$f":"IFERROR(IF(VLOOKUP(C96,'Modifications and Fees'!B:H,2,FALSE)=\"CR\",1*D96,\"\"),\"\")","v":""},{"v":0,"d":"0.00"},{"$f":"ROUND(IFERROR(D96*Z96*(VLOOKUP(E96,'Misc Dropdowns'!$J$12:$M$16,4,FALSE)),0),2)","v":{"v":0,"d":"0.00"}},{"$f":"ROUND(IFERROR(VLOOKUP(F96,'Misc Dropdowns'!$J$23:$M$27,4,FALSE)*Z96*D96,0),2)","v":{"v":0,"d":"0.00"}}]
[2,null,null,0,null,null,{"$f":"IF(C97=\"\",\"\",VLOOKUP(C97,Items!A:N,12,FALSE))","v":""},{"$f":"IF(S97=\"Craftsman Pricing\",\"CR\",IF(C97=\"\",\"\",IF('Misc Dropdowns'!$C$34=0,\"\",IF(E97&F97=\"\",VLOOKUP(AF97,'Misc Dropdowns'!$A$45:$B$47,2,FALSE),\"CR\"))))","v":""},{"$nulls":4},{"v":0,"d":"0.00"},{"v":0,"d":"0.00"},{"$nulls":11},{"$f":"ROUND(IF($S$18=\"\",0,IF(H97=\"SEL\",VLOOKUP(C97,Items!A:Y,25,FALSE),IF(H97=\"CR\",VLOOKUP(C97,Items!A:Z,26,FALSE),0))),2)","v":{"v":0,"d":"0.00"}},0,null,{"$f":"IFERROR(VLOOKUP(C97,Items!A:H,8,FALSE),0)","v":0},{"$f":"IF(C97=\"\",\"\",IF(E97&F97=\"\",VLOOKUP(C97,Items!A:D,4,FALSE),3))","v":""},{"$f":"IF(C97=\"\",\"\",'Misc Dropdowns'!$C$35)","v":""},{"v":0,"d":"0.00"},0,{"$f":"IF($H97=\"SEL\",VLOOKUP($C97,Items!A:F,6,FALSE),IF($H97=\"CR\",VLOOKUP('Order Form'!$C97,Items!A:G,7,FALSE),0))","v":0},{"$f":"IFERROR(AH97*(VLOOKUP(E97,'Misc Dropdowns'!$J$12:$M$16,4,FALSE)),0)","v":0},{"$f":"IFERROR(VLOOKUP(F97,'Misc Dropdowns'!$J$23:$M$27,4,FALSE)*AH97,0)","v":0},{"$f":"IFERROR((AL97*(15*(VLOOKUP(C97,Items!A:AE,31,FALSE)))),0)","v":0},0,"","","",0,{"$f":"IF(C97=\"\",0,D97*VLOOKUP(C97,Items!A:M,13,FALSE))","v":{"v":0,"d":"0.00"}},{"v":0,"d":"0.00"},{"$f":"IFERROR(IF(VLOOKUP(C97,'Modifications and Fees'!B:H,2,FALSE)=\"CR\",1*D97,\"\"),\"\")","v":""},{"v":0,"d":"0.00"},{"$f":"ROUND(IFERROR(D97*Z97*(VLOOKUP(E97,'Misc Dropdowns'!$J$12:$M$16,4,FALSE)),0),2)","v":{"v":0,"d":"0.00"}},{"$f":"ROUND(IFERROR(VLOOKUP(F97,'Misc Dropdowns'!$J$23:$M$27,4,FALSE)*Z97*D97,0),2)","v":{"v":0,"d":"0.00"}}]
[2,null,null,0,null,null,{"$f":"IF(C98=\"\",\"\",VLOOKUP(C98,Items!A:N,12,FALSE))","v":""},{"$f":"IF(S98=\"Craftsman Pricing\",\"CR\",IF(C98=\"\",\"\",IF('Misc Dropdowns'!$C$34=0,\"\",IF(E98&F98=\"\",VLOOKUP(AF98,'Misc Dropdowns'!$A$45:$B$47,2,FALSE),\"CR\"))))","v":""},{"$nulls":4},{"v":0,"d":"0.00"},{"v":0,"d":"0.00"},{"$nulls":11},{"$f":"ROUND(IF($S$18=\"\",0,IF(H98=\"SEL\",VLOOKUP(C98,Items!A:Y,25,FALSE),IF(H98=\"CR\",VLOOKUP(C98,Items!A:Z,26,FALSE),0))),2)","v":{"v":0,"d":"0.00"}},0,null,{"$f":"IFERROR(VLOOKUP(C98,Items!A:H,8,FALSE),0)","v":0},{"$f":"IF(C98=\"\",\"\",IF(E98&F98=\"\",VLOOKUP(C98,Items!A:D,4,FALSE),3))","v":""},{"$f":"IF(C98=\"\",\"\",'Misc Dropdowns'!$C$35)","v":""},{"v":0,"d":"0.00"},0,{"$f":"IF($H98=\"SEL\",VLOOKUP($C98,Items!A:F,6,FALSE),IF($H98=\"CR\",VLOOKUP('Order Form'!$C98,Items!A:G,7,FALSE),0))","v":0},{"$f":"IFERROR(AH98*(VLOOKUP(E98,'Misc Dropdowns'!$J$12:$M$16,4,FALSE)),0)","v":0},{"$f":"IFERROR(VLOOKUP(F98,'Misc Dropdowns'!$J$23:$M$27,4,FALSE)*AH98,0)","v":0},{"$f":"IFERROR((AL98*(15*(VLOOKUP(C98,Items!A:AE,31,FALSE)))),0)","v":0},0,"","","",0,{"$f":"IF(C98=\"\",0,D98*VLOOKUP(C98,Items!A:M,13,FALSE))","v":{"v":0,"d":"0.00"}},{"v":0,"d":"0.00"},{"$f":"IFERROR(IF(VLOOKUP(C98,'Modifications and Fees'!B:H,2,FALSE)=\"CR\",1*D98,\"\"),\"\")","v":""},{"v":0,"d":"0.00"},{"$f":"ROUND(IFERROR(D98*Z98*(VLOOKUP(E98,'Misc Dropdowns'!$J$12:$M$16,4,FALSE)),0),2)","v":{"v":0,"d":"0.00"}},{"$f":"ROUND(IFERROR(VLOOKUP(F98,'Misc Dropdowns'!$J$23:$M$27,4,FALSE)*Z98*D98,0),2)","v":{"v":0,"d":"0.00"}}]
[2,null,null,0,null,null,{"$f":"IF(C99=\"\",\"\",VLOOKUP(C99,Items!A:N,12,FALSE))","v":""},{"$f":"IF(S99=\"Craftsman Pricing\",\"CR\",IF(C99=\"\",\"\",IF('Misc Dropdowns'!$C$34=0,\"\",IF(E99&F99=\"\",VLOOKUP(AF99,'Misc Dropdowns'!$A$45:$B$47,2,FALSE),\"CR\"))))","v":""},{"$nulls":4},{"v":0,"d":"0.00"},{"v":0,"d":"0.00"},{"$nulls":11},{"$f":"ROUND(IF($S$18=\"\",0,IF(H99=\"SEL\",VLOOKUP(C99,Items!A:Y,25,FALSE),IF(H99=\"CR\",VLOOKUP(C99,Items!A:Z,26,FALSE),0))),2)","v":{"v":0,"d":"0.00"}},0,null,{"$f":"IFERROR(VLOOKUP(C99,Items!A:H,8,FALSE),0)","v":0},{"$f":"IF(C99=\"\",\"\",IF(E99&F99=\"\",VLOOKUP(C99,Items!A:D,4,FALSE),3))","v":""},{"$f":"IF(C99=\"\",\"\",'Misc Dropdowns'!$C$35)","v":""},{"v":0,"d":"0.00"},0,{"$f":"IF($H99=\"SEL\",VLOOKUP($C99,Items!A:F,6,FALSE),IF($H99=\"CR\",VLOOKUP('Order Form'!$C99,Items!A:G,7,FALSE),0))","v":0},{"$f":"IFERROR(AH99*(VLOOKUP(E99,'Misc Dropdowns'!$J$12:$M$16,4,FALSE)),0)","v":0},{"$f":"IFERROR(VLOOKUP(F99,'Misc Dropdowns'!$J$23:$M$27,4,FALSE)*AH99,0)","v":0},{"$f":"IFERROR((AL99*(15*(VLOOKUP(C99,Items!A:AE,31,FALSE)))),0)","v":0},0,"","","",0,{"$f":"IF(C99=\"\",0,D99*VLOOKUP(C99,Items!A:M,13,FALSE))","v":{"v":0,"d":"0.00"}},{"v":0,"d":"0.00"},{"$f":"IFERROR(IF(VLOOKUP(C99,'Modifications and Fees'!B:H,2,FALSE)=\"CR\",1*D99,\"\"),\"\")","v":""},{"v":0,"d":"0.00"},{"$f":"ROUND(IFERROR(D99*Z99*(VLOOKUP(E99,'Misc Dropdowns'!$J$12:$M$16,4,FALSE)),0),2)","v":{"v":0,"d":"0.00"}},{"$f":"ROUND(IFERROR(VLOOKUP(F99,'Misc Dropdowns'!$J$23:$M$27,4,FALSE)*Z99*D99,0),2)","v":{"v":0,"d":"0.00"}}]
[2,null,null,0,null,null,{"$f":"IF(C100=\"\",\"\",VLOOKUP(C100,Items!A:N,12,FALSE))","v":""},{"$f":"IF(S100=\"Craftsman Pricing\",\"CR\",IF(C100=\"\",\"\",IF('Misc Dropdowns'!$C$34=0,\"\",IF(E100&F100=\"\",VLOOKUP(AF100,'Misc Dropdowns'!$A$45:$B$47,2,FALSE),\"CR\"))))","v":""},{"$nulls":4},{"v":0,"d":"0.00"},{"v":0,"d":"0.00"},{"$nulls":11},{"$f":"ROUND(IF($S$18=\"\",0,IF(H100=\"SEL\",VLOOKUP(C100,Items!A:Y,25,FALSE),IF(H100=\"CR\",VLOOKUP(C100,Items!A:Z,26,FALSE),0))),2)","v":{"v":0,"d":"0.00"}},0,null,{"$f":"IFERROR(VLOOKUP(C100,Items!A:H,8,FALSE),0)","v":0},{"$f":"IF(C100=\"\",\"\",IF(E100&F100=\"\",VLOOKUP(C100,Items!A:D,4,FALSE),3))","v":""},{"$f":"IF(C100=\"\",\"\",'Misc Dropdowns'!$C$35)","v":""},{"v":0,"d":"0.00"},0,{"$f":"IF($H100=\"SEL\",VLOOKUP($C100,Items!A:F,6,FALSE),IF($H100=\"CR\",VLOOKUP('Order Form'!$C100,Items!A:G,7,FALSE),0))","v":0},{"$f":"IFERROR(AH100*(VLOOKUP(E100,'Misc Dropdowns'!$J$12:$M$16,4,FALSE)),0)","v":0},{"$f":"IFERROR(VLOOKUP(F100,'Misc Dropdowns'!$J$23:$M$27,4,FALSE)*AH100,0)","v":0},{"$f":"IFERROR((AL100*(15*(VLOOKUP(C100,Items!A:AE,31,FALSE)))),0)","v":0},0,"","","",0,{"$f":"IF(C100=\"\",0,D100*VLOOKUP(C100,Items!A:M,13,FALSE))","v":{"v":0,"d":"0.00"}},{"v":0,"d":"0.00"},{"$f":"IFERROR(IF(VLOOKUP(C100,'Modifications and Fees'!B:H,2,FALSE)=\"CR\",1*D100,\"\"),\"\")","v":""},{"v":0,"d":"0.00"},{"$f":"ROUND(IFERROR(D100*Z100*(VLOOKUP(E100,'Misc Dropdowns'!$J$12:$M$16,4,FALSE)),0),2)","v":{"v":0,"d":"0.00"}},{"$f":"ROUND(IFERROR(VLOOKUP(F100,'Misc Dropdowns'!$J$23:$M$27,4,FALSE)*Z100*D100,0),2)","v":{"v":0,"d":"0.00"}}]
[2,null,null,0,null,null,{"$f":"IF(C101=\"\",\"\",VLOOKUP(C101,Items!A:N,12,FALSE))","v":""},{"$f":"IF(S101=\"Craftsman Pricing\",\"CR\",IF(C101=\"\",\"\",IF('Misc Dropdowns'!$C$34=0,\"\",IF(E101&F101=\"\",VLOOKUP(AF101,'Misc Dropdowns'!$A$45:$B$47,2,FALSE),\"CR\"))))","v":""},{"$nulls":4},{"v":0,"d":"0.00"},{"v":0,"d":"0.00"},{"$nulls":11},{"$f":"ROUND(IF($S$18=\"\",0,IF(H101=\"SEL\",VLOOKUP(C101,Items!A:Y,25,FALSE),IF(H101=\"CR\",VLOOKUP(C101,Items!A:Z,26,FALSE),0))),2)","v":{"v":0,"d":"0.00"}},0,null,{"$f":"IFERROR(VLOOKUP(C101,Items!A:H,8,FALSE),0)","v":0},{"$f":"IF(C101=\"\",\"\",IF(E101&F101=\"\",VLOOKUP(C101,Items!A:D,4,FALSE),3))","v":""},{"$f":"IF(C101=\"\",\"\",'Misc Dropdowns'!$C$35)","v":""},{"v":0,"d":"0.00"},0,{"$f":"IF($H101=\"SEL\",VLOOKUP($C101,Items!A:F,6,FALSE),IF($H101=\"CR\",VLOOKUP('Order Form'!$C101,Items!A:G,7,FALSE),0))","v":0},{"$f":"IFERROR(AH101*(VLOOKUP(E101,'Misc Dropdowns'!$J$12:$M$16,4,FALSE)),0)","v":0},{"$f":"IFERROR(VLOOKUP(F101,'Misc Dropdowns'!$J$23:$M$27,4,FALSE)*AH101,0)","v":0},{"$f":"IFERROR((AL101*(15*(VLOOKUP(C101,Items!A:AE,31,FALSE)))),0)","v":0},0,"","","",0,{"$f":"IF(C101=\"\",0,D101*VLOOKUP(C101,Items!A:M,13,FALSE))","v":{"v":0,"d":"0.00"}},{"v":0,"d":"0.00"},{"$f":"IFERROR(IF(VLOOKUP(C101,'Modifications and Fees'!B:H,2,FALSE)=\"CR\",1*D101,\"\"),\"\")","v":""},{"v":0,"d":"0.00"},{"$f":"ROUND(IFERROR(D101*Z101*(VLOOKUP(E101,'Misc Dropdowns'!$J$12:$M$16,4,FALSE)),0),2)","v":{"v":0,"d":"0.00"}},{"$f":"ROUND(IFERROR(VLOOKUP(F101,'Misc Dropdowns'!$J$23:$M$27,4,FALSE)*Z101*D101,0),2)","v":{"v":0,"d":"0.00"}}]
[2,null,null,0,null,null,{"$f":"IF(C102=\"\",\"\",VLOOKUP(C102,Items!A:N,12,FALSE))","v":""},{"$f":"IF(S102=\"Craftsman Pricing\",\"CR\",IF(C102=\"\",\"\",IF('Misc Dropdowns'!$C$34=0,\"\",IF(E102&F102=\"\",VLOOKUP(AF102,'Misc Dropdowns'!$A$45:$B$47,2,FALSE),\"CR\"))))","v":""},{"$nulls":4},{"v":0,"d":"0.00"},{"v":0,"d":"0.00"},{"$nulls":11},{"$f":"ROUND(IF($S$18=\"\",0,IF(H102=\"SEL\",VLOOKUP(C102,Items!A:Y,25,FALSE),IF(H102=\"CR\",VLOOKUP(C102,Items!A:Z,26,FALSE),0))),2)","v":{"v":0,"d":"0.00"}},0,null,{"$f":"IFERROR(VLOOKUP(C102,Items!A:H,8,FALSE),0)","v":0},{"$f":"IF(C102=\"\",\"\",IF(E102&F102=\"\",VLOOKUP(C102,Items!A:D,4,FALSE),3))","v":""},{"$f":"IF(C102=\"\",\"\",'Misc Dropdowns'!$C$35)","v":""},{"v":0,"d":"0.00"},0,{"$f":"IF($H102=\"SEL\",VLOOKUP($C102,Items!A:F,6,FALSE),IF($H102=\"CR\",VLOOKUP('Order Form'!$C102,Items!A:G,7,FALSE),0))","v":0},{"$f":"IFERROR(AH102*(VLOOKUP(E102,'Misc Dropdowns'!$J$12:$M$16,4,FALSE)),0)","v":0},{"$f":"IFERROR(VLOOKUP(F102,'Misc Dropdowns'!$J$23:$M$27,4,FALSE)*AH102,0)","v":0},{"$f":"IFERROR((AL102*(15*(VLOOKUP(C102,Items!A:AE,31,FALSE)))),0)","v":0},0,"","","",0,{"$f":"IF(C102=\"\",0,D102*VLOOKUP(C102,Items!A:M,13,FALSE))","v":{"v":0,"d":"0.00"}},{"v":0,"d":"0.00"},{"$f":"IFERROR(IF(VLOOKUP(C102,'Modifications and Fees'!B:H,2,FALSE)=\"CR\",1*D102,\"\"),\"\")","v":""},{"v":0,"d":"0.00"},{"$f":"ROUND(IFERROR(D102*Z102*(VLOOKUP(E102,'Misc Dropdowns'!$J$12:$M$16,4,FALSE)),0),2)","v":{"v":0,"d":"0.00"}},{"$f":"ROUND(IFERROR(VLOOKUP(F102,'Misc Dropdowns'!$J$23:$M$27,4,FALSE)*Z102*D102,0),2)","v":{"v":0,"d":"0.00"}}]
[2,null,null,0,null,null,{"$f":"IF(C103=\"\",\"\",VLOOKUP(C103,Items!A:N,12,FALSE))","v":""},{"$f":"IF(S103=\"Craftsman Pricing\",\"CR\",IF(C103=\"\",\"\",IF('Misc Dropdowns'!$C$34=0,\"\",IF(E103&F103=\"\",VLOOKUP(AF103,'Misc Dropdowns'!$A$45:$B$47,2,FALSE),\"CR\"))))","v":""},{"$nulls":4},{"v":0,"d":"0.00"},{"v":0,"d":"0.00"},{"$nulls":11},{"$f":"ROUND(IF($S$18=\"\",0,IF(H103=\"SEL\",VLOOKUP(C103,Items!A:Y,25,FALSE),IF(H103=\"CR\",VLOOKUP(C103,Items!A:Z,26,FALSE),0))),2)","v":{"v":0,"d":"0.00"}},0,null,{"$f":"IFERROR(VLOOKUP(C103,Items!A:H,8,FALSE),0)","v":0},{"$f":"IF(C103=\"\",\"\",IF(E103&F103=\"\",VLOOKUP(C103,Items!A:D,4,FALSE),3))","v":""},{"$f":"IF(C103=\"\",\"\",'Misc Dropdowns'!$C$35)","v":""},{"v":0,"d":"0.00"},0,{"$f":"IF($H103=\"SEL\",VLOOKUP($C103,Items!A:F,6,FALSE),IF($H103=\"CR\",VLOOKUP('Order Form'!$C103,Items!A:G,7,FALSE),0))","v":0},{"$f":"IFERROR(AH103*(VLOOKUP(E103,'Misc Dropdowns'!$J$12:$M$16,4,FALSE)),0)","v":0},{"$f":"IFERROR(VLOOKUP(F103,'Misc Dropdowns'!$J$23:$M$27,4,FALSE)*AH103,0)","v":0},{"$f":"IFERROR((AL103*(15*(VLOOKUP(C103,Items!A:AE,31,FALSE)))),0)","v":0},0,"","","",0,{"$f":"IF(C103=\"\",0,D103*VLOOKUP(C103,Items!A:M,13,FALSE))","v":{"v":0,"d":"0.00"}},{"v":0,"d":"0.00"},{"$f":"IFERROR(IF(VLOOKUP(C103,'Modifications and Fees'!B:H,2,FALSE)=\"CR\",1*D103,\"\"),\"\")","v":""},{"v":0,"d":"0.00"},{"$f":"ROUND(IFERROR(D103*Z103*(VLOOKUP(E103,'Misc Dropdowns'!$J$12:$M$16,4,FALSE)),0),2)","v":{"v":0,"d":"0.00"}},{"$f":"ROUND(IFERROR(VLOOKUP(F103,'Misc Dropdowns'!$J$23:$M$27,4,FALSE)*Z103*D103,0),2)","v":{"v":0,"d":"0.00"}}]
[2,null,null,0,null,null,{"$f":"IF(C104=\"\",\"\",VLOOKUP(C104,Items!A:N,12,FALSE))","v":""},{"$f":"IF(S104=\"Craftsman Pricing\",\"CR\",IF(C104=\"\",\"\",IF('Misc Dropdowns'!$C$34=0,\"\",IF(E104&F104=\"\",VLOOKUP(AF104,'Misc Dropdowns'!$A$45:$B$47,2,FALSE),\"CR\"))))","v":""},{"$nulls":4},{"v":0,"d":"0.00"},{"v":0,"d":"0.00"},{"$nulls":11},{"$f":"ROUND(IF($S$18=\"\",0,IF(H104=\"SEL\",VLOOKUP(C104,Items!A:Y,25,FALSE),IF(H104=\"CR\",VLOOKUP(C104,Items!A:Z,26,FALSE),0))),2)","v":{"v":0,"d":"0.00"}},0,null,{"$f":"IFERROR(VLOOKUP(C104,Items!A:H,8,FALSE),0)","v":0},{"$f":"IF(C104=\"\",\"\",IF(E104&F104=\"\",VLOOKUP(C104,Items!A:D,4,FALSE),3))","v":""},{"$f":"IF(C104=\"\",\"\",'Misc Dropdowns'!$C$35)","v":""},{"v":0,"d":"0.00"},0,{"$f":"IF($H104=\"SEL\",VLOOKUP($C104,Items!A:F,6,FALSE),IF($H104=\"CR\",VLOOKUP('Order Form'!$C104,Items!A:G,7,FALSE),0))","v":0},{"$f":"IFERROR(AH104*(VLOOKUP(E104,'Misc Dropdowns'!$J$12:$M$16,4,FALSE)),0)","v":0},{"$f":"IFERROR(VLOOKUP(F104,'Misc Dropdowns'!$J$23:$M$27,4,FALSE)*AH104,0)","v":0},{"$f":"IFERROR((AL104*(15*(VLOOKUP(C104,Items!A:AE,31,FALSE)))),0)","v":0},0,"","","",0,{"$f":"IF(C104=\"\",0,D104*VLOOKUP(C104,Items!A:M,13,FALSE))","v":{"v":0,"d":"0.00"}},{"v":0,"d":"0.00"},{"$f":"IFERROR(IF(VLOOKUP(C104,'Modifications and Fees'!B:H,2,FALSE)=\"CR\",1*D104,\"\"),\"\")","v":""},{"v":0,"d":"0.00"},{"$f":"ROUND(IFERROR(D104*Z104*(VLOOKUP(E104,'Misc Dropdowns'!$J$12:$M$16,4,FALSE)),0),2)","v":{"v":0,"d":"0.00"}},{"$f":"ROUND(IFERROR(VLOOKUP(F104,'Misc Dropdowns'!$J$23:$M$27,4,FALSE)*Z104*D104,0),2)","v":{"v":0,"d":"0.00"}}]
[2,null,null,0,null,null,{"$f":"IF(C105=\"\",\"\",VLOOKUP(C105,Items!A:N,12,FALSE))","v":""},{"$f":"IF(S105=\"Craftsman Pricing\",\"CR\",IF(C105=\"\",\"\",IF('Misc Dropdowns'!$C$34=0,\"\",IF(E105&F105=\"\",VLOOKUP(AF105,'Misc Dropdowns'!$A$45:$B$47,2,FALSE),\"CR\"))))","v":""},{"$nulls":4},{"v":0,"d":"0.00"},{"v":0,"d":"0.00"},{"$nulls":11},{"$f":"ROUND(IF($S$18=\"\",0,IF(H105=\"SEL\",VLOOKUP(C105,Items!A:Y,25,FALSE),IF(H105=\"CR\",VLOOKUP(C105,Items!A:Z,26,FALSE),0))),2)","v":{"v":0,"d":"0.00"}},0,null,{"$f":"IFERROR(VLOOKUP(C105,Items!A:H,8,FALSE),0)","v":0},{"$f":"IF(C105=\"\",\"\",IF(E105&F105=\"\",VLOOKUP(C105,Items!A:D,4,FALSE),3))","v":""},{"$f":"IF(C105=\"\",\"\",'Misc Dropdowns'!$C$35)","v":""},{"v":0,"d":"0.00"},0,{"$f":"IF($H105=\"SEL\",VLOOKUP($C105,Items!A:F,6,FALSE),IF($H105=\"CR\",VLOOKUP('Order Form'!$C105,Items!A:G,7,FALSE),0))","v":0},{"$f":"IFERROR(AH105*(VLOOKUP(E105,'Misc Dropdowns'!$J$12:$M$16,4,FALSE)),0)","v":0},{"$f":"IFERROR(VLOOKUP(F105,'Misc Dropdowns'!$J$23:$M$27,4,FALSE)*AH105,0)","v":0},{"$f":"IFERROR((AL105*(15*(VLOOKUP(C105,Items!A:AE,31,FALSE)))),0)","v":0},0,"","","",0,{"$f":"IF(C105=\"\",0,D105*VLOOKUP(C105,Items!A:M,13,FALSE))","v":{"v":0,"d":"0.00"}},{"v":0,"d":"0.00"},{"$f":"IFERROR(IF(VLOOKUP(C105,'Modifications and Fees'!B:H,2,FALSE)=\"CR\",1*D105,\"\"),\"\")","v":""},{"v":0,"d":"0.00"},{"$f":"ROUND(IFERROR(D105*Z105*(VLOOKUP(E105,'Misc Dropdowns'!$J$12:$M$16,4,FALSE)),0),2)","v":{"v":0,"d":"0.00"}},{"$f":"ROUND(IFERROR(VLOOKUP(F105,'Misc Dropdowns'!$J$23:$M$27,4,FALSE)*Z105*D105,0),2)","v":{"v":0,"d":"0.00"}}]
[2,null,null,0,null,null,{"$f":"IF(C106=\"\",\"\",VLOOKUP(C106,Items!A:N,12,FALSE))","v":""},{"$f":"IF(S106=\"Craftsman Pricing\",\"CR\",IF(C106=\"\",\"\",IF('Misc Dropdowns'!$C$34=0,\"\",IF(E106&F106=\"\",VLOOKUP(AF106,'Misc Dropdowns'!$A$45:$B$47,2,FALSE),\"CR\"))))","v":""},{"$nulls":4},{"v":0,"d":"0.00"},{"v":0,"d":"0.00"},{"$nulls":11},{"$f":"ROUND(IF($S$18=\"\",0,IF(H106=\"SEL\",VLOOKUP(C106,Items!A:Y,25,FALSE),IF(H106=\"CR\",VLOOKUP(C106,Items!A:Z,26,FALSE),0))),2)","v":{"v":0,"d":"0.00"}},0,null,{"$f":"IFERROR(VLOOKUP(C106,Items!A:H,8,FALSE),0)","v":0},{"$f":"IF(C106=\"\",\"\",IF(E106&F106=\"\",VLOOKUP(C106,Items!A:D,4,FALSE),3))","v":""},{"$f":"IF(C106=\"\",\"\",'Misc Dropdowns'!$C$35)","v":""},{"v":0,"d":"0.00"},0,{"$f":"IF($H106=\"SEL\",VLOOKUP($C106,Items!A:F,6,FALSE),IF($H106=\"CR\",VLOOKUP('Order Form'!$C106,Items!A:G,7,FALSE),0))","v":0},{"$f":"IFERROR(AH106*(VLOOKUP(E106,'Misc Dropdowns'!$J$12:$M$16,4,FALSE)),0)","v":0},{"$f":"IFERROR(VLOOKUP(F106,'Misc Dropdowns'!$J$23:$M$27,4,FALSE)*AH106,0)","v":0},{"$f":"IFERROR((AL106*(15*(VLOOKUP(C106,Items!A:AE,31,FALSE)))),0)","v":0},0,"","","",0,{"$f":"IF(C106=\"\",0,D106*VLOOKUP(C106,Items!A:M,13,FALSE))","v":{"v":0,"d":"0.00"}},{"v":0,"d":"0.00"},{"$f":"IFERROR(IF(VLOOKUP(C106,'Modifications and Fees'!B:H,2,FALSE)=\"CR\",1*D106,\"\"),\"\")","v":""},{"v":0,"d":"0.00"},{"$f":"ROUND(IFERROR(D106*Z106*(VLOOKUP(E106,'Misc Dropdowns'!$J$12:$M$16,4,FALSE)),0),2)","v":{"v":0,"d":"0.00"}},{"$f":"ROUND(IFERROR(VLOOKUP(F106,'Misc Dropdowns'!$J$23:$M$27,4,FALSE)*Z106*D106,0),2)","v":{"v":0,"d":"0.00"}}]
[2,null,null,0,null,null,{"$f":"IF(C107=\"\",\"\",VLOOKUP(C107,Items!A:N,12,FALSE))","v":""},{"$f":"IF(S107=\"Craftsman Pricing\",\"CR\",IF(C107=\"\",\"\",IF('Misc Dropdowns'!$C$34=0,\"\",IF(E107&F107=\"\",VLOOKUP(AF107,'Misc Dropdowns'!$A$45:$B$47,2,FALSE),\"CR\"))))","v":""},{"$nulls":4},{"v":0,"d":"0.00"},{"v":0,"d":"0.00"},{"$nulls":11},{"$f":"ROUND(IF($S$18=\"\",0,IF(H107=\"SEL\",VLOOKUP(C107,Items!A:Y,25,FALSE),IF(H107=\"CR\",VLOOKUP(C107,Items!A:Z,26,FALSE),0))),2)","v":{"v":0,"d":"0.00"}},0,null,{"$f":"IFERROR(VLOOKUP(C107,Items!A:H,8,FALSE),0)","v":0},{"$f":"IF(C107=\"\",\"\",IF(E107&F107=\"\",VLOOKUP(C107,Items!A:D,4,FALSE),3))","v":""},{"$f":"IF(C107=\"\",\"\",'Misc Dropdowns'!$C$35)","v":""},{"v":0,"d":"0.00"},0,{"$f":"IF($H107=\"SEL\",VLOOKUP($C107,Items!A:F,6,FALSE),IF($H107=\"CR\",VLOOKUP('Order Form'!$C107,Items!A:G,7,FALSE),0))","v":0},{"$f":"IFERROR(AH107*(VLOOKUP(E107,'Misc Dropdowns'!$J$12:$M$16,4,FALSE)),0)","v":0},{"$f":"IFERROR(VLOOKUP(F107,'Misc Dropdowns'!$J$23:$M$27,4,FALSE)*AH107,0)","v":0},{"$f":"IFERROR((AL107*(15*(VLOOKUP(C107,Items!A:AE,31,FALSE)))),0)","v":0},0,"","","",0,{"$f":"IF(C107=\"\",0,D107*VLOOKUP(C107,Items!A:M,13,FALSE))","v":{"v":0,"d":"0.00"}},{"v":0,"d":"0.00"},{"$f":"IFERROR(IF(VLOOKUP(C107,'Modifications and Fees'!B:H,2,FALSE)=\"CR\",1*D107,\"\"),\"\")","v":""},{"v":0,"d":"0.00"},{"$f":"ROUND(IFERROR(D107*Z107*(VLOOKUP(E107,'Misc Dropdowns'!$J$12:$M$16,4,FALSE)),0),2)","v":{"v":0,"d":"0.00"}},{"$f":"ROUND(IFERROR(VLOOKUP(F107,'Misc Dropdowns'!$J$23:$M$27,4,FALSE)*Z107*D107,0),2)","v":{"v":0,"d":"0.00"}}]
[2,null,null,0,null,null,{"$f":"IF(C108=\"\",\"\",VLOOKUP(C108,Items!A:N,12,FALSE))","v":""},{"$f":"IF(S108=\"Craftsman Pricing\",\"CR\",IF(C108=\"\",\"\",IF('Misc Dropdowns'!$C$34=0,\"\",IF(E108&F108=\"\",VLOOKUP(AF108,'Misc Dropdowns'!$A$45:$B$47,2,FALSE),\"CR\"))))","v":""},{"$nulls":4},{"v":0,"d":"0.00"},{"v":0,"d":"0.00"},{"$nulls":11},{"$f":"ROUND(IF($S$18=\"\",0,IF(H108=\"SEL\",VLOOKUP(C108,Items!A:Y,25,FALSE),IF(H108=\"CR\",VLOOKUP(C108,Items!A:Z,26,FALSE),0))),2)","v":{"v":0,"d":"0.00"}},0,null,{"$f":"IFERROR(VLOOKUP(C108,Items!A:H,8,FALSE),0)","v":0},{"$f":"IF(C108=\"\",\"\",IF(E108&F108=\"\",VLOOKUP(C108,Items!A:D,4,FALSE),3))","v":""},{"$f":"IF(C108=\"\",\"\",'Misc Dropdowns'!$C$35)","v":""},{"v":0,"d":"0.00"},0,{"$f":"IF($H108=\"SEL\",VLOOKUP($C108,Items!A:F,6,FALSE),IF($H108=\"CR\",VLOOKUP('Order Form'!$C108,Items!A:G,7,FALSE),0))","v":0},{"$f":"IFERROR(AH108*(VLOOKUP(E108,'Misc Dropdowns'!$J$12:$M$16,4,FALSE)),0)","v":0},{"$f":"IFERROR(VLOOKUP(F108,'Misc Dropdowns'!$J$23:$M$27,4,FALSE)*AH108,0)","v":0},{"$f":"IFERROR((AL108*(15*(VLOOKUP(C108,Items!A:AE,31,FALSE)))),0)","v":0},0,"","","",0,{"$f":"IF(C108=\"\",0,D108*VLOOKUP(C108,Items!A:M,13,FALSE))","v":{"v":0,"d":"0.00"}},{"v":0,"d":"0.00"},{"$f":"IFERROR(IF(VLOOKUP(C108,'Modifications and Fees'!B:H,2,FALSE)=\"CR\",1*D108,\"\"),\"\")","v":""},{"v":0,"d":"0.00"},{"$f":"ROUND(IFERROR(D108*Z108*(VLOOKUP(E108,'Misc Dropdowns'!$J$12:$M$16,4,FALSE)),0),2)","v":{"v":0,"d":"0.00"}},{"$f":"ROUND(IFERROR(VLOOKUP(F108,'Misc Dropdowns'!$J$23:$M$27,4,FALSE)*Z108*D108,0),2)","v":{"v":0,"d":"0.00"}}]
[2,null,null,0,null,null,{"$f":"IF(C109=\"\",\"\",VLOOKUP(C109,Items!A:N,12,FALSE))","v":""},{"$f":"IF(S109=\"Craftsman Pricing\",\"CR\",IF(C109=\"\",\"\",IF('Misc Dropdowns'!$C$34=0,\"\",IF(E109&F109=\"\",VLOOKUP(AF109,'Misc Dropdowns'!$A$45:$B$47,2,FALSE),\"CR\"))))","v":""},{"$nulls":4},{"v":0,"d":"0.00"},{"v":0,"d":"0.00"},{"$nulls":11},{"$f":"ROUND(IF($S$18=\"\",0,IF(H109=\"SEL\",VLOOKUP(C109,Items!A:Y,25,FALSE),IF(H109=\"CR\",VLOOKUP(C109,Items!A:Z,26,FALSE),0))),2)","v":{"v":0,"d":"0.00"}},0,null,{"$f":"IFERROR(VLOOKUP(C109,Items!A:H,8,FALSE),0)","v":0},{"$f":"IF(C109=\"\",\"\",IF(E109&F109=\"\",VLOOKUP(C109,Items!A:D,4,FALSE),3))","v":""},{"$f":"IF(C109=\"\",\"\",'Misc Dropdowns'!$C$35)","v":""},{"v":0,"d":"0.00"},0,{"$f":"IF($H109=\"SEL\",VLOOKUP($C109,Items!A:F,6,FALSE),IF($H109=\"CR\",VLOOKUP('Order Form'!$C109,Items!A:G,7,FALSE),0))","v":0},{"$f":"IFERROR(AH109*(VLOOKUP(E109,'Misc Dropdowns'!$J$12:$M$16,4,FALSE)),0)","v":0},{"$f":"IFERROR(VLOOKUP(F109,'Misc Dropdowns'!$J$23:$M$27,4,FALSE)*AH109,0)","v":0},{"$f":"IFERROR((AL109*(15*(VLOOKUP(C109,Items!A:AE,31,FALSE)))),0)","v":0},0,"","","",0,{"$f":"IF(C109=\"\",0,D109*VLOOKUP(C109,Items!A:M,13,FALSE))","v":{"v":0,"d":"0.00"}},{"v":0,"d":"0.00"},{"$f":"IFERROR(IF(VLOOKUP(C109,'Modifications and Fees'!B:H,2,FALSE)=\"CR\",1*D109,\"\"),\"\")","v":""},{"v":0,"d":"0.00"},{"$f":"ROUND(IFERROR(D109*Z109*(VLOOKUP(E109,'Misc Dropdowns'!$J$12:$M$16,4,FALSE)),0),2)","v":{"v":0,"d":"0.00"}},{"$f":"ROUND(IFERROR(VLOOKUP(F109,'Misc Dropdowns'!$J$23:$M$27,4,FALSE)*Z109*D109,0),2)","v":{"v":0,"d":"0.00"}}]
[2,null,null,0,null,null,{"$f":"IF(C110=\"\",\"\",VLOOKUP(C110,Items!A:N,12,FALSE))","v":""},{"$f":"IF(S110=\"Craftsman Pricing\",\"CR\",IF(C110=\"\",\"\",IF('Misc Dropdowns'!$C$34=0,\"\",IF(E110&F110=\"\",VLOOKUP(AF110,'Misc Dropdowns'!$A$45:$B$47,2,FALSE),\"CR\"))))","v":""},{"$nulls":4},{"v":0,"d":"0.00"},{"v":0,"d":"0.00"},{"$nulls":11},{"$f":"ROUND(IF($S$18=\"\",0,IF(H110=\"SEL\",VLOOKUP(C110,Items!A:Y,25,FALSE),IF(H110=\"CR\",VLOOKUP(C110,Items!A:Z,26,FALSE),0))),2)","v":{"v":0,"d":"0.00"}},0,null,{"$f":"IFERROR(VLOOKUP(C110,Items!A:H,8,FALSE),0)","v":0},{"$f":"IF(C110=\"\",\"\",IF(E110&F110=\"\",VLOOKUP(C110,Items!A:D,4,FALSE),3))","v":""},{"$f":"IF(C110=\"\",\"\",'Misc Dropdowns'!$C$35)","v":""},{"v":0,"d":"0.00"},0,{"$f":"IF($H110=\"SEL\",VLOOKUP($C110,Items!A:F,6,FALSE),IF($H110=\"CR\",VLOOKUP('Order Form'!$C110,Items!A:G,7,FALSE),0))","v":0},{"$f":"IFERROR(AH110*(VLOOKUP(E110,'Misc Dropdowns'!$J$12:$M$16,4,FALSE)),0)","v":0},{"$f":"IFERROR(VLOOKUP(F110,'Misc Dropdowns'!$J$23:$M$27,4,FALSE)*AH110,0)","v":0},{"$f":"IFERROR((AL110*(15*(VLOOKUP(C110,Items!A:AE,31,FALSE)))),0)","v":0},0,"","","",0,{"$f":"IF(C110=\"\",0,D110*VLOOKUP(C110,Items!A:M,13,FALSE))","v":{"v":0,"d":"0.00"}},{"v":0,"d":"0.00"},{"$f":"IFERROR(IF(VLOOKUP(C110,'Modifications and Fees'!B:H,2,FALSE)=\"CR\",1*D110,\"\"),\"\")","v":""},{"v":0,"d":"0.00"},{"$f":"ROUND(IFERROR(D110*Z110*(VLOOKUP(E110,'Misc Dropdowns'!$J$12:$M$16,4,FALSE)),0),2)","v":{"v":0,"d":"0.00"}},{"$f":"ROUND(IFERROR(VLOOKUP(F110,'Misc Dropdowns'!$J$23:$M$27,4,FALSE)*Z110*D110,0),2)","v":{"v":0,"d":"0.00"}}]
[2,null,null,0,null,null,{"$f":"IF(C111=\"\",\"\",VLOOKUP(C111,Items!A:N,12,FALSE))","v":""},{"$f":"IF(S111=\"Craftsman Pricing\",\"CR\",IF(C111=\"\",\"\",IF('Misc Dropdowns'!$C$34=0,\"\",IF(E111&F111=\"\",VLOOKUP(AF111,'Misc Dropdowns'!$A$45:$B$47,2,FALSE),\"CR\"))))","v":""},{"$nulls":4},{"v":0,"d":"0.00"},{"v":0,"d":"0.00"},{"$nulls":11},{"$f":"ROUND(IF($S$18=\"\",0,IF(H111=\"SEL\",VLOOKUP(C111,Items!A:Y,25,FALSE),IF(H111=\"CR\",VLOOKUP(C111,Items!A:Z,26,FALSE),0))),2)","v":{"v":0,"d":"0.00"}},0,null,{"$f":"IFERROR(VLOOKUP(C111,Items!A:H,8,FALSE),0)","v":0},{"$f":"IF(C111=\"\",\"\",IF(E111&F111=\"\",VLOOKUP(C111,Items!A:D,4,FALSE),3))","v":""},{"$f":"IF(C111=\"\",\"\",'Misc Dropdowns'!$C$35)","v":""},{"v":0,"d":"0.00"},0,{"$f":"IF($H111=\"SEL\",VLOOKUP($C111,Items!A:F,6,FALSE),IF($H111=\"CR\",VLOOKUP('Order Form'!$C111,Items!A:G,7,FALSE),0))","v":0},{"$f":"IFERROR(AH111*(VLOOKUP(E111,'Misc Dropdowns'!$J$12:$M$16,4,FALSE)),0)","v":0},{"$f":"IFERROR(VLOOKUP(F111,'Misc Dropdowns'!$J$23:$M$27,4,FALSE)*AH111,0)","v":0},{"$f":"IFERROR((AL111*(15*(VLOOKUP(C111,Items!A:AE,31,FALSE)))),0)","v":0},0,"","","",0,{"$f":"IF(C111=\"\",0,D111*VLOOKUP(C111,Items!A:M,13,FALSE))","v":{"v":0,"d":"0.00"}},{"v":0,"d":"0.00"},{"$f":"IFERROR(IF(VLOOKUP(C111,'Modifications and Fees'!B:H,2,FALSE)=\"CR\",1*D111,\"\"),\"\")","v":""},{"v":0,"d":"0.00"},{"$f":"ROUND(IFERROR(D111*Z111*(VLOOKUP(E111,'Misc Dropdowns'!$J$12:$M$16,4,FALSE)),0),2)","v":{"v":0,"d":"0.00"}},{"$f":"ROUND(IFERROR(VLOOKUP(F111,'Misc Dropdowns'!$J$23:$M$27,4,FALSE)*Z111*D111,0),2)","v":{"v":0,"d":"0.00"}}]
[2,null,null,0,null,null,{"$f":"IF(C112=\"\",\"\",VLOOKUP(C112,Items!A:N,12,FALSE))","v":""},{"$f":"IF(S112=\"Craftsman Pricing\",\"CR\",IF(C112=\"\",\"\",IF('Misc Dropdowns'!$C$34=0,\"\",IF(E112&F112=\"\",VLOOKUP(AF112,'Misc Dropdowns'!$A$45:$B$47,2,FALSE),\"CR\"))))","v":""},{"$nulls":4},{"v":0,"d":"0.00"},{"v":0,"d":"0.00"},{"$nulls":11},{"$f":"ROUND(IF($S$18=\"\",0,IF(H112=\"SEL\",VLOOKUP(C112,Items!A:Y,25,FALSE),IF(H112=\"CR\",VLOOKUP(C112,Items!A:Z,26,FALSE),0))),2)","v":{"v":0,"d":"0.00"}},0,null,{"$f":"IFERROR(VLOOKUP(C112,Items!A:H,8,FALSE),0)","v":0},{"$f":"IF(C112=\"\",\"\",IF(E112&F112=\"\",VLOOKUP(C112,Items!A:D,4,FALSE),3))","v":""},{"$f":"IF(C112=\"\",\"\",'Misc Dropdowns'!$C$35)","v":""},{"v":0,"d":"0.00"},0,{"$f":"IF($H112=\"SEL\",VLOOKUP($C112,Items!A:F,6,FALSE),IF($H112=\"CR\",VLOOKUP('Order Form'!$C112,Items!A:G,7,FALSE),0))","v":0},{"$f":"IFERROR(AH112*(VLOOKUP(E112,'Misc Dropdowns'!$J$12:$M$16,4,FALSE)),0)","v":0},{"$f":"IFERROR(VLOOKUP(F112,'Misc Dropdowns'!$J$23:$M$27,4,FALSE)*AH112,0)","v":0},{"$f":"IFERROR((AL112*(15*(VLOOKUP(C112,Items!A:AE,31,FALSE)))),0)","v":0},0,"","","",0,{"$f":"IF(C112=\"\",0,D112*VLOOKUP(C112,Items!A:M,13,FALSE))","v":{"v":0,"d":"0.00"}},{"v":0,"d":"0.00"},{"$f":"IFERROR(IF(VLOOKUP(C112,'Modifications and Fees'!B:H,2,FALSE)=\"CR\",1*D112,\"\"),\"\")","v":""},{"v":0,"d":"0.00"},{"$f":"ROUND(IFERROR(D112*Z112*(VLOOKUP(E112,'Misc Dropdowns'!$J$12:$M$16,4,FALSE)),0),2)","v":{"v":0,"d":"0.00"}},{"$f":"ROUND(IFERROR(VLOOKUP(F112,'Misc Dropdowns'!$J$23:$M$27,4,FALSE)*Z112*D112,0),2)","v":{"v":0,"d":"0.00"}}]
[2,null,null,0,null,null,{"$f":"IF(C113=\"\",\"\",VLOOKUP(C113,Items!A:N,12,FALSE))","v":""},{"$f":"IF(S113=\"Craftsman Pricing\",\"CR\",IF(C113=\"\",\"\",IF('Misc Dropdowns'!$C$34=0,\"\",IF(E113&F113=\"\",VLOOKUP(AF113,'Misc Dropdowns'!$A$45:$B$47,2,FALSE),\"CR\"))))","v":""},{"$nulls":4},{"v":0,"d":"0.00"},{"v":0,"d":"0.00"},{"$nulls":11},{"$f":"ROUND(IF($S$18=\"\",0,IF(H113=\"SEL\",VLOOKUP(C113,Items!A:Y,25,FALSE),IF(H113=\"CR\",VLOOKUP(C113,Items!A:Z,26,FALSE),0))),2)","v":{"v":0,"d":"0.00"}},0,null,{"$f":"IFERROR(VLOOKUP(C113,Items!A:H,8,FALSE),0)","v":0},{"$f":"IF(C113=\"\",\"\",IF(E113&F113=\"\",VLOOKUP(C113,Items!A:D,4,FALSE),3))","v":""},{"$f":"IF(C113=\"\",\"\",'Misc Dropdowns'!$C$35)","v":""},{"v":0,"d":"0.00"},0,{"$f":"IF($H113=\"SEL\",VLOOKUP($C113,Items!A:F,6,FALSE),IF($H113=\"CR\",VLOOKUP('Order Form'!$C113,Items!A:G,7,FALSE),0))","v":0},{"$f":"IFERROR(AH113*(VLOOKUP(E113,'Misc Dropdowns'!$J$12:$M$16,4,FALSE)),0)","v":0},{"$f":"IFERROR(VLOOKUP(F113,'Misc Dropdowns'!$J$23:$M$27,4,FALSE)*AH113,0)","v":0},{"$f":"IFERROR((AL113*(15*(VLOOKUP(C113,Items!A:AE,31,FALSE)))),0)","v":0},0,"","","",0,{"$f":"IF(C113=\"\",0,D113*VLOOKUP(C113,Items!A:M,13,FALSE))","v":{"v":0,"d":"0.00"}},{"v":0,"d":"0.00"},{"$f":"IFERROR(IF(VLOOKUP(C113,'Modifications and Fees'!B:H,2,FALSE)=\"CR\",1*D113,\"\"),\"\")","v":""},{"v":0,"d":"0.00"},{"$f":"ROUND(IFERROR(D113*Z113*(VLOOKUP(E113,'Misc Dropdowns'!$J$12:$M$16,4,FALSE)),0),2)","v":{"v":0,"d":"0.00"}},{"$f":"ROUND(IFERROR(VLOOKUP(F113,'Misc Dropdowns'!$J$23:$M$27,4,FALSE)*Z113*D113,0),2)","v":{"v":0,"d":"0.00"}}]
[2,null,null,0,null,null,{"$f":"IF(C114=\"\",\"\",VLOOKUP(C114,Items!A:N,12,FALSE))","v":""},{"$f":"IF(S114=\"Craftsman Pricing\",\"CR\",IF(C114=\"\",\"\",IF('Misc Dropdowns'!$C$34=0,\"\",IF(E114&F114=\"\",VLOOKUP(AF114,'Misc Dropdowns'!$A$45:$B$47,2,FALSE),\"CR\"))))","v":""},{"$nulls":4},{"v":0,"d":"0.00"},{"v":0,"d":"0.00"},{"$nulls":11},{"$f":"ROUND(IF($S$18=\"\",0,IF(H114=\"SEL\",VLOOKUP(C114,Items!A:Y,25,FALSE),IF(H114=\"CR\",VLOOKUP(C114,Items!A:Z,26,FALSE),0))),2)","v":{"v":0,"d":"0.00"}},{"$f":"(Z114*D114)","v":0},null,{"$f":"IFERROR(VLOOKUP(C114,Items!A:H,8,FALSE),0)","v":0},{"$f":"IF(C114=\"\",\"\",IF(E114&F114=\"\",VLOOKUP(C114,Items!A:D,4,FALSE),3))","v":""},{"$f":"IF(C114=\"\",\"\",'Misc Dropdowns'!$C$35)","v":""},{"v":0,"d":"0.00"},0,{"$f":"IF($H114=\"SEL\",VLOOKUP($C114,Items!A:F,6,FALSE),IF($H114=\"CR\",VLOOKUP('Order Form'!$C114,Items!A:G,7,FALSE),0))","v":0},{"$f":"IFERROR(AH114*(VLOOKUP(E114,'Misc Dropdowns'!$J$12:$M$16,4,FALSE)),0)","v":0},{"$f":"IFERROR(VLOOKUP(F114,'Misc Dropdowns'!$J$23:$M$27,4,FALSE)*AH114,0)","v":0},{"$f":"IFERROR((AL114*(15*(VLOOKUP(C114,Items!A:AE,31,FALSE)))),0)","v":0},0,"","","",0,{"$f":"IF(C114=\"\",0,D114*VLOOKUP(C114,Items!A:M,13,FALSE))","v":{"v":0,"d":"0.00"}},{"v":0,"d":"0.00"},{"$f":"IFERROR(IF(VLOOKUP(C114,'Modifications and Fees'!B:H,2,FALSE)=\"CR\",1*D114,\"\"),\"\")","v":""},{"v":0,"d":"0.00"},{"$f":"ROUND(IFERROR(D114*Z114*(VLOOKUP(E114,'Misc Dropdowns'!$J$12:$M$16,4,FALSE)),0),2)","v":{"v":0,"d":"0.00"}},{"$f":"ROUND(IFERROR(VLOOKUP(F114,'Misc Dropdowns'!$J$23:$M$27,4,FALSE)*Z114*D114,0),2)","v":{"v":0,"d":"0.00"}}]
[1,{"$nulls":27},{"$f":"SUM(AC26:AC113)","v":0}]
[1,null,{"$f":"IF(SUM($AP$25:$AP$114)>0,\"Install Price:\",\"\")","v":""},{"$f":"SUMIF(C25:C114,\"INSTALL\",N25:O114)","v":0},{"$nulls":6},"Product Cost:",null,null,{"$f":"SUMIF(C25:C114, \"<>\"&\"INSTALL\", N25:O114)","v":0},{"$nulls":11},"List Prices Total",{"$f":"SUM(AA24:AA114)","v":{"v":0,"d":"0.00"}}]
[1,null,{"$f":"IF(SUM($AP$25:$AP$114)>0,\"Install Tax:\",\"\")","v":""},{"$f":"IF(D13=\"RESELLER\",0,D116*D13)","v":0},{"$nulls":6},"Total Custom Price:",null,null,{"$f":"SUMIF(C25:C114, \"<>\"&\"RESTOCKING FEE\", P25:P114)","v":0},{"$nulls":11},"Custom Prices",{"$f":"N117","v":{"v":0,"d":"0.00"}}]
[1,null,{"$f":"IF(SUM($AP$25:$AP$114)>0,\"Install Total:\",\"\")","v":""},{"$f":"SUM(D116:E117)","v":0},{"$nulls":6},"Delivery:",null,null,{"$f":"M13+P13","v":0},{"$nulls":11},"Applied Skins",{"$f":"AK22","v":{"v":0,"d":"0.00"}}]
[1,{"$nulls":9},"Subtotal:",null,null,{"$f":"SUM(N116,N117,N118)","v":0},{"$nulls":11},"Upgrades - CFG, SMI,DT",{"$f":"SUM(AU22,AV22)","v":{"v":0,"d":"0.00"}}]
[1,{"$nulls":9},"Tax:",null,null,{"$f":"IF(OR(D13=\"Reseller\",D13=\"Out of State\",D13=\"OOS\",D13=\"NONTAX\"),0,N119*D13)","v":0},{"$nulls":11},"Subtotal",{"$f":"SUM(AA116:AA119)","v":{"v":0,"d":"0.00"}}]
[1,{"$nulls":9},{"$f":"IF(N121=0,\"\",\"Restocking Fee:\")","v":""},null,null,{"$f":"SUMIF(C24:C114,\"restocking fee\",P24:Q114)","v":0}]
[1,null,"Contractor Number:",{"$nulls":7},{"$f":"IF(SUM(AP25:AP114)>0,\"Install and Cabinet Total\",\"Total:\")","v":"Total:"},null,null,{"$f":"IF(SUM(AP25:AP114)>0,N119+N120+N121+D118,N119+N120+N121)","v":0},{"$nulls":11},"Tax",{"$f":"IF(OR(D13=\"Reseller\",D13=\"Out of State\",D13=\"OOS\",D13=\"NONTAX\"),0,AA120*D13)","v":0}]
[1,null,"Contractor Expiration Date:",{"$nulls":7},"Less Deposit:",{"$nulls":14},"Total",{"$f":"AA122+AA120","v":{"v":0,"d":"0.00"}}]
[1,{"$nulls":9},"Total (Less Deposit):",null,"Remaining Balance",{"$f":"N122-N123","v":0}]
[1]
[1,{"$nulls":9}," Customer Approval:"]
[1,null,"*All Sales Final, Quote is good for 30 days from printed date ",{"$nulls":7},"Customer Approval Date: "]
[1,null,"**Once this document is signed, changes will no longer be accepted. \nALL add-ons will need to be on a separate order and will generate a new lead time. "]
[1,{"$nulls":11},"Revision Date: 7.16.2018",null,null,{"$f":"\"Dealer FC FORM 1\"&S18","v":"Dealer FC FORM 1"}]
[1]

{"sheet":"Proposal","index":2,"n_rows":117,"n_cols":14,"rows_kept":117,"hidden":true,"merged":[[2,1,4,4],[2,7,2,9],[2,13,2,14],[3,7,3,9],[3,13,3,14],[4,7,4,9],[4,13,4,14],[5,1,7,4],[5,7,5,9],[5,11,6,12],[5,13,6,14],[6,7,6,9],[8,2,8,4],[8,11,8,14],[9,2,9,4],[9,11,9,14],[10,2,10,4],[10,6,10,8],[10,11,10,14],[11,2,11,4],[11,11,11,14],[12,2,12,4],[12,11,12,14],[13,2,13,4],[13,11,13,14],[15,1,15,15],[17,2,18,13],[19,2,20,13],[21,2,21,13],[22,2,22,13],[23,2,23,13],[24,2,24,13],[25,2,25,13],[27,2,27,9],[27,11,27,12],[28,2,28,9],[28,11,28,12],[29,2,29,9],[29,11,29,12],[30,2,30,9],[30,11,30,12],[31,2,31,9],[31,11,31,12],[34,2,34,9],[34,11,34,12],[35,2,35,9],[35,11,35,12],[36,2,36,9],[36,11,36,12],[37,2,37,9],[37,11,37,12],[38,2,38,9],[38,11,38,12],[39,2,39,9],[39,11,39,12],[40,2,40,9],[40,11,40,12],[41,2,41,9],[41,11,41,12],[42,2,42,9],[42,11,42,12],[43,2,43,9],[43,11,43,12],[44,2,44,9],[44,11,44,12],[45,2,45,9],[45,11,45,12],[46,2,46,9],[46,11,46,12],[47,2,47,9],[47,11,47,12],[48,2,48,9],[48,11,48,12],[49,2,49,9],[49,11,49,12],[50,2,50,9],[50,11,50,12],[51,2,51,9],[51,11,51,12],[52,2,52,9],[52,11,52,12],[54,11,54,12],[56,2,57,12],[62,6,63,15],[65,1,65,15],[66,3,66,7],[66,11,66,15],[67,3,67,7],[67,11,67,15],[68,3,68,7],[68,11,68,15],[69,3,69,7],[69,11,69,15],[70,3,70,7],[70,11,70,15],[71,3,71,7],[71,11,71,15],[72,3,72,7],[72,11,72,15],[73,3,73,7],[73,11,73,15],[74,3,74,7],[74,11,74,15],[75,3,75,7],[75,11,75,15],[76,3,76,7],[76,11,76,15],[77,3,77,7],[77,11,77,15],[78,3,78,7],[78,11,78,15],[79,3,79,7],[79,11,79,15],[80,3,80,7],[80,11,80,15],[81,3,81,7],[81,11,81,15],[82,3,82,7],[82,11,82,15],[83,3,83,7],[83,11,83,15],[84,3,84,7],[84,11,84,15],[85,3,85,7],[85,11,85,15],[86,3,86,7],[86,11,86,15],[87,3,87,7],[87,11,87,15],[88,3,88,7],[88,11,88,15],[89,3,89,7],[89,11,89,15],[90,3,90,7],[90,11,90,15],[91,3,91,7],[91,11,91,15],[92,3,92,7],[92,11,92,15],[93,3,93,7],[93,11,93,15],[94,3,94,7],[94,11,94,15],[95,3,95,7],[95,11,95,15],[96,3,96,7],[96,11,96,15],[97,3,97,7],[97,11,97,15],[98,3,98,7],[98,11,98,15],[99,3,99,7],[99,11,99,15],[100,3,100,7],[100,11,100,15],[101,3,101,7],[101,11,101,15],[102,3,102,7],[102,11,102,15],[103,3,103,7],[103,11,103,15],[104,3,104,7],[104,11,104,15],[105,3,105,7],[105,11,105,15],[106,3,106,7],[106,11,106,15],[107,3,107,7],[107,11,107,15],[108,3,108,7],[108,11,108,15],[109,3,109,7],[109,11,109,15],[110,3,110,7],[110,11,110,15],[111,3,111,7],[111,11,111,15],[114,9,116,15]]}
[]
[]
[{"$nulls":5},"Customer Name",null,{"$f":"'Order Form'!K2","v":0},{"$nulls":3},"Quote Date",null,{"$f":"'Order Form'!O2","v":"00:00:00"}]
[{"$nulls":5},"Contact Name",null,{"$f":"'Order Form'!K3","v":0},{"$nulls":3},"Sales Rep",null,{"$f":"'Order Form'!O3","v":0}]
[{"$nulls":5},"Customer PO",null,{"$f":"'Order Form'!K4","v":0},{"$nulls":3},"Customer No.",null,{"$f":"'Order Form'!O4","v":0}]
[null,"Founder's Choice\n6002 McKinley Ave E Tacoma WA, 98404\n(253) 475-5544",{"$nulls":3},"Telephone",null,{"$f":"'Order Form'!K5","v":0},{"$nulls":3},"Requested Delivery Date",null,{"$f":"'Order Form'!O5","v":"00:00:00"}]
[{"$nulls":5},"Email",null,{"$f":"'Order Form'!K6","v":0}]
[]
[null,{"$f":"IF('Misc Dropdowns'!K3=TRUE,\"Bill to and Ship to Name\",\"Bill to Name\")","v":"Bill to Name"},{"$f":"'Order Form'!D8","v":0},{"$nulls":6},"Ship to Name",null,{"$f":"'Order Form'!M8","v":0}]
[null,"Address to ",{"$f":"'Order Form'!D9","v":0},null,null,"  Ship to Method",{"$nulls":3},"Ship to Address",null,{"$f":"'Order Form'!M9","v":0}]
[null," City",{"$f":"'Order Form'!D10","v":0},{"$nulls":3},{"$f":"'Misc Dropdowns'!C6","v":""},null,null,"City",null,{"$f":"'Order Form'!M10","v":0}]
[null," State",{"$f":"'Order Form'!D11","v":0},{"$nulls":3},{"$f":"'Misc Dropdowns'!C7","v":""},null,null,"State",null,{"$f":"'Order Form'!M11","v":0}]
[null," Zip",{"$f":"'Order Form'!D12","v":0},{"$nulls":6},"Zip",null,{"$f":"'Order Form'!M12","v":0}]
[null," Tax Rate",{"$f":"'Order Form'!D13","v":{"v":0,"d":"0.0%"}},{"$nulls":6},"Delivery Cost",null,{"$f":"'Order Form'!M13+'Order Form'!P13","v":0}]
[]
["Page","Order Notes"]
[1,null,"CABINETRY & TRIM -"]
[1,null,"-Door style, Species, Stain, Drawer Style, Finish Options"]
[1]
[1,null,{"$f":"\"-\"&'Misc Dropdowns'!$K$8","v":"-"}]
[1]
[1,null,"- 1/2\" Thick Plywood boxes"]
[1,null,"- 3/4\" Thick, Full depth, plywood shelves"]
[1,null,"- 3/4\" Thick Hardwood Face frames and Doors"]
[1,null,"- Dovetailed, full extension, soft close drawer boxes"]
[1,null,"- Six way adjustable, integrated soft close door hinges"]
[1]
[1,null,{"$f":"IF(OR(C14=\"Reseller\",C14=\"Out of State\",C14=\"OOS\"),\"List Price:\",IF(C14>0.000001,\"List Price with tax:\",\"List Price:\"))","v":"List Price:"},{"$nulls":8},{"$f":"'Order Form'!AA123","v":{"v":0,"d":"$0.00"}}]
[1,null,{"$f":"IFERROR(CONCAT!P1&\" Discount:\",\"\")","v":""},{"$nulls":4},{"$f":"-(H28-'Order Form'!X130)","v":0},{"$nulls":3},{"$f":"IF(C29=\"\",0,L32-L28-L31)","v":{"v":0,"d":"$0.00"}}]
[1,null,"Sub Total:",{"$nulls":8},{"$f":"L28+L29","v":{"v":0,"d":"$0.00"}}]
[1,null,"Delivery:",{"$nulls":8},{"$f":"'Order Form'!N118","v":{"v":0,"d":"$0.00"}}]
[1,null,"Your Price:",{"$nulls":4},{"$f":"'Order Form'!X130","v":0},{"$nulls":3},{"$f":"'Order Form'!N122","v":{"v":0,"d":"$0.00"}}]
[1]
[1,null,"ADDITIONAL OPTIONS - "]
[1]
[1]
[1]
[1]
[1]
[1]
[1]
[1]
[1]
[1]
[1]
[1]
[1,null,"Appliances-"]
[1]
[1]
[1]
[1]
[1]
[1]
[1]
[1,{"$nulls":9},"Total:",{"$f":"L32+SUM(L35:M53)","v":{"v":0,"d":"$0.00"}}]
[]
[null,null,"Once this document is signed, changes will no longer be accepted. \nALL add-ons will need to be on a separate order and will generate a new lead time. "]
[]
[1]
[1]
[1,null,null,"Customer Approval:",{"$nulls":6},"Date: "]
[1]
[1,"All Sales Final, ",{"$nulls":4},"*Pricing and lead time subject to and reliant upon customer supplied information, including but not limited to appliance specifications and room measurements. "]
[1,"Quote is good for 30 days from printed date "]
[2]
[2,"Itemized List"]
[2,"Item","Qty","Item Notes",{"$nulls":5},"Item Continued","Qty","Item Notes"]
[2,{"$f":"UPPER('Order Form'!C25)","v":"TOUCH UP"},{"$f":"'Order Form'!D25","v":1},{"$f":"UPPER('Order Form'!J25&'Order Form'!AM25&'Order Form'!AN25&'Order Form'!AO25)","v":""},{"$nulls":5},{"$f":"UPPER('Order Form'!C70)","v":""},{"$f":"'Order Form'!D70","v":0},{"$f":"UPPER('Order Form'!J70&'Order Form'!AM70&'Order Form'!AN70&'Order Form'!AO70)","v":""}]
[2,{"$f":"UPPER('Order Form'!C26)","v":""},{"$f":"'Order Form'!D26","v":0},{"$f":"UPPER('Order Form'!J26&'Order Form'!AM26&'Order Form'!AN26&'Order Form'!AO26)","v":""},{"$nulls":5},{"$f":"UPPER('Order Form'!C71)","v":""},{"$f":"'Order Form'!D71","v":0},{"$f":"UPPER('Order Form'!J71&'Order Form'!AM71&'Order Form'!AN71&'Order Form'!AO71)","v":""}]
[2,{"$f":"UPPER('Order Form'!C27)","v":""},{"$f":"'Order Form'!D27","v":0},{"$f":"UPPER('Order Form'!J27&'Order Form'!AM27&'Order Form'!AN27&'Order Form'!AO27)","v":""},{"$nulls":5},{"$f":"UPPER('Order Form'!C72)","v":""},{"$f":"'Order Form'!D72","v":0},{"$f":"UPPER('Order Form'!J72&'Order Form'!AM72&'Order Form'!AN72&'Order Form'!AO72)","v":""}]
[2,{"$f":"UPPER('Order Form'!C28)","v":""},{"$f":"'Order Form'!D28","v":0},{"$f":"UPPER('Order Form'!J28&'Order Form'!AM28&'Order Form'!AN28&'Order Form'!AO28)","v":""},{"$nulls":5},{"$f":"UPPER('Order Form'!C73)","v":""},{"$f":"'Order Form'!D73","v":0},{"$f":"UPPER('Order Form'!J73&'Order Form'!AM73&'Order Form'!AN73&'Order Form'!AO73)","v":""}]
[2,{"$f":"UPPER('Order Form'!C29)","v":""},{"$f":"'Order Form'!D29","v":0},{"$f":"UPPER('Order Form'!J29&'Order Form'!AM29&'Order Form'!AN29&'Order Form'!AO29)","v":""},{"$nulls":5},{"$f":"UPPER('Order Form'!C74)","v":""},{"$f":"'Order Form'!D74","v":0},{"$f":"UPPER('Order Form'!J74&'Order Form'!AM74&'Order Form'!AN74&'Order Form'!AO74)","v":""}]
[2,{"$f":"UPPER('Order Form'!C30)","v":""},{"$f":"'Order Form'!D30","v":0},{"$f":"UPPER('Order Form'!J30&'Order Form'!AM30&'Order Form'!AN30&'Order Form'!AO30)","v":""},{"$nulls":5},{"$f":"UPPER('Order Form'!C75)","v":""},{"$f":"'Order Form'!D75","v":0},{"$f":"UPPER('Order Form'!J75&'Order Form'!AM75&'Order Form'!AN75&'Order Form'!AO75)","v":""}]
[2,{"$f":"UPPER('Order Form'!C31)","v":""},{"$f":"'Order Form'!D31","v":0},{"$f":"UPPER('Order Form'!J31&'Order Form'!AM31&'Order Form'!AN31&'Order Form'!AO31)","v":""},{"$nulls":5},{"$f":"UPPER('Order Form'!C76)","v":""},{"$f":"'Order Form'!D76","v":0},{"$f":"UPPER('Order Form'!J76&'Order Form'!AM76&'Order Form'!AN76&'Order Form'!AO76)","v":""}]
[2,{"$f":"UPPER('Order Form'!C32)","v":""},{"$f":"'Order Form'!D32","v":0},{"$f":"UPPER('Order Form'!J32&'Order Form'!AM32&'Order Form'!AN32&'Order Form'!AO32)","v":""},{"$nulls":5},{"$f":"UPPER('Order Form'!C77)","v":""},{"$f":"'Order Form'!D77","v":0},{"$f":"UPPER('Order Form'!J77&'Order Form'!AM77&'Order Form'!AN77&'Order Form'!AO77)","v":""}]
[2,{"$f":"UPPER('Order Form'!C33)","v":""},{"$f":"'Order Form'!D33","v":0},{"$f":"UPPER('Order Form'!J33&'Order Form'!AM33&'Order Form'!AN33&'Order Form'!AO33)","v":""},{"$nulls":5},{"$f":"UPPER('Order Form'!C78)","v":""},{"$f":"'Order Form'!D78","v":0},{"$f":"UPPER('Order Form'!J78&'Order Form'!AM78&'Order Form'!AN78&'Order Form'!AO78)","v":""}]
[2,{"$f":"UPPER('Order Form'!C34)","v":""},{"$f":"'Order Form'!D34","v":0},{"$f":"UPPER('Order Form'!J34&'Order Form'!AM34&'Order Form'!AN34&'Order Form'!AO34)","v":""},{"$nulls":5},{"$f":"UPPER('Order Form'!C79)","v":""},{"$f":"'Order Form'!D79","v":0},{"$f":"UPPER('Order Form'!J79&'Order Form'!AM79&'Order Form'!AN79&'Order Form'!AO79)","v":""}]
[2,{"$f":"UPPER('Order Form'!C35)","v":""},{"$f":"'Order Form'!D35","v":0},{"$f":"UPPER('Order Form'!J35&'Order Form'!AM35&'Order Form'!AN35&'Order Form'!AO35)","v":""},{"$nulls":5},{"$f":"UPPER('Order Form'!C80)","v":""},{"$f":"'Order Form'!D80","v":0},{"$f":"UPPER('Order Form'!J80&'Order Form'!AM80&'Order Form'!AN80&'Order Form'!AO80)","v":""}]
[2,{"$f":"UPPER('Order Form'!C36)","v":""},{"$f":"'Order Form'!D36","v":0},{"$f":"UPPER('Order Form'!J36&'Order Form'!AM36&'Order Form'!AN36&'Order Form'!AO36)","v":""},{"$nulls":5},{"$f":"UPPER('Order Form'!C81)","v":""},{"$f":"'Order Form'!D81","v":0},{"$f":"UPPER('Order Form'!J81&'Order Form'!AM81&'Order Form'!AN81&'Order Form'!AO81)","v":""}]
[2,{"$f":"UPPER('Order Form'!C37)","v":""},{"$f":"'Order Form'!D37","v":0},{"$f":"UPPER('Order Form'!J37&'Order Form'!AM37&'Order Form'!AN37&'Order Form'!AO37)","v":""},{"$nulls":5},{"$f":"UPPER('Order Form'!C82)","v":""},{"$f":"'Order Form'!D82","v":0},{"$f":"UPPER('Order Form'!J82&'Order Form'!AM82&'Order Form'!AN82&'Order Form'!AO82)","v":""}]
[2,{"$f":"UPPER('Order Form'!C38)","v":""},{"$f":"'Order Form'!D38","v":0},{"$f":"UPPER('Order Form'!J38&'Order Form'!AM38&'Order Form'!AN38&'Order Form'!AO38)","v":""},{"$nulls":5},{"$f":"UPPER('Order Form'!C83)","v":""},{"$f":"'Order Form'!D83","v":0},{"$f":"UPPER('Order Form'!J83&'Order Form'!AM83&'Order Form'!AN83&'Order Form'!AO83)","v":""}]
[2,{"$f":"UPPER('Order Form'!C39)","v":""},{"$f":"'Order Form'!D39","v":0},{"$f":"UPPER('Order Form'!J39&'Order Form'!AM39&'Order Form'!AN39&'Order Form'!AO39)","v":""},{"$nulls":5},{"$f":"UPPER('Order Form'!C84)","v":""},{"$f":"'Order Form'!D84","v":0},{"$f":"UPPER('Order Form'!J84&'Order Form'!AM84&'Order Form'!AN84&'Order Form'!AO84)","v":""}]
[2,{"$f":"UPPER('Order Form'!C40)","v":""},{"$f":"'Order Form'!D40","v":0},{"$f":"UPPER('Order Form'!J40&'Order Form'!AM40&'Order Form'!AN40&'Order Form'!AO40)","v":""},{"$nulls":5},{"$f":"UPPER('Order Form'!C85)","v":""},{"$f":"'Order Form'!D85","v":0},{"$f":"UPPER('Order Form'!J85&'Order Form'!AM85&'Order Form'!AN85&'Order Form'!AO85)","v":""}]
[2,{"$f":"UPPER('Order Form'!C41)","v":""},{"$f":"'Order Form'!D41","v":0},{"$f":"UPPER('Order Form'!J41&'Order Form'!AM41&'Order Form'!AN41&'Order Form'!AO41)","v":""},{"$nulls":5},{"$f":"UPPER('Order Form'!C86)","v":""},{"$f":"'Order Form'!D86","v":0},{"$f":"UPPER('Order Form'!J86&'Order Form'!AM86&'Order Form'!AN86&'Order Form'!AO86)","v":""}]
[2,{"$f":"UPPER('Order Form'!C42)","v":""},{"$f":"'Order Form'!D42","v":0},{"$f":"UPPER('Order Form'!J42&'Order Form'!AM42&'Order Form'!AN42&'Order Form'!AO42)","v":""},{"$nulls":5},{"$f":"UPPER('Order Form'!C87)","v":""},{"$f":"'Order Form'!D87","v":0},{"$f":"UPPER('Order Form'!J87&'Order Form'!AM87&'Order Form'!AN87&'Order Form'!AO87)","v":""}]
[2,{"$f":"UPPER('Order Form'!C43)","v":""},{"$f":"'Order Form'!D43","v":0},{"$f":"UPPER('Order Form'!J43&'Order Form'!AM43&'Order Form'!AN43&'Order Form'!AO43)","v":""},{"$nulls":5},{"$f":"UPPER('Order Form'!C88)","v":""},{"$f":"'Order Form'!D88","v":0},{"$f":"UPPER('Order Form'!J88&'Order Form'!AM88&'Order Form'!AN88&'Order Form'!AO88)","v":""}]
[2,{"$f":"UPPER('Order Form'!C44)","v":""},{"$f":"'Order Form'!D44","v":0},{"$f":"UPPER('Order Form'!J44&'Order Form'!AM44&'Order Form'!AN44&'Order Form'!AO44)","v":""},{"$nulls":5},{"$f":"UPPER('Order Form'!C89)","v":""},{"$f":"'Order Form'!D89","v":0},{"$f":"UPPER('Order Form'!J89&'Order Form'!AM89&'Order Form'!AN89&'Order Form'!AO89)","v":""}]
[2,{"$f":"UPPER('Order Form'!C45)","v":""},{"$f":"'Order Form'!D45","v":0},{"$f":"UPPER('Order Form'!J45&'Order Form'!AM45&'Order Form'!AN45&'Order Form'!AO45)","v":""},{"$nulls":5},{"$f":"UPPER('Order Form'!C90)","v":""},{"$f":"'Order Form'!D90","v":0},{"$f":"UPPER('Order Form'!J90&'Order Form'!AM90&'Order Form'!AN90&'Order Form'!AO90)","v":""}]
[2,{"$f":"UPPER('Order Form'!C46)","v":""},{"$f":"'Order Form'!D46","v":0},{"$f":"UPPER('Order Form'!J46&'Order Form'!AM46&'Order Form'!AN46&'Order Form'!AO46)","v":""},{"$nulls":5},{"$f":"UPPER('Order Form'!C91)","v":""},{"$f":"'Order Form'!D91","v":0},{"$f":"UPPER('Order Form'!J91&'Order Form'!AM91&'Order Form'!AN91&'Order Form'!AO91)","v":""}]
[2,{"$f":"UPPER('Order Form'!C47)","v":""},{"$f":"'Order Form'!D47","v":0},{"$f":"UPPER('Order Form'!J47&'Order Form'!AM47&'Order Form'!AN47&'Order Form'!AO47)","v":""},{"$nulls":5},{"$f":"UPPER('Order Form'!C92)","v":""},{"$f":"'Order Form'!D92","v":0},{"$f":"UPPER('Order Form'!J92&'Order Form'!AM92&'Order Form'!AN92&'Order Form'!AO92)","v":""}]
[2,{"$f":"UPPER('Order Form'!C48)","v":""},{"$f":"'Order Form'!D48","v":0},{"$f":"UPPER('Order Form'!J48&'Order Form'!AM48&'Order Form'!AN48&'Order Form'!AO48)","v":""},{"$nulls":5},{"$f":"UPPER('Order Form'!C93)","v":""},{"$f":"'Order Form'!D93","v":0},{"$f":"UPPER('Order Form'!J93&'Order Form'!AM93&'Order Form'!AN93&'Order Form'!AO93)","v":""}]
[2,{"$f":"UPPER('Order Form'!C49)","v":""},{"$f":"'Order Form'!D49","v":0},{"$f":"UPPER('Order Form'!J49&'Order Form'!AM49&'Order Form'!AN49&'Order Form'!AO49)","v":""},{"$nulls":5},{"$f":"UPPER('Order Form'!C94)","v":""},{"$f":"'Order Form'!D94","v":0},{"$f":"UPPER('Order Form'!J94&'Order Form'!AM94&'Order Form'!AN94&'Order Form'!AO94)","v":""}]
[2,{"$f":"UPPER('Order Form'!C50)","v":""},{"$f":"'Order Form'!D50","v":0},{"$f":"UPPER('Order Form'!J50&'Order Form'!AM50&'Order Form'!AN50&'Order Form'!AO50)","v":""},{"$nulls":5},{"$f":"UPPER('Order Form'!C95)","v":""},{"$f":"'Order Form'!D95","v":0},{"$f":"UPPER('Order Form'!J95&'Order Form'!AM95&'Order Form'!AN95&'Order Form'!AO95)","v":""}]
[2,{"$f":"UPPER('Order Form'!C51)","v":""},{"$f":"'Order Form'!D51","v":0},{"$f":"UPPER('Order Form'!J51&'Order Form'!AM51&'Order Form'!AN51&'Order Form'!AO51)","v":""},{"$nulls":5},{"$f":"UPPER('Order Form'!C96)","v":""},{"$f":"'Order Form'!D96","v":0},{"$f":"UPPER('Order Form'!J96&'Order Form'!AM96&'Order Form'!AN96&'Order Form'!AO96)","v":""}]
[2,{"$f":"UPPER('Order Form'!C52)","v":""},{"$f":"'Order Form'!D52","v":0},{"$f":"UPPER('Order Form'!J52&'Order Form'!AM52&'Order Form'!AN52&'Order Form'!AO52)","v":""},{"$nulls":5},{"$f":"UPPER('Order Form'!C97)","v":""},{"$f":"'Order Form'!D97","v":0},{"$f":"UPPER('Order Form'!J97&'Order Form'!AM97&'Order Form'!AN97&'Order Form'!AO97)","v":""}]
[2,{"$f":"UPPER('Order Form'!C53)","v":""},{"$f":"'Order Form'!D53","v":0},{"$f":"UPPER('Order Form'!J53&'Order Form'!AM53&'Order Form'!AN53&'Order Form'!AO53)","v":""},{"$nulls":5},{"$f":"UPPER('Order Form'!C98)","v":""},{"$f":"'Order Form'!D98","v":0},{"$f":"UPPER('Order Form'!J98&'Order Form'!AM98&'Order Form'!AN98&'Order Form'!AO98)","v":""}]
[2,{"$f":"UPPER('Order Form'!C54)","v":""},{"$f":"'Order Form'!D54","v":0},{"$f":"UPPER('Order Form'!J54&'Order Form'!AM54&'Order Form'!AN54&'Order Form'!AO54)","v":""},{"$nulls":5},{"$f":"UPPER('Order Form'!C99)","v":""},{"$f":"'Order Form'!D99","v":0},{"$f":"UPPER('Order Form'!J99&'Order Form'!AM99&'Order Form'!AN99&'Order Form'!AO99)","v":""}]
[2,{"$f":"UPPER('Order Form'!C55)","v":""},{"$f":"'Order Form'!D55","v":0},{"$f":"UPPER('Order Form'!J55&'Order Form'!AM55&'Order Form'!AN55&'Order Form'!AO55)","v":""},{"$nulls":5},{"$f":"UPPER('Order Form'!C100)","v":""},{"$f":"'Order Form'!D100","v":0},{"$f":"UPPER('Order Form'!J100&'Order Form'!AM100&'Order Form'!AN100&'Order Form'!AO100)","v":""}]
[2,{"$f":"UPPER('Order Form'!C56)","v":""},{"$f":"'Order Form'!D56","v":0},{"$f":"UPPER('Order Form'!J56&'Order Form'!AM56&'Order Form'!AN56&'Order Form'!AO56)","v":""},{"$nulls":5},{"$f":"UPPER('Order Form'!C101)","v":""},{"$f":"'Order Form'!D101","v":0},{"$f":"UPPER('Order Form'!J101&'Order Form'!AM101&'Order Form'!AN101&'Order Form'!AO101)","v":""}]
[2,{"$f":"UPPER('Order Form'!C57)","v":""},{"$f":"'Order Form'!D57","v":0},{"$f":"UPPER('Order Form'!J57&'Order Form'!AM57&'Order Form'!AN57&'Order Form'!AO57)","v":""},{"$nulls":5},{"$f":"UPPER('Order Form'!C102)","v":""},{"$f":"'Order Form'!D102","v":0},{"$f":"UPPER('Order Form'!J102&'Order Form'!AM102&'Order Form'!AN102&'Order Form'!AO102)","v":""}]
[2,{"$f":"UPPER('Order Form'!C58)","v":""},{"$f":"'Order Form'!D58","v":0},{"$f":"UPPER('Order Form'!J58&'Order Form'!AM58&'Order Form'!AN58&'Order Form'!AO58)","v":""},{"$nulls":5},{"$f":"UPPER('Order Form'!C103)","v":""},{"$f":"'Order Form'!D103","v":0},{"$f":"UPPER('Order Form'!J103&'Order Form'!AM103&'Order Form'!AN103&'Order Form'!AO103)","v":""}]
[2,{"$f":"UPPER('Order Form'!C59)","v":""},{"$f":"'Order Form'!D59","v":0},{"$f":"UPPER('Order Form'!J59&'Order Form'!AM59&'Order Form'!AN59&'Order Form'!AO59)","v":""},{"$nulls":5},{"$f":"UPPER('Order Form'!C104)","v":""},{"$f":"'Order Form'!D104","v":0},{"$f":"UPPER('Order Form'!J104&'Order Form'!AM104&'Order Form'!AN104&'Order Form'!AO104)","v":""}]
[2,{"$f":"UPPER('Order Form'!C60)","v":""},{"$f":"'Order Form'!D60","v":0},{"$f":"UPPER('Order Form'!J60&'Order Form'!AM60&'Order Form'!AN60&'Order Form'!AO60)","v":""},{"$nulls":5},{"$f":"UPPER('Order Form'!C105)","v":""},{"$f":"'Order Form'!D105","v":0},{"$f":"UPPER('Order Form'!J105&'Order Form'!AM105&'Order Form'!AN105&'Order Form'!AO105)","v":""}]
[2,{"$f":"UPPER('Order Form'!C61)","v":""},{"$f":"'Order Form'!D61","v":0},{"$f":"UPPER('Order Form'!J61&'Order Form'!AM61&'Order Form'!AN61&'Order Form'!AO61)","v":""},{"$nulls":5},{"$f":"UPPER('Order Form'!C106)","v":""},{"$f":"'Order Form'!D106","v":0},{"$f":"UPPER('Order Form'!J106&'Order Form'!AM106&'Order Form'!AN106&'Order Form'!AO106)","v":""}]
[2,{"$f":"UPPER('Order Form'!C62)","v":""},{"$f":"'Order Form'!D62","v":0},{"$f":"UPPER('Order Form'!J62&'Order Form'!AM62&'Order Form'!AN62&'Order Form'!AO62)","v":""},{"$nulls":5},{"$f":"UPPER('Order Form'!C107)","v":""},{"$f":"'Order Form'!D107","v":0},{"$f":"UPPER('Order Form'!J107&'Order Form'!AM107&'Order Form'!AN107&'Order Form'!AO107)","v":""}]
[2,{"$f":"UPPER('Order Form'!C63)","v":""},{"$f":"'Order Form'!D63","v":0},{"$f":"UPPER('Order Form'!J63&'Order Form'!AM63&'Order Form'!AN63&'Order Form'!AO63)","v":""},{"$nulls":5},{"$f":"UPPER('Order Form'!C108)","v":""},{"$f":"'Order Form'!D108","v":0},{"$f":"UPPER('Order Form'!J108&'Order Form'!AM108&'Order Form'!AN108&'Order Form'!AO108)","v":""}]
[2,{"$f":"UPPER('Order Form'!C64)","v":""},{"$f":"'Order Form'!D64","v":0},{"$f":"UPPER('Order Form'!J64&'Order Form'!AM64&'Order Form'!AN64&'Order Form'!AO64)","v":""},{"$nulls":5},{"$f":"UPPER('Order Form'!C109)","v":""},{"$f":"'Order Form'!D109","v":0},{"$f":"UPPER('Order Form'!J109&'Order Form'!AM109&'Order Form'!AN109&'Order Form'!AO109)","v":""}]
[2,{"$f":"UPPER('Order Form'!C65)","v":""},{"$f":"'Order Form'!D65","v":0},{"$f":"UPPER('Order Form'!J65&'Order Form'!AM65&'Order Form'!AN65&'Order Form'!AO65)","v":""},{"$nulls":5},{"$f":"UPPER('Order Form'!C110)","v":""},{"$f":"'Order Form'!D110","v":0},{"$f":"UPPER('Order Form'!J110&'Order Form'!AM110&'Order Form'!AN110&'Order Form'!AO110)","v":""}]
[2,{"$f":"UPPER('Order Form'!C66)","v":""},{"$f":"'Order Form'!D66","v":0},{"$f":"UPPER('Order Form'!J66&'Order Form'!AM66&'Order Form'!AN66&'Order Form'!AO66)","v":""},{"$nulls":5},{"$f":"UPPER('Order Form'!C111)","v":""},{"$f":"'Order Form'!D111","v":0},{"$f":"UPPER('Order Form'!J111&'Order Form'!AM111&'Order Form'!AN111&'Order Form'!AO111)","v":""}]
[2,{"$f":"UPPER('Order Form'!C67)","v":""},{"$f":"'Order Form'!D67","v":0},{"$f":"UPPER('Order Form'!J67&'Order Form'!AM67&'Order Form'!AN67&'Order Form'!AO67)","v":""},{"$nulls":5},{"$f":"UPPER('Order Form'!C112)","v":""},{"$f":"'Order Form'!D112","v":0},{"$f":"UPPER('Order Form'!J112&'Order Form'!AM112&'Order Form'!AN112&'Order Form'!AO112)","v":""}]
[2,{"$f":"UPPER('Order Form'!C68)","v":""},{"$f":"'Order Form'!D68","v":0},{"$f":"UPPER('Order Form'!J68&'Order Form'!AM68&'Order Form'!AN68&'Order Form'!AO68)","v":""},{"$nulls":5},{"$f":"UPPER('Order Form'!C113)","v":""},{"$f":"'Order Form'!D113","v":0},{"$f":"UPPER('Order Form'!J113&'Order Form'!AM113&'Order Form'!AN113&'Order Form'!AO113)","v":""}]
[2,{"$f":"UPPER('Order Form'!C69)","v":""},{"$f":"'Order Form'!D69","v":0},{"$f":"UPPER('Order Form'!J69&'Order Form'!AM69&'Order Form'!AN69&'Order Form'!AO69)","v":""},{"$nulls":5},{"$f":"UPPER('Order Form'!C114)","v":""},{"$f":"'Order Form'!D114","v":0},{"$f":"UPPER('Order Form'!J114&'Order Form'!AM114&'Order Form'!AN114&'Order Form'!AO114)","v":""}]
[2]
[2]
[2,{"$nulls":8},"*Pricing and lead time subject to and reliant upon customer supplied information, including but not limited to appliance specifications and room measurements. "]
[2,"All Sales Final, "]
[2,"Quote is good for 30 days from printed date "]

{"sheet":"Install Calc","index":3,"n_rows":49,"n_cols":17,"rows_kept":49,"hidden":true,"merged":[[1,1,3,9],[4,1,4,9],[6,6,6,8],[8,6,8,8],[9,6,9,8],[10,6,10,8],[14,2,14,3],[15,2,15,3],[16,2,16,3],[17,2,17,3],[18,2,18,3],[19,2,19,3],[20,2,20,3],[21,2,21,3],[22,2,22,3],[23,2,23,3],[24,2,24,3],[25,2,25,3],[28,12,28,13],[29,3,29,5],[30,2,30,7],[31,2,31,7],[32,2,32,7],[33,2,33,7],[35,6,35,7],[40,1,40,9],[41,1,41,9],[42,1,42,9],[43,1,43,9],[44,1,44,9],[45,1,45,9],[46,1,46,9],[47,1,47,9]]}
[]
[]
[]
[]
[null,"Cabinet Install Worksheet"]
[]
[null,"Customer PO",{"$f":"IF('Order Form'!K4=\"\",\"\",'Order Form'!K4)","v":""},null,null,"Date of Install"]
[null,"SO #"]
[null,"Contact Name: ",{"$f":"IF('Order Form'!K2=\"\",\"\",'Order Form'!K2)","v":""},null,null,"Ship to Address",{"$f":"IF('Misc Dropdowns'!$K$3=TRUE,'Order Form'!$D$8,IF('Order Form'!$M$8=\"\",\"\",'Order Form'!$M$8))","v":""}]
[null,"Phone:",{"$f":"IF('Order Form'!K5=\"\",\"\",'Order Form'!K5)","v":""},{"$nulls":3},{"$f":"IF('Misc Dropdowns'!$K$3=TRUE,'Order Form'!$D$9,IF('Order Form'!$M$9=\"\",\"\",'Order Form'!$M$9))","v":""}]
[null,"Email:",{"$f":"IF('Order Form'!K6=\"\",\"\",'Order Form'!K6)","v":""},{"$nulls":3},{"$f":"IF('Misc Dropdowns'!$K$3=TRUE,'Order Form'!$D$10&\", \"&'Order Form'!$D$11&\" \"&'Order Form'!$D$12,IF('Order Form'!$M$10=\"\",\"\",'Order Form'!$M$10&\", \"&'Order Form'!$M$11&\" \"&'Order Form'!$M$12))","v":""}]
[{"$nulls":13},"For office use, will not print"]
[]
[null,null,"Item",null,null,"Qty",{"$nulls":7},"Price Per","Totals"]
[null,null,"Base, Wall and Vanity Boxes",{"$nulls":3},"6 box min.",{"$nulls":6},{"v":80,"d":"$80"},{"$f":"IF(F15>0,N15*(IF(F15>6,F15,6)),\"\")","v":""}]
[null,null,"Tall Boxes",{"$nulls":10},{"v":140,"d":"$140"},{"$f":"IF(F16>=1,F16*N16,\"\")","v":""}]
[null,null,"Crown Molding",{"$nulls":10},{"v":70,"d":"$70"},""]
[null,null,"Panels",{"$nulls":10},{"v":70,"d":"$70"},""]
[null,null,"Skins",{"$nulls":10},{"v":15,"d":"$15"},""]
[null,null,"Corbels",{"$nulls":10},{"v":10,"d":"$10"},""]
[null,null,"Extra Hours (per man hour)",{"$nulls":10},{"v":90,"d":"$90.00"},""]
[null,null,"Hardware (per hole)",{"$nulls":10},{"v":5,"d":"$5.00"},""]
[null,null,"Tear Out --- sq. ft. of Countertop",{"$nulls":10},{"v":10,"d":"$10.00"},""]
[null,null,"Tear Out ---- # of boxes",{"$nulls":10},{"v":20,"d":"$20"},""]
[null,null,"Miles from Shop to Jobsite\n (one way road miles)",{"$nulls":10},{"v":2,"d":"$2"},""]
[null,null,"Extras ?",{"$nulls":11},{"$f":"IF(F26>=1,F26*N26,\"\")","v":""}]
[]
[]
[{"$nulls":12},"Total:",null,{"$f":"IF(SUM(O15:O26)=0,0,IF(SUM(O15:O26)<480,480,SUM(O15:O26)))","v":{"v":0,"d":"$0.00"}},null,"Minimum of $480"]
[null,null,"Notes: "]
[null,null," "]
[]
[]
[]
[]
[null,"Salesperson",{"$f":"IF('Order Form'!O3=\"\",\"\",'Order Form'!O3)","v":""},null,null,"Installer"]
[]
[]
[]
[]
[null,"Assumptions And Responsibilities of Installer:"]
[null,"Proper measures will be taken to prevent damage to clients flooring."]
[null,"Any changes to plan or this summary need to be documented by change-order, and sales person must be informed."]
[null,"Installer and sales person should work together in order to ensure mutual understanding of job requirements and special details."]
[null,"Installer is responsible for damage caused by neglect. "]
[null,"Sink disconnect included in counter tear out. Appliance disconnect included with cabinet tear out. "]
[null,"Disclaimer: "]
[null,"In the event of unforeseen hazards or issues uncovered during tear out, tear out will be halted until the client approves the installers proposed course of action (and increase in cost, if applicable). Founder's Choice is not responsible for paint, drywall, wall coverings or baseboard moldings, unless otherwise noted. "]
[null,{"$f":"\"Print Date: \"& TEXT(TODAY(), \"mm/dd/yy\")","v":"Print Date: 07/16/18"},{"$nulls":7},{"$f":"'Order Form'!M129","v":"Revision Date: 7.16.2018"}]

{"sheet":"Install Bid","index":4,"n_rows":50,"n_cols":9,"rows_kept":50,"hidden":true,"merged":[[0,0,2,8],[3,0,3,8],[5,2,5,3],[5,5,5,6],[6,2,6,3],[6,5,6,7],[7,2,7,3],[7,5,7,7],[8,2,8,3],[8,5,8,7],[9,2,9,3],[10,6,10,7],[11,1,11,7],[12,1,12,7],[13,1,13,7],[14,1,14,7],[15,1,15,7],[16,1,16,7],[31,1,31,7],[33,1,36,7],[44,3,44,5],[47,1,47,6],[48,0,48,8]]}
[]
[]
[]
[" Cabinet Installation Quote "]
[]
[null,"Customer",{"$f":"IF('Order Form'!K2=\"\",\"\",'Order Form'!K2)","v":""},null,"Sales Rep",{"$f":"IF('Order Form'!O3=\"\",\"\",'Order Form'!O3)","v":""}]
[null,"Contact Name",{"$f":"IF('Order Form'!K3=\"\",\"\",'Order Form'!K3)","v":""},null,"Delivery Address",{"$f":"IF('Misc Dropdowns'!$K$3=TRUE,'Order Form'!$D$8,IF('Order Form'!$M$8=\"\",\"\",'Order Form'!$M$8))","v":""}]
[null,"Cust PO",{"$f":"IF('Order Form'!$K$4=\"\",\"\",'Order Form'!$K$4)","v":""},null,null,{"$f":"IF('Misc Dropdowns'!$K$3=TRUE,'Order Form'!$D$9,IF('Order Form'!$M$9=\"\",\"\",'Order Form'!$M$9))","v":""}]
[null,"Email",{"$f":"IF('Order Form'!K6=\"\",\"\",'Order Form'!K6)","v":""},null,null,{"$f":"IF('Misc Dropdowns'!$K$3=TRUE,'Order Form'!$D$10&\", \"&'Order Form'!$D$11&\" \"&'Order Form'!$D$12,IF('Order Form'!$M$10=\"\",\"\",'Order Form'!$M$10&\", \"&'Order Form'!$M$11&\" \"&'Order Form'!$M$12))","v":""}]
[null,"Phone #",{"$f":"IF('Order Form'!K5=\"\",\"\",'Order Form'!K5)","v":""}]
{"$rows_empty":10}
[null,"Install Includes:"]
[]
[null,"•Setting and securing all cabinets, corbels, and trim moldings in place for day to day use. "]
[null,"•Cabinet tops will be made flat in order to facilitate installation of countertops."]
[null,{"$f":"IF('Install Calc'!F24>1,\"•Tear out of existing Cabinets\",\" \")","v":" "}]
[null,{"$f":"IF('Install Calc'!F23>1,\"•Tear out of existing Countertops\",\"\")","v":""}]
[]
[null,"Not covered in this agreement:"]
[]
[null,"•Abnormalities uncovered by tear out"]
[null,"•Any and all plumbing or electrical work "]
[null,"•Hardware not supplied by Founder's Choice will be installed by Founder's Choice on an hourly basis. "]
[null,"•Any moving, arranging, placing or installation of appliances."]
[null,"•Founder's Choice will disconnect water and drain lines from the sink, however there are times that water lines will slowly drip, we cannot be held responsible for this or other plumbing issues."]
[]
[]
[]
[]
[]
[null,null,"Installation Price:",{"$f":"('Install Calc'!O29)","v":{"v":0,"d":"$0.00"}}]
[null,"Tax:",{"$f":"'Order Form'!D13","v":{"v":0,"d":"0.0%"}},{"$f":"IF(OR(C41=\"RESELLER\",C41=\"Out of State\",C41=\"OOS\"),0,('Install Calc'!O29)*C41)","v":{"v":0,"d":"$0.00"}}]
[null,null,"Total Installation Price:",{"$f":"D40+D41","v":{"v":0,"d":"$0.00"}}]
[]
[]
[null,null,"Customer Approval",{"$nulls":3},"Date"]
[]
[]
[]
["In the event of unforeseen hazards or issues uncovered during tear out: tear out will be halted until the client approves the installers proposed course of action (and increase in cost, if applicable). Founder's Choice is not responsible for paint, drywall, wall coverings or baseboard moldings, unless otherwise stated in writing. "]
[{"$f":"\"Print Date: \"& TEXT(TODAY(), \"mm/dd/yy\")","v":"Print Date: 07/16/18"},{"$nulls":7},{"$f":"'Order Form'!M129","v":"Revision Date: 7.16.2018"}]

{"sheet":"Items","index":5,"n_rows":736,"n_cols":32,"rows_kept":736}
[{"$nulls":6},1.46,"Everything else"]
[{"$nulls":6},1.59,"VB, LS,WOS"]
["Items","Description","Select List Price\n(Craftsman List Price Varies by Selection)","Order From Default by Item","PB Eligible","Select Price","Craftsman Price","IF Pull","Color Like this Prefix","Prefix","Suffix","Drawing Needed ","Full Cabinet","Sage Sku","Boxes","Qty","Frame Pre Concate","Frame","Qty","Accessory","Qty","Drawer Guide","Qty",null,"Select Price","Craftsman Price",null,"Select color","Craftsman Color","Show on Items Tab?","Tall Cabinet Applied Skin","Grouping"]
["2DFC18","2 Drawer File Cabinet 18\"",{"v":479,"d":"$479.00"},3,null,null,{"$f":"C4*$G$1*'Order Form'!$S$18*(Color!$D$6+'Door Style'!$G$6+Species!$C$6+'Drawer Head'!$E$6+'Custom Finish'!$C$6)","v":{"$error":"#VALUE!"}},null,"SC/PC","01-",{"$f":"CONCAT!$D$8","v":""},null,1,{"$f":"J4&A4&K4","v":"01-2DFC18"},"11-2DFC18",1,"12-2DFC18",{"$f":"Q4&K4","v":"12-2DFC18"},1,null,null,"DG 18IN VANITY SET-DTC",2,null,null,{"$f":"C4*$G$1*1*(Color!$D$6+'Door Style'!$G$6+Species!$C$6+'Drawer Head'!$E$6+'Custom Finish'!$C$6)","v":{"$error":"#VALUE!"}},null,"Black","Light Gray",null,"1","Office Components - Cabinet"]
["2DFC21","2 Drawer File Cabinet 21\"",{"v":559,"d":"$559.00"},3,null,null,{"$f":"C5*$G$1*'Order Form'!$S$18*(Color!$D$6+'Door Style'!$G$6+Species!$C$6+'Drawer Head'!$E$6+'Custom Finish'!$C$6)","v":{"$error":"#VALUE!"}},null,"SC/PC","01-",{"$f":"CONCAT!$D$8","v":""},null,1,{"$f":"J5&A5&K5","v":"01-2DFC21"},"11-2DFC21",1,"12-2DFC21",{"$f":"Q5&K5","v":"12-2DFC21"},1,null,null,"DG 18IN VANITY SET-DTC",2,null,null,{"$f":"C5*$G$1*1*(Color!$D$6+'Door Style'!$G$6+Species!$C$6+'Drawer Head'!$E$6+'Custom Finish'!$C$6)","v":{"$error":"#VALUE!"}},null,"Black","Light Gray",null,"1","Office Components - Cabinet"]
["2DFC40","2 Drawer File Cabinet 40\"",{"v":1063,"d":"$1,063.00"},3,null,null,{"$f":"C6*$G$1*'Order Form'!$S$18*(Color!$D$6+'Door Style'!$G$6+Species!$C$6+'Drawer Head'!$E$6+'Custom Finish'!$C$6)","v":{"$error":"#VALUE!"}},null,"SC/PC","01-",{"$f":"CONCAT!$D$8","v":""},null,1,{"$f":"J6&A6&K6","v":"01-2DFC40"},"11-2DFC40",1,"12-2DFC40",{"$f":"Q6&K6","v":"12-2DFC40"},1,null,null,"DG 18IN VANITY SET-BLUM",2,null,null,{"$f":"C6*$G$1*1*(Color!$D$6+'Door Style'!$G$6+Species!$C$6+'Drawer Head'!$E$6+'Custom Finish'!$C$6)","v":{"$error":"#VALUE!"}},null,"Black","Light Gray",null,"1","Office Components - Cabinet"]
["2DVSB36","Vanity Combo Unit 36\"",{"v":567,"d":"$567.00"},2,null,{"$f":"C7*'Order Form'!$S$18*(Color!$C$6+'Door Style'!$H$6)","v":{"$error":"#VALUE!"}},{"$f":"C7*$G$2*'Order Form'!$S$18*(Color!$D$6+'Door Style'!$G$6+Species!$C$6+'Drawer Head'!$E$6+'Custom Finish'!$C$6)","v":{"$error":"#VALUE!"}},null,"01-","01-",{"$f":"CONCAT!$D$2","v":""},null,1,{"$f":"J7&A7&K7","v":"01-2DVSB36"},"11-2DVSB36",1,"12-2DVSB36",{"$f":"Q7&K7","v":"12-2DVSB36"},1,null,null,"DG 18IN VANITY SET-DTC",2,null,{"$f":"C7*1*(Color!$C$6+'Door Style'!$H$6)","v":{"$error":"#VALUE!"}},{"$f":"C7*$G$2*1*(Color!$D$6+'Door Style'!$G$6+Species!$C$6+'Drawer Head'!$E$6+'Custom Finish'!$C$6)","v":{"$error":"#VALUE!"}},null,"Light Blue","Light Yellow",null,"1","Vanity - Combo Units"]
["2DVSB42","Vanity Combo Unit 42\"",{"v":623,"d":"$623.00"},2,null,{"$f":"C8*'Order Form'!$S$18*(Color!$C$6+'Door Style'!$H$6)","v":{"$error":"#VALUE!"}},{"$f":"C8*$G$2*'Order Form'!$S$18*(Color!$D$6+'Door Style'!$G$6+Species!$C$6+'Drawer Head'!$E$6+'Custom Finish'!$C$6)","v":{"$error":"#VALUE!"}},null,"01-","01-",{"$f":"CONCAT!$D$2","v":""},null,1,{"$f":"J8&A8&K8","v":"01-2DVSB42"},"11-2DVSB42",1,"12-2DVSB42",{"$f":"Q8&K8","v":"12-2DVSB42"},1,null,null,"DG 18IN VANITY SET-DTC",2,null,{"$f":"C8*1*(Color!$C$6+'Door Style'!$H$6)","v":{"$error":"#VALUE!"}},{"$f":"C8*$G$2*1*(Color!$D$6+'Door Style'!$G$6+Species!$C$6+'Drawer Head'!$E$6+'Custom Finish'!$C$6)","v":{"$error":"#VALUE!"}},null,"Light Blue","Light Yellow",null,"1","Vanity - Combo Units"]
["3DB12","3 Drawer Base 12\"",{"v":505,"d":"$505.00"},2,null,{"$f":"C9*'Order Form'!$S$18*(Color!$C$6+'Door Style'!$H$6)","v":{"$error":"#VALUE!"}},{"$f":"C9*$G$1*'Order Form'!$S$18*(Color!$D$6+'Door Style'!$G$6+Species!$C$6+'Drawer Head'!$E$6+'Custom Finish'!$C$6)","v":{"$error":"#VALUE!"}},null,"01-","01-",{"$f":"CONCAT!$D$2","v":""},null,1,{"$f":"J9&A9&K9","v":"01-3DB12"},"11-3DB12",1,"12-3DB12",{"$f":"Q9&K9","v":"12-3DB12"},1,null,null,"DG 21IN KITCHEN SET-DTC",3,null,{"$f":"C9*1*(Color!$C$6+'Door Style'!$H$6)","v":{"$error":"#VALUE!"}},{"$f":"C9*$G$1*1*(Color!$D$6+'Door Style'!$G$6+Species!$C$6+'Drawer Head'!$E$6+'Custom Finish'!$C$6)","v":{"$error":"#VALUE!"}},null,"Light Blue","Light Gray",null,"1","Base Cabinet - 3 Drawer Base"]
["3DB13.5","3 Drawer Base 13.5\"",{"v":554,"d":"$554.00"},3,null,null,{"$f":"C10*$G$1*'Order Form'!$S$18*(Color!$D$6+'Door Style'!$G$6+Species!$C$6+'Drawer Head'!$E$6+'Custom Finish'!$C$6)","v":{"$error":"#VALUE!"}},null,"SC/PC","01-",{"$f":"CONCAT!$D$8","v":""},null,1,{"$f":"J10&A10&K10","v":"01-3DB13.5"},"11-3DB13.5",1,"12-3DB13.5",{"$f":"Q10&K10","v":"12-3DB13.5"},1,null,null,"DG 21IN KITCHEN SET-DTC",3,null,null,{"$f":"C10*$G$1*1*(Color!$D$6+'Door Style'!$G$6+Species!$C$6+'Drawer Head'!$E$6+'Custom Finish'!$C$6)","v":{"$error":"#VALUE!"}},null,"Black","Light Gray",null,"1","Base Cabinet - 3 Drawer Base"]
["3DB15","3 Drawer Base 15\"",{"v":551,"d":"$551.00"},2,"PB",{"$f":"C11*'Order Form'!$S$18*(Color!$C$6+'Door Style'!$H$6)","v":{"$error":"#VALUE!"}},{"$f":"C11*$G$1*'Order Form'!$S$18*(Color!$D$6+'Door Style'!$G$6+Species!$C$6+'Drawer Head'!$E$6+'Custom Finish'!$C$6)","v":{"$error":"#VALUE!"}},null,"01-","01-",{"$f":"CONCAT!$D$2","v":""},null,1,{"$f":"J11&A11&K11","v":"01-3DB15"},"11-3DB15",1,"12-3DB15",{"$f":"Q11&K11","v":"12-3DB15"},1,null,null,"DG 21IN KITCHEN SET-DTC",3,null,{"$f":"C11*1*(Color!$C$6+'Door Style'!$H$6)","v":{"$error":"#VALUE!"}},{"$f":"C11*$G$1*1*(Color!$D$6+'Door Style'!$G$6+Species!$C$6+'Drawer Head'!$E$6+'Custom Finish'!$C$6)","v":{"$error":"#VALUE!"}},null,"Light Blue","Light Gray",null,"1","Base Cabinet - 3 Drawer Base"]
["3DB16.5","3 Drawer Base 16.5\"",{"v":601,"d":"$601.00"},3,null,null,{"$f":"C12*$G$1*'Order Form'!$S$18*(Color!$D$6+'Door Style'!$G$6+Species!$C$6+'Drawer Head'!$E$6+'Custom Finish'!$C$6)","v":{"$error":"#VALUE!"}},null,"SC/PC","01-",{"$f":"CONCAT!$D$8","v":""},null,1,{"$f":"J12&A12&K12","v":"01-3DB16.5"},"11-3DB16.5",1,"12-3DB16.5",{"$f":"Q12&K12","v":"12-3DB16.5"},1,null,null,"DG 21IN KITCHEN SET-DTC",3,null,null,{"$f":"C12*$G$1*1*(Color!$D$6+'Door Style'!$G$6+Species!$C$6+'Drawer Head'!$E$6+'Custom Finish'!$C$6)","v":{"$error":"#VALUE!"}},null,"Black","Light Gray",null,"1","Base Cabinet - 3 Drawer Base"]
["3DB18","3 Drawer Base 18\"",{"v":597,"d":"$597.00"},2,"PB",{"$f":"C13*'Order Form'!$S$18*(Color!$C$6+'Door Style'!$H$6)","v":{"$error":"#VALUE!"}},{"$f":"C13*$G$1*'Order Form'!$S$18*(Color!$D$6+'Door Style'!$G$6+Species!$C$6+'Drawer Head'!$E$6+'Custom Finish'!$C$6)","v":{"$error":"#VALUE!"}},null,"01-","01-",{"$f":"CONCAT!$D$2","v":""},null,1,{"$f":"J13&A13&K13","v":"01-3DB18"},"11-3DB18",1,"12-3DB18",{"$f":"Q13&K13","v":"12-3DB18"},1,null,null,"DG 21IN KITCHEN SET-DTC",3,null,{"$f":"C13*1*(Color!$C$6+'Door Style'!$H$6)","v":{"$error":"#VALUE!"}},{"$f":"C13*$G$1*1*(Color!$D$6+'Door Style'!$G$6+Species!$C$6+'Drawer Head'!$E$6+'Custom Finish'!$C$6)","v":{"$error":"#VALUE!"}},null,"Light Blue","Light Gray",null,"1","Base Cabinet - 3 Drawer Base"]
["3DB19.5","3 Drawer Base 19.5\"",{"v":648,"d":"$648.00"},3,null,null,{"$f":"C14*$G$1*'Order Form'!$S$18*(Color!$D$6+'Door Style'!$G$6+Species!$C$6+'Drawer Head'!$E$6+'Custom Finish'!$C$6)","v":{"$error":"#VALUE!"}},null,"SC/PC","01-",{"$f":"CONCAT!$D$8","v":""},null,1,{"$f":"J14&A14&K14","v":"01-3DB19.5"},"11-3DB19.5",1,"12-3DB19.5",{"$f":"Q14&K14","v":"12-3DB19.5"},1,null,null,"DG 21IN KITCHEN SET-DTC",3,null,null,{"$f":"C14*$G$1*1*(Color!$D$6+'Door Style'!$G$6+Species!$C$6+'Drawer Head'!$E$6+'Custom Finish'!$C$6)","v":{"$error":"#VALUE!"}},null,"Black","Light Gray",null,"1","Base Cabinet - 3 Drawer Base"]
["3DB21","3 Drawer Base 21\"",{"v":644,"d":"$644.00"},2,null,{"$f":"C15*'Order Form'!$S$18*(Color!$C$6+'Door Style'!$H$6)","v":{"$error":"#VALUE!"}},{"$f":"C15*$G$1*'Order Form'!$S$18*(Color!$D$6+'Door Style'!$G$6+Species!$C$6+'Drawer Head'!$E$6+'Custom Finish'!$C$6)","v":{"$error":"#VALUE!"}},null,"01-","01-",{"$f":"CONCAT!$D$2","v":""},null,1,{"$f":"J15&A15&K15","v":"01-3DB21"},"11-3DB21",1,"12-3DB21",{"$f":"Q15&K15","v":"12-3DB21"},1,null,null,"DG 21IN KITCHEN SET-DTC",3,null,{"$f":"C15*1*(Color!$C$6+'Door Style'!$H$6)","v":{"$error":"#VALUE!"}},{"$f":"C15*$G$1*1*(Color!$D$6+'Door Style'!$G$6+Species!$C$6+'Drawer Head'!$E$6+'Custom Finish'!$C$6)","v":{"$error":"#VALUE!"}},null,"Light Blue","Light Gray",null,"1","Base Cabinet - 3 Drawer Base"]
["3DB22.5","3 Drawer Base 22.5\"",{"v":698,"d":"$698.00"},3,null,null,{"$f":"C16*$G$1*'Order Form'!$S$18*(Color!$D$6+'Door Style'!$G$6+Species!$C$6+'Drawer Head'!$E$6+'Custom Finish'!$C$6)","v":{"$error":"#VALUE!"}},null,"SC/PC","01-",{"$f":"CONCAT!$D$8","v":""},null,1,{"$f":"J16&A16&K16","v":"01-3DB22.5"},"11-3DB22.5",1,"12-3DB22.5",{"$f":"Q16&K16","v":"12-3DB22.5"},1,null,null,"DG 21IN KITCHEN SET-DTC",3,null,null,{"$f":"C16*$G$1*1*(Color!$D$6+'Door Style'!$G$6+Species!$C$6+'Drawer Head'!$E$6+'Custom Finish'!$C$6)","v":{"$error":"#VALUE!"}},null,"Black","Light Gray",null,"1","Base Cabinet - 3 Drawer Base"]
["3DB24","3 Drawer Base 24\"",{"v":693,"d":"$693.00"},2,"PB",{"$f":"C17*'Order Form'!$S$18*(Color!$C$6+'Door Style'!$H$6)","v":{"$error":"#VALUE!"}},{"$f":"C17*$G$1*'Order Form'!$S$18*(Color!$D$6+'Door Style'!$G$6+Species!$C$6+'Drawer Head'!$E$6+'Custom Finish'!$C$6)","v":{"$error":"#VALUE!"}},null,"01-","01-",{"$f":"CONCAT!$D$2","v":""},null,1,{"$f":"J17&A17&K17","v":"01-3DB24"},"11-3DB24",1,"12-3DB24",{"$f":"Q17&K17","v":"12-3DB24"},1,null,null,"DG 21IN KITCHEN SET-DTC",3,null,{"$f":"C17*1*(Color!$C$6+'Door Style'!$H$6)","v":{"$error":"#VALUE!"}},{"$f":"C17*$G$1*1*(Color!$D$6+'Door Style'!$G$6+Species!$C$6+'Drawer Head'!$E$6+'Custom Finish'!$C$6)","v":{"$error":"#VALUE!"}},null,"Light Blue","Light Gray",null,"1","Base Cabinet - 3 Drawer Base"]
["3DB25.5","3 Drawer Base 25.5\"",{"v":761,"d":"$761.00"},3,null,null,{"$f":"C18*$G$1*'Order Form'!$S$18*(Color!$D$6+'Door Style'!$G$6+Species!$C$6+'Drawer Head'!$E$6+'Custom Finish'!$C$6)","v":{"$error":"#VALUE!"}},null,"SC/PC","01-",{"$f":"CONCAT!$D$8","v":""},null,1,{"$f":"J18&A18&K18","v":"01-3DB25.5"},"11-3DB25.5",1,"12-3DB25.5",{"$f":"Q18&K18","v":"12-3DB25.5"},1,null,null,"DG 21IN KITCHEN SET-DTC",3,null,null,{"$f":"C18*$G$1*1*(Color!$D$6+'Door Style'!$G$6+Species!$C$6+'Drawer Head'!$E$6+'Custom Finish'!$C$6)","v":{"$error":"#VALUE!"}},null,"Black","Light Gray",null,"1","Base Cabinet - 3 Drawer Base"]
["3DB27","3 Drawer Base 27\"",{"v":756,"d":"$756.00"},2,null,{"$f":"C19*'Order Form'!$S$18*(Color!$C$6+'Door Style'!$H$6)","v":{"$error":"#VALUE!"}},{"$f":"C19*$G$1*'Order Form'!$S$18*(Color!$D$6+'Door Style'!$G$6+Species!$C$6+'Drawer Head'!$E$6+'Custom Finish'!$C$6)","v":{"$error":"#VALUE!"}},null,"01-","01-",{"$f":"CONCAT!$D$2","v":""},null,1,{"$f":"J19&A19&K19","v":"01-3DB27"},"11-3DB27",1,"12-3DB27",{"$f":"Q19&K19","v":"12-3DB27"},1,null,null,"DG 21IN KITCHEN SET-DTC",3,null,{"$f":"C19*1*(Color!$C$6+'Door Style'!$H$6)","v":{"$error":"#VALUE!"}},{"$f":"C19*$G$1*1*(Color!$D$6+'Door Style'!$G$6+Species!$C$6+'Drawer Head'!$E$6+'Custom Finish'!$C$6)","v":{"$error":"#VALUE!"}},null,"Light Blue","Light Gray",null,"1","Base Cabinet - 3 Drawer Base"]
["3DB30","3 Drawer Base 30\"",{"v":801,"d":"$801.00"},2,"PB",{"$f":"C20*'Order Form'!$S$18*(Color!$C$6+'Door Style'!$H$6)","v":{"$error":"#VALUE!"}},{"$f":"C20*$G$1*'Order Form'!$S$18*(Color!$D$6+'Door Style'!$G$6+Species!$C$6+'Drawer Head'!$E$6+'Custom Finish'!$C$6)","v":{"$error":"#VALUE!"}},null,"01-","01-",{"$f":"CONCAT!$D$2","v":""},null,1,{"$f":"J20&A20&K20","v":"01-3DB30"},"11-3DB30",1,"12-3DB30",{"$f":"Q20&K20","v":"12-3DB30"},1,null,null,"DG 21IN KITCHEN SET-DTC",3,null,{"$f":"C20*1*(Color!$C$6+'Door Style'!$H$6)","v":{"$error":"#VALUE!"}},{"$f":"C20*$G$1*1*(Color!$D$6+'Door Style'!$G$6+Species!$C$6+'Drawer Head'!$E$6+'Custom Finish'!$C$6)","v":{"$error":"#VALUE!"}},null,"Light Blue","Light Gray",null,"1","Base Cabinet - 3 Drawer Base"]
["3DB33","3 Drawer Base 33\"",{"v":978,"d":"$978.00"},3,null,null,{"$f":"C21*$G$1*'Order Form'!$S$18*(Color!$D$6+'Door Style'!$G$6+Species!$C$6+'Drawer Head'!$E$6+'Custom Finish'!$C$6)","v":{"$error":"#VALUE!"}},null,"PROJECT","01-",{"$f":"CONCAT!$D$2","v":""},null,1,{"$f":"J21&A21&K21","v":"01-3DB33"},"11-3DB33",1,"12-3DB33",{"$f":"Q21&K21","v":"12-3DB33"},1,null,null,"DG 21IN KITCHEN SET-DTC",3,null,null,{"$f":"C21*$G$1*1*(Color!$D$6+'Door Style'!$G$6+Species!$C$6+'Drawer Head'!$E$6+'Custom Finish'!$C$6)","v":{"$error":"#VALUE!"}},null,"Black","Light Gray",null,"1","Base Cabinet - 3 Drawer Base"]
["3DB36","3 Drawer Base 36\"",{"v":1161,"d":"$1,161.00"},3,null,null,{"$f":"C22*$G$1*'Order Form'!$S$18*(Color!$D$6+'Door Style'!$G$6+Species!$C$6+'Drawer Head'!$E$6+'Custom Finish'!$C$6)","v":{"$error":"#VALUE!"}},null,"PROJECT","01-",{"$f":"CONCAT!$D$2","v":""},null,1,{"$f":"J22&A22&K22","v":"01-3DB36"},"11-3DB36",1,"12-3DB36",{"$f":"Q22&K22","v":"12-3DB36"},1,null,null,"DG 21IN KITCHEN SET-DTC",3,null,null,{"$f":"C22*$G$1*1*(Color!$D$6+'Door Style'!$G$6+Species!$C$6+'Drawer Head'!$E$6+'Custom Finish'!$C$6)","v":{"$error":"#VALUE!"}},null,"Black","Light Gray",null,"1","Base Cabinet - 3 Drawer Base"]
["3DFC18","3 Drawer File Cabinet 18\"",{"v":507,"d":"$507.00"},3,null,null,{"$f":"C23*$G$1*'Order Form'!$S$18*(Color!$D$6+'Door Style'!$G$6+Species!$C$6+'Drawer Head'!$E$6+'Custom Finish'!$C$6)","v":{"$error":"#VALUE!"}},null,"SC/PC","01-",{"$f":"CONCAT!$D$8","v":""},null,1,{"$f":"J23&A23&K23","v":"01-3DFC18"},"11-3DFC18",1,"12-3DFC18",{"$f":"Q23&K23","v":"12-3DFC18"},1,null,null,"DG 18IN VANITY SET-DTC",3,null,null,{"$f":"C23*$G$1*1*(Color!$D$6+'Door Style'!$G$6+Species!$C$6+'Drawer Head'!$E$6+'Custom Finish'!$C$6)","v":{"$error":"#VALUE!"}},null,"Black","Light Gray",null,"1","Office Components - Cabinet"]
["3DVB12","3 Drawer Vanity Base 12\"",{"v":423,"d":"$423.00"},2,"PB",{"$f":"C24*'Order Form'!$S$18*(Color!$C$6+'Door Style'!$H$6)","v":{"$error":"#VALUE!"}},{"$f":"C24*$G$2*'Order Form'!$S$18*(Color!$D$6+'Door Style'!$G$6+Species!$C$6+'Drawer Head'!$E$6+'Custom Finish'!$C$6)","v":{"$error":"#VALUE!"}},null,"01-","01-",{"$f":"CONCAT!$D$2","v":""},null,1,{"$f":"J24&A24&K24","v":"01-3DVB12"},"11-3DVB12",1,"12-3DVB12",{"$f":"Q24&K24","v":"12-3DVB12"},1,null,null,"DG 18IN VANITY SET-DTC",3,null,{"$f":"C24*1*(Color!$C$6+'Door Style'!$H$6)","v":{"$error":"#VALUE!"}},{"$f":"C24*$G$2*1*(Color!$D$6+'Door Style'!$G$6+Species!$C$6+'Drawer Head'!$E$6+'Custom Finish'!$C$6)","v":{"$error":"#VALUE!"}},null,"Light Blue","Light Yellow",null,"1","Vanity - 3 Drawer Base"]
["3DVB12T","3 Drawer Vanity Base 12\" Tall",{"v":465,"d":"$465.00"},2,null,{"$f":"C25*'Order Form'!$S$18*(Color!$C$6+'Door Style'!$H$6)","v":{"$error":"#VALUE!"}},{"$f":"C25*$G$2*'Order Form'!$S$18*(Color!$D$6+'Door Style'!$G$6+Species!$C$6+'Drawer Head'!$E$6+'Custom Finish'!$C$6)","v":{"$error":"#VALUE!"}},null,"01-","01-",{"$f":"CONCAT!$D$2","v":""},null,1,{"$f":"J25&A25&K25","v":"01-3DVB12T"},"11-3DVB12T",1,"12-3DB12",{"$f":"Q25&K25","v":"12-3DB12"},1,null,null,"DG 18IN VANITY SET-DTC",3,null,{"$f":"C25*1*(Color!$C$6+'Door Style'!$H$6)","v":{"$error":"#VALUE!"}},{"$f":"C25*$G$2*1*(Color!$D$6+'Door Style'!$G$6+Species!$C$6+'Drawer Head'!$E$6+'Custom Finish'!$C$6)","v":{"$error":"#VALUE!"}},null,"Light Blue","Light Yellow",null,"1","Vanity - 3 Drawer Base - Tall"]
["3DVB13.5","3 Drawer Vanity Base 13.5\"",{"v":465,"d":"$465.00"},3,null,null,{"$f":"C26*$G$2*'Order Form'!$S$18*(Color!$D$6+'Door Style'!$G$6+Species!$C$6+'Drawer Head'!$E$6+'Custom Finish'!$C$6)","v":{"$error":"#VALUE!"}},null,"SC/PC","01-",{"$f":"CONCAT!$D$8","v":""},null,1,{"$f":"J26&A26&K26","v":"01-3DVB13.5"},"11-3DVB13.5",1,"12-3DVB13.5",{"$f":"Q26&K26","v":"12-3DVB13.5"},1,null,null,"DG 18IN VANITY SET-DTC",3,null,null,{"$f":"C26*$G$2*1*(Color!$D$6+'Door Style'!$G$6+Species!$C$6+'Drawer Head'!$E$6+'Custom Finish'!$C$6)","v":{"$error":"#VALUE!"}},null,"Black","Light Yellow",null,"1","Vanity - 3 Drawer Base"]
["3DVB13.5T","3 Drawer Vanity Base 13.5\" Tall",{"v":511,"d":"$511.00"},3,null,null,{"$f":"C27*$G$2*'Order Form'!$S$18*(Color!$D$6+'Door Style'!$G$6+Species!$C$6+'Drawer Head'!$E$6+'Custom Finish'!$C$6)","v":{"$error":"#VALUE!"}},null,"SC/PC","01-",{"$f":"CONCAT!$D$8","v":""},null,1,{"$f":"J27&A27&K27","v":"01-3DVB13.5T"},"11-3DVB13.5T",1,"12-3DB13.5",{"$f":"Q27&K27","v":"12-3DB13.5"},1,null,null,"DG 18IN VANITY SET-DTC",3,null,null,{"$f":"C27*$G$2*1*(Color!$D$6+'Door Style'!$G$6+Species!$C$6+'Drawer Head'!$E$6+'Custom Finish'!$C$6)","v":{"$error":"#VALUE!"}},null,"Black","Light Yellow",null,"1","Vanity - 3 Drawer Base - Tall"]
["3DVB15","3 Drawer Vanity Base 15\"",{"v":463,"d":"$463.00"},2,"PB",{"$f":"C28*'Order Form'!$S$18*(Color!$C$6+'Door Style'!$H$6)","v":{"$error":"#VALUE!"}},{"$f":"C28*$G$2*'Order Form'!$S$18*(Color!$D$6+'Door Style'!$G$6+Species!$C$6+'Drawer Head'!$E$6+'Custom Finish'!$C$6)","v":{"$error":"#VALUE!"}},null,"01-","01-",{"$f":"CONCAT!$D$2","v":""},null,1,{"$f":"J28&A28&K28","v":"01-3DVB15"},"11-3DVB15",1,"12-3DVB15",{"$f":"Q28&K28","v":"12-3DVB15"},1,null,null,"DG 18IN VANITY SET-DTC",3,null,{"$f":"C28*1*(Color!$C$6+'Door Style'!$H$6)","v":{"$error":"#VALUE!"}},{"$f":"C28*$G$2*1*(Color!$D$6+'Door Style'!$G$6+Species!$C$6+'Drawer Head'!$E$6+'Custom Finish'!$C$6)","v":{"$error":"#VALUE!"}},null,"Light Blue","Light Yellow",null,"1","Vanity - 3 Drawer Base"]
["3DVB15T","3 Drawer Vanity Base 15\" Tall",{"v":511,"d":"$511.00"},2,null,{"$f":"C29*'Order Form'!$S$18*(Color!$C$6+'Door Style'!$H$6)","v":{"$error":"#VALUE!"}},{"$f":"C29*$G$2*'Order Form'!$S$18*(Color!$D$6+'Door Style'!$G$6+Species!$C$6+'Drawer Head'!$E$6+'Custom Finish'!$C$6)","v":{"$error":"#VALUE!"}},null,"01-","01-",{"$f":"CONCAT!$D$2","v":""},null,1,{"$f":"J29&A29&K29","v":"01-3DVB15T"},"11-3DVB15T",1,"12-3DB15",{"$f":"Q29&K29","v":"12-3DB15"},1,null,null,"DG 18IN VANITY SET-DTC",3,null,{"$f":"C29*1*(Color!$C$6+'Door Style'!$H$6)","v":{"$error":"#VALUE!"}},{"$f":"C29*$G$2*1*(Color!$D$6+'Door Style'!$G$6+Species!$C$6+'Drawer Head'!$E$6+'Custom Finish'!$C$6)","v":{"$error":"#VALUE!"}},null,"Light Blue","Light Yellow",null,"1","Vanity - 3 Drawer Base - Tall"]
["3DVB16.5","3 Drawer Vanity Base 16.5\"",{"v":507,"d":"$507.00"},3,null,null,{"$f":"C30*$G$2*'Order Form'!$S$18*(Color!$D$6+'Door Style'!$G$6+Species!$C$6+'Drawer Head'!$E$6+'Custom Finish'!$C$6)","v":{"$error":"#VALUE!"}},null,"SC/PC","01-",{"$f":"CONCAT!$D$8","v":""},null,1,{"$f":"J30&A30&K30","v":"01-3DVB16.5"},"11-3DVB16.5",1,"12-3DVB16.5",{"$f":"Q30&K30","v":"12-3DVB16.5"},1,null,null,"DG 18IN VANITY SET-DTC",3,null,null,{"$f":"C30*$G$2*1*(Color!$D$6+'Door Style'!$G$6+Species!$C$6+'Drawer Head'!$E$6+'Custom Finish'!$C$6)","v":{"$error":"#VALUE!"}},null,"Black","Light Yellow",null,"1","Vanity - 3 Drawer Base"]
["3DVB16.5T","3 Drawer Vanity Base 16.5\" Tall",{"v":557,"d":"$557.00"},3,null,null,{"$f":"C31*$G$2*'Order Form'!$S$18*(Color!$D$6+'Door Style'!$G$6+Species!$C$6+'Drawer Head'!$E$6+'Custom Finish'!$C$6)","v":{"$error":"#VALUE!"}},null,"SC/PC","01-",{"$f":"CONCAT!$D$8","v":""},null,1,{"$f":"J31&A31&K31","v":"01-3DVB16.5T"},"11-3DVB16.5T",1,"12-3DB16.5",{"$f":"Q31&K31","v":"12-3DB16.5"},1,null,null,"DG 18IN VANITY SET-DTC",3,null,null,{"$f":"C31*$G$2*1*(Color!$D$6+'Door Style'!$G$6+Species!$C$6+'Drawer Head'!$E$6+'Custom Finish'!$C$6)","v":{"$error":"#VALUE!"}},null,"Black","Light Yellow",null,"1","Vanity - 3 Drawer Base - Tall"]
["3DVB18","3 Drawer Vanity Base 18\"",{"v":503,"d":"$503.00"},2,"PB",{"$f":"C32*'Order Form'!$S$18*(Color!$C$6+'Door Style'!$H$6)","v":{"$error":"#VALUE!"}},{"$f":"C32*$G$2*'Order Form'!$S$18*(Color!$D$6+'Door Style'!$G$6+Species!$C$6+'Drawer Head'!$E$6+'Custom Finish'!$C$6)","v":{"$error":"#VALUE!"}},null,"01-","01-",{"$f":"CONCAT!$D$2","v":""},null,1,{"$f":"J32&A32&K32","v":"01-3DVB18"},"11-3DVB18",1,"12-3DVB18",{"$f":"Q32&K32","v":"12-3DVB18"},1,null,null,"DG 18IN VANITY SET-DTC",3,null,{"$f":"C32*1*(Color!$C$6+'Door Style'!$H$6)","v":{"$error":"#VALUE!"}},{"$f":"C32*$G$2*1*(Color!$D$6+'Door Style'!$G$6+Species!$C$6+'Drawer Head'!$E$6+'Custom Finish'!$C$6)","v":{"$error":"#VALUE!"}},null,"Light Blue","Light Yellow",null,"1","Vanity - 3 Drawer Base"]
["3DVB18T","3 Drawer Vanity Base 18\" Tall",{"v":557,"d":"$557.00"},2,null,{"$f":"C33*'Order Form'!$S$18*(Color!$C$6+'Door Style'!$H$6)","v":{"$error":"#VALUE!"}},{"$f":"C33*$G$2*'Order Form'!$S$18*(Color!$D$6+'Door Style'!$G$6+Species!$C$6+'Drawer Head'!$E$6+'Custom Finish'!$C$6)","v":{"$error":"#VALUE!"}},null,"01-","01-",{"$f":"CONCAT!$D$2","v":""},null,1,{"$f":"J33&A33&K33","v":"01-3DVB18T"},"11-3DVB18T",1,"12-3DB18",{"$f":"Q33&K33","v":"12-3DB18"},1,null,null,"DG 18IN VANITY SET-DTC",3,null,{"$f":"C33*1*(Color!$C$6+'Door Style'!$H$6)","v":{"$error":"#VALUE!"}},{"$f":"C33*$G$2*1*(Color!$D$6+'Door Style'!$G$6+Species!$C$6+'Drawer Head'!$E$6+'Custom Finish'!$C$6)","v":{"$error":"#VALUE!"}},null,"Light Blue","Light Yellow",null,"1","Vanity - 3 Drawer Base - Tall"]
["3DVB19.5","3 Drawer Vanity Base 19.5\"",{"v":549,"d":"$549.00"},3,null,null,{"$f":"C34*$G$2*'Order Form'!$S$18*(Color!$D$6+'Door Style'!$G$6+Species!$C$6+'Drawer Head'!$E$6+'Custom Finish'!$C$6)","v":{"$error":"#VALUE!"}},null,"SC/PC","01-",{"$f":"CONCAT!$D$8","v":""},null,1,{"$f":"J34&A34&K34","v":"01-3DVB19.5"},"11-3DVB19.5",1,"12-3DVB19.5",{"$f":"Q34&K34","v":"12-3DVB19.5"},1,null,null,"DG 18IN VANITY SET-DTC",3,null,null,{"$f":"C34*$G$2*1*(Color!$D$6+'Door Style'!$G$6+Species!$C$6+'Drawer Head'!$E$6+'Custom Finish'!$C$6)","v":{"$error":"#VALUE!"}},null,"Black","Light Yellow",null,"1","Vanity - 3 Drawer Base"]
["3DVB19.5T","3 Drawer Vanity Base 19.5\" Tall",{"v":606,"d":"$606.00"},3,null,null,{"$f":"C35*$G$2*'Order Form'!$S$18*(Color!$D$6+'Door Style'!$G$6+Species!$C$6+'Drawer Head'!$E$6+'Custom Finish'!$C$6)","v":{"$error":"#VALUE!"}},null,"SC/PC","01-",{"$f":"CONCAT!$D$8","v":""},null,1,{"$f":"J35&A35&K35","v":"01-3DVB19.5T"},"11-3DVB19.5T",1,"12-3DB19.5",{"$f":"Q35&K35","v":"12-3DB19.5"},1,null,null,"DG 18IN VANITY SET-DTC",3,null,null,{"$f":"C35*$G$2*1*(Color!$D$6+'Door Style'!$G$6+Species!$C$6+'Drawer Head'!$E$6+'Custom Finish'!$C$6)","v":{"$error":"#VALUE!"}},null,"Black","Light Yellow",null,"1","Vanity - 3 Drawer Base - Tall"]
["3DVB21","3 Drawer Vanity Base 21\"",{"v":552,"d":"$552.00"},3,null,null,{"$f":"C36*$G$2*'Order Form'!$S$18*(Color!$D$6+'Door Style'!$G$6+Species!$C$6+'Drawer Head'!$E$6+'Custom Finish'!$C$6)","v":{"$error":"#VALUE!"}},null,"PROJECT","01-",{"$f":"CONCAT!$D$2","v":""},null,1,{"$f":"J36&A36&K36","v":"01-3DVB21"},"11-3DVB21",1,"12-3DVB21",{"$f":"Q36&K36","v":"12-3DVB21"},1,null,null,"DG 18IN VANITY SET-DTC",3,null,null,{"$f":"C36*$G$2*1*(Color!$D$6+'Door Style'!$G$6+Species!$C$6+'Drawer Head'!$E$6+'Custom Finish'!$C$6)","v":{"$error":"#VALUE!"}},null,"Black","Light Yellow",null,"1","Vanity - 3 Drawer Base"]
["3DVB21T","3 Drawer Vanity Base 21\" Tall",{"v":602,"d":"$602.00"},2,null,{"$f":"C37*'Order Form'!$S$18*(Color!$C$6+'Door Style'!$H$6)","v":{"$error":"#VALUE!"}},{"$f":"C37*$G$2*'Order Form'!$S$18*(Color!$D$6+'Door Style'!$G$6+Species!$C$6+'Drawer Head'!$E$6+'Custom Finish'!$C$6)","v":{"$error":"#VALUE!"}},null,"01-","01-",{"$f":"CONCAT!$D$2","v":""},null,1,{"$f":"J37&A37&K37","v":"01-3DVB21T"},"11-3DVB21T",1,"12-3DB21",{"$f":"Q37&K37","v":"12-3DB21"},1,null,null,"DG 18IN VANITY SET-DTC",3,null,{"$f":"C37*1*(Color!$C$6+'Door Style'!$H$6)","v":{"$error":"#VALUE!"}},{"$f":"C37*$G$2*1*(Color!$D$6+'Door Style'!$G$6+Species!$C$6+'Drawer Head'!$E$6+'Custom Finish'!$C$6)","v":{"$error":"#VALUE!"}},null,"Light Blue","Light Yellow",null,"1","Vanity - 3 Drawer Base - Tall"]
["3DVB22.5","3 Drawer Vanity Base 22.5\"",{"v":638,"d":"$638.00"},3,null,null,{"$f":"C38*$G$2*'Order Form'!$S$18*(Color!$D$6+'Door Style'!$G$6+Species!$C$6+'Drawer Head'!$E$6+'Custom Finish'!$C$6)","v":{"$error":"#VALUE!"}},null,"SC/PC","01-",{"$f":"CONCAT!$D$8","v":""},null,1,{"$f":"J38&A38&K38","v":"01-3DVB22.5"},"11-3DVB22.5",1,"12-3DVB22.5",{"$f":"Q38&K38","v":"12-3DVB22.5"},1,null,null,"DG 18IN VANITY SET-DTC",3,null,null,{"$f":"C38*$G$2*1*(Color!$D$6+'Door Style'!$G$6+Species!$C$6+'Drawer Head'!$E$6+'Custom Finish'!$C$6)","v":{"$error":"#VALUE!"}},null,"Black","Light Yellow",null,"1","Vanity - 3 Drawer Base"]
["3DVB22.5T","3 Drawer Vanity Base 22.5\" Tall",{"v":687,"d":"$687.00"},3,null,null,{"$f":"C39*$G$2*'Order Form'!$S$18*(Color!$D$6+'Door Style'!$G$6+Species!$C$6+'Drawer Head'!$E$6+'Custom Finish'!$C$6)","v":{"$error":"#VALUE!"}},null,"SC/PC","01-",{"$f":"CONCAT!$D$8","v":""},null,1,{"$f":"J39&A39&K39","v":"01-3DVB22.5T"},"11-3DVB22.5T",1,"12-3DB22.5",{"$f":"Q39&K39","v":"12-3DB22.5"},1,null,null,"DG 18IN VANITY SET-DTC",3,null,null,{"$f":"C39*$G$2*1*(Color!$D$6+'Door Style'!$G$6+Species!$C$6+'Drawer Head'!$E$6+'Custom Finish'!$C$6)","v":{"$error":"#VALUE!"}},null,"Black","Light Yellow",null,"1","Vanity - 3 Drawer Base - Tall"]
["3DVB24","3 Drawer Vanity Base 24\"",{"v":687,"d":"$687.00"},3,null,null,{"$f":"C40*$G$2*'Order Form'!$S$18*(Color!$D$6+'Door Style'!$G$6+Species!$C$6+'Drawer Head'!$E$6+'Custom Finish'!$C$6)","v":{"$error":"#VALUE!"}},null,"PROJECT","01-",{"$f":"CONCAT!$D$2","v":""},null,1,{"$f":"J40&A40&K40","v":"01-3DVB24"},"11-3DVB24",1,"12-3DVB24",{"$f":"Q40&K40","v":"12-3DVB24"},1,null,null,"DG 18IN VANITY SET-DTC",3,null,null,{"$f":"C40*$G$2*1*(Color!$D$6+'Door Style'!$G$6+Species!$C$6+'Drawer Head'!$E$6+'Custom Finish'!$C$6)","v":{"$error":"#VALUE!"}},null,"Black","Light Yellow",null,"1","Vanity - 3 Drawer Base"]
["3DVB24T","3 Drawer Vanity Base 24\" Tall",{"v":683,"d":"$683.00"},2,null,{"$f":"C41*'Order Form'!$S$18*(Color!$C$6+'Door Style'!$H$6)","v":{"$error":"#VALUE!"}},{"$f":"C41*$G$2*'Order Form'!$S$18*(Color!$D$6+'Door Style'!$G$6+Species!$C$6+'Drawer Head'!$E$6+'Custom Finish'!$C$6)","v":{"$error":"#VALUE!"}},null,"01-","01-",{"$f":"CONCAT!$D$2","v":""},null,1,{"$f":"J41&A41&K41","v":"01-3DVB24T"},"11-3DVB24T",1,"12-3DB24",{"$f":"Q41&K41","v":"12-3DB24"},1,null,null,"DG 18IN VANITY SET-DTC",3,null,{"$f":"C41*1*(Color!$C$6+'Door Style'!$H$6)","v":{"$error":"#VALUE!"}},{"$f":"C41*$G$2*1*(Color!$D$6+'Door Style'!$G$6+Species!$C$6+'Drawer Head'!$E$6+'Custom Finish'!$C$6)","v":{"$error":"#VALUE!"}},null,"Light Blue","Light Yellow",null,"1","Vanity - 3 Drawer Base - Tall"]
["3DVB25.5","3 Drawer Vanity Base 25.5\"",{"v":751,"d":"$751.00"},3,null,null,{"$f":"C42*$G$2*'Order Form'!$S$18*(Color!$D$6+'Door Style'!$G$6+Species!$C$6+'Drawer Head'!$E$6+'Custom Finish'!$C$6)","v":{"$error":"#VALUE!"}},null,"SC/PC","01-",{"$f":"CONCAT!$D$8","v":""},null,1,{"$f":"J42&A42&K42","v":"01-3DVB25.5"},"11-3DVB25.5",1,"12-3DVB25.5",{"$f":"Q42&K42","v":"12-3DVB25.5"},1,null,null,"DG 18IN VANITY SET-DTC",3,null,null,{"$f":"C42*$G$2*1*(Color!$D$6+'Door Style'!$G$6+Species!$C$6+'Drawer Head'!$E$6+'Custom Finish'!$C$6)","v":{"$error":"#VALUE!"}},null,"Black","Light Yellow",null,"1","Vanity - 3 Drawer Base"]
["3DVB25.5T","3 Drawer Vanity Base 25.5\" Tall",{"v":751,"d":"$751.00"},3,null,null,{"$f":"C43*$G$2*'Order Form'!$S$18*(Color!$D$6+'Door Style'!$G$6+Species!$C$6+'Drawer Head'!$E$6+'Custom Finish'!$C$6)","v":{"$error":"#VALUE!"}},null,"SC/PC","01-",{"$f":"CONCAT!$D$8","v":""},null,1,{"$f":"J43&A43&K43","v":"01-3DVB25.5T"},"11-3DVB25.5T",1,"12-3DB25.5",{"$f":"Q43&K43","v":"12-3DB25.5"},1,null,null,"DG 18IN VANITY SET-DTC",3,null,null,{"$f":"C43*$G$2*1*(Color!$D$6+'Door Style'!$G$6+Species!$C$6+'Drawer Head'!$E$6+'Custom Finish'!$C$6)","v":{"$error":"#VALUE!"}},null,"Black","Light Yellow",null,"1","Vanity - 3 Drawer Base - Tall"]
["3DVB27","3 Drawer Vanity Base 27\"",{"v":751,"d":"$751.00"},3,null,null,{"$f":"C44*$G$2*'Order Form'!$S$18*(Color!$D$6+'Door Style'!$G$6+Species!$C$6+'Drawer Head'!$E$6+'Custom Finish'!$C$6)","v":{"$error":"#VALUE!"}},null,"PROJECT","01-",{"$f":"CONCAT!$D$2","v":""},null,1,{"$f":"J44&A44&K44","v":"01-3DVB27"},"11-3DVB27",1,"12-3DVB27",{"$f":"Q44&K44","v":"12-3DVB27"},1,null,null,"DG 18IN VANITY SET-DTC",3,null,null,{"$f":"C44*$G$2*1*(Color!$D$6+'Door Style'!$G$6+Species!$C$6+'Drawer Head'!$E$6+'Custom Finish'!$C$6)","v":{"$error":"#VALUE!"}},null,"Black","Light Yellow",null,"1","Vanity - 3 Drawer Base"]
["3DVB27T","3 Drawer Vanity Base 27\" Tall",{"v":746,"d":"$746.00"},2,null,{"$f":"C45*'Order Form'!$S$18*(Color!$C$6+'Door Style'!$H$6)","v":{"$error":"#VALUE!"}},{"$f":"C45*$G$2*'Order Form'!$S$18*(Color!$D$6+'Door Style'!$G$6+Species!$C$6+'Drawer Head'!$E$6+'Custom Finish'!$C$6)","v":{"$error":"#VALUE!"}},null,"01-","01-",{"$f":"CONCAT!$D$2","v":""},null,1,{"$f":"J45&A45&K45","v":"01-3DVB27T"},"11-3DVB27T",1,"12-3DB27",{"$f":"Q45&K45","v":"12-3DB27"},1,null,null,"DG 18IN VANITY SET-DTC",3,null,{"$f":"C45*1*(Color!$C$6+'Door Style'!$H$6)","v":{"$error":"#VALUE!"}},{"$f":"C45*$G$2*1*(Color!$D$6+'Door Style'!$G$6+Species!$C$6+'Drawer Head'!$E$6+'Custom Finish'!$C$6)","v":{"$error":"#VALUE!"}},null,"Light Blue","Light Yellow",null,"1","Vanity - 3 Drawer Base - Tall"]
["3DVB30","3 Drawer Vanity Base 30\"",{"v":798,"d":"$798.00"},3,null,null,{"$f":"C46*$G$2*'Order Form'!$S$18*(Color!$D$6+'Door Style'!$G$6+Species!$C$6+'Drawer Head'!$E$6+'Custom Finish'!$C$6)","v":{"$error":"#VALUE!"}},null,"SC/PC","01-",{"$f":"CONCAT!$D$8","v":""},null,1,{"$f":"J46&A46&K46","v":"01-3DVB30"},"11-3DVB30",1,"12-3DVB30",{"$f":"Q46&K46","v":"12-3DVB30"},1,null,null,"DG 18IN VANITY SET-DTC",3,null,null,{"$f":"C46*$G$2*1*(Color!$D$6+'Door Style'!$G$6+Species!$C$6+'Drawer Head'!$E$6+'Custom Finish'!$C$6)","v":{"$error":"#VALUE!"}},null,"Black","Light Yellow",null,"1","Vanity - 3 Drawer Base"]
["3DVB30T","3 Drawer Vanity Base 30\" Tall",{"v":793,"d":"$793.00"},2,null,{"$f":"C47*'Order Form'!$S$18*(Color!$C$6+'Door Style'!$H$6)","v":{"$error":"#VALUE!"}},{"$f":"C47*$G$2*'Order Form'!$S$18*(Color!$D$6+'Door Style'!$G$6+Species!$C$6+'Drawer Head'!$E$6+'Custom Finish'!$C$6)","v":{"$error":"#VALUE!"}},null,"01-","01-",{"$f":"CONCAT!$D$2","v":""},null,1,{"$f":"J47&A47&K47","v":"01-3DVB30T"},"11-3DVB30T",1,"12-3DB30",{"$f":"Q47&K47","v":"12-3DB30"},1,null,null,"DG 18IN VANITY SET-DTC",3,null,{"$f":"C47*1*(Color!$C$6+'Door Style'!$H$6)","v":{"$error":"#VALUE!"}},{"$f":"C47*$G$2*1*(Color!$D$6+'Door Style'!$G$6+Species!$C$6+'Drawer Head'!$E$6+'Custom Finish'!$C$6)","v":{"$error":"#VALUE!"}},null,"Light Blue","Light Yellow",null,"1","Vanity - 3 Drawer Base - Tall"]
["4DB15","4 Drawer Base 15\"",{"v":582,"d":"$582.00"},2,"PB",{"$f":"C48*'Order Form'!$S$18*(Color!$C$6+'Door Style'!$H$6)","v":{"$error":"#VALUE!"}},{"$f":"C48*$G$1*'Order Form'!$S$18*(Color!$D$6+'Door Style'!$G$6+Species!$C$6+'Drawer Head'!$E$6+'Custom Finish'!$C$6)","v":{"$error":"#VALUE!"}},null,"01-","01-",{"$f":"CONCAT!$D$2","v":""},null,1,{"$f":"J48&A48&K48","v":"01-4DB15"},"11-4DB15",1,"12-4DB15",{"$f":"Q48&K48","v":"12-4DB15"},1,null,null,"DG 21IN KITCHEN SET-DTC",4,null,{"$f":"C48*1*(Color!$C$6+'Door Style'!$H$6)","v":{"$error":"#VALUE!"}},{"$f":"C48*$G$1*1*(Color!$D$6+'Door Style'!$G$6+Species!$C$6+'Drawer Head'!$E$6+'Custom Finish'!$C$6)","v":{"$error":"#VALUE!"}},null,"Light Blue","Light Gray",null,"1","Base Cabinet - 4 Drawer Base"]
["4DB16.5","4 Drawer Base 16.5\"",{"v":646,"d":"$646.00"},3,null,null,{"$f":"C49*$G$1*'Order Form'!$S$18*(Color!$D$6+'Door Style'!$G$6+Species!$C$6+'Drawer Head'!$E$6+'Custom Finish'!$C$6)","v":{"$error":"#VALUE!"}},null,"SC/PC","01-",{"$f":"CONCAT!$D$8","v":""},null,1,{"$f":"J49&A49&K49","v":"01-4DB16.5"},"11-4DB16.5",1,"12-4DB16.5",{"$f":"Q49&K49","v":"12-4DB16.5"},1,null,null,"DG 21IN KITCHEN SET-DTC",4,null,null,{"$f":"C49*$G$1*1*(Color!$D$6+'Door Style'!$G$6+Species!$C$6+'Drawer Head'!$E$6+'Custom Finish'!$C$6)","v":{"$error":"#VALUE!"}},null,"Black","Light Gray",null,"1","Base Cabinet - 4 Drawer Base"]
["4DB18","4 Drawer Base 18\"",{"v":629,"d":"$629.00"},2,"PB",{"$f":"C50*'Order Form'!$S$18*(Color!$C$6+'Door Style'!$H$6)","v":{"$error":"#VALUE!"}},{"$f":"C50*$G$1*'Order Form'!$S$18*(Color!$D$6+'Door Style'!$G$6+Species!$C$6+'Drawer Head'!$E$6+'Custom Finish'!$C$6)","v":{"$error":"#VALUE!"}},null,"01-","01-",{"$f":"CONCAT!$D$2","v":""},null,1,{"$f":"J50&A50&K50","v":"01-4DB18"},"11-4DB18",1,"12-4DB18",{"$f":"Q50&K50","v":"12-4DB18"},1,null,null,"DG 21IN KITCHEN SET-DTC",4,null,{"$f":"C50*1*(Color!$C$6+'Door Style'!$H$6)","v":{"$error":"#VALUE!"}},{"$f":"C50*$G$1*1*(Color!$D$6+'Door Style'!$G$6+Species!$C$6+'Drawer Head'!$E$6+'Custom Finish'!$C$6)","v":{"$error":"#VALUE!"}},null,"Light Blue","Light Gray",null,"1","Base Cabinet - 4 Drawer Base"]
["4DB19.5","4 Drawer Base 19.5\"",{"v":686,"d":"$686.00"},3,null,null,{"$f":"C51*$G$1*'Order Form'!$S$18*(Color!$D$6+'Door Style'!$G$6+Species!$C$6+'Drawer Head'!$E$6+'Custom Finish'!$C$6)","v":{"$error":"#VALUE!"}},null,"SC/PC","01-",{"$f":"CONCAT!$D$8","v":""},null,1,{"$f":"J51&A51&K51","v":"01-4DB19.5"},"11-4DB19.5",1,"12-4DB19.5",{"$f":"Q51&K51","v":"12-4DB19.5"},1,null,null,"DG 21IN KITCHEN SET-DTC",4,null,null,{"$f":"C51*$G$1*1*(Color!$D$6+'Door Style'!$G$6+Species!$C$6+'Drawer Head'!$E$6+'Custom Finish'!$C$6)","v":{"$error":"#VALUE!"}},null,"Black","Light Gray",null,"1","Base Cabinet - 4 Drawer Base"]
["4DB21","4 Drawer Base 21\"",{"v":675,"d":"$675.00"},2,null,{"$f":"C52*'Order Form'!$S$18*(Color!$C$6+'Door Style'!$H$6)","v":{"$error":"#VALUE!"}},{"$f":"C52*$G$1*'Order Form'!$S$18*(Color!$D$6+'Door Style'!$G$6+Species!$C$6+'Drawer Head'!$E$6+'Custom Finish'!$C$6)","v":{"$error":"#VALUE!"}},null,"01-","01-",{"$f":"CONCAT!$D$2","v":""},null,1,{"$f":"J52&A52&K52","v":"01-4DB21"},"11-4DB21",1,"12-4DB21",{"$f":"Q52&K52","v":"12-4DB21"},1,null,null,"DG 21IN KITCHEN SET-DTC",4,null,{"$f":"C52*1*(Color!$C$6+'Door Style'!$H$6)","v":{"$error":"#VALUE!"}},{"$f":"C52*$G$1*1*(Color!$D$6+'Door Style'!$G$6+Species!$C$6+'Drawer Head'!$E$6+'Custom Finish'!$C$6)","v":{"$error":"#VALUE!"}},null,"Light Blue","Light Gray",null,"1","Base Cabinet - 4 Drawer Base"]
["4DB22.5","4 Drawer Base 22.5\"",{"v":727,"d":"$727.00"},3,null,null,{"$f":"C53*$G$1*'Order Form'!$S$18*(Color!$D$6+'Door Style'!$G$6+Species!$C$6+'Drawer Head'!$E$6+'Custom Finish'!$C$6)","v":{"$error":"#VALUE!"}},null,"SC/PC","01-",{"$f":"CONCAT!$D$8","v":""},null,1,{"$f":"J53&A53&K53","v":"01-4DB22.5"},"11-4DB22.5",1,"12-4DB22.5",{"$f":"Q53&K53","v":"12-4DB22.5"},1,null,null,"DG 21IN KITCHEN SET-DTC",4,null,null,{"$f":"C53*$G$1*1*(Color!$D$6+'Door Style'!$G$6+Species!$C$6+'Drawer Head'!$E$6+'Custom Finish'!$C$6)","v":{"$error":"#VALUE!"}},null,"Black","Light Gray",null,"1","Base Cabinet - 4 Drawer Base"]
["4DB24","4 Drawer Base 24\"",{"v":721,"d":"$721.00"},2,"PB",{"$f":"C54*'Order Form'!$S$18*(Color!$C$6+'Door Style'!$H$6)","v":{"$error":"#VALUE!"}},{"$f":"C54*$G$1*'Order Form'!$S$18*(Color!$D$6+'Door Style'!$G$6+Species!$C$6+'Drawer Head'!$E$6+'Custom Finish'!$C$6)","v":{"$error":"#VALUE!"}},null,"01-","01-",{"$f":"CONCAT!$D$2","v":""},null,1,{"$f":"J54&A54&K54","v":"01-4DB24"},"11-4DB24",1,"12-4DB24",{"$f":"Q54&K54","v":"12-4DB24"},1,null,null,"DG 21IN KITCHEN SET-DTC",4,null,{"$f":"C54*1*(Color!$C$6+'Door Style'!$H$6)","v":{"$error":"#VALUE!"}},{"$f":"C54*$G$1*1*(Color!$D$6+'Door Style'!$G$6+Species!$C$6+'Drawer Head'!$E$6+'Custom Finish'!$C$6)","v":{"$error":"#VALUE!"}},null,"Light Blue","Light Gray",null,"1","Base Cabinet - 4 Drawer Base"]
["6DB24-ISLAND","6 Drawer Base Island  24",{"v":978,"d":"$978.00"},3,null,null,{"$f":"C55*$G$1*'Order Form'!$S$18*(Color!$D$6+'Door Style'!$G$6+Species!$C$6+'Drawer Head'!$E$6+'Custom Finish'!$C$6)","v":{"$error":"#VALUE!"}},null,"SC/PC","01-",{"$f":"CONCAT!$D$8","v":""},null,1,{"$f":"J55&A55&K55","v":"01-6DB24-ISLAND"},"11-6DB24",1,"12-6DB24-FRONT",{"$f":"Q55&K55","v":"12-6DB24-FRONT"},1,null,null,"DG 21IN KITCHEN SET-DTC",6,null,null,{"$f":"C55*$G$1*1*(Color!$D$6+'Door Style'!$G$6+Species!$C$6+'Drawer Head'!$E$6+'Custom Finish'!$C$6)","v":{"$error":"#VALUE!"}},null,"Black","Light Gray",null,"1","Base Cabinet - 6 Drawer Base"]
["6DB24L","6 Drawer Base 24 Left",{"v":978,"d":"$978.00"},3,null,null,{"$f":"C56*$G$1*'Order Form'!$S$18*(Color!$D$6+'Door Style'!$G$6+Species!$C$6+'Drawer Head'!$E$6+'Custom Finish'!$C$6)","v":{"$error":"#VALUE!"}},null,"SC/PC","01-",{"$f":"CONCAT!$D$8","v":""},null,1,{"$f":"J56&A56&K56","v":"01-6DB24L"},"11-6DB24",1,"12-6DB24",{"$f":"Q56&K56","v":"12-6DB24"},1,null,null,"DG 21IN KITCHEN SET-DTC",6,null,null,{"$f":"C56*$G$1*1*(Color!$D$6+'Door Style'!$G$6+Species!$C$6+'Drawer Head'!$E$6+'Custom Finish'!$C$6)","v":{"$error":"#VALUE!"}},null,"Black","Light Gray",null,"1","Base Cabinet - 6 Drawer Base"]
["6DB24R","6 Drawer Base 24 Right",{"v":978,"d":"$978.00"},3,null,null,{"$f":"C57*$G$1*'Order Form'!$S$18*(Color!$D$6+'Door Style'!$G$6+Species!$C$6+'Drawer Head'!$E$6+'Custom Finish'!$C$6)","v":{"$error":"#VALUE!"}},null,"SC/PC","01-",{"$f":"CONCAT!$D$8","v":""},null,1,{"$f":"J57&A57&K57","v":"01-6DB24R"},"11-6DB24",1,"12-6DB24",{"$f":"Q57&K57","v":"12-6DB24"},1,null,null,"DG 21IN KITCHEN SET-DTC",6,null,null,{"$f":"C57*$G$1*1*(Color!$D$6+'Door Style'!$G$6+Species!$C$6+'Drawer Head'!$E$6+'Custom Finish'!$C$6)","v":{"$error":"#VALUE!"}},null,"Black","Light Gray",null,"1","Base Cabinet - 6 Drawer Base"]
["ACCESSORY","Misc Accessory",0,2,null,0,0,null,"/","","",null,0,{"$f":"J58&A58&K58","v":"ACCESSORY"},{"$nulls":3},{"$f":"Q58&K58","v":""},null,{"$f":"N58","v":"ACCESSORY"},1,{"$nulls":3},0,0,null,"Dark Blue","Dark Blue",null,null,"Accessory"]
["ADHESIVE200","Approved Adhesive for Attaching Skins",{"v":15,"d":"$15.00"},2,null,{"$f":"C59","v":15},{"$f":"C59","v":15},null,"/","","",null,0,{"$f":"J59&A59&K59","v":"ADHESIVE200"},{"$nulls":3},{"$f":"Q59&K59","v":""},null,{"$f":"N59","v":"ADHESIVE200"},1,{"$nulls":3},{"$f":"C59","v":{"v":15,"d":"$15.00"}},{"$f":"C59","v":{"v":15,"d":"$15.00"}},null,"Tan","Tan",null,null,"Accessory"]
["AZURE DISCOUNT","PO Match",0,2,null,0,0,null,"/","/","",null,0,{"$f":"J60&A60&K60","v":"/AZURE DISCOUNT"},{"$nulls":3},{"$f":"Q60&K60","v":""},null,{"$f":"N60","v":"/AZURE DISCOUNT"},1,{"$nulls":3},0,0,null,"Dark Blue","Dark Blue","N"]
["AZURE PO MATCH","PO Match",0,2,null,0,0,null,"/","/","",null,0,{"$f":"J61&A61&K61","v":"/AZURE PO MATCH"},{"$nulls":3},{"$f":"Q61&K61","v":""},null,{"$f":"N61","v":"/AZURE PO MATCH"},1,{"$nulls":3},0,0,null,"Dark Blue","Dark Blue","N"]
["AZURE UPGRADES","PO Match",0,2,null,0,0,null,"/","/","",null,0,{"$f":"J62&A62&K62","v":"/AZURE UPGRADES"},{"$nulls":3},{"$f":"Q62&K62","v":""},null,{"$f":"N62","v":"/AZURE UPGRADES"},1,{"$nulls":3},0,0,null,"Dark Blue","Dark Blue","N"]
["B09-SHELF","Base Shelf For 9\"",{"v":19,"d":"$19.00"},2,null,{"$f":"C63*'Order Form'!$S$18","v":0},{"$f":"C63*'Order Form'!$S$18","v":0},null,"14-","14-","",null,0,{"$f":"J63&A63&K63","v":"14-B09-SHELF"},{"$nulls":3},{"$f":"Q63&K63","v":""},null,{"$f":"N63","v":"14-B09-SHELF"},1,{"$nulls":3},{"$f":"C63*1","v":{"v":19,"d":"$19.00"}},{"$f":"C63*1","v":{"v":19,"d":"$19.00"}},null,"Purple","Purple",null,"1","Shelf - Base"]
["B10.5-SHELF","Base Shelf For 10.5\"",{"v":23,"d":"$23.00"},2,null,{"$f":"C64*'Order Form'!$S$18","v":0},{"$f":"C64*'Order Form'!$S$18","v":0},null,"14-","14-","",null,0,{"$f":"J64&A64&K64","v":"14-B10.5-SHELF"},{"$nulls":3},{"$f":"Q64&K64","v":""},null,{"$f":"N64","v":"14-B10.5-SHELF"},1,{"$nulls":3},{"$f":"C64*1","v":{"v":23,"d":"$23.00"}},{"$f":"C64*1","v":{"v":23,"d":"$23.00"}},null,"Purple","Purple",null,"1","Shelf - Base"]
["B12","Base 12\"",{"v":277,"d":"$277.00"},2,"PB",{"$f":"C65*'Order Form'!$S$18*(Color!$C$6+'Door Style'!$H$6)","v":{"$error":"#VALUE!"}},{"$f":"C65*$G$1*'Order Form'!$S$18*(Color!$D$6+'Door Style'!$G$6+Species!$C$6+'Drawer Head'!$E$6+'Custom Finish'!$C$6)","v":{"$error":"#VALUE!"}},null,"01-","01-",{"$f":"CONCAT!$D$2","v":""},null,1,{"$f":"J65&A65&K65","v":"01-B12"},"11-B12",1,"12-B12",{"$f":"Q65&K65","v":"12-B12"},1,null,null,"DG 21IN KITCHEN SET-DTC",1,null,{"$f":"C65*1*(Color!$C$6+'Door Style'!$H$6)","v":{"$error":"#VALUE!"}},{"$f":"C65*$G$1*1*(Color!$D$6+'Door Style'!$G$6+Species!$C$6+'Drawer Head'!$E$6+'Custom Finish'!$C$6)","v":{"$error":"#VALUE!"}},null,"Light Blue","Light Gray",null,"1","Base Cabinet"]
["B12-SHELF","Base Shelf For 12\"",{"v":26,"d":"$26.00"},2,null,{"$f":"C66*'Order Form'!$S$18","v":0},{"$f":"C66*'Order Form'!$S$18","v":0},null,"14-","14-","",null,0,{"$f":"J66&A66&K66","v":"14-B12-SHELF"},{"$nulls":3},{"$f":"Q66&K66","v":""},null,{"$f":"N66","v":"14-B12-SHELF"},1,{"$nulls":3},{"$f":"C66*1","v":{"v":26,"d":"$26.00"}},{"$f":"C66*1","v":{"v":26,"d":"$26.00"}},null,"Purple","Purple",null,"1","Shelf - Base"]
["B13.5","Base 13.5\"",{"v":305,"d":"$305.00"},3,null,null,{"$f":"C67*$G$1*'Order Form'!$S$18*(Color!$D$6+'Door Style'!$G$6+Species!$C$6+'Drawer Head'!$E$6+'Custom Finish'!$C$6)","v":{"$error":"#VALUE!"}},null,"SC/PC","01-",{"$f":"CONCAT!$D$8","v":""},null,1,{"$f":"J67&A67&K67","v":"01-B13.5"},"11-B13.5",1,"12-B13.5",{"$f":"Q67&K67","v":"12-B13.5"},1,null,null,"DG 21IN KITCHEN SET-DTC",1,null,null,{"$f":"C67*$G$1*1*(Color!$D$6+'Door Style'!$G$6+Species!$C$6+'Drawer Head'!$E$6+'Custom Finish'!$C$6)","v":{"$error":"#VALUE!"}},null,"Black","Light Gray",null,"1","Base Cabinet"]
["B13.5-SHELF","Base Shelf For 13.5\"",{"v":30,"d":"$30.00"},2,null,{"$f":"C68*'Order Form'!$S$18","v":0},{"$f":"C68*'Order Form'!$S$18","v":0},null,"14-","14-","",null,0,{"$f":"J68&A68&K68","v":"14-B13.5-SHELF"},{"$nulls":3},{"$f":"Q68&K68","v":""},null,{"$f":"N68","v":"14-B13.5-SHELF"},1,{"$nulls":3},{"$f":"C68*1","v":{"v":30,"d":"$30.00"}},{"$f":"C68*1","v":{"v":30,"d":"$30.00"}},null,"Purple","Purple",null,"1","Shelf - Base"]
["B15","Base 15\"",{"v":303,"d":"$303.00"},2,"PB",{"$f":"C69*'Order Form'!$S$18*(Color!$C$6+'Door Style'!$H$6)","v":{"$error":"#VALUE!"}},{"$f":"C69*$G$1*'Order Form'!$S$18*(Color!$D$6+'Door Style'!$G$6+Species!$C$6+'Drawer Head'!$E$6+'Custom Finish'!$C$6)","v":{"$error":"#VALUE!"}},null,"01-","01-",{"$f":"CONCAT!$D$2","v":""},null,1,{"$f":"J69&A69&K69","v":"01-B15"},"11-B15",1,"12-B15",{"$f":"Q69&K69","v":"12-B15"},1,null,null,"DG 21IN KITCHEN SET-DTC",1,null,{"$f":"C69*1*(Color!$C$6+'Door Style'!$H$6)","v":{"$error":"#VALUE!"}},{"$f":"C69*$G$1*1*(Color!$D$6+'Door Style'!$G$6+Species!$C$6+'Drawer Head'!$E$6+'Custom Finish'!$C$6)","v":{"$error":"#VALUE!"}},null,"Light Blue","Light Gray",null,"1","Base Cabinet"]
["B15-SHELF","Base Shelf For 15\"",{"v":33,"d":"$33.00"},2,null,{"$f":"C70*'Order Form'!$S$18","v":0},{"$f":"C70*'Order Form'!$S$18","v":0},null,"14-","14-","",null,0,{"$f":"J70&A70&K70","v":"14-B15-SHELF"},{"$nulls":3},{"$f":"Q70&K70","v":""},null,{"$f":"N70","v":"14-B15-SHELF"},1,{"$nulls":3},{"$f":"C70*1","v":{"v":33,"d":"$33.00"}},{"$f":"C70*1","v":{"v":33,"d":"$33.00"}},null,"Purple","Purple",null,"1","Shelf - Base"]
["B16.5","Base 16.5",{"v":332,"d":"$332.00"},3,null,null,{"$f":"C71*$G$1*'Order Form'!$S$18*(Color!$D$6+'Door Style'!$G$6+Species!$C$6+'Drawer Head'!$E$6+'Custom Finish'!$C$6)","v":{"$error":"#VALUE!"}},null,"SC/PC","01-",{"$f":"CONCAT!$D$8","v":""},null,1,{"$f":"J71&A71&K71","v":"01-B16.5"},"11-B16.5",1,"12-B16.5",{"$f":"Q71&K71","v":"12-B16.5"},1,null,null,"DG 21IN KITCHEN SET-DTC",1,null,null,{"$f":"C71*$G$1*1*(Color!$D$6+'Door Style'!$G$6+Species!$C$6+'Drawer Head'!$E$6+'Custom Finish'!$C$6)","v":{"$error":"#VALUE!"}},null,"Black","Light Gray",null,"1","Base Cabinet"]
["B16.5-SHELF","Base Shelf For 16.5\"",{"v":36,"d":"$36.00"},2,null,{"$f":"C72*'Order Form'!$S$18","v":0},{"$f":"C72*'Order Form'!$S$18","v":0},null,"14-","14-","",null,0,{"$f":"J72&A72&K72","v":"14-B16.5-SHELF"},{"$nulls":3},{"$f":"Q72&K72","v":""},null,{"$f":"N72","v":"14-B16.5-SHELF"},1,{"$nulls":3},{"$f":"C72*1","v":{"v":36,"d":"$36.00"}},{"$f":"C72*1","v":{"v":36,"d":"$36.00"}},null,"Purple","Purple",null,"1","Shelf - Base"]
["B18","Base 18",{"v":331,"d":"$331.00"},2,"PB",{"$f":"C73*'Order Form'!$S$18*(Color!$C$6+'Door Style'!$H$6)","v":{"$error":"#VALUE!"}},{"$f":"C73*$G$1*'Order Form'!$S$18*(Color!$D$6+'Door Style'!$G$6+Species!$C$6+'Drawer Head'!$E$6+'Custom Finish'!$C$6)","v":{"$error":"#VALUE!"}},null,"01-","01-",{"$f":"CONCAT!$D$2","v":""},null,1,{"$f":"J73&A73&K73","v":"01-B18"},"11-B18",1,"12-B18",{"$f":"Q73&K73","v":"12-B18"},1,null,null,"DG 21IN KITCHEN SET-DTC",1,null,{"$f":"C73*1*(Color!$C$6+'Door Style'!$H$6)","v":{"$error":"#VALUE!"}},{"$f":"C73*$G$1*1*(Color!$D$6+'Door Style'!$G$6+Species!$C$6+'Drawer Head'!$E$6+'Custom Finish'!$C$6)","v":{"$error":"#VALUE!"}},null,"Light Blue","Light Gray",null,"1","Base Cabinet"]
["B18-SHELF","Base Shelf For 18\"",{"v":39,"d":"$39.00"},2,null,{"$f":"C74*'Order Form'!$S$18","v":0},{"$f":"C74*'Order Form'!$S$18","v":0},null,"14-","14-","",null,0,{"$f":"J74&A74&K74","v":"14-B18-SHELF"},{"$nulls":3},{"$f":"Q74&K74","v":""},null,{"$f":"N74","v":"14-B18-SHELF"},1,{"$nulls":3},{"$f":"C74*1","v":{"v":39,"d":"$39.00"}},{"$f":"C74*1","v":{"v":39,"d":"$39.00"}},null,"Purple","Purple",null,"1","Shelf - Base"]
["B19.5","Base 19.5\"",{"v":370,"d":"$370.00"},3,null,null,{"$f":"C75*$G$1*'Order Form'!$S$18*(Color!$D$6+'Door Style'!$G$6+Species!$C$6+'Drawer Head'!$E$6+'Custom Finish'!$C$6)","v":{"$error":"#VALUE!"}},null,"SC/PC","01-",{"$f":"CONCAT!$D$8","v":""},null,1,{"$f":"J75&A75&K75","v":"01-B19.5"},"11-B19.5",1,"12-B19.5",{"$f":"Q75&K75","v":"12-B19.5"},1,null,null,"DG 21IN KITCHEN SET-DTC",1,null,null,{"$f":"C75*$G$1*1*(Color!$D$6+'Door Style'!$G$6+Species!$C$6+'Drawer Head'!$E$6+'Custom Finish'!$C$6)","v":{"$error":"#VALUE!"}},null,"Black","Light Gray",null,"1","Base Cabinet"]
["B19.5-SHELF","Base Shelf For 19.5\"",{"v":42,"d":"$42.00"},2,null,{"$f":"C76*'Order Form'!$S$18","v":0},{"$f":"C76*'Order Form'!$S$18","v":0},null,"14-","14-","",null,0,{"$f":"J76&A76&K76","v":"14-B19.5-SHELF"},{"$nulls":3},{"$f":"Q76&K76","v":""},null,{"$f":"N76","v":"14-B19.5-SHELF"},1,{"$nulls":3},{"$f":"C76*1","v":{"v":42,"d":"$42.00"}},{"$f":"C76*1","v":{"v":42,"d":"$42.00"}},null,"Purple","Purple",null,"1","Shelf - Base"]
["B21","Base 21\"",{"v":368,"d":"$368.00"},2,"PB",{"$f":"C77*'Order Form'!$S$18*(Color!$C$6+'Door Style'!$H$6)","v":{"$error":"#VALUE!"}},{"$f":"C77*$G$1*'Order Form'!$S$18*(Color!$D$6+'Door Style'!$G$6+Species!$C$6+'Drawer Head'!$E$6+'Custom Finish'!$C$6)","v":{"$error":"#VALUE!"}},null,"01-","01-",{"$f":"CONCAT!$D$2","v":""},null,1,{"$f":"J77&A77&K77","v":"01-B21"},"11-B21",1,"12-B21",{"$f":"Q77&K77","v":"12-B21"},1,null,null,"DG 21IN KITCHEN SET-DTC",1,null,{"$f":"C77*1*(Color!$C$6+'Door Style'!$H$6)","v":{"$error":"#VALUE!"}},{"$f":"C77*$G$1*1*(Color!$D$6+'Door Style'!$G$6+Species!$C$6+'Drawer Head'!$E$6+'Custom Finish'!$C$6)","v":{"$error":"#VALUE!"}},null,"Light Blue","Light Gray",null,"1","Base Cabinet"]
["B21-SHELF","Base Shelf For 21\"",{"v":45,"d":"$45.00"},2,null,{"$f":"C78*'Order Form'!$S$18","v":0},{"$f":"C78*'Order Form'!$S$18","v":0},null,"14-","14-","",null,0,{"$f":"J78&A78&K78","v":"14-B21-SHELF"},{"$nulls":3},{"$f":"Q78&K78","v":""},null,{"$f":"N78","v":"14-B21-SHELF"},1,{"$nulls":3},{"$f":"C78*1","v":{"v":45,"d":"$45.00"}},{"$f":"C78*1","v":{"v":45,"d":"$45.00"}},null,"Purple","Purple",null,"1","Shelf - Base"]
["B22.5","Base 22.5\"",{"v":393,"d":"$393.00"},3,null,null,{"$f":"C79*$G$1*'Order Form'!$S$18*(Color!$D$6+'Door Style'!$G$6+Species!$C$6+'Drawer Head'!$E$6+'Custom Finish'!$C$6)","v":{"$error":"#VALUE!"}},null,"SC/PC","01-",{"$f":"CONCAT!$D$8","v":""},null,1,{"$f":"J79&A79&K79","v":"01-B22.5"},"11-B22.5",1,"12-B22.5",{"$f":"Q79&K79","v":"12-B22.5"},1,null,null,"DG 21IN KITCHEN SET-DTC",1,null,null,{"$f":"C79*$G$1*1*(Color!$D$6+'Door Style'!$G$6+Species!$C$6+'Drawer Head'!$E$6+'Custom Finish'!$C$6)","v":{"$error":"#VALUE!"}},null,"Black","Light Gray",null,"1","Base Cabinet"]
["B22.5-SHELF","Base Shelf For 22.5\"",{"v":48,"d":"$48.00"},2,null,{"$f":"C80*'Order Form'!$S$18","v":0},{"$f":"C80*'Order Form'!$S$18","v":0},null,"14-","14-","",null,0,{"$f":"J80&A80&K80","v":"14-B22.5-SHELF"},{"$nulls":3},{"$f":"Q80&K80","v":""},null,{"$f":"N80","v":"14-B22.5-SHELF"},1,{"$nulls":3},{"$f":"C80*1","v":{"v":48,"d":"$48.00"}},{"$f":"C80*1","v":{"v":48,"d":"$48.00"}},null,"Purple","Purple",null,"1","Shelf - Base"]
["B24","Base 24\"",{"v":389,"d":"$389.00"},2,"PB",{"$f":"C81*'Order Form'!$S$18*(Color!$C$6+'Door Style'!$H$6)","v":{"$error":"#VALUE!"}},{"$f":"C81*$G$1*'Order Form'!$S$18*(Color!$D$6+'Door Style'!$G$6+Species!$C$6+'Drawer Head'!$E$6+'Custom Finish'!$C$6)","v":{"$error":"#VALUE!"}},null,"01-","01-",{"$f":"CONCAT!$D$2","v":""},null,1,{"$f":"J81&A81&K81","v":"01-B24"},"11-B24",1,"12-B24",{"$f":"Q81&K81","v":"12-B24"},1,null,null,"DG 21IN KITCHEN SET-DTC",1,null,{"$f":"C81*1*(Color!$C$6+'Door Style'!$H$6)","v":{"$error":"#VALUE!"}},{"$f":"C81*$G$1*1*(Color!$D$6+'Door Style'!$G$6+Species!$C$6+'Drawer Head'!$E$6+'Custom Finish'!$C$6)","v":{"$error":"#VALUE!"}},null,"Light Blue","Light Gray",null,"1","Base Cabinet"]
["B24-SHELF","Base Shelf For 24\"",{"v":51,"d":"$51.00"},2,null,{"$f":"C82*'Order Form'!$S$18","v":0},{"$f":"C82*'Order Form'!$S$18","v":0},null,"14-","14-","",null,0,{"$f":"J82&A82&K82","v":"14-B24-SHELF"},{"$nulls":3},{"$f":"Q82&K82","v":""},null,{"$f":"N82","v":"14-B24-SHELF"},1,{"$nulls":3},{"$f":"C82*1","v":{"v":51,"d":"$51.00"}},{"$f":"C82*1","v":{"v":51,"d":"$51.00"}},null,"Purple","Purple",null,"1","Shelf - Base"]
["B25.5","Base 25.5\"",{"v":454,"d":"$454.00"},3,null,null,{"$f":"C83*$G$1*'Order Form'!$S$18*(Color!$D$6+'Door Style'!$G$6+Species!$C$6+'Drawer Head'!$E$6+'Custom Finish'!$C$6)","v":{"$error":"#VALUE!"}},null,"SC/PC","01-",{"$f":"CONCAT!$D$8","v":""},null,1,{"$f":"J83&A83&K83","v":"01-B25.5"},"11-B25.5",1,"12-B25.5",{"$f":"Q83&K83","v":"12-B25.5"},1,null,null,"DG 21IN KITCHEN SET-DTC",1,null,null,{"$f":"C83*$G$1*1*(Color!$D$6+'Door Style'!$G$6+Species!$C$6+'Drawer Head'!$E$6+'Custom Finish'!$C$6)","v":{"$error":"#VALUE!"}},null,"Black","Light Gray",null,"1","Base Cabinet"]
["B25.5-SHELF","Base Shelf For 25.5\"",{"v":55,"d":"$55.00"},2,null,{"$f":"C84*'Order Form'!$S$18","v":0},{"$f":"C84*'Order Form'!$S$18","v":0},null,"14-","14-","",null,0,{"$f":"J84&A84&K84","v":"14-B25.5-SHELF"},{"$nulls":3},{"$f":"Q84&K84","v":""},null,{"$f":"N84","v":"14-B25.5-SHELF"},1,{"$nulls":3},{"$f":"C84*1","v":{"v":55,"d":"$55.00"}},{"$f":"C84*1","v":{"v":55,"d":"$55.00"}},null,"Purple","Purple",null,"1","Shelf - Base"]
["B27","Base 27\"",{"v":451,"d":"$451.00"},2,"PB",{"$f":"C85*'Order Form'!$S$18*(Color!$C$6+'Door Style'!$H$6)","v":{"$error":"#VALUE!"}},{"$f":"C85*$G$1*'Order Form'!$S$18*(Color!$D$6+'Door Style'!$G$6+Species!$C$6+'Drawer Head'!$E$6+'Custom Finish'!$C$6)","v":{"$error":"#VALUE!"}},null,"01-","01-",{"$f":"CONCAT!$D$2","v":""},null,1,{"$f":"J85&A85&K85","v":"01-B27"},"11-B27",1,"12-B27",{"$f":"Q85&K85","v":"12-B27"},1,null,null,"DG 21IN KITCHEN SET-DTC",1,null,{"$f":"C85*1*(Color!$C$6+'Door Style'!$H$6)","v":{"$error":"#VALUE!"}},{"$f":"C85*$G$1*1*(Color!$D$6+'Door Style'!$G$6+Species!$C$6+'Drawer Head'!$E$6+'Custom Finish'!$C$6)","v":{"$error":"#VALUE!"}},null,"Light Blue","Light Gray",null,"1","Base Cabinet"]
["B27-SHELF","Base Shelf For 27\"",{"v":58,"d":"$58.00"},2,null,{"$f":"C86*'Order Form'!$S$18","v":0},{"$f":"C86*'Order Form'!$S$18","v":0},null,"14-","14-","",null,0,{"$f":"J86&A86&K86","v":"14-B27-SHELF"},{"$nulls":3},{"$f":"Q86&K86","v":""},null,{"$f":"N86","v":"14-B27-SHELF"},1,{"$nulls":3},{"$f":"C86*1","v":{"v":58,"d":"$58.00"}},{"$f":"C86*1","v":{"v":58,"d":"$58.00"}},null,"Purple","Purple",null,"1","Shelf - Base"]
["B30","Base 30\"",{"v":494,"d":"$494.00"},2,"PB",{"$f":"C87*'Order Form'!$S$18*(Color!$C$6+'Door Style'!$H$6)","v":{"$error":"#VALUE!"}},{"$f":"C87*$G$1*'Order Form'!$S$18*(Color!$D$6+'Door Style'!$G$6+Species!$C$6+'Drawer Head'!$E$6+'Custom Finish'!$C$6)","v":{"$error":"#VALUE!"}},null,"01-","01-",{"$f":"CONCAT!$D$2","v":""},null,1,{"$f":"J87&A87&K87","v":"01-B30"},"11-B30",1,"12-B30",{"$f":"Q87&K87","v":"12-B30"},1,null,null,"DG 21IN KITCHEN SET-DTC",1,null,{"$f":"C87*1*(Color!$C$6+'Door Style'!$H$6)","v":{"$error":"#VALUE!"}},{"$f":"C87*$G$1*1*(Color!$D$6+'Door Style'!$G$6+Species!$C$6+'Drawer Head'!$E$6+'Custom Finish'!$C$6)","v":{"$error":"#VALUE!"}},null,"Light Blue","Light Gray",null,"1","Base Cabinet"]
["B30-SHELF","Base Shelf For 30\"",{"v":65,"d":"$65.00"},2,null,{"$f":"C88*'Order Form'!$S$18","v":0},{"$f":"C88*'Order Form'!$S$18","v":0},null,"14-","14-","",null,0,{"$f":"J88&A88&K88","v":"14-B30-SHELF"},{"$nulls":3},{"$f":"Q88&K88","v":""},null,{"$f":"N88","v":"14-B30-SHELF"},1,{"$nulls":3},{"$f":"C88*1","v":{"v":65,"d":"$65.00"}},{"$f":"C88*1","v":{"v":65,"d":"$65.00"}},null,"Purple","Purple",null,"1","Shelf - Base"]
["B33","Base 33\"",{"v":588,"d":"$588.00"},2,"PB",{"$f":"C89*'Order Form'!$S$18*(Color!$C$6+'Door Style'!$H$6)","v":{"$error":"#VALUE!"}},{"$f":"C89*$G$1*'Order Form'!$S$18*(Color!$D$6+'Door Style'!$G$6+Species!$C$6+'Drawer Head'!$E$6+'Custom Finish'!$C$6)","v":{"$error":"#VALUE!"}},null,"01-","01-",{"$f":"CONCAT!$D$2","v":""},null,1,{"$f":"J89&A89&K89","v":"01-B33"},"11-B33",1,"12-B33",{"$f":"Q89&K89","v":"12-B33"},1,null,null,"DG 21IN KITCHEN SET-DTC",2,null,{"$f":"C89*1*(Color!$C$6+'Door Style'!$H$6)","v":{"$error":"#VALUE!"}},{"$f":"C89*$G$1*1*(Color!$D$6+'Door Style'!$G$6+Species!$C$6+'Drawer Head'!$E$6+'Custom Finish'!$C$6)","v":{"$error":"#VALUE!"}},null,"Light Blue","Light Gray",null,"1","Base Cabinet"]
["B33-SHELF","Base Shelf For 33\"",{"v":71,"d":"$71.00"},2,null,{"$f":"C90*'Order Form'!$S$18","v":0},{"$f":"C90*'Order Form'!$S$18","v":0},null,"14-","14-","",null,0,{"$f":"J90&A90&K90","v":"14-B33-SHELF"},{"$nulls":3},{"$f":"Q90&K90","v":""},null,{"$f":"N90","v":"14-B33-SHELF"},1,{"$nulls":3},{"$f":"C90*1","v":{"v":71,"d":"$71.00"}},{"$f":"C90*1","v":{"v":71,"d":"$71.00"}},null,"Purple","Purple",null,"1","Shelf - Base"]
["B36","Base 36\"",{"v":620,"d":"$620.00"},2,"PB",{"$f":"C91*'Order Form'!$S$18*(Color!$C$6+'Door Style'!$H$6)","v":{"$error":"#VALUE!"}},{"$f":"C91*$G$1*'Order Form'!$S$18*(Color!$D$6+'Door Style'!$G$6+Species!$C$6+'Drawer Head'!$E$6+'Custom Finish'!$C$6)","v":{"$error":"#VALUE!"}},null,"01-","01-",{"$f":"CONCAT!$D$2","v":""},null,1,{"$f":"J91&A91&K91","v":"01-B36"},"11-B36",1,"12-B36",{"$f":"Q91&K91","v":"12-B36"},1,null,null,"DG 21IN KITCHEN SET-DTC",2,null,{"$f":"C91*1*(Color!$C$6+'Door Style'!$H$6)","v":{"$error":"#VALUE!"}},{"$f":"C91*$G$1*1*(Color!$D$6+'Door Style'!$G$6+Species!$C$6+'Drawer Head'!$E$6+'Custom Finish'!$C$6)","v":{"$error":"#VALUE!"}},null,"Light Blue","Light Gray",null,"1","Base Cabinet"]
["B36-SHELF","Base Shelf For 36\"",{"v":77,"d":"$77.00"},2,null,{"$f":"C92*'Order Form'!$S$18","v":0},{"$f":"C92*'Order Form'!$S$18","v":0},null,"14-","14-","",null,0,{"$f":"J92&A92&K92","v":"14-B36-SHELF"},{"$nulls":3},{"$f":"Q92&K92","v":""},null,{"$f":"N92","v":"14-B36-SHELF"},1,{"$nulls":3},{"$f":"C92*1","v":{"v":77,"d":"$77.00"}},{"$f":"C92*1","v":{"v":77,"d":"$77.00"}},null,"Purple","Purple",null,"1","Shelf - Base"]
["B39","Base 39\"",{"v":653,"d":"$653.00"},2,null,{"$f":"C93*'Order Form'!$S$18*(Color!$C$6+'Door Style'!$H$6)","v":{"$error":"#VALUE!"}},{"$f":"C93*$G$1*'Order Form'!$S$18*(Color!$D$6+'Door Style'!$G$6+Species!$C$6+'Drawer Head'!$E$6+'Custom Finish'!$C$6)","v":{"$error":"#VALUE!"}},null,"01-","01-",{"$f":"CONCAT!$D$2","v":""},null,1,{"$f":"J93&A93&K93","v":"01-B39"},"11-B39",1,"12-B39",{"$f":"Q93&K93","v":"12-B39"},1,null,null,"DG 21IN KITCHEN SET-DTC",2,null,{"$f":"C93*1*(Color!$C$6+'Door Style'!$H$6)","v":{"$error":"#VALUE!"}},{"$f":"C93*$G$1*1*(Color!$D$6+'Door Style'!$G$6+Species!$C$6+'Drawer Head'!$E$6+'Custom Finish'!$C$6)","v":{"$error":"#VALUE!"}},null,"Light Blue","Light Gray",null,"1","Base Cabinet"]
["B39-SHELF","Base Shelf For 39\"",{"v":84,"d":"$84.00"},2,null,{"$f":"C94*'Order Form'!$S$18","v":0},{"$f":"C94*'Order Form'!$S$18","v":0},null,"14-","14-","",null,0,{"$f":"J94&A94&K94","v":"14-B39-SHELF"},{"$nulls":3},{"$f":"Q94&K94","v":""},null,{"$f":"N94","v":"14-B39-SHELF"},1,{"$nulls":3},{"$f":"C94*1","v":{"v":84,"d":"$84.00"}},{"$f":"C94*1","v":{"v":84,"d":"$84.00"}},null,"Purple","Purple",null,"1","Shelf - Base"]
["BASE PULLOUT (11)","Base Pull Out 11\"",{"v":340,"d":"$340.00"},2,null,{"$f":"C95","v":340},{"$f":"C95","v":340},null,"/","","",null,0,{"$f":"J95&A95&K95","v":"BASE PULLOUT (11)"},{"$nulls":3},{"$f":"Q95&K95","v":""},null,{"$f":"N95","v":"BASE PULLOUT (11)"},1,{"$nulls":3},{"$f":"C95","v":{"v":340,"d":"$340.00"}},{"$f":"C95","v":{"v":340,"d":"$340.00"}},null,"Tan","Tan",null,"1","Accessory - Base - Full Height"]
["BASE PULLOUT (14)","Base Pull Out 14\"",{"v":400,"d":"$400.00"},2,null,{"$f":"C96","v":400},{"$f":"C96","v":400},null,"/","","",null,0,{"$f":"J96&A96&K96","v":"BASE PULLOUT (14)"},{"$nulls":3},{"$f":"Q96&K96","v":""},null,{"$f":"N96","v":"BASE PULLOUT (14)"},1,{"$nulls":3},{"$f":"C96","v":{"v":400,"d":"$400.00"}},{"$f":"C96","v":{"v":400,"d":"$400.00"}},null,"Tan","Tan",null,"1","Accessory - Base - Full Height"]
["BASE PULLOUT (5)","Base Pull Out 5\"",{"v":240,"d":"$240.00"},2,null,{"$f":"C97","v":240},{"$f":"C97","v":240},null,"/","","",null,0,{"$f":"J97&A97&K97","v":"BASE PULLOUT (5)"},{"$nulls":3},{"$f":"Q97&K97","v":""},null,{"$f":"N97","v":"BASE PULLOUT (5)"},1,{"$nulls":3},{"$f":"C97","v":{"v":240,"d":"$240.00"}},{"$f":"C97","v":{"v":240,"d":"$240.00"}},null,"Tan","Tan",null,"1","Accessory - Base - Full Height"]
["BASE PULLOUT (8)","Base Pull Out 8\"",{"v":250,"d":"$250.00"},2,null,{"$f":"C98","v":250},{"$f":"C98","v":250},null,"/","","",null,0,{"$f":"J98&A98&K98","v":"BASE PULLOUT (8)"},{"$nulls":3},{"$f":"Q98&K98","v":""},null,{"$f":"N98","v":"BASE PULLOUT (8)"},1,{"$nulls":3},{"$f":"C98","v":{"v":250,"d":"$250.00"}},{"$f":"C98","v":{"v":250,"d":"$250.00"}},null,"Tan","Tan",null,"1","Accessory - Base - Full Height"]
["BATTEN","Molding",{"v":41,"d":"$41.00"},2,null,{"$f":"(C99*Color!$G$6*'Order Form'!$S$18)","v":{"$error":"#VALUE!"}},{"$f":"C99*$G$1*'Order Form'!$S$18*(Color!$D$6+Species!$C$6)","v":{"$error":"#VALUE!"}},null,"13-","13-",{"$f":"CONCAT!$D$3","v":""},null,0,{"$f":"J99&A99&K99","v":"13-BATTEN"},{"$nulls":3},{"$f":"Q99&K99","v":""},null,{"$f":"N99","v":"13-BATTEN"},1,{"$nulls":3},{"$f":"(C99*Color!$G$6*1)","v":{"$error":"#VALUE!"}},{"$f":"C99*$G$1*1*(Color!$D$6+Species!$C$6)","v":{"$error":"#VALUE!"}},null,"Orange","Pink",null,null,"Trim"]
["BCB PULLOUT-BEAN48","BCB Pullout-Bean 48\"",{"v":525,"d":"$525.00"},3,null,null,{"$f":"C100","v":525},null,"/","","",null,0,{"$f":"J100&A100&K100","v":"BCB PULLOUT-BEAN48"},{"$nulls":3},{"$f":"Q100&K100","v":""},null,{"$f":"N100","v":"BCB PULLOUT-BEAN48"},1,{"$nulls":4},{"$f":"C100","v":{"v":525,"d":"$525.00"}},null,"Black","Tan",null,"1","Accessory - Base - Blind Corner"]
["BCB PULLOUT-HALF MOON45","BCB Pullout-Half Moon 45",{"v":270,"d":"$270.00"},3,null,null,{"$f":"C101","v":270},null,"/","","",null,0,{"$f":"J101&A101&K101","v":"BCB PULLOUT-HALF MOON45"},{"$nulls":3},{"$f":"Q101&K101","v":""},null,{"$f":"N101","v":"BCB PULLOUT-HALF MOON45"},1,{"$nulls":4},{"$f":"C101","v":{"v":270,"d":"$270.00"}},null,"Black","Tan",null,"1","Accessory - Base - Blind Corner"]
["BCB36L","Blind Corner Base 36\" (Blind Left)",{"v":467,"d":"$467.00"},2,null,{"$f":"C102*'Order Form'!$S$18*(Color!$C$6+'Door Style'!$H$6)","v":{"$error":"#VALUE!"}},{"$f":"C102*$G$1*'Order Form'!$S$18*(Color!$D$6+'Door Style'!$G$6+Species!$C$6+'Custom Finish'!$C$6)","v":{"$error":"#VALUE!"}},null,"01-","01-",{"$f":"CONCAT!$D$2","v":""},null,1,{"$f":"J102&A102&K102","v":"01-BCB36L"},"11-BCB36",1,"12-BCB36",{"$f":"Q102&K102","v":"12-BCB36"},1,null,null,"DG 21IN KITCHEN SET-DTC",1,null,{"$f":"C102*1*(Color!$C$6+'Door Style'!$H$6)","v":{"$error":"#VALUE!"}},{"$f":"C102*$G$1*1*(Color!$D$6+'Door Style'!$G$6+Species!$C$6+'Custom Finish'!$C$6)","v":{"$error":"#VALUE!"}},null,"Light Blue","Dark Gray",null,"1","Base Cabinet - Corner - Blind"]
["BCB36R","Blind Corner Base 36\" (Blind Right)",{"v":467,"d":"$467.00"},2,null,{"$f":"C103*'Order Form'!$S$18*(Color!$C$6+'Door Style'!$H$6)","v":{"$error":"#VALUE!"}},{"$f":"C103*$G$1*'Order Form'!$S$18*(Color!$D$6+'Door Style'!$G$6+Species!$C$6+'Custom Finish'!$C$6)","v":{"$error":"#VALUE!"}},null,"01-","01-",{"$f":"CONCAT!$D$2","v":""},null,1,{"$f":"J103&A103&K103","v":"01-BCB36R"},"11-BCB36",1,"12-BCB36",{"$f":"Q103&K103","v":"12-BCB36"},1,null,null,"DG 21IN KITCHEN SET-DTC",1,null,{"$f":"C103*1*(Color!$C$6+'Door Style'!$H$6)","v":{"$error":"#VALUE!"}},{"$f":"C103*$G$1*1*(Color!$D$6+'Door Style'!$G$6+Species!$C$6+'Custom Finish'!$C$6)","v":{"$error":"#VALUE!"}},null,"Light Blue","Dark Gray",null,"1","Base Cabinet - Corner - Blind"]
["BCB39L","Blind Corner Base 39\" (Blind Left)",{"v":490,"d":"$490.00"},3,null,null,{"$f":"C104*$G$1*'Order Form'!$S$18*(Color!$D$6+'Door Style'!$G$6+Species!$C$6+'Custom Finish'!$C$6)","v":{"$error":"#VALUE!"}},null,"SC/PC","01-",{"$f":"CONCAT!$D$8","v":""},null,1,{"$f":"J104&A104&K104","v":"01-BCB39L"},"11-BCB39",1,"12-BCB39L",{"$f":"Q104&K104","v":"12-BCB39L"},1,null,null,"DG 21IN KITCHEN SET-DTC",1,null,null,{"$f":"C104*$G$1*1*(Color!$D$6+'Door Style'!$G$6+Species!$C$6+'Custom Finish'!$C$6)","v":{"$error":"#VALUE!"}},null,"Black","Dark Gray",null,"1","Base Cabinet - Corner - Blind"]
["BCB39R","Blind Corner Base 39\" (Blind Right)",{"v":490,"d":"$490.00"},3,null,null,{"$f":"C105*$G$1*'Order Form'!$S$18*(Color!$D$6+'Door Style'!$G$6+Species!$C$6+'Custom Finish'!$C$6)","v":{"$error":"#VALUE!"}},null,"SC/PC","01-",{"$f":"CONCAT!$D$8","v":""},null,1,{"$f":"J105&A105&K105","v":"01-BCB39R"},"11-BCB39",1,"12-BCB39R",{"$f":"Q105&K105","v":"12-BCB39R"},1,null,null,"DG 21IN KITCHEN SET-DTC",1,null,null,{"$f":"C105*$G$1*1*(Color!$D$6+'Door Style'!$G$6+Species!$C$6+'Custom Finish'!$C$6)","v":{"$error":"#VALUE!"}},null,"Black","Dark Gray",null,"1","Base Cabinet - Corner - Blind"]
["BCB42L","Blind Corner Base 42\" (Blind Left)",{"v":572,"d":"$572.00"},2,null,{"$f":"C106*'Order Form'!$S$18*(Color!$C$6+'Door Style'!$H$6)","v":{"$error":"#VALUE!"}},{"$f":"C106*$G$1*'Order Form'!$S$18*(Color!$D$6+'Door Style'!$G$6+Species!$C$6+'Custom Finish'!$C$6)","v":{"$error":"#VALUE!"}},null,"01-","01-",{"$f":"CONCAT!$D$2","v":""},null,1,{"$f":"J106&A106&K106","v":"01-BCB42L"},"11-BCB42",1,"12-BCB42",{"$f":"Q106&K106","v":"12-BCB42"},1,null,null,"DG 21IN KITCHEN SET-DTC",1,null,{"$f":"C106*1*(Color!$C$6+'Door Style'!$H$6)","v":{"$error":"#VALUE!"}},{"$f":"C106*$G$1*1*(Color!$D$6+'Door Style'!$G$6+Species!$C$6+'Custom Finish'!$C$6)","v":{"$error":"#VALUE!"}},null,"Light Blue","Dark Gray",null,"1","Base Cabinet - Corner - Blind"]
["BCB42R","Blind Corner Base 42\" (Blind Right)",{"v":572,"d":"$572.00"},2,null,{"$f":"C107*'Order Form'!$S$18*(Color!$C$6+'Door Style'!$H$6)","v":{"$error":"#VALUE!"}},{"$f":"C107*$G$1*'Order Form'!$S$18*(Color!$D$6+'Door Style'!$G$6+Species!$C$6+'Custom Finish'!$C$6)","v":{"$error":"#VALUE!"}},null,"01-","01-",{"$f":"CONCAT!$D$2","v":""},null,1,{"$f":"J107&A107&K107","v":"01-BCB42R"},"11-BCB42",1,"12-BCB42",{"$f":"Q107&K107","v":"12-BCB42"},1,null,null,"DG 21IN KITCHEN SET-DTC",1,null,{"$f":"C107*1*(Color!$C$6+'Door Style'!$H$6)","v":{"$error":"#VALUE!"}},{"$f":"C107*$G$1*1*(Color!$D$6+'Door Style'!$G$6+Species!$C$6+'Custom Finish'!$C$6)","v":{"$error":"#VALUE!"}},null,"Light Blue","Dark Gray",null,"1","Base Cabinet - Corner - Blind"]
["BCB45L","Blind Corner Base 45\" (Blind Left)",{"v":584,"d":"$584.00"},3,null,null,{"$f":"C108*$G$1*'Order Form'!$S$18*(Color!$D$6+'Door Style'!$G$6+Species!$C$6+'Custom Finish'!$C$6)","v":{"$error":"#VALUE!"}},null,"SC/PC","01-",{"$f":"CONCAT!$D$8","v":""},null,1,{"$f":"J108&A108&K108","v":"01-BCB45L"},"11-BCB45",1,"12-BCB45L",{"$f":"Q108&K108","v":"12-BCB45L"},1,null,null,"DG 21IN KITCHEN SET-DTC",1,null,null,{"$f":"C108*$G$1*1*(Color!$D$6+'Door Style'!$G$6+Species!$C$6+'Custom Finish'!$C$6)","v":{"$error":"#VALUE!"}},null,"Black","Dark Gray",null,"1","Base Cabinet - Corner - Blind"]
["BCB45R","Blind Corner Base 45\" (Blind Right)",{"v":584,"d":"$584.00"},3,null,null,{"$f":"C109*$G$1*'Order Form'!$S$18*(Color!$D$6+'Door Style'!$G$6+Species!$C$6+'Custom Finish'!$C$6)","v":{"$error":"#VALUE!"}},null,"SC/PC","01-",{"$f":"CONCAT!$D$8","v":""},null,1,{"$f":"J109&A109&K109","v":"01-BCB45R"},"11-BCB45",1,"12-BCB45R",{"$f":"Q109&K109","v":"12-BCB45R"},1,null,null,"DG 21IN KITCHEN SET-DTC",1,null,null,{"$f":"C109*$G$1*1*(Color!$D$6+'Door Style'!$G$6+Species!$C$6+'Custom Finish'!$C$6)","v":{"$error":"#VALUE!"}},null,"Black","Dark Gray",null,"1","Base Cabinet - Corner - Blind"]
["BCB48L","Blind Corner Base 48\" (Blind Left)",{"v":607,"d":"$607.00"},3,null,null,{"$f":"C110*$G$1*'Order Form'!$S$18*(Color!$D$6+'Door Style'!$G$6+Species!$C$6+'Custom Finish'!$C$6)","v":{"$error":"#VALUE!"}},null,"PROJECT","01-",{"$f":"CONCAT!$D$2","v":""},null,1,{"$f":"J110&A110&K110","v":"01-BCB48L"},"11-BCB48",1,"12-BCB48L",{"$f":"Q110&K110","v":"12-BCB48L"},1,null,null,"DG 21IN KITCHEN SET-DTC",1,null,null,{"$f":"C110*$G$1*1*(Color!$D$6+'Door Style'!$G$6+Species!$C$6+'Custom Finish'!$C$6)","v":{"$error":"#VALUE!"}},null,"Black","Dark Gray",null,"1","Base Cabinet - Corner - Blind"]
["BCB48R","Blind Corner Base 48\" (Blind Right)",{"v":607,"d":"$607.00"},3,null,null,{"$f":"C111*$G$1*'Order Form'!$S$18*(Color!$D$6+'Door Style'!$G$6+Species!$C$6+'Custom Finish'!$C$6)","v":{"$error":"#VALUE!"}},null,"PROJECT","01-",{"$f":"CONCAT!$D$2","v":""},null,1,{"$f":"J111&A111&K111","v":"01-BCB48R"},"11-BCB48",1,"12-BCB48R",{"$f":"Q111&K111","v":"12-BCB48R"},1,null,null,"DG 21IN KITCHEN SET-DTC",1,null,null,{"$f":"C111*$G$1*1*(Color!$D$6+'Door Style'!$G$6+Species!$C$6+'Custom Finish'!$C$6)","v":{"$error":"#VALUE!"}},null,"Black","Dark Gray",null,"1","Base Cabinet - Corner - Blind"]
["BCW3630L","Blind Corner Wall 36\" x 30\" (Blind Left)",{"v":429,"d":"$429.00"},3,null,null,{"$f":"C112*$G$1*'Order Form'!$S$18*(Color!$D$6+'Door Style'!$G$6+Species!$C$6+'Custom Finish'!$C$6)","v":{"$error":"#VALUE!"}},null,"SC/PC","01-",{"$f":"CONCAT!$D$8","v":""},null,1,{"$f":"J112&A112&K112","v":"01-BCW3630L"},"11-BCW3630L",1,"12-BCW3630L",{"$f":"Q112&K112","v":"12-BCW3630L"},1,{"$nulls":6},{"$f":"C112*$G$1*1*(Color!$D$6+'Door Style'!$G$6+Species!$C$6+'Custom Finish'!$C$6)","v":{"$error":"#VALUE!"}},null,"Black","Dark Gray",null,"1","Wall Cabinet - Corner - Blind"]
["BCW3630R","Blind Corner Wall 36\" x 30\" (Blind Right)",{"v":429,"d":"$429.00"},3,null,null,{"$f":"C113*$G$1*'Order Form'!$S$18*(Color!$D$6+'Door Style'!$G$6+Species!$C$6+'Custom Finish'!$C$6)","v":{"$error":"#VALUE!"}},null,"SC/PC","01-",{"$f":"CONCAT!$D$8","v":""},null,1,{"$f":"J113&A113&K113","v":"01-BCW3630R"},"11-BCW3630R",1,"12-BCW3630R",{"$f":"Q113&K113","v":"12-BCW3630R"},1,{"$nulls":6},{"$f":"C113*$G$1*1*(Color!$D$6+'Door Style'!$G$6+Species!$C$6+'Custom Finish'!$C$6)","v":{"$error":"#VALUE!"}},null,"Black","Dark Gray",null,"1","Wall Cabinet - Corner - Blind"]
["BCW3636L","Blind Corner Wall 36\" x 36\" (Blind Left)",{"v":490,"d":"$490.00"},3,null,null,{"$f":"C114*$G$1*'Order Form'!$S$18*(Color!$D$6+'Door Style'!$G$6+Species!$C$6+'Custom Finish'!$C$6)","v":{"$error":"#VALUE!"}},null,"SC/PC","01-",{"$f":"CONCAT!$D$8","v":""},null,1,{"$f":"J114&A114&K114","v":"01-BCW3636L"},"11-BCW3636L",1,"12-BCW3636L",{"$f":"Q114&K114","v":"12-BCW3636L"},1,{"$nulls":6},{"$f":"C114*$G$1*1*(Color!$D$6+'Door Style'!$G$6+Species!$C$6+'Custom Finish'!$C$6)","v":{"$error":"#VALUE!"}},null,"Black","Dark Gray",null,"1","Wall Cabinet - Corner - Blind"]
["BCW3636R","Blind Corner Wall 36\" x 36\" (Blind Right)",{"v":490,"d":"$490.00"},3,null,null,{"$f":"C115*$G$1*'Order Form'!$S$18*(Color!$D$6+'Door Style'!$G$6+Species!$C$6+'Custom Finish'!$C$6)","v":{"$error":"#VALUE!"}},null,"SC/PC","01-",{"$f":"CONCAT!$D$8","v":""},null,1,{"$f":"J115&A115&K115","v":"01-BCW3636R"},"11-BCW3636R",1,"12-BCW3636R",{"$f":"Q115&K115","v":"12-BCW3636R"},1,{"$nulls":6},{"$f":"C115*$G$1*1*(Color!$D$6+'Door Style'!$G$6+Species!$C$6+'Custom Finish'!$C$6)","v":{"$error":"#VALUE!"}},null,"Black","Dark Gray",null,"1","Wall Cabinet - Corner - Blind"]
["BCW3642L","Blind Corner Wall 36\" x 42\" (Blind Left)",{"v":600,"d":"$600.00"},3,null,null,{"$f":"C116*$G$1*'Order Form'!$S$18*(Color!$D$6+'Door Style'!$G$6+Species!$C$6+'Custom Finish'!$C$6)","v":{"$error":"#VALUE!"}},null,"SC/PC","01-",{"$f":"CONCAT!$D$8","v":""},null,1,{"$f":"J116&A116&K116","v":"01-BCW3642L"},"11-BCW3642L",1,"12-BCW3642L",{"$f":"Q116&K116","v":"12-BCW3642L"},1,{"$nulls":6},{"$f":"C116*$G$1*1*(Color!$D$6+'Door Style'!$G$6+Species!$C$6+'Custom Finish'!$C$6)","v":{"$error":"#VALUE!"}},null,"Black","Dark Gray",null,"1","Wall Cabinet - Corner - Blind"]
["BCW3642R","Blind Corner Wall 36\" x 42\" (Blind Right)",{"v":600,"d":"$600.00"},3,null,null,{"$f":"C117*$G$1*'Order Form'!$S$18*(Color!$D$6+'Door Style'!$G$6+Species!$C$6+'Custom Finish'!$C$6)","v":{"$error":"#VALUE!"}},null,"SC/PC","01-",{"$f":"CONCAT!$D$8","v":""},null,1,{"$f":"J117&A117&K117","v":"01-BCW3642R"},"11-BCW3642R",1,"12-BCW3642R",{"$f":"Q117&K117","v":"12-BCW3642R"},1,{"$nulls":6},{"$f":"C117*$G$1*1*(Color!$D$6+'Door Style'!$G$6+Species!$C$6+'Custom Finish'!$C$6)","v":{"$error":"#VALUE!"}},null,"Black","Dark Gray",null,"1","Wall Cabinet - Corner - Blind"]
["BOS1230","Base Open Shelf 12\" x 30\"",{"v":277,"d":"$277.00"},3,null,null,{"$f":"C118*$G$1*'Order Form'!$S$18*(Color!$D$6+'Door Style'!$G$6+Species!$C$6+'Custom Finish'!$C$6)","v":{"$error":"#VALUE!"}},null,"SC/PC","01-",{"$f":"CONCAT!$D$8","v":""},null,1,{"$f":"J118&A118&K118","v":"01-BOS1230"},"11-BOS1230",1,"12-BOS1230",{"$f":"Q118&K118","v":"12-BOS1230"},1,{"$nulls":6},{"$f":"C118*$G$1*1*(Color!$D$6+'Door Style'!$G$6+Species!$C$6+'Custom Finish'!$C$6)","v":{"$error":"#VALUE!"}},null,"Black","Dark Gray",null,"1","Wall Cabinet - Corner - Blind"]
["BP-K-1-143","Square Antique Nickel Knob",{"v":2,"d":"$2.00"},2,null,{"$f":"C119","v":2},{"$f":"C119","v":2},1,"/","","",null,0,"K-1-143",{"$nulls":3},"",null,"K-1-143",1,{"$nulls":3},{"$f":"C119","v":{"v":2,"d":"$2.00"}},{"$f":"C119","v":{"v":2,"d":"$2.00"}},null,"Tan","Tan","N",null,"Accessory - Pull"]
["BP-K-1-195","Square Brushed Nickel Knob",{"v":2,"d":"$2.00"},2,null,{"$f":"C120","v":2},{"$f":"C120","v":2},1,"/","","",null,0,{"$f":"J120&A120&K120","v":"BP-K-1-195"},{"$nulls":3},{"$f":"Q120&K120","v":""},null,{"$f":"N120","v":"BP-K-1-195"},1,{"$nulls":3},{"$f":"C120","v":{"v":2,"d":"$2.00"}},{"$f":"C120","v":{"v":2,"d":"$2.00"}},null,"Tan","Tan","N",null,"Accessory - Pull"]
["BP-K-1-BORB","Square Brushed Oil Rubbed Bronze Knob",{"v":2,"d":"$2.00"},2,null,{"$f":"C121","v":2},{"$f":"C121","v":2},1,"/","","",null,0,{"$f":"J121&A121&K121","v":"BP-K-1-BORB"},{"$nulls":3},{"$f":"Q121&K121","v":""},null,{"$f":"N121","v":"BP-K-1-BORB"},1,{"$nulls":3},{"$f":"C121","v":{"v":2,"d":"$2.00"}},{"$f":"C121","v":{"v":2,"d":"$2.00"}},null,"Tan","Tan","N",null,"Accessory - Pull"]
["BP-K-2-195","Circular Brushed Nickel Knob",{"v":2,"d":"$2.00"},2,null,{"$f":"C122","v":2},{"$f":"C122","v":2},1,"/","","",null,0,{"$f":"J122&A122&K122","v":"BP-K-2-195"},{"$nulls":3},{"$f":"Q122&K122","v":""},null,{"$f":"N122","v":"BP-K-2-195"},1,{"$nulls":3},0,0,null,"Tan","Tan","N",null,"Accessory - Pull"]
["BP-K-2-BORB","Circular Brushed Oil Rubbed Bronze Knob",{"v":2,"d":"$2.00"},2,null,{"$f":"C123","v":2},{"$f":"C123","v":2},1,"/","","",null,0,{"$f":"J123&A123&K123","v":"BP-K-2-BORB"},{"$nulls":3},{"$f":"Q123&K123","v":""},null,{"$f":"N123","v":"BP-K-2-BORB"},1,{"$nulls":3},0,0,null,"Tan","Tan","N",null,"Accessory - Pull"]
["BP-K-3-143","Square Bevel Edge Antique Nickel Knob",{"v":2,"d":"$2.00"},2,null,{"$f":"C124","v":2},{"$f":"C124","v":2},1,"/","","",null,0,{"$f":"J124&A124&K124","v":"BP-K-3-143"},{"$nulls":3},{"$f":"Q124&K124","v":""},null,{"$f":"N124","v":"BP-K-3-143"},1,{"$nulls":3},{"$f":"C124*1","v":{"v":2,"d":"$2.00"}},{"$f":"C124*1","v":{"v":2,"d":"$2.00"}},null,"Tan","Tan","N",null,"Accessory - Pull"]
["BP-K-3-195","Square Bevel Edge Brushed Nickel Knob",{"v":2,"d":"$2.00"},2,null,{"$f":"C125","v":2},{"$f":"C125","v":2},1,"/","","",null,0,{"$f":"J125&A125&K125","v":"BP-K-3-195"},{"$nulls":3},{"$f":"Q125&K125","v":""},null,{"$f":"N125","v":"BP-K-3-195"},1,{"$nulls":3},{"$f":"(C125*Color!$G$6*1)","v":{"$error":"#VALUE!"}},{"$f":"C125*$G$1*1*(Color!$D$6+Species!$C$6)","v":{"$error":"#VALUE!"}},null,"Tan","Tan","N",null,"Accessory - Pull"]
["BP-K-3-BORB","Square Bevel Edge Brushed Oil Rubbed Bronze Knob",{"v":2,"d":"$2.00"},2,null,{"$f":"C126","v":2},{"$f":"C126","v":2},1,"/","","",null,0,{"$f":"J126&A126&K126","v":"BP-K-3-BORB"},{"$nulls":3},{"$f":"Q126&K126","v":""},null,{"$f":"N126","v":"BP-K-3-BORB"},1,{"$nulls":3},{"$f":"C126","v":{"v":2,"d":"$2.00"}},{"$f":"C126","v":{"v":2,"d":"$2.00"}},null,"Tan","Tan","N",null,"Accessory - Pull"]
["BP-P-1-143","Arched Antique Nickel Pull",{"v":2,"d":"$2.00"},2,null,{"$f":"C127","v":2},{"$f":"C127","v":2},1,"/","","",null,0,{"$f":"J127&A127&K127","v":"BP-P-1-143"},{"$nulls":3},{"$f":"Q127&K127","v":""},null,{"$f":"N127","v":"BP-P-1-143"},1,{"$nulls":3},{"$f":"C127","v":{"v":2,"d":"$2.00"}},{"$f":"C127","v":{"v":2,"d":"$2.00"}},null,"Tan","Tan","N",null,"Accessory - Pull"]
["BP-P-1-195","Arched Brushed Nickel Pull",{"v":2,"d":"$2.00"},2,null,{"$f":"C128","v":2},{"$f":"C128","v":2},1,"/","","",null,0,{"$f":"J128&A128&K128","v":"BP-P-1-195"},{"$nulls":3},{"$f":"Q128&K128","v":""},null,{"$f":"N128","v":"BP-P-1-195"},1,{"$nulls":3},{"$f":"C128","v":{"v":2,"d":"$2.00"}},{"$f":"C128","v":{"v":2,"d":"$2.00"}},null,"Tan","Tan","N",null,"Accessory - Pull"]
["BP-P-1-BORB","Arched Brushed Oil Rubbed Bronze Pull",{"v":2,"d":"$2.00"},2,null,{"$f":"C129","v":2},{"$f":"C129","v":2},1,"/","","",null,0,{"$f":"J129&A129&K129","v":"BP-P-1-BORB"},{"$nulls":3},{"$f":"Q129&K129","v":""},null,{"$f":"N129","v":"BP-P-1-BORB"},1,{"$nulls":3},0,0,null,"Tan","Tan","N",null,"Accessory - Pull"]
["BP-P-2-195","Tubular Brushed Nickel Pull",{"v":2,"d":"$2.00"},2,null,{"$f":"C130","v":2},{"$f":"C130","v":2},1,"/","","",null,0,{"$f":"J130&A130&K130","v":"BP-P-2-195"},{"$nulls":3},{"$f":"Q130&K130","v":""},null,{"$f":"N130","v":"BP-P-2-195"},1,{"$nulls":3},{"$f":"C130","v":{"v":2,"d":"$2.00"}},{"$f":"C130","v":{"v":2,"d":"$2.00"}},null,"Tan","Tan","N",null,"Accessory - Pull"]
["BP-P-2-BORB","Tubular Brushed Oil Rubbed Bronze Pull",{"v":2,"d":"$2.00"},2,null,{"$f":"C131","v":2},{"$f":"C131","v":2},1,"/","","",null,0,{"$f":"J131&A131&K131","v":"BP-P-2-BORB"},{"$nulls":3},{"$f":"Q131&K131","v":""},null,{"$f":"N131","v":"BP-P-2-BORB"},1,{"$nulls":3},{"$f":"C131","v":{"v":2,"d":"$2.00"}},{"$f":"C131","v":{"v":2,"d":"$2.00"}},null,"Tan","Tan","N",null,"Accessory - Pull"]
["BP-P-3-143","Squared Antique Nickel Pull",{"v":2,"d":"$2.00"},2,null,{"$f":"C132","v":2},{"$f":"C132","v":2},1,"/","","",null,0,{"$f":"J132&A132&K132","v":"BP-P-3-143"},{"$nulls":3},{"$f":"Q132&K132","v":""},null,{"$f":"N132","v":"BP-P-3-143"},1,{"$nulls":3},0,0,null,"Tan","Tan","N",null,"Accessory - Pull"]
["BP-P-3-195","Squared Brushed Nickel Pull",{"v":2,"d":"$2.00"},2,null,{"$f":"C133","v":2},{"$f":"C133","v":2},1,"/","","",null,0,{"$f":"J133&A133&K133","v":"BP-P-3-195"},{"$nulls":3},{"$f":"Q133&K133","v":""},null,{"$f":"N133","v":"BP-P-3-195"},1,{"$nulls":3},0,0,null,"Tan","Tan","N",null,"Accessory - Pull"]
["BP-P-3-BORB","Squared Brushed Oil Rubbed Bronze Pull",{"v":2,"d":"$2.00"},2,null,{"$f":"C134","v":2},{"$f":"C134","v":2},1,"/","","",null,0,{"$f":"J134&A134&K134","v":"BP-P-3-BORB"},{"$nulls":3},{"$f":"Q134&K134","v":""},null,{"$f":"N134","v":"BP-P-3-BORB"},1,{"$nulls":3},{"$f":"(C134*Color!$G$6*1)","v":{"$error":"#VALUE!"}},{"$f":"C134*$G$1*1*(Color!$D$6+Species!$C$6)","v":{"$error":"#VALUE!"}},null,"Tan","Tan","N",null,"Accessory - Pull"]
["BREAD BOARD 16","Bread Board 16\" x 22\"",{"v":90,"d":"$90.00"},2,null,{"$f":"C135","v":90},{"$f":"C135","v":90},null,"/","01-","",null,0,{"$f":"J135&A135&K135","v":"01-BREAD BOARD 16"},{"$nulls":3},{"$f":"Q135&K135","v":""},null,{"$f":"N135","v":"01-BREAD BOARD 16"},1,{"$nulls":3},{"$f":"(C135*Color!$G$6*1)","v":{"$error":"#VALUE!"}},{"$f":"C135*$G$1*1*(Color!$D$6+Species!$C$6)","v":{"$error":"#VALUE!"}},null,"Tan","Tan",null,"1","Accessory - Base - Cutting board"]
["BREAD BOARD 18","Bread Board 18\" x 22\"",{"v":105,"d":"$105.00"},2,null,{"$f":"C136","v":105},{"$f":"C136","v":105},null,"/","01-","",null,0,{"$f":"J136&A136&K136","v":"01-BREAD BOARD 18"},{"$nulls":3},{"$f":"Q136&K136","v":""},null,{"$f":"N136","v":"01-BREAD BOARD 18"},1,{"$nulls":4},{"$f":"C136","v":{"v":105,"d":"$105.00"}},null,"Tan","Tan",null,"1","Accessory - Base - Cutting board"]
["BREAD BOARD 24","Bread Board 24\" x 22\"",{"v":120,"d":"$120.00"},2,null,{"$f":"C137","v":120},{"$f":"C137","v":120},null,"/","01-","",null,0,{"$f":"J137&A137&K137","v":"01-BREAD BOARD 24"},{"$nulls":3},{"$f":"Q137&K137","v":""},null,{"$f":"N137","v":"01-BREAD BOARD 24"},1,{"$nulls":3},{"$f":"C137*1","v":{"v":120,"d":"$120.00"}},{"$f":"C137*1","v":{"v":120,"d":"$120.00"}},null,"Tan","Tan",null,"1","Accessory - Base - Cutting board"]
["BROOKSTONE DISCOUNT","PO Match",0,2,null,0,0,null,"/","/","",null,0,{"$f":"J138&A138&K138","v":"/BROOKSTONE DISCOUNT"},{"$nulls":3},{"$f":"Q138&K138","v":""},null,{"$f":"N138","v":"/BROOKSTONE DISCOUNT"},1,{"$nulls":3},{"$f":"C138*1","v":0},{"$f":"C138*1","v":0},null,"Dark Blue","Dark Blue","N"]
["BROOKSTONE PO MATCH","PO Match",0,2,null,0,0,null,"/","/","",null,0,{"$f":"J139&A139&K139","v":"/BROOKSTONE PO MATCH"},{"$nulls":3},{"$f":"Q139&K139","v":""},null,{"$f":"N139","v":"/BROOKSTONE PO MATCH"},1,{"$nulls":3},{"$f":"C139","v":0},{"$f":"C139","v":0},null,"Dark Blue","Dark Blue","N"]
["BSHELF","Base Shelf 8' Length",{"v":167,"d":"$167.00"},2,null,{"$f":"C140*'Order Form'!$S$18","v":0},{"$f":"C140*'Order Form'!$S$18","v":0},null,"14-","13-","",null,0,{"$f":"J140&A140&K140","v":"13-BSHELF"},{"$nulls":3},{"$f":"Q140&K140","v":""},null,{"$f":"N140","v":"13-BSHELF"},1,{"$nulls":3},{"$f":"(C140*Color!$G$6*1)","v":{"$error":"#VALUE!"}},{"$f":"C140*$G$1*1*(Color!$D$6+Species!$C$6+'Custom Finish'!$C$6)","v":{"$error":"#VALUE!"}},null,"Purple","Purple",null,"1","Shelf - Base"]
["BSKIN","Base Skin",{"v":55,"d":"$55.00"},2,"PB",{"$f":"(C141*Color!$G$6*'Order Form'!$S$18)","v":{"$error":"#VALUE!"}},{"$f":"C141*$G$1*'Order Form'!$S$18*(Color!$D$6+Species!$C$6)","v":{"$error":"#VALUE!"}},null,"13-","13-",{"$f":"CONCAT!$D$3","v":""},null,0,{"$f":"J141&A141&K141","v":"13-BSKIN"},{"$nulls":3},{"$f":"Q141&K141","v":""},null,{"$f":"N141","v":"13-BSKIN"},1,{"$nulls":3},{"$f":"(C141*Color!$G$6*1)","v":{"$error":"#VALUE!"}},{"$f":"C141*$G$1*1*(Color!$D$6+Species!$C$6+'Custom Finish'!$C$6)","v":{"$error":"#VALUE!"}},null,"Orange","Pink",null,null,"Skin - Base"]
["BUILD UP STRIP","3/4\" Plywood 1.5\" x 96\"",{"v":11,"d":"$11.00"},2,null,{"$f":"C142","v":11},{"$f":"C142","v":11},null,"/","","",null,0,{"$f":"J142&A142&K142","v":"BUILD UP STRIP"},{"$nulls":3},{"$f":"Q142&K142","v":""},null,{"$f":"N142","v":"BUILD UP STRIP"},1,{"$nulls":3},{"$f":"(C142*Color!$G$6*1)","v":{"$error":"#VALUE!"}},{"$f":"C142*$G$1*1*(Color!$D$6+Species!$C$6+'Custom Finish'!$C$6)","v":{"$error":"#VALUE!"}},null,"Tan","Tan",null,null,"Accessory"]
["BUTCHER BLOCK","Butcher Block",{"v":300,"d":"$300.00"},2,null,{"$f":"C143","v":300},{"$f":"C143","v":300},null,"/","01-","",null,0,{"$f":"J143&A143&K143","v":"01-BUTCHER BLOCK"},{"$nulls":3},{"$f":"Q143&K143","v":""},null,{"$f":"N143","v":"01-BUTCHER BLOCK"},1,{"$nulls":3},{"$f":"(C143*Color!$G$6*1)","v":{"$error":"#VALUE!"}},{"$f":"C143*$G$1*1*(Color!$D$6+Species!$C$6+'Custom Finish'!$C$6)","v":{"$error":"#VALUE!"}},null,"Tan","Tan",null,"1","Accessory - Base - Cutting board"]
["CLEARANCE CABINET","Clearance Cabinet",0,2,null,0,0,null,"/","","",null,0,{"$f":"J144&A144&K144","v":"CLEARANCE CABINET"},{"$nulls":3},{"$f":"Q144&K144","v":""},null,{"$f":"N144","v":"CLEARANCE CABINET"},1,{"$nulls":4},{"$f":"C144*$G$1*1*(Color!$D$6+Species!$C$6+'Custom Finish'!$C$6)","v":{"$error":"#VALUE!"}},null,"Dark Blue","Dark Blue","N"]
["COMPOST BIN-DOUBLE","Two Bin Compost",{"v":465,"d":"$465.00"},2,null,{"$f":"C145","v":465},{"$f":"C145","v":465},null,"/","","",null,0,{"$f":"J145&A145&K145","v":"COMPOST BIN-DOUBLE"},{"$nulls":3},{"$f":"Q145&K145","v":""},null,{"$f":"N145","v":"COMPOST BIN-DOUBLE"},1,{"$nulls":4},{"$f":"C145*$G$1*1*(Color!$D$6+Species!$C$6+'Custom Finish'!$C$6)","v":{"$error":"#VALUE!"}},null,"Tan","Tan",null,null,"Accessory - Base - Recycle/Trash"]
["COMPOST BIN-SINGLE","Single Bin Compost",{"v":415,"d":"$415.00"},2,null,{"$f":"C146","v":415},{"$f":"C146","v":415},null,"/","","",null,0,{"$f":"J146&A146&K146","v":"COMPOST BIN-SINGLE"},{"$nulls":3},{"$f":"Q146&K146","v":""},null,{"$f":"N146","v":"COMPOST BIN-SINGLE"},1,{"$nulls":4},{"$f":"C146*$G$1*1*(Color!$D$6+Species!$C$6+'Custom Finish'!$C$6)","v":{"$error":"#VALUE!"}},null,"Tan","Tan",null,null,"Accessory - Base - Recycle/Trash"]
["CONNER HOMES DISCOUNT","PO Match",0,2,null,0,0,null,"/","/","",null,0,{"$f":"J147&A147&K147","v":"/CONNER HOMES DISCOUNT"},{"$nulls":3},{"$f":"Q147&K147","v":""},null,{"$f":"N147","v":"/CONNER HOMES DISCOUNT"},1,{"$nulls":4},{"$f":"C147*$G$1*1*(Color!$D$6+Species!$C$6+'Custom Finish'!$C$6)","v":{"$error":"#VALUE!"}},null,"Dark Blue","Dark Blue","N"]
["CONNER HOMES UPCHARGE","PO Match",0,2,null,0,0,null,"/","/","",null,0,{"$f":"J148&A148&K148","v":"/CONNER HOMES UPCHARGE"},{"$nulls":3},{"$f":"Q148&K148","v":""},null,{"$f":"N148","v":"/CONNER HOMES UPCHARGE"},1,{"$nulls":3},{"$f":"(C148*Color!$G$6*1)","v":{"$error":"#VALUE!"}},{"$f":"C148*$G$1*1*(Color!$D$6+Species!$C$6+'Custom Finish'!$C$6)","v":{"$error":"#VALUE!"}},null,"Dark Blue","Dark Blue","N"]
["CORBEL1","Corbel Simple / Straight with pre drilled holes and plugs",{"v":68,"d":"$68.00"},2,null,{"$f":"(C149*Color!$G$6*'Order Form'!$S$18)","v":{"$error":"#VALUE!"}},{"$f":"C149*$G$1*'Order Form'!$S$18*(Color!$D$6+Species!$C$6)","v":{"$error":"#VALUE!"}},null,"13-","13-",{"$f":"CONCAT!$D$3","v":""},null,0,{"$f":"J149&A149&K149","v":"13-CORBEL1"},{"$nulls":3},{"$f":"Q149&K149","v":""},null,{"$f":"N149","v":"13-CORBEL1"},1,{"$nulls":3},{"$f":"(C149*Color!$G$6*1)","v":{"$error":"#VALUE!"}},{"$f":"C149*$G$1*1*(Color!$D$6+Species!$C$6+'Custom Finish'!$C$6)","v":{"$error":"#VALUE!"}},null,"Orange","Pink",null,null,"Trim"]
["CORBEL2","Corbel Scallop",{"v":200,"d":"$200.00"},2,null,{"$f":"(C150*Color!$G$6*'Order Form'!$S$18)","v":{"$error":"#VALUE!"}},{"$f":"C150*$G$1*'Order Form'!$S$18*(Color!$D$6+Species!$C$6)","v":{"$error":"#VALUE!"}},null,"13-","13-",{"$f":"CONCAT!$D$3","v":""},null,0,{"$f":"J150&A150&K150","v":"13-CORBEL2"},{"$nulls":3},{"$f":"Q150&K150","v":""},null,{"$f":"N150","v":"13-CORBEL2"},1,{"$nulls":3},{"$f":"(C150*Color!$G$6*1)","v":{"$error":"#VALUE!"}},{"$f":"C150*$G$1*1*(Color!$D$6+Species!$C$6)","v":{"$error":"#VALUE!"}},null,"Orange","Pink","N",null,"Trim"]
["CRAFTSMAN DOOR SET","Dealer Craftsman Door With Bag",{"v":1000,"d":"$1,000.00"},3,null,null,{"$f":"C151","v":1000},null,"/",null,"",null,0,{"$f":"J151&A151&K151","v":"CRAFTSMAN DOOR SET"},{"$nulls":3},{"$f":"Q151&K151","v":""},null,{"$f":"N151","v":"CRAFTSMAN DOOR SET"},1,{"$nulls":3},{"$f":"(C151*Color!$G$6*1)","v":{"$error":"#VALUE!"}},{"$f":"C151*$G$1*1*(Color!$D$6+Species!$C$6)","v":{"$error":"#VALUE!"}},null,"Black","Tan","Dealer",null,"Dealer support item"]
["CRBACKER1.5","8' x 1 1/2\" x 3/4\" Material ",{"v":10,"d":"$10.00"},2,null,{"$f":"C152*'Order Form'!$S$18","v":0},{"$f":"C152*'Order Form'!$S$18","v":0},null,"/","13-","",null,0,{"$f":"J152&A152&K152","v":"13-CRBACKER1.5"},{"$nulls":3},{"$f":"Q152&K152","v":""},null,{"$f":"N152","v":"13-CRBACKER1.5"},1,{"$nulls":3},{"$f":"(C152*Color!$G$6*1)","v":{"$error":"#VALUE!"}},{"$f":"C152*$G$1*1*(Color!$D$6+Species!$C$6)","v":{"$error":"#VALUE!"}},null,"Purple","Purple",null,null,"Trim - Crown"]
["CRBACKER12","8' x 11 7/8\" x 3/4\" Material ",{"v":48,"d":"$48.00"},2,null,{"$f":"C153*'Order Form'!$S$18","v":0},{"$f":"C153*'Order Form'!$S$18","v":0},null,"/","13-","",null,0,{"$f":"J153&A153&K153","v":"13-CRBACKER12"},{"$nulls":3},{"$f":"Q153&K153","v":""},null,{"$f":"N153","v":"13-CRBACKER12"},1,{"$nulls":3},{"$f":"(C153*Color!$G$6*1)","v":{"$error":"#VALUE!"}},{"$f":"C153*$G$1*1*(Color!$D$6+Species!$C$6)","v":{"$error":"#VALUE!"}},null,"Purple","Purple",null,null,"Trim - Crown"]
["CROWN RING","Sales Center Crown Sample  Insert",{"v":10,"d":"$10.00"},2,null,{"$f":"C154","v":10},{"$f":"C154","v":10},null,"/","FCC SALES CENTER-","",null,0,{"$f":"J154&A154&K154","v":"FCC SALES CENTER-CROWN RING"},{"$nulls":3},{"$f":"Q154&K154","v":""},null,{"$f":"N154","v":"FCC SALES CENTER-CROWN RING"},1,{"$nulls":4},0,null,"Tan","Tan","Dealer",null,"Dealer support item"]
["CROWN1","8' Crown Installs at 2 3/4\" Tall",{"v":126,"d":"$126.00"},2,"PB",{"$f":"(C155*Color!$G$6*'Order Form'!$S$18)","v":{"$error":"#VALUE!"}},{"$f":"C155*$G$1*'Order Form'!$S$18*(Color!$D$6+Species!$C$6+'Custom Finish'!$C$6)","v":{"$error":"#VALUE!"}},null,"13-","13-",{"$f":"CONCAT!$D$3","v":""},null,0,{"$f":"J155&A155&K155","v":"13-CROWN1"},{"$nulls":3},{"$f":"Q155&K155","v":""},null,{"$f":"N155","v":"13-CROWN1"},1,{"$nulls":4},0,null,"Orange","Maroon",null,null,"Trim - Crown"]
["CROWN1.12","12' Crown Installs at 2 3/4\" Tall",{"v":183,"d":"$183.00"},2,null,{"$f":"(C156*Color!$G$6*'Order Form'!$S$18)","v":{"$error":"#VALUE!"}},{"$f":"C156*$G$1*'Order Form'!$S$18*(Color!$D$6+Species!$C$6+'Custom Finish'!$C$6)","v":{"$error":"#VALUE!"}},null,"13-","13-",{"$f":"CONCAT!$D$3","v":""},null,0,{"$f":"J156&A156&K156","v":"13-CROWN1.12"},{"$nulls":3},{"$f":"Q156&K156","v":""},null,{"$f":"N156","v":"13-CROWN1.12"},1,{"$nulls":4},0,null,"Orange","Maroon",null,null,"Trim - Crown"]
["CROWN2","8' Crown Installs at 1 5/8\" Tall",{"v":126,"d":"$126.00"},2,"PB",{"$f":"(C157*Color!$G$6*'Order Form'!$S$18)","v":{"$error":"#VALUE!"}},{"$f":"C157*$G$1*'Order Form'!$S$18*(Color!$D$6+Species!$C$6+'Custom Finish'!$C$6)","v":{"$error":"#VALUE!"}},null,"13-","13-",{"$f":"CONCAT!$D$3","v":""},null,0,{"$f":"J157&A157&K157","v":"13-CROWN2"},{"$nulls":3},{"$f":"Q157&K157","v":""},null,{"$f":"N157","v":"13-CROWN2"},1,{"$nulls":4},0,null,"Orange","Maroon",null,null,"Trim - Crown"]
["CROWN2.12","12' Crown Installs at 1 5/8\" Tall",{"v":183,"d":"$183.00"},2,null,{"$f":"(C158*Color!$G$6*'Order Form'!$S$18)","v":{"$error":"#VALUE!"}},{"$f":"C158*$G$1*'Order Form'!$S$18*(Color!$D$6+Species!$C$6+'Custom Finish'!$C$6)","v":{"$error":"#VALUE!"}},null,"13-","13-",{"$f":"CONCAT!$D$3","v":""},null,0,{"$f":"J158&A158&K158","v":"13-CROWN2.12"},{"$nulls":3},{"$f":"Q158&K158","v":""},null,{"$f":"N158","v":"13-CROWN2.12"},1,{"$nulls":4},0,null,"Orange","Maroon",null,null,"Trim - Crown"]
["CROWNA","8' Crown 2 5/8\"",{"v":122,"d":"$122.00"},3,null,null,{"$f":"C159*$G$1*'Order Form'!$S$18*(Color!$D$6+Species!$C$6+'Custom Finish'!$C$6)","v":{"$error":"#VALUE!"}},null,"SC/PC","13-",{"$f":"CONCAT!$D$8","v":""},null,0,{"$f":"J159&A159&K159","v":"13-CROWNA"},{"$nulls":3},{"$f":"Q159&K159","v":""},null,{"$f":"N159","v":"13-CROWNA"},1,{"$nulls":3},{"$f":"C159*1","v":{"v":122,"d":"$122.00"}},{"$f":"C159*1","v":{"v":122,"d":"$122.00"}},null,"Black","Maroon",null,null,"Trim - Crown"]
["CROWNB","8' Crown 2\"",{"v":100,"d":"$100.00"},3,null,null,{"$f":"C160*$G$1*'Order Form'!$S$18*(Color!$D$6+Species!$C$6+'Custom Finish'!$C$6)","v":{"$error":"#VALUE!"}},null,"SC/PC","13-",{"$f":"CONCAT!$D$8","v":""},null,0,{"$f":"J160&A160&K160","v":"13-CROWNB"},{"$nulls":3},{"$f":"Q160&K160","v":""},null,{"$f":"N160","v":"13-CROWNB"},1,{"$nulls":4},0,null,"Black","Maroon",null,null,"Trim - Crown"]
["CROWNC","8' Crown 2 7/16\"",{"v":122,"d":"$122.00"},3,null,null,{"$f":"C161*$G$1*'Order Form'!$S$18*(Color!$D$6+Species!$C$6+'Custom Finish'!$C$6)","v":{"$error":"#VALUE!"}},null,"SC/PC","13-",{"$f":"CONCAT!$D$8","v":""},null,0,{"$f":"J161&A161&K161","v":"13-CROWNC"},{"$nulls":3},{"$f":"Q161&K161","v":""},null,{"$f":"N161","v":"13-CROWNC"},1,{"$nulls":4},0,null,"Black","Maroon",null,null,"Trim - Crown"]
["CROWND","8' Crown 1 9/16\"",{"v":100,"d":"$100.00"},3,null,null,{"$f":"C162*$G$1*'Order Form'!$S$18*(Color!$D$6+Species!$C$6+'Custom Finish'!$C$6)","v":{"$error":"#VALUE!"}},null,"SC/PC","13-",{"$f":"CONCAT!$D$8","v":""},null,0,{"$f":"J162&A162&K162","v":"13-CROWND"},{"$nulls":3},{"$f":"Q162&K162","v":""},null,{"$f":"N162","v":"13-CROWND"},1,{"$nulls":3},{"$f":"C162*1*(Color!$C$6+'Door Style'!$H$6)","v":{"$error":"#VALUE!"}},{"$f":"C162*$G$1*1*(Color!$D$6+'Door Style'!$G$6+Species!$C$6+'Custom Finish'!$C$6)","v":{"$error":"#VALUE!"}},null,"Black","Maroon",null,null,"Trim - Crown"]
["CROWNMDF","13' Painted MDF Crown, Installs at 2 1/2\" Tall ",{"v":142,"d":"$142.00"},2,null,{"$f":"(C163*Color!$G$6*'Order Form'!$S$18)","v":{"$error":"#VALUE!"}},{"$f":"C163*$G$1*'Order Form'!$S$18*(Color!$D$6+Species!$C$6+'Custom Finish'!$C$6)","v":{"$error":"#VALUE!"}},null,"13-","13-",{"$f":"CONCAT!$D$3","v":""},null,0,{"$f":"J163&A163&K163","v":"13-CROWNMDF"},{"$nulls":3},{"$f":"Q163&K163","v":""},null,{"$f":"N163","v":"13-CROWNMDF"},1,{"$nulls":3},{"$f":"C163*1*(Color!$C$6+'Door Style'!$H$6)","v":{"$error":"#VALUE!"}},{"$f":"C163*$G$1*1*(Color!$D$6+'Door Style'!$G$6+Species!$C$6+'Custom Finish'!$C$6)","v":{"$error":"#VALUE!"}},null,"Orange","Maroon",null,null,"Trim - Crown"]
["CROWNS","8' Shaker Crown Kit Installs at 3 1/2\" Tall ",{"v":216,"d":"$216.00"},2,"PB",{"$f":"(C164*Color!$G$6*'Order Form'!$S$18)","v":{"$error":"#VALUE!"}},{"$f":"C164*$G$1*'Order Form'!$S$18*(Color!$D$6+Species!$C$6+'Custom Finish'!$C$6)","v":{"$error":"#VALUE!"}},null,"13-","13-",{"$f":"CONCAT!$D$3","v":""},null,0,{"$f":"J164&A164&K164","v":"13-CROWNS"},{"$nulls":3},{"$f":"Q164&K164","v":""},null,{"$f":"N164","v":"13-CROWNS"},1,{"$nulls":3},{"$f":"C164*1*(Color!$C$6+'Door Style'!$H$6)","v":{"$error":"#VALUE!"}},{"$f":"C164*$G$1*1*(Color!$D$6+'Door Style'!$G$6+Species!$C$6+'Custom Finish'!$C$6)","v":{"$error":"#VALUE!"}},null,"Orange","Maroon",null,null,"Trim - Crown"]
["CRSTART03","8' x 3\" x 3/4\" Hardwood - Finished 3 sides",{"v":78,"d":"$78.00"},2,null,{"$f":"(C165*Color!$G$6*'Order Form'!$S$18)","v":{"$error":"#VALUE!"}},{"$f":"C165*$G$1*'Order Form'!$S$18*(Color!$D$6+Species!$C$6)","v":{"$error":"#VALUE!"}},null,"13-","13-",{"$f":"CONCAT!$D$3","v":""},null,0,{"$f":"J165&A165&K165","v":"13-CRSTART03"},{"$nulls":3},{"$f":"Q165&K165","v":""},null,{"$f":"N165","v":"13-CRSTART03"},1,{"$nulls":3},{"$f":"C165*1*(Color!$C$6+'Door Style'!$H$6)","v":{"$error":"#VALUE!"}},{"$f":"C165*$G$1*1*(Color!$D$6+'Door Style'!$G$6+Species!$C$6+'Custom Finish'!$C$6)","v":{"$error":"#VALUE!"}},null,"Orange","Pink",null,null,"Trim - Crown"]
["CRSTART06","8' x 6\" x 3/4\" Hardwood - Finished 3 sides",{"v":177,"d":"$177.00"},2,null,{"$f":"(C166*Color!$G$6*'Order Form'!$S$18)","v":{"$error":"#VALUE!"}},{"$f":"C166*$G$1*'Order Form'!$S$18*(Color!$D$6+Species!$C$6)","v":{"$error":"#VALUE!"}},null,"13-","13-",{"$f":"CONCAT!$D$3","v":""},null,0,{"$f":"J166&A166&K166","v":"13-CRSTART06"},{"$nulls":3},{"$f":"Q166&K166","v":""},null,{"$f":"N166","v":"13-CRSTART06"},1,{"$nulls":3},{"$f":"C166*1*(Color!$C$6+'Door Style'!$H$6)","v":{"$error":"#VALUE!"}},{"$f":"C166*$G$1*1*(Color!$D$6+'Door Style'!$G$6+Species!$C$6+'Custom Finish'!$C$6)","v":{"$error":"#VALUE!"}},null,"Orange","Pink",null,null,"Trim - Crown"]
["CRSTART12","8' x 11 7/8\" x 3/4\" Plywood - Finished 3 sides",{"v":390,"d":"$390.00"},2,null,{"$f":"(C167*Color!$G$6*'Order Form'!$S$18)","v":{"$error":"#VALUE!"}},{"$f":"C167*$G$1*'Order Form'!$S$18*(Color!$D$6+Species!$C$6)","v":{"$error":"#VALUE!"}},null,"13-","13-",{"$f":"CONCAT!$D$3","v":""},null,0,{"$f":"J167&A167&K167","v":"13-CRSTART12"},{"$nulls":3},{"$f":"Q167&K167","v":""},null,{"$f":"N167","v":"13-CRSTART12"},1,{"$nulls":3},{"$f":"C167","v":{"v":390,"d":"$390.00"}},{"$f":"C167","v":{"v":390,"d":"$390.00"}},null,"Orange","Pink",null,null,"Trim - Crown"]
["CTOP","Countertop Molding",{"v":61,"d":"$61.00"},2,null,{"$f":"(C168*Color!$G$6*'Order Form'!$S$18)","v":{"$error":"#VALUE!"}},{"$f":"C168*$G$1*'Order Form'!$S$18*(Color!$D$6+Species!$C$6)","v":{"$error":"#VALUE!"}},null,"13-","13-",{"$f":"CONCAT!$D$3","v":""},null,0,{"$f":"J168&A168&K168","v":"13-CTOP"},{"$nulls":3},{"$f":"Q168&K168","v":""},null,{"$f":"N168","v":"13-CTOP"},1,{"$nulls":3},{"$f":"C168","v":{"v":61,"d":"$61.00"}},{"$f":"C168","v":{"v":61,"d":"$61.00"}},null,"Orange","Pink",null,null,"Trim"]
["CT-STRAP","Overhang Strap",0,2,null,0,0,null,"/","","",null,0,{"$f":"J169&A169&K169","v":"CT-STRAP"},{"$nulls":10},{"$f":"V169","v":0},0,null,"Dark Blue","Dark Blue",null,null,"Countertop"]
["CUSTOM-CABINET","Non catalog full cabinet- drawing and approved price must be attached.",0,3,null,null,0,null,"/","","","Yes",1,{"$f":"J170&A170&K170","v":"CUSTOM-CABINET"},{"$nulls":3},{"$f":"Q170&K170","v":""},null,{"$f":"N170","v":"CUSTOM-CABINET"},1,{"$nulls":4},{"$f":"C170*$G$1*1*(Color!$D$6+Species!$C$6)","v":{"$error":"#VALUE!"}},null,"Black","Dark Blue",null,null,"Custom Item"]
["CUSTOM-DOOR-FRAME","Code for custom frame and/or door - approved price must be attached.",0,3,null,null,0,null,"/","","",null,0,{"$f":"J171&A171&K171","v":"CUSTOM-DOOR-FRAME"},{"$nulls":3},{"$f":"Q171&K171","v":""},null,{"$f":"N171","v":"CUSTOM-DOOR-FRAME"},1,{"$nulls":3},{"$f":"C171","v":0},{"$f":"C171","v":0},null,"Black","Dark Blue",null,null,"Custom Item"]
["CUSTOM-FLOATING SHELF","Floating Custom Shelf Provide the Dimensions, the color and species ",0,3,null,null,{"$f":"C172","v":0},null,"/","","",null,0,{"$f":"J172&A172&K172","v":"CUSTOM-FLOATING SHELF"},{"$nulls":3},{"$f":"Q172&K172","v":""},null,{"$f":"N172","v":"CUSTOM-FLOATING SHELF"},1,{"$nulls":3},{"$f":"C172*1*(Color!$C$6+'Door Style'!$H$6)","v":{"$error":"#VALUE!"}},{"$f":"C172*$G$2*1*(Color!$D$6+'Door Style'!$G$6+Species!$C$6+'Custom Finish'!$C$6)","v":{"$error":"#VALUE!"}},null,"Black","Dark Blue",null,null,"Custom Item"]
["CUSTOM-HOOD","Code for Custom Hood - drawing and approved price must be attached.",0,3,null,null,0,null,"/","","","Yes",1,{"$f":"J173&A173&K173","v":"CUSTOM-HOOD"},{"$nulls":3},{"$f":"Q173&K173","v":""},null,{"$f":"N173","v":"CUSTOM-HOOD"},1,{"$nulls":3},{"$f":"(C173*Color!$G$6*1)","v":{"$error":"#VALUE!"}},{"$f":"C173*$G$1*1*(Color!$D$6+Species!$C$6)","v":{"$error":"#VALUE!"}},null,"Black","Dark Blue",null,null,"Custom Item"]
["CUSTOM-PD","Custom Plant on Door - approved price must be attached.",0,3,null,null,0,null,"/","","",null,0,{"$f":"J174&A174&K174","v":"CUSTOM-PD"},{"$nulls":3},{"$f":"Q174&K174","v":""},null,{"$f":"N174","v":"CUSTOM-PD"},1,{"$nulls":3},{"$f":"(C174*Color!$G$6*1)","v":{"$error":"#VALUE!"}},{"$f":"C174*$G$1*1*(Color!$D$6+Species!$C$6)","v":{"$error":"#VALUE!"}},null,"Black","Dark Blue",null,null,"Custom Item"]
["CUSTOM-ROS","Custom Size Roll Out Shelf - corresponding cabinet must be noted.",{"v":117,"d":"$117.00"},3,null,{"$f":"C175*'Order Form'!$S$18","v":0},{"$f":"C175*'Order Form'!$S$18","v":0},null,"/","","",null,0,{"$f":"J175&A175&K175","v":"CUSTOM-ROS"},{"$nulls":3},{"$f":"Q175&K175","v":""},null,{"$f":"N175","v":"CUSTOM-ROS"},1,{"$nulls":4},{"$f":"C175*$G$1*1*(Color!$D$6+Species!$C$6)","v":{"$error":"#VALUE!"}},null,"Purple","Dark Blue",null,null,"Custom Item"]
["CUSTOM-SHELF","Custom Size Shelf - corresponding cabinet must be noted.",0,3,null,null,0,null,"/","","",null,0,{"$f":"J176&A176&K176","v":"CUSTOM-SHELF"},{"$nulls":3},{"$f":"Q176&K176","v":""},null,{"$f":"N176","v":"CUSTOM-SHELF"},1,{"$nulls":3},{"$f":"(C176*Color!$G$6*1)","v":{"$error":"#VALUE!"}},{"$f":"C176*$G$1*1*(Color!$D$6+Species!$C$6)","v":{"$error":"#VALUE!"}},null,"Black","Dark Blue",null,null,"Custom Item"]
["CUSTOM-TRIM","Custom Size Trim - drawing and approved price must be attached.",0,3,null,null,0,null,"/","","","Yes",0,{"$f":"J177&A177&K177","v":"CUSTOM-TRIM"},{"$nulls":3},{"$f":"Q177&K177","v":""},null,{"$f":"N177","v":"CUSTOM-TRIM"},1,{"$nulls":3},{"$f":"(C177*Color!$G$6*1)","v":{"$error":"#VALUE!"}},{"$f":"C177*$G$1*1*(Color!$D$6+Species!$C$6)","v":{"$error":"#VALUE!"}},null,"Black","Dark Blue",null,null,"Custom Item"]
["DCW2430","Diagonal Corner Wall 24\" x 30\"",{"v":387,"d":"$387.00"},2,"PB",{"$f":"C178*'Order Form'!$S$18*(Color!$C$6+'Door Style'!$H$6)","v":{"$error":"#VALUE!"}},{"$f":"C178*$G$1*'Order Form'!$S$18*(Color!$D$6+'Door Style'!$G$6+Species!$C$6+'Custom Finish'!$C$6)","v":{"$error":"#VALUE!"}},null,"01-","01-",{"$f":"CONCAT!$D$2","v":""},null,1,{"$f":"J178&A178&K178","v":"01-DCW2430"},"11-DCW2430",1,"12-DCW30",{"$f":"Q178&K178","v":"12-DCW30"},1,{"$nulls":5},{"$f":"(C178*Color!$G$6*1)","v":{"$error":"#VALUE!"}},{"$f":"C178*$G$1*1*(Color!$D$6+Species!$C$6)","v":{"$error":"#VALUE!"}},null,"Light Blue","Dark Gray",null,"1","Wall Cabinet - Corner - Diagonal"]
["DCW2436","Diagonal Corner Wall 24\" x 36\"",{"v":447,"d":"$447.00"},2,null,{"$f":"C179*'Order Form'!$S$18*(Color!$C$6+'Door Style'!$H$6)","v":{"$error":"#VALUE!"}},{"$f":"C179*$G$1*'Order Form'!$S$18*(Color!$D$6+'Door Style'!$G$6+Species!$C$6+'Custom Finish'!$C$6)","v":{"$error":"#VALUE!"}},null,"01-","01-",{"$f":"CONCAT!$D$2","v":""},null,1,{"$f":"J179&A179&K179","v":"01-DCW2436"},"11-DCW2436",1,"12-DCW36",{"$f":"Q179&K179","v":"12-DCW36"},1,{"$nulls":5},{"$f":"(C179*Color!$G$6*1)","v":{"$error":"#VALUE!"}},{"$f":"C179*$G$1*1*(Color!$D$6+Species!$C$6)","v":{"$error":"#VALUE!"}},null,"Light Blue","Dark Gray",null,"1","Wall Cabinet - Corner - Diagonal"]
["DCW2442","Diagonal Corner Wall 24\" x 42\"",{"v":541,"d":"$541.00"},2,null,{"$f":"C180*'Order Form'!$S$18*(Color!$C$6+'Door Style'!$H$6)","v":{"$error":"#VALUE!"}},{"$f":"C180*$G$1*'Order Form'!$S$18*(Color!$D$6+'Door Style'!$G$6+Species!$C$6+'Custom Finish'!$C$6)","v":{"$error":"#VALUE!"}},null,"01-","01-",{"$f":"CONCAT!$D$2","v":""},null,1,{"$f":"J180&A180&K180","v":"01-DCW2442"},"11-DCW2442",1,"12-DCW42",{"$f":"Q180&K180","v":"12-DCW42"},1,{"$nulls":5},{"$f":"(C180*Color!$G$6*1)","v":{"$error":"#VALUE!"}},{"$f":"C180*$G$1*1*(Color!$D$6+Species!$C$6)","v":{"$error":"#VALUE!"}},null,"Light Blue","Dark Gray",null,"1","Wall Cabinet - Corner - Diagonal"]
["DCW2736","Diagonal Corner Wall 27\" x 36\"",{"v":505,"d":"$505.00"},2,null,{"$f":"C181*'Order Form'!$S$18*(Color!$C$6+'Door Style'!$H$6)","v":{"$error":"#VALUE!"}},{"$f":"C181*$G$1*'Order Form'!$S$18*(Color!$D$6+'Door Style'!$G$6+Species!$C$6+'Custom Finish'!$C$6)","v":{"$error":"#VALUE!"}},null,"01-","01-",{"$f":"CONCAT!$D$2","v":""},null,1,{"$f":"J181&A181&K181","v":"01-DCW2736"},"11-DCW2736",1,"12-DCW36",{"$f":"Q181&K181","v":"12-DCW36"},1,{"$nulls":5},{"$f":"(C181*Color!$G$6*1)","v":{"$error":"#VALUE!"}},{"$f":"C181*$G$1*1*(Color!$D$6+Species!$C$6)","v":{"$error":"#VALUE!"}},null,"Light Blue","Dark Gray",null,"1","Wall Cabinet - Corner - Diagonal"]
["DCW2742","Diagonal Corner Wall 27\" x 42\"",{"v":590,"d":"$590.00"},2,null,{"$f":"C182*'Order Form'!$S$18*(Color!$C$6+'Door Style'!$H$6)","v":{"$error":"#VALUE!"}},{"$f":"C182*$G$1*'Order Form'!$S$18*(Color!$D$6+'Door Style'!$G$6+Species!$C$6+'Custom Finish'!$C$6)","v":{"$error":"#VALUE!"}},null,"01-","01-",{"$f":"CONCAT!$D$2","v":""},null,1,{"$f":"J182&A182&K182","v":"01-DCW2742"},"11-DCW2742",1,"12-DCW42",{"$f":"Q182&K182","v":"12-DCW42"},1,{"$nulls":5},{"$f":"(C182*Color!$G$6*1)","v":{"$error":"#VALUE!"}},{"$f":"C182*$G$1*1*(Color!$D$6+Species!$C$6)","v":{"$error":"#VALUE!"}},null,"Light Blue","Dark Gray",null,"1","Wall Cabinet - Corner - Diagonal"]
["DEALER BOOK","Dealer Book",0,2,null,{"$f":"C183","v":0},{"$f":"C183","v":0},null,"/","/","",null,0,{"$f":"J183&A183&K183","v":"/DEALER BOOK"},{"$nulls":3},{"$f":"Q183&K183","v":""},null,{"$f":"N183","v":"/DEALER BOOK"},1,{"$nulls":3},{"$f":"(C183*Color!$G$6*1)","v":{"$error":"#VALUE!"}},{"$f":"C183*$G$1*1*(Color!$D$6+Species!$C$6)","v":{"$error":"#VALUE!"}},null,"Tan","Tan","Dealer",null,"Dealer support item"]
["DEALER PLACARD","Tent Style Sign saying Authorized Dealer",{"v":20,"d":"$20.00"},2,null,{"$f":"C184","v":20},{"$f":"C184","v":20},null,"/","/",null,null,0,{"$f":"J184&A184&K184","v":"/DEALER PLACARD"},{"$nulls":3},{"$f":"Q184&K184","v":""},null,{"$f":"N184","v":"/DEALER PLACARD"},1,{"$nulls":3},{"$f":"(C184*Color!$G$6*1)","v":{"$error":"#VALUE!"}},{"$f":"C184*$G$1*1*(Color!$D$6+Species!$C$6)","v":{"$error":"#VALUE!"}},null,"Tan","Tan","Dealer",null,"Dealer support item"]
["DEALER SUPPORT MATERIAL","Misc Dealer Support Material",0,2,null,{"$f":"C185","v":0},{"$f":"C185","v":0},null,"/","/","",null,0,{"$f":"J185&A185&K185","v":"/DEALER SUPPORT MATERIAL"},{"$nulls":3},{"$f":"Q185&K185","v":""},null,{"$f":"N185","v":"/DEALER SUPPORT MATERIAL"},1,{"$nulls":3},{"$f":"(C185*Color!$G$6*1)","v":{"$error":"#VALUE!"}},{"$f":"C185*$G$1*1*(Color!$D$6+Species!$C$6)","v":{"$error":"#VALUE!"}},null,"Dark Blue","Dark Blue","Dealer",null,"Dealer support item"]
["DEP","Desk End Panel",{"v":194,"d":"$194.00"},3,null,null,{"$f":"C186*$G$1*'Order Form'!$S$18*(Color!$D$6+Species!$C$6)","v":{"$error":"#VALUE!"}},null,"SC/PC","13-",{"$f":"CONCAT!$D$8","v":""},null,0,{"$f":"J186&A186&K186","v":"13-DEP"},{"$nulls":3},{"$f":"Q186&K186","v":""},null,{"$f":"N186","v":"13-DEP"},1,{"$nulls":3},{"$f":"C186","v":{"v":194,"d":"$194.00"}},{"$f":"C186","v":{"v":194,"d":"$194.00"}},null,"Black","Pink",null,"1","Office Components - Panel"]
["DESIGN DEPOSIT","Design Deposit to be applied to Order Total",0,2,null,{"$f":"C187","v":{"v":0,"d":"$0.00"}},{"$f":"C187","v":0},null,"/","/","",null,0,{"$f":"J187&A187&K187","v":"/DESIGN DEPOSIT"},{"$nulls":3},{"$f":"Q187&K187","v":""},null,{"$f":"N187","v":"/DESIGN DEPOSIT"},1,{"$nulls":4},{"$f":"C187*$G$1*1*(Color!$D$6+Species!$C$6)","v":{"$error":"#VALUE!"}},null,"Tan","Tan","N",null,"Modification - Fees"]
["DLS36","Diagonal Lazy Susan 36\"",{"v":689,"d":"$689.00"},2,null,{"$f":"C188*'Order Form'!$S$18*(Color!$C$6+'Door Style'!$H$6)","v":{"$error":"#VALUE!"}},{"$f":"C188*$G$2*'Order Form'!$S$18*(Color!$D$6+'Door Style'!$G$6+Species!$C$6+'Custom Finish'!$C$6)","v":{"$error":"#VALUE!"}},null,"01-","01-",{"$f":"CONCAT!$D$2","v":""},null,1,{"$f":"J188&A188&K188","v":"01-DLS36"},"11-DLS36",1,"12-DCW30",{"$f":"Q188&K188","v":"12-DCW30"},1,{"$nulls":6},{"$f":"C188*$G$1*1*(Color!$D$6+Species!$C$6)","v":{"$error":"#VALUE!"}},null,"Light Blue","Dark Yellow",null,"1","Base Cabinet - Corner - Lazy Susan - Diagonal"]
["DWEP.75","Dishwasher End Panel .75\"",{"v":143,"d":"$143.00"},2,"PB",{"$f":"(C189*Color!$G$6*'Order Form'!$S$18)","v":{"$error":"#VALUE!"}},{"$f":"C189*$G$1*'Order Form'!$S$18*(Color!$D$6+Species!$C$6)","v":{"$error":"#VALUE!"}},null,"13-","13-",{"$f":"CONCAT!$D$3","v":""},null,0,{"$f":"J189&A189&K189","v":"13-DWEP.75"},{"$nulls":3},{"$f":"Q189&K189","v":""},null,{"$f":"N189","v":"13-DWEP.75"},1,{"$nulls":4},{"$f":"C189*$G$1*1*(Color!$D$6+Species!$C$6)","v":{"$error":"#VALUE!"}},null,"Orange","Pink",null,null,"Trim - Panel - Dishwasher"]
["DWEP1.5","Dishwasher End Panel 1.5\"",{"v":151,"d":"$151.00"},2,"PB",{"$f":"(C190*Color!$G$6*'Order Form'!$S$18)","v":{"$error":"#VALUE!"}},{"$f":"C190*$G$1*'Order Form'!$S$18*(Color!$D$6+Species!$C$6)","v":{"$error":"#VALUE!"}},null,"13-","13-",{"$f":"CONCAT!$D$3","v":""},null,0,{"$f":"J190&A190&K190","v":"13-DWEP1.5"},{"$nulls":3},{"$f":"Q190&K190","v":""},null,{"$f":"N190","v":"13-DWEP1.5"},1,{"$nulls":4},{"$f":"C190*$G$1*1*(Color!$D$6+Species!$C$6)","v":{"$error":"#VALUE!"}},null,"Orange","Pink",null,null,"Trim - Panel - Dishwasher"]
["DWEP3","Dishwasher End Panel 3\"",{"v":218,"d":"$218.00"},3,null,null,{"$f":"C191*$G$1*'Order Form'!$S$18*(Color!$D$6+Species!$C$6)","v":{"$error":"#VALUE!"}},null,"SC/PC","13-",{"$f":"CONCAT!$D$8","v":""},null,0,{"$f":"J191&A191&K191","v":"13-DWEP3"},{"$nulls":3},{"$f":"Q191&K191","v":""},null,{"$f":"N191","v":"13-DWEP3"},1,{"$nulls":4},{"$f":"C191*$G$1*1*(Color!$D$6+Species!$C$6)","v":{"$error":"#VALUE!"}},null,"Black","Pink",null,null,"Trim - Panel - Dishwasher"]
["F0330","Filler 3\" x 30\"",{"v":25,"d":"$25.00"},2,"PB",{"$f":"(C192*Color!$G$6*'Order Form'!$S$18)","v":{"$error":"#VALUE!"}},{"$f":"C192*$G$1*'Order Form'!$S$18*(Color!$D$6+Species!$C$6)","v":{"$error":"#VALUE!"}},null,"13-","13-",{"$f":"CONCAT!$D$3","v":""},null,0,{"$f":"J192&A192&K192","v":"13-F0330"},{"$nulls":3},{"$f":"Q192&K192","v":""},null,{"$f":"N192","v":"13-F0330"},1,{"$nulls":4},{"$f":"C192*$G$1*1*(Color!$D$6+Species!$C$6)","v":{"$error":"#VALUE!"}},null,"Orange","Pink",null,null,"Trim - Filler"]
["F0342","Filler 3\" x 42\"",{"v":49,"d":"$49.00"},2,null,{"$f":"(C193*Color!$G$6*'Order Form'!$S$18)","v":{"$error":"#VALUE!"}},{"$f":"C193*$G$1*'Order Form'!$S$18*(Color!$D$6+Species!$C$6)","v":{"$error":"#VALUE!"}},null,"13-","13-",{"$f":"CONCAT!$D$3","v":""},null,0,{"$f":"J193&A193&K193","v":"13-F0342"},{"$nulls":3},{"$f":"Q193&K193","v":""},null,{"$f":"N193","v":"13-F0342"},1,{"$nulls":3},{"$f":"C193*1*(Color!$C$6+'Door Style'!$H$6)","v":{"$error":"#VALUE!"}},{"$f":"C193*$G$1*1*(Color!$D$6+'Door Style'!$G$6+Species!$C$6+'Custom Finish'!$C$6)","v":{"$error":"#VALUE!"}},null,"Orange","Pink",null,null,"Trim - Filler"]
["F0396","Filler 3\" x 96\"",{"v":78,"d":"$78.00"},2,"PB",{"$f":"(C194*Color!$G$6*'Order Form'!$S$18)","v":{"$error":"#VALUE!"}},{"$f":"C194*$G$1*'Order Form'!$S$18*(Color!$D$6+Species!$C$6)","v":{"$error":"#VALUE!"}},null,"13-","13-",{"$f":"CONCAT!$D$3","v":""},null,0,{"$f":"J194&A194&K194","v":"13-F0396"},{"$nulls":3},{"$f":"Q194&K194","v":""},null,{"$f":"N194","v":"13-F0396"},1,{"$nulls":4},{"$f":"C194*$G$1*1*(Color!$D$6+'Door Style'!$G$6+Species!$C$6+'Custom Finish'!$C$6)","v":{"$error":"#VALUE!"}},null,"Orange","Pink",null,null,"Trim - Filler"]
["F0630","Filler 6\" x 30\"",{"v":49,"d":"$49.00"},2,"PB",{"$f":"(C195*Color!$G$6*'Order Form'!$S$18)","v":{"$error":"#VALUE!"}},{"$f":"C195*$G$1*'Order Form'!$S$18*(Color!$D$6+Species!$C$6)","v":{"$error":"#VALUE!"}},null,"13-","13-",{"$f":"CONCAT!$D$3","v":""},null,0,{"$f":"J195&A195&K195","v":"13-F0630"},{"$nulls":3},{"$f":"Q195&K195","v":""},null,{"$f":"N195","v":"13-F0630"},1,{"$nulls":3},{"$f":"C195*1*(Color!$C$6+'Door Style'!$H$6)","v":{"$error":"#VALUE!"}},{"$f":"C195*$G$1*1*(Color!$D$6+'Door Style'!$G$6+Species!$C$6+'Custom Finish'!$C$6)","v":{"$error":"#VALUE!"}},null,"Orange","Pink",null,null,"Trim - Filler"]
["F0642","Filler 6\" x 42\"",{"v":97,"d":"$97.00"},2,null,{"$f":"(C196*Color!$G$6*'Order Form'!$S$18)","v":{"$error":"#VALUE!"}},{"$f":"C196*$G$1*'Order Form'!$S$18*(Color!$D$6+Species!$C$6)","v":{"$error":"#VALUE!"}},null,"13-","13-",{"$f":"CONCAT!$D$3","v":""},null,0,{"$f":"J196&A196&K196","v":"13-F0642"},{"$nulls":3},{"$f":"Q196&K196","v":""},null,{"$f":"N196","v":"13-F0642"},1,{"$nulls":4},{"$f":"C196*$G$1*1*(Color!$D$6+'Door Style'!$G$6+Species!$C$6+'Custom Finish'!$C$6)","v":{"$error":"#VALUE!"}},null,"Orange","Pink",null,null,"Trim - Filler"]
["F0696","Filler 6\" x 96\"",{"v":177,"d":"$177.00"},2,"PB",{"$f":"(C197*Color!$G$6*'Order Form'!$S$18)","v":{"$error":"#VALUE!"}},{"$f":"C197*$G$1*'Order Form'!$S$18*(Color!$D$6+Species!$C$6)","v":{"$error":"#VALUE!"}},null,"13-","13-",{"$f":"CONCAT!$D$3","v":""},null,0,{"$f":"J197&A197&K197","v":"13-F0696"},{"$nulls":3},{"$f":"Q197&K197","v":""},null,{"$f":"N197","v":"13-F0696"},1,{"$nulls":3},{"$f":"C197*1*(Color!$C$6+'Door Style'!$H$6)","v":{"$error":"#VALUE!"}},{"$f":"C197*$G$1*1*(Color!$D$6+'Door Style'!$G$6+Species!$C$6+'Custom Finish'!$C$6)","v":{"$error":"#VALUE!"}},null,"Orange","Pink",null,null,"Trim - Filler"]
["F1.530","Filler 1.5\" x 30\"",{"v":31,"d":"$31.00"},2,null,{"$f":"(C198*Color!$G$6*'Order Form'!$S$18)","v":{"$error":"#VALUE!"}},{"$f":"C198*$G$1*'Order Form'!$S$18*(Color!$D$6+Species!$C$6)","v":{"$error":"#VALUE!"}},null,"13-","13-",{"$f":"CONCAT!$D$3","v":""},null,0,{"$f":"J198&A198&K198","v":"13-F1.530"},{"$nulls":3},{"$f":"Q198&K198","v":""},null,{"$f":"N198","v":"13-F1.530"},1,{"$nulls":4},{"$f":"C198*$G$1*1*(Color!$D$6+'Door Style'!$G$6+Species!$C$6+'Custom Finish'!$C$6)","v":{"$error":"#VALUE!"}},null,"Orange","Pink",null,null,"Trim - Filler"]
["F1.536","Filler 1.5\" x 36\"",{"v":38,"d":"$38.00"},2,null,{"$f":"(C199*Color!$G$6*'Order Form'!$S$18)","v":{"$error":"#VALUE!"}},{"$f":"C199*$G$1*'Order Form'!$S$18*(Color!$D$6+Species!$C$6)","v":{"$error":"#VALUE!"}},null,"13-","13-",{"$f":"CONCAT!$D$3","v":""},null,0,{"$f":"J199&A199&K199","v":"13-F1.536"},{"$nulls":3},{"$f":"Q199&K199","v":""},null,{"$f":"N199","v":"13-F1.536"},1,{"$nulls":3},{"$f":"C199*1*(Color!$C$6+'Door Style'!$H$6)","v":{"$error":"#VALUE!"}},{"$f":"C199*$G$1*1*(Color!$D$6+'Door Style'!$G$6+Species!$C$6+'Custom Finish'!$C$6)","v":{"$error":"#VALUE!"}},null,"Orange","Pink",null,null,"Trim - Filler"]
["F1.542","Filler 1.5\" x 42\"",{"v":47,"d":"$47.00"},2,null,{"$f":"(C200*Color!$G$6*'Order Form'!$S$18)","v":{"$error":"#VALUE!"}},{"$f":"C200*$G$1*'Order Form'!$S$18*(Color!$D$6+Species!$C$6)","v":{"$error":"#VALUE!"}},null,"13-","13-",{"$f":"CONCAT!$D$3","v":""},null,0,{"$f":"J200&A200&K200","v":"13-F1.542"},{"$nulls":3},{"$f":"Q200&K200","v":""},null,{"$f":"N200","v":"13-F1.542"},1,{"$nulls":4},{"$f":"C200*$G$1*1*(Color!$D$6+'Door Style'!$G$6+Species!$C$6+'Custom Finish'!$C$6)","v":{"$error":"#VALUE!"}},null,"Orange","Pink",null,null,"Trim - Filler"]
["F1.596","Filler 1.5\" x 96\"",{"v":59,"d":"$59.00"},2,null,{"$f":"(C201*Color!$G$6*'Order Form'!$S$18)","v":{"$error":"#VALUE!"}},{"$f":"C201*$G$1*'Order Form'!$S$18*(Color!$D$6+Species!$C$6)","v":{"$error":"#VALUE!"}},null,"13-","13-",{"$f":"CONCAT!$D$3","v":""},null,0,{"$f":"J201&A201&K201","v":"13-F1.596"},{"$nulls":3},{"$f":"Q201&K201","v":""},null,{"$f":"N201","v":"13-F1.596"},1,{"$nulls":3},{"$f":"C201*1*(Color!$C$6+'Door Style'!$H$6)","v":{"$error":"#VALUE!"}},{"$f":"C201*$G$1*1*(Color!$D$6+'Door Style'!$G$6+Species!$C$6+'Custom Finish'!$C$6)","v":{"$error":"#VALUE!"}},null,"Orange","Pink",null,null,"Trim - Filler"]
["FCC SALES CENTER","Sales Center Hutch",{"v":2495,"d":"$2,495.00"},2,null,{"$f":"C202","v":2495},{"$f":"C202","v":2495},null,"/",null,"",null,1,{"$f":"J202&A202&K202","v":"FCC SALES CENTER"},{"$nulls":3},{"$f":"Q202&K202","v":""},null,{"$f":"N202","v":"FCC SALES CENTER"},1,{"$nulls":4},{"$f":"C202*$G$1*1*(Color!$D$6+'Door Style'!$G$6+Species!$C$6+'Custom Finish'!$C$6)","v":{"$error":"#VALUE!"}},null,"Tan","Tan","Dealer",null,"Dealer support item"]
["FF0330","Fluted Filler 03\" x 30\"",{"v":31,"d":"$31.00"},3,null,null,{"$f":"C203*$G$1*'Order Form'!$S$18*(Color!$D$6+Species!$C$6)","v":{"$error":"#VALUE!"}},null,"SC/PC","13-",{"$f":"CONCAT!$D$8","v":""},null,0,{"$f":"J203&A203&K203","v":"13-FF0330"},{"$nulls":3},{"$f":"Q203&K203","v":""},null,{"$f":"N203","v":"13-FF0330"},1,{"$nulls":3},{"$f":"C203*1*(Color!$C$6+'Door Style'!$H$6)","v":{"$error":"#VALUE!"}},{"$f":"C203*$G$1*1*(Color!$D$6+'Door Style'!$G$6+Species!$C$6+'Custom Finish'!$C$6)","v":{"$error":"#VALUE!"}},null,"Black","Pink",null,null,"Trim - Filler - Fluted"]
["FF0336","Fluted Filler 03\" x 36\"",{"v":36,"d":"$36.00"},3,null,null,{"$f":"C204*$G$1*'Order Form'!$S$18*(Color!$D$6+Species!$C$6)","v":{"$error":"#VALUE!"}},null,"SC/PC","13-",{"$f":"CONCAT!$D$8","v":""},null,0,{"$f":"J204&A204&K204","v":"13-FF0336"},{"$nulls":3},{"$f":"Q204&K204","v":""},null,{"$f":"N204","v":"13-FF0336"},1,{"$nulls":4},{"$f":"C204*$G$1*1*(Color!$D$6+'Door Style'!$G$6+Species!$C$6+'Custom Finish'!$C$6)","v":{"$error":"#VALUE!"}},null,"Black","Pink",null,null,"Trim - Filler - Fluted"]
["FF0342","Fluted Filler 03\" x 42\"",{"v":49,"d":"$49.00"},3,null,null,{"$f":"C205*$G$1*'Order Form'!$S$18*(Color!$D$6+Species!$C$6)","v":{"$error":"#VALUE!"}},null,"SC/PC","13-",{"$f":"CONCAT!$D$8","v":""},null,0,{"$f":"J205&A205&K205","v":"13-FF0342"},{"$nulls":3},{"$f":"Q205&K205","v":""},null,{"$f":"N205","v":"13-FF0342"},1,{"$nulls":3},{"$f":"C205*1*(Color!$C$6+'Door Style'!$H$6)","v":{"$error":"#VALUE!"}},{"$f":"C205*$G$1*1*(Color!$D$6+'Door Style'!$G$6+Species!$C$6+'Custom Finish'!$C$6)","v":{"$error":"#VALUE!"}},null,"Black","Pink",null,null,"Trim - Filler - Fluted"]
["FF0630","Fluted Filler 06\" x 30\"",{"v":59,"d":"$59.00"},3,null,null,{"$f":"C206*$G$1*'Order Form'!$S$18*(Color!$D$6+Species!$C$6)","v":{"$error":"#VALUE!"}},null,"SC/PC","13-",{"$f":"CONCAT!$D$8","v":""},null,0,{"$f":"J206&A206&K206","v":"13-FF0630"},{"$nulls":3},{"$f":"Q206&K206","v":""},null,{"$f":"N206","v":"13-FF0630"},1,{"$nulls":3},{"$f":"C206*1*(Color!$C$6+'Door Style'!$H$6)","v":{"$error":"#VALUE!"}},{"$f":"C206*$G$1*1*(Color!$D$6+'Door Style'!$G$6+Species!$C$6+'Custom Finish'!$C$6)","v":{"$error":"#VALUE!"}},null,"Black","Pink",null,null,"Trim - Filler - Fluted"]
["FF0636","Fluted Filler 06\" x 36\"",{"v":71,"d":"$71.00"},3,null,null,{"$f":"C207*$G$1*'Order Form'!$S$18*(Color!$D$6+Species!$C$6)","v":{"$error":"#VALUE!"}},null,"SC/PC","13-",{"$f":"CONCAT!$D$8","v":""},null,0,{"$f":"J207&A207&K207","v":"13-FF0636"},{"$nulls":3},{"$f":"Q207&K207","v":""},null,{"$f":"N207","v":"13-FF0636"},1,{"$nulls":3},{"$f":"C207*1*(Color!$C$6+'Door Style'!$H$6)","v":{"$error":"#VALUE!"}},{"$f":"C207*$G$1*1*(Color!$D$6+'Door Style'!$G$6+Species!$C$6+'Custom Finish'!$C$6)","v":{"$error":"#VALUE!"}},null,"Black","Pink",null,null,"Trim - Filler - Fluted"]
["FF0642","Fluted Filler 06\" x 42\"",{"v":96,"d":"$96.00"},3,null,null,{"$f":"C208*$G$1*'Order Form'!$S$18*(Color!$D$6+Species!$C$6)","v":{"$error":"#VALUE!"}},null,"SC/PC","13-",{"$f":"CONCAT!$D$8","v":""},null,0,{"$f":"J208&A208&K208","v":"13-FF0642"},{"$nulls":3},{"$f":"Q208&K208","v":""},null,{"$f":"N208","v":"13-FF0642"},1,{"$nulls":3},{"$f":"C208*1*(Color!$C$6+'Door Style'!$H$6)","v":{"$error":"#VALUE!"}},{"$f":"C208*$G$1*1*(Color!$D$6+'Door Style'!$G$6+Species!$C$6+'Custom Finish'!$C$6)","v":{"$error":"#VALUE!"}},null,"Black","Pink",null,null,"Trim - Filler - Fluted"]
["FHB09","Full Height Base  09\"",{"v":199,"d":"$199.00"},2,"PB",{"$f":"C209*'Order Form'!$S$18*(Color!$C$6+'Door Style'!$H$6)","v":{"$error":"#VALUE!"}},{"$f":"C209*$G$1*'Order Form'!$S$18*(Color!$D$6+'Door Style'!$G$6+Species!$C$6+'Custom Finish'!$C$6)","v":{"$error":"#VALUE!"}},null,"01-","01-",{"$f":"CONCAT!$D$2","v":""},null,1,{"$f":"J209&A209&K209","v":"01-FHB09"},"11-FHB09",1,"12-W0930",{"$f":"Q209&K209","v":"12-W0930"},1,{"$nulls":5},{"$f":"C209*1*(Color!$C$6+'Door Style'!$H$6)","v":{"$error":"#VALUE!"}},{"$f":"C209*$G$1*1*(Color!$D$6+'Door Style'!$G$6+Species!$C$6+'Custom Finish'!$C$6)","v":{"$error":"#VALUE!"}},null,"Light Blue","Dark Gray",null,"1","Base Cabinet  - Full Height"]
["FHB10.5","Full Height Base 10.5\"",{"v":226,"d":"$226.00"},3,null,null,{"$f":"C210*$G$1*'Order Form'!$S$18*(Color!$D$6+'Door Style'!$G$6+Species!$C$6+'Custom Finish'!$C$6)","v":{"$error":"#VALUE!"}},null,"SC/PC","01-",{"$f":"CONCAT!$D$8","v":""},null,1,{"$f":"J210&A210&K210","v":"01-FHB10.5"},"11-FHB10.5",1,"12-W10.530",{"$f":"Q210&K210","v":"12-W10.530"},1,{"$nulls":6},{"$f":"C210","v":{"v":226,"d":"$226.00"}},null,"Black","Dark Gray",null,"1","Base Cabinet  - Full Height"]
["FHB12","Full Height Base 12\"",{"v":225,"d":"$225.00"},2,null,{"$f":"C211*'Order Form'!$S$18*(Color!$C$6+'Door Style'!$H$6)","v":{"$error":"#VALUE!"}},{"$f":"C211*$G$1*'Order Form'!$S$18*(Color!$D$6+'Door Style'!$G$6+Species!$C$6+'Custom Finish'!$C$6)","v":{"$error":"#VALUE!"}},null,"01-","01-",{"$f":"CONCAT!$D$2","v":""},null,1,{"$f":"J211&A211&K211","v":"01-FHB12"},"11-B12",1,"12-W1230",{"$f":"Q211&K211","v":"12-W1230"},1,{"$nulls":6},{"$f":"C211","v":{"v":225,"d":"$225.00"}},null,"Light Blue","Dark Gray",null,"1","Base Cabinet  - Full Height"]
["FHB13.5","Full Height Base 13.5\"",{"v":251,"d":"$251.00"},3,null,null,{"$f":"C212*$G$1*'Order Form'!$S$18*(Color!$D$6+'Door Style'!$G$6+Species!$C$6+'Custom Finish'!$C$6)","v":{"$error":"#VALUE!"}},null,"SC/PC","01-",{"$f":"CONCAT!$D$8","v":""},null,1,{"$f":"J212&A212&K212","v":"01-FHB13.5"},"11-FHB13.5",1,"12-W13.530",{"$f":"Q212&K212","v":"12-W13.530"},1,{"$nulls":5},{"$f":"C212","v":{"v":251,"d":"$251.00"}},{"$f":"C212","v":{"v":251,"d":"$251.00"}},null,"Black","Dark Gray",null,"1","Base Cabinet  - Full Height"]
["FHB15","Full Height Base 15\"",{"v":250,"d":"$250.00"},2,null,{"$f":"C213*'Order Form'!$S$18*(Color!$C$6+'Door Style'!$H$6)","v":{"$error":"#VALUE!"}},{"$f":"C213*$G$1*'Order Form'!$S$18*(Color!$D$6+'Door Style'!$G$6+Species!$C$6+'Custom Finish'!$C$6)","v":{"$error":"#VALUE!"}},null,"01-","01-",{"$f":"CONCAT!$D$2","v":""},null,1,{"$f":"J213&A213&K213","v":"01-FHB15"},"11-B15",1,"12-W1530",{"$f":"Q213&K213","v":"12-W1530"},1,{"$nulls":5},{"$f":"C213","v":{"v":250,"d":"$250.00"}},{"$f":"C213","v":{"v":250,"d":"$250.00"}},null,"Light Blue","Dark Gray",null,"1","Base Cabinet  - Full Height"]
["FHB16.5","Full Height Base 16.5\"",{"v":276,"d":"$276.00"},3,null,null,{"$f":"C214*$G$1*'Order Form'!$S$18*(Color!$D$6+'Door Style'!$G$6+Species!$C$6+'Custom Finish'!$C$6)","v":{"$error":"#VALUE!"}},null,"SC/PC","01-",{"$f":"CONCAT!$D$8","v":""},null,1,{"$f":"J214&A214&K214","v":"01-FHB16.5"},"11-FHB16.5",1,"12-W16.530",{"$f":"Q214&K214","v":"12-W16.530"},1,{"$nulls":6},{"$f":"C214*$G$1*1*(Color!$D$6+'Door Style'!$G$6+Species!$C$6+'Custom Finish'!$C$6)","v":{"$error":"#VALUE!"}},null,"Black","Dark Gray",null,"1","Base Cabinet  - Full Height"]
["FHB18","Full Height Base 18\"",{"v":275,"d":"$275.00"},2,null,{"$f":"C215*'Order Form'!$S$18*(Color!$C$6+'Door Style'!$H$6)","v":{"$error":"#VALUE!"}},{"$f":"C215*$G$1*'Order Form'!$S$18*(Color!$D$6+'Door Style'!$G$6+Species!$C$6+'Custom Finish'!$C$6)","v":{"$error":"#VALUE!"}},null,"01-","01-",{"$f":"CONCAT!$D$2","v":""},null,1,{"$f":"J215&A215&K215","v":"01-FHB18"},"11-B18",1,"12-W1830",{"$f":"Q215&K215","v":"12-W1830"},1,{"$nulls":6},{"$f":"C215*$G$1*1*(Color!$D$6+'Door Style'!$G$6+Species!$C$6+'Custom Finish'!$C$6)","v":{"$error":"#VALUE!"}},null,"Light Blue","Dark Gray",null,"1","Base Cabinet  - Full Height"]
["FHB19.5","Full Height Base 19.5\"",{"v":311,"d":"$311.00"},3,null,null,{"$f":"C216*$G$1*'Order Form'!$S$18*(Color!$D$6+'Door Style'!$G$6+Species!$C$6+'Custom Finish'!$C$6)","v":{"$error":"#VALUE!"}},null,"SC/PC","01-",{"$f":"CONCAT!$D$8","v":""},null,1,{"$f":"J216&A216&K216","v":"01-FHB19.5"},"11-FHB19.5",1,"12-W19.530",{"$f":"Q216&K216","v":"12-W19.530"},1,{"$nulls":6},{"$f":"C216*$G$1*1*(Color!$D$6+'Door Style'!$G$6+Species!$C$6+'Custom Finish'!$C$6)","v":{"$error":"#VALUE!"}},null,"Black","Dark Gray",null,"1","Base Cabinet  - Full Height"]
["FHB21","Full Height Base 21\"",{"v":310,"d":"$310.00"},2,null,{"$f":"C217*'Order Form'!$S$18*(Color!$C$6+'Door Style'!$H$6)","v":{"$error":"#VALUE!"}},{"$f":"C217*$G$1*'Order Form'!$S$18*(Color!$D$6+'Door Style'!$G$6+Species!$C$6+'Custom Finish'!$C$6)","v":{"$error":"#VALUE!"}},null,"01-","01-",{"$f":"CONCAT!$D$2","v":""},null,1,{"$f":"J217&A217&K217","v":"01-FHB21"},"11-B21",1,"12-W2130",{"$f":"Q217&K217","v":"12-W2130"},1,{"$nulls":6},{"$f":"C217*$G$1*1*(Color!$D$6+'Door Style'!$G$6+Species!$C$6+'Custom Finish'!$C$6)","v":{"$error":"#VALUE!"}},null,"Light Blue","Dark Gray",null,"1","Base Cabinet  - Full Height"]
["FHB22.5","Full Height Base 22.5\"",{"v":332,"d":"$332.00"},3,null,null,{"$f":"C218*$G$1*'Order Form'!$S$18*(Color!$D$6+'Door Style'!$G$6+Species!$C$6+'Custom Finish'!$C$6)","v":{"$error":"#VALUE!"}},null,"SC/PC","01-",{"$f":"CONCAT!$D$8","v":""},null,1,{"$f":"J218&A218&K218","v":"01-FHB22.5"},"11-FHB22.5",1,"12-W22.530",{"$f":"Q218&K218","v":"12-W22.530"},1,{"$nulls":6},{"$f":"C218*$G$1*1*(Color!$D$6+'Door Style'!$G$6+Species!$C$6+'Custom Finish'!$C$6)","v":{"$error":"#VALUE!"}},null,"Black","Dark Gray",null,"1","Base Cabinet  - Full Height"]
["FHB24","Full Height Base 24\"",{"v":331,"d":"$331.00"},2,null,{"$f":"C219*'Order Form'!$S$18*(Color!$C$6+'Door Style'!$H$6)","v":{"$error":"#VALUE!"}},{"$f":"C219*$G$1*'Order Form'!$S$18*(Color!$D$6+'Door Style'!$G$6+Species!$C$6+'Custom Finish'!$C$6)","v":{"$error":"#VALUE!"}},null,"01-","01-",{"$f":"CONCAT!$D$2","v":""},null,1,{"$f":"J219&A219&K219","v":"01-FHB24"},"11-B24",1,"12-W2430",{"$f":"Q219&K219","v":"12-W2430"},1,{"$nulls":6},{"$f":"C219*$G$1*1*(Color!$D$6+'Door Style'!$G$6+Species!$C$6+'Custom Finish'!$C$6)","v":{"$error":"#VALUE!"}},null,"Light Blue","Dark Gray",null,"1","Base Cabinet  - Full Height"]
["FHB25.5","Full Height Base 25.5\"",{"v":390,"d":"$390.00"},3,null,null,{"$f":"C220*$G$1*'Order Form'!$S$18*(Color!$D$6+'Door Style'!$G$6+Species!$C$6+'Custom Finish'!$C$6)","v":{"$error":"#VALUE!"}},null,"SC/PC","01-",{"$f":"CONCAT!$D$8","v":""},null,1,{"$f":"J220&A220&K220","v":"01-FHB25.5"},"11-FHB25.5",1,"12-W25.530",{"$f":"Q220&K220","v":"12-W25.530"},1,{"$nulls":6},{"$f":"C220*$G$1*1*(Color!$D$6+'Door Style'!$G$6+Species!$C$6+'Custom Finish'!$C$6)","v":{"$error":"#VALUE!"}},null,"Black","Dark Gray",null,"1","Base Cabinet  - Full Height"]
["FHB27","Full Height Base 27\"",{"v":388,"d":"$388.00"},2,null,{"$f":"C221*'Order Form'!$S$18*(Color!$C$6+'Door Style'!$H$6)","v":{"$error":"#VALUE!"}},{"$f":"C221*$G$1*'Order Form'!$S$18*(Color!$D$6+'Door Style'!$G$6+Species!$C$6+'Custom Finish'!$C$6)","v":{"$error":"#VALUE!"}},null,"01-","01-",{"$f":"CONCAT!$D$2","v":""},null,1,{"$f":"J221&A221&K221","v":"01-FHB27"},"11-B27",1,"12-W2730",{"$f":"Q221&K221","v":"12-W2730"},1,{"$nulls":6},{"$f":"C221*$G$1*1*(Color!$D$6+'Door Style'!$G$6+Species!$C$6+'Custom Finish'!$C$6)","v":{"$error":"#VALUE!"}},null,"Light Blue","Dark Gray",null,"1","Base Cabinet  - Full Height"]
["FHB30","Full Height Base 30\"",{"v":430,"d":"$430.00"},2,null,{"$f":"C222*'Order Form'!$S$18*(Color!$C$6+'Door Style'!$H$6)","v":{"$error":"#VALUE!"}},{"$f":"C222*$G$1*'Order Form'!$S$18*(Color!$D$6+'Door Style'!$G$6+Species!$C$6+'Custom Finish'!$C$6)","v":{"$error":"#VALUE!"}},null,"01-","01-",{"$f":"CONCAT!$D$2","v":""},null,1,{"$f":"J222&A222&K222","v":"01-FHB30"},"11-B30",1,"12-W3030",{"$f":"Q222&K222","v":"12-W3030"},1,{"$nulls":6},{"$f":"C222*$G$1*1*(Color!$D$6+'Door Style'!$G$6+Species!$C$6+'Custom Finish'!$C$6)","v":{"$error":"#VALUE!"}},null,"Light Blue","Dark Gray",null,"1","Base Cabinet  - Full Height"]
["FHB33","Full Height Base 33\"",{"v":475,"d":"$475.00"},2,null,{"$f":"C223*'Order Form'!$S$18*(Color!$C$6+'Door Style'!$H$6)","v":{"$error":"#VALUE!"}},{"$f":"C223*$G$1*'Order Form'!$S$18*(Color!$D$6+'Door Style'!$G$6+Species!$C$6+'Custom Finish'!$C$6)","v":{"$error":"#VALUE!"}},null,"01-","01-",{"$f":"CONCAT!$D$2","v":""},null,1,{"$f":"J223&A223&K223","v":"01-FHB33"},"11-B33",1,"12-W3330",{"$f":"Q223&K223","v":"12-W3330"},1,{"$nulls":6},{"$f":"C223*$G$1*1*(Color!$D$6+'Door Style'!$G$6+Species!$C$6+'Custom Finish'!$C$6)","v":{"$error":"#VALUE!"}},null,"Light Blue","Dark Gray",null,"1","Base Cabinet  - Full Height"]
["FHB36","Full Height Base 36\"",{"v":506,"d":"$506.00"},2,null,{"$f":"C224*'Order Form'!$S$18*(Color!$C$6+'Door Style'!$H$6)","v":{"$error":"#VALUE!"}},{"$f":"C224*$G$1*'Order Form'!$S$18*(Color!$D$6+'Door Style'!$G$6+Species!$C$6+'Custom Finish'!$C$6)","v":{"$error":"#VALUE!"}},null,"01-","01-",{"$f":"CONCAT!$D$2","v":""},null,1,{"$f":"J224&A224&K224","v":"01-FHB36"},"11-B36",1,"12-W3630",{"$f":"Q224&K224","v":"12-W3630"},1,{"$nulls":6},{"$f":"C224*$G$1*1*(Color!$D$6+'Door Style'!$G$6+Species!$C$6+'Custom Finish'!$C$6)","v":{"$error":"#VALUE!"}},null,"Light Blue","Dark Gray",null,"1","Base Cabinet  - Full Height"]
["FHB39","Full Height Base 39\"",{"v":536,"d":"$536.00"},2,null,{"$f":"C225*'Order Form'!$S$18*(Color!$C$6+'Door Style'!$H$6)","v":{"$error":"#VALUE!"}},{"$f":"C225*$G$1*'Order Form'!$S$18*(Color!$D$6+'Door Style'!$G$6+Species!$C$6+'Custom Finish'!$C$6)","v":{"$error":"#VALUE!"}},null,"01-","01-",{"$f":"CONCAT!$D$2","v":""},null,1,{"$f":"J225&A225&K225","v":"01-FHB39"},"11-B39",1,"12-W3930",{"$f":"Q225&K225","v":"12-W3930"},1,{"$nulls":5},{"$f":"C225*1*(Color!$C$6+'Door Style'!$H$6)","v":{"$error":"#VALUE!"}},{"$f":"C225*$G$1*1*(Color!$D$6+'Door Style'!$G$6+Species!$C$6+'Custom Finish'!$C$6)","v":{"$error":"#VALUE!"}},null,"Light Blue","Dark Gray",null,"1","Base Cabinet  - Full Height"]
["FHBCB PULLOUT-OPTIMIZER45","BCB Pullout-Optimizer 45\"",{"v":625,"d":"$625.00"},3,null,null,{"$f":"C226","v":625},null,"/","","",null,0,{"$f":"J226&A226&K226","v":"FHBCB PULLOUT-OPTIMIZER45"},{"$nulls":3},{"$f":"Q226&K226","v":""},null,{"$f":"N226","v":"FHBCB PULLOUT-OPTIMIZER45"},1,{"$nulls":4},{"$f":"C226*$G$1*1*(Color!$D$6+'Door Style'!$G$6+Species!$C$6+'Custom Finish'!$C$6)","v":{"$error":"#VALUE!"}},null,"Black","Tan",null,"1","Accessory - Base - Blind Corner"]
["FHBCB PULLOUT-OPTIMIZER48","BCB Pullout-Optimizer 48\"",{"v":655,"d":"$655.00"},3,null,null,{"$f":"C227","v":655},null,"/","","",null,0,{"$f":"J227&A227&K227","v":"FHBCB PULLOUT-OPTIMIZER48"},{"$nulls":3},{"$f":"Q227&K227","v":""},null,{"$f":"N227","v":"FHBCB PULLOUT-OPTIMIZER48"},1,{"$nulls":3},{"$f":"C227*1*(Color!$C$6+'Door Style'!$H$6)","v":{"$error":"#VALUE!"}},{"$f":"C227*$G$1*1*(Color!$D$6+'Door Style'!$G$6+Species!$C$6+'Custom Finish'!$C$6)","v":{"$error":"#VALUE!"}},null,"Black","Tan",null,"1","Accessory - Base - Blind Corner"]
["FHBCB PULLOUT-PREMIERE42","BCB Pullout-premiere Corner ",{"v":885,"d":"$885.00"},2,null,{"$f":"C228","v":885},{"$f":"C228","v":885},null,"/","","",null,0,{"$f":"J228&A228&K228","v":"FHBCB PULLOUT-PREMIERE42"},{"$nulls":3},{"$f":"Q228&K228","v":""},null,{"$f":"N228","v":"FHBCB PULLOUT-PREMIERE42"},1,{"$nulls":4},{"$f":"C228*$G$1*1*(Color!$D$6+'Door Style'!$G$6+Species!$C$6+'Custom Finish'!$C$6)","v":{"$error":"#VALUE!"}},null,"Tan","Tan",null,"1","Accessory - Base - Blind Corner"]
["FHBCB PULLOUT-PREMIERE45","BCB Pullout-premiere Corner ",{"v":930,"d":"$930.00"},2,null,{"$f":"C229","v":930},{"$f":"C229","v":930},null,"/","","",null,0,{"$f":"J229&A229&K229","v":"FHBCB PULLOUT-PREMIERE45"},{"$nulls":3},{"$f":"Q229&K229","v":""},null,{"$f":"N229","v":"FHBCB PULLOUT-PREMIERE45"},1,{"$nulls":3},{"$f":"C229*1*(Color!$C$6+'Door Style'!$H$6)","v":{"$error":"#VALUE!"}},{"$f":"C229*$G$1*1*(Color!$D$6+'Door Style'!$G$6+Species!$C$6+'Custom Finish'!$C$6)","v":{"$error":"#VALUE!"}},null,"Tan","Tan",null,"1","Accessory - Base - Blind Corner"]
["FHBCB36L","Full Height Blind Corner Base 36\" (Blind Left)",{"v":467,"d":"$467.00"},3,null,null,{"$f":"C230*$G$1*'Order Form'!$S$18*(Color!$D$6+'Door Style'!$G$6+Species!$C$6+'Custom Finish'!$C$6)","v":{"$error":"#VALUE!"}},null,"SC/PC","01-",{"$f":"CONCAT!$D$8","v":""},null,1,{"$f":"J230&A230&K230","v":"01-FHBCB36L"},"11-BCB36",1,"12-FHBCB36",{"$f":"Q230&K230","v":"12-FHBCB36"},1,{"$nulls":6},{"$f":"C230*$G$1*1*(Color!$D$6+'Door Style'!$G$6+Species!$C$6+'Custom Finish'!$C$6)","v":{"$error":"#VALUE!"}},null,"Black","Dark Gray",null,"1","Base Cabinet - Corner - Blind - Full Height"]
["FHBCB36R","Full Height Blind Corner Base 36\" (Blind Right)",{"v":467,"d":"$467.00"},3,null,null,{"$f":"C231*$G$1*'Order Form'!$S$18*(Color!$D$6+'Door Style'!$G$6+Species!$C$6+'Custom Finish'!$C$6)","v":{"$error":"#VALUE!"}},null,"SC/PC","01-",{"$f":"CONCAT!$D$8","v":""},null,1,{"$f":"J231&A231&K231","v":"01-FHBCB36R"},"11-BCB36",1,"12-FHBCB36",{"$f":"Q231&K231","v":"12-FHBCB36"},1,{"$nulls":5},{"$f":"C231*1*(Color!$C$6+'Door Style'!$H$6)","v":{"$error":"#VALUE!"}},{"$f":"C231*$G$1*1*(Color!$D$6+'Door Style'!$G$6+Species!$C$6+'Custom Finish'!$C$6)","v":{"$error":"#VALUE!"}},null,"Black","Dark Gray",null,"1","Base Cabinet - Corner - Blind - Full Height"]
["FHBCB39L","Full Height Blind Corner Base 39\" (Blind Left)",{"v":490,"d":"$490.00"},3,null,null,{"$f":"C232*$G$1*'Order Form'!$S$18*(Color!$D$6+'Door Style'!$G$6+Species!$C$6+'Custom Finish'!$C$6)","v":{"$error":"#VALUE!"}},null,"SC/PC","01-",{"$f":"CONCAT!$D$8","v":""},null,1,{"$f":"J232&A232&K232","v":"01-FHBCB39L"},"11-BCB39",1,"12-FHBCB39L",{"$f":"Q232&K232","v":"12-FHBCB39L"},1,{"$nulls":5},{"$f":"C232*1*(Color!$C$6+'Door Style'!$H$6)","v":{"$error":"#VALUE!"}},{"$f":"C232*$G$1*1*(Color!$D$6+'Door Style'!$G$6+Species!$C$6+'Custom Finish'!$C$6)","v":{"$error":"#VALUE!"}},null,"Black","Dark Gray",null,"1","Base Cabinet - Corner - Blind - Full Height"]
["FHBCB39R","Full Height Blind Corner Base 39\" (Blind Right)",{"v":490,"d":"$490.00"},3,null,null,{"$f":"C233*$G$1*'Order Form'!$S$18*(Color!$D$6+'Door Style'!$G$6+Species!$C$6+'Custom Finish'!$C$6)","v":{"$error":"#VALUE!"}},null,"SC/PC","01-",{"$f":"CONCAT!$D$8","v":""},null,1,{"$f":"J233&A233&K233","v":"01-FHBCB39R"},"11-BCB39",1,"12-FHBCB39R",{"$f":"Q233&K233","v":"12-FHBCB39R"},1,{"$nulls":5},{"$f":"C233*1*(Color!$C$6+'Door Style'!$H$6)","v":{"$error":"#VALUE!"}},{"$f":"C233*$G$1*1*(Color!$D$6+'Door Style'!$G$6+Species!$C$6+'Custom Finish'!$C$6)","v":{"$error":"#VALUE!"}},null,"Black","Dark Gray",null,"1","Base Cabinet - Corner - Blind - Full Height"]
["FHBCB42L","Full Height Blind Corner Base 42\" (Blind Left)",{"v":572,"d":"$572.00"},3,null,null,{"$f":"C234*$G$1*'Order Form'!$S$18*(Color!$D$6+'Door Style'!$G$6+Species!$C$6+'Custom Finish'!$C$6)","v":{"$error":"#VALUE!"}},null,"SC/PC","01-",{"$f":"CONCAT!$D$8","v":""},null,1,{"$f":"J234&A234&K234","v":"01-FHBCB42L"},"11-BCB42",1,"12-FHBCB42",{"$f":"Q234&K234","v":"12-FHBCB42"},1,{"$nulls":5},{"$f":"C234*1*(Color!$C$6+'Door Style'!$H$6)","v":{"$error":"#VALUE!"}},{"$f":"C234*$G$1*1*(Color!$D$6+'Door Style'!$G$6+Species!$C$6+'Custom Finish'!$C$6)","v":{"$error":"#VALUE!"}},null,"Black","Dark Gray",null,"1","Base Cabinet - Corner - Blind - Full Height"]
["FHBCB42R","Full Height Blind Corner Base 42\" (Blind Right)",{"v":572,"d":"$572.00"},3,null,null,{"$f":"C235*$G$1*'Order Form'!$S$18*(Color!$D$6+'Door Style'!$G$6+Species!$C$6+'Custom Finish'!$C$6)","v":{"$error":"#VALUE!"}},null,"SC/PC","01-",{"$f":"CONCAT!$D$8","v":""},null,1,{"$f":"J235&A235&K235","v":"01-FHBCB42R"},"11-BCB42",1,"12-FHBCB42",{"$f":"Q235&K235","v":"12-FHBCB42"},1,{"$nulls":5},{"$f":"C235*1*(Color!$C$6+'Door Style'!$H$6)","v":{"$error":"#VALUE!"}},{"$f":"C235*$G$1*1*(Color!$D$6+'Door Style'!$G$6+Species!$C$6+'Custom Finish'!$C$6)","v":{"$error":"#VALUE!"}},null,"Black","Dark Gray",null,"1","Base Cabinet - Corner - Blind - Full Height"]
["FHBCB45L","Full Height Blind Corner Base 45\" (Blind Left)",{"v":584,"d":"$584.00"},3,null,null,{"$f":"C236*$G$1*'Order Form'!$S$18*(Color!$D$6+'Door Style'!$G$6+Species!$C$6+'Custom Finish'!$C$6)","v":{"$error":"#VALUE!"}},null,"SC/PC","01-",{"$f":"CONCAT!$D$8","v":""},null,1,{"$f":"J236&A236&K236","v":"01-FHBCB45L"},"11-BCB45",1,"12-FHBCB45L",{"$f":"Q236&K236","v":"12-FHBCB45L"},1,{"$nulls":5},{"$f":"C236*1*(Color!$C$6+'Door Style'!$H$6)","v":{"$error":"#VALUE!"}},{"$f":"C236*$G$2*1*(Color!$D$6+'Door Style'!$G$6+Species!$C$6+'Custom Finish'!$C$6)","v":{"$error":"#VALUE!"}},null,"Black","Dark Gray",null,"1","Base Cabinet - Corner - Blind - Full Height"]
["FHBCB45R","Full Height Blind Corner Base 45\" (Blind Right)",{"v":584,"d":"$584.00"},3,null,null,{"$f":"C237*$G$1*'Order Form'!$S$18*(Color!$D$6+'Door Style'!$G$6+Species!$C$6+'Custom Finish'!$C$6)","v":{"$error":"#VALUE!"}},null,"SC/PC","01-",{"$f":"CONCAT!$D$8","v":""},null,1,{"$f":"J237&A237&K237","v":"01-FHBCB45R"},"11-BCB45",1,"12-FHBCB45R",{"$f":"Q237&K237","v":"12-FHBCB45R"},1,{"$nulls":6},{"$f":"C237*$G$2*1*(Color!$D$6+'Door Style'!$G$6+Species!$C$6+'Custom Finish'!$C$6)","v":{"$error":"#VALUE!"}},null,"Black","Dark Gray",null,"1","Base Cabinet - Corner - Blind - Full Height"]
["FHBCB48L","Full Height Blind Corner Base 48\" (Blind Left)",{"v":607,"d":"$607.00"},3,null,null,{"$f":"C238*$G$1*'Order Form'!$S$18*(Color!$D$6+'Door Style'!$G$6+Species!$C$6+'Custom Finish'!$C$6)","v":{"$error":"#VALUE!"}},null,"SC/PC","01-",{"$f":"CONCAT!$D$8","v":""},null,1,{"$f":"J238&A238&K238","v":"01-FHBCB48L"},"11-BCB48",1,"12-FHBCB48L",{"$f":"Q238&K238","v":"12-FHBCB48L"},1,{"$nulls":5},{"$f":"C238*1*(Color!$C$6+'Door Style'!$H$6)","v":{"$error":"#VALUE!"}},{"$f":"C238*$G$2*1*(Color!$D$6+'Door Style'!$G$6+Species!$C$6+'Custom Finish'!$C$6)","v":{"$error":"#VALUE!"}},null,"Black","Dark Gray",null,"1","Base Cabinet - Corner - Blind - Full Height"]
["FHBCB48R","Full Height Blind Corner Base 48\" (Blind Right)",{"v":607,"d":"$607.00"},3,null,null,{"$f":"C239*$G$1*'Order Form'!$S$18*(Color!$D$6+'Door Style'!$G$6+Species!$C$6+'Custom Finish'!$C$6)","v":{"$error":"#VALUE!"}},null,"SC/PC","01-",{"$f":"CONCAT!$D$8","v":""},null,1,{"$f":"J239&A239&K239","v":"01-FHBCB48R"},"11-BCB48",1,"12-FHBCB48R",{"$f":"Q239&K239","v":"12-FHBCB48R"},1,{"$nulls":6},{"$f":"C239*$G$2*1*(Color!$D$6+'Door Style'!$G$6+Species!$C$6+'Custom Finish'!$C$6)","v":{"$error":"#VALUE!"}},null,"Black","Dark Gray",null,"1","Base Cabinet - Corner - Blind - Full Height"]
["FHDFC18","Full Height Door File Cabinet 18\"",{"v":341,"d":"$341.00"},3,null,null,{"$f":"C240*$G$1*'Order Form'!$S$18*(Color!$D$6+'Door Style'!$G$6+Species!$C$6+'Custom Finish'!$C$6)","v":{"$error":"#VALUE!"}},null,"SC/PC","01-",{"$f":"CONCAT!$D$8","v":""},null,1,{"$f":"J240&A240&K240","v":"01-FHDFC18"},"11-FHDFC18",1,"12-FHDFC18",{"$f":"Q240&K240","v":"12-FHDFC18"},1,{"$nulls":5},{"$f":"C240*1*(Color!$C$6+'Door Style'!$H$6)","v":{"$error":"#VALUE!"}},{"$f":"C240*$G$2*1*(Color!$D$6+'Door Style'!$G$6+Species!$C$6+'Custom Finish'!$C$6)","v":{"$error":"#VALUE!"}},null,"Black","Dark Gray",null,"1","Office Components - Cabinet - Full Height"]
["FHSB18","Full Height Sink Base 18\"",{"v":275,"d":"$275.00"},2,null,{"$f":"C241*'Order Form'!$S$18*(Color!$C$6+'Door Style'!$H$6)","v":{"$error":"#VALUE!"}},{"$f":"C241*$G$1*'Order Form'!$S$18*(Color!$D$6+'Door Style'!$G$6+Species!$C$6+'Custom Finish'!$C$6)","v":{"$error":"#VALUE!"}},null,"01-","01-",{"$f":"CONCAT!$D$2","v":""},null,1,{"$f":"J241&A241&K241","v":"01-FHSB18"},"11-SB18",1,"12-W1830",{"$f":"Q241&K241","v":"12-W1830"},1,{"$nulls":6},{"$f":"C241*$G$2*1*(Color!$D$6+'Door Style'!$G$6+Species!$C$6+'Custom Finish'!$C$6)","v":{"$error":"#VALUE!"}},null,"Light Blue","Dark Gray",null,"1","Base Cabinet - Sink - Full Height"]
["FHSB19.5","Full Height Sink Base 19.5\"",{"v":310,"d":"$310.00"},3,null,null,{"$f":"C242*$G$1*'Order Form'!$S$18*(Color!$D$6+'Door Style'!$G$6+Species!$C$6+'Custom Finish'!$C$6)","v":{"$error":"#VALUE!"}},null,"SC/PC","01-",{"$f":"CONCAT!$D$8","v":""},null,1,{"$f":"J242&A242&K242","v":"01-FHSB19.5"},"11-FHSB19.5",1,"12-W19.530",{"$f":"Q242&K242","v":"12-W19.530"},1,{"$nulls":5},{"$f":"C242*1*(Color!$C$6+'Door Style'!$H$6)","v":{"$error":"#VALUE!"}},{"$f":"C242*$G$2*1*(Color!$D$6+'Door Style'!$G$6+Species!$C$6+'Custom Finish'!$C$6)","v":{"$error":"#VALUE!"}},null,"Black","Dark Gray",null,"1","Base Cabinet - Sink - Full Height"]
["FHSB21","Full Height Sink Base 21\"",{"v":309,"d":"$309.00"},2,null,{"$f":"C243*'Order Form'!$S$18*(Color!$C$6+'Door Style'!$H$6)","v":{"$error":"#VALUE!"}},{"$f":"C243*$G$1*'Order Form'!$S$18*(Color!$D$6+'Door Style'!$G$6+Species!$C$6+'Custom Finish'!$C$6)","v":{"$error":"#VALUE!"}},null,"01-","01-",{"$f":"CONCAT!$D$2","v":""},null,1,{"$f":"J243&A243&K243","v":"01-FHSB21"},"11-SB21",1,"12-W2130",{"$f":"Q243&K243","v":"12-W2130"},1,{"$nulls":6},{"$f":"C243*$G$2*1*(Color!$D$6+'Door Style'!$G$6+Species!$C$6+'Custom Finish'!$C$6)","v":{"$error":"#VALUE!"}},null,"Light Blue","Dark Gray",null,"1","Base Cabinet - Sink - Full Height"]
["FHSB22.5","Full Height Sink Base 22.5\"",{"v":344,"d":"$344.00"},3,null,null,{"$f":"C244*$G$1*'Order Form'!$S$18*(Color!$D$6+'Door Style'!$G$6+Species!$C$6+'Custom Finish'!$C$6)","v":{"$error":"#VALUE!"}},null,"SC/PC","01-",{"$f":"CONCAT!$D$8","v":""},null,1,{"$f":"J244&A244&K244","v":"01-FHSB22.5"},"11-FHSB22.5",1,"12-W22.530",{"$f":"Q244&K244","v":"12-W22.530"},1,{"$nulls":5},{"$f":"C244*1*(Color!$C$6+'Door Style'!$H$6)","v":{"$error":"#VALUE!"}},{"$f":"C244*$G$2*1*(Color!$D$6+'Door Style'!$G$6+Species!$C$6+'Custom Finish'!$C$6)","v":{"$error":"#VALUE!"}},null,"Black","Dark Gray",null,"1","Base Cabinet - Sink - Full Height"]
["FHSB24","Full Height Sink Base 24\"",{"v":342,"d":"$342.00"},2,null,{"$f":"C245*'Order Form'!$S$18*(Color!$C$6+'Door Style'!$H$6)","v":{"$error":"#VALUE!"}},{"$f":"C245*$G$1*'Order Form'!$S$18*(Color!$D$6+'Door Style'!$G$6+Species!$C$6+'Custom Finish'!$C$6)","v":{"$error":"#VALUE!"}},null,"01-","01-",{"$f":"CONCAT!$D$2","v":""},null,1,{"$f":"J245&A245&K245","v":"01-FHSB24"},"11-SB24",1,"12-W2430",{"$f":"Q245&K245","v":"12-W2430"},1,{"$nulls":6},{"$f":"C245*$G$2*1*(Color!$D$6+'Door Style'!$G$6+Species!$C$6+'Custom Finish'!$C$6)","v":{"$error":"#VALUE!"}},null,"Light Blue","Dark Gray",null,"1","Base Cabinet - Sink - Full Height"]
["FHSB25.5","Full Height Sink Base 25.5\"",{"v":378,"d":"$378.00"},3,null,null,{"$f":"C246*$G$1*'Order Form'!$S$18*(Color!$D$6+'Door Style'!$G$6+Species!$C$6+'Custom Finish'!$C$6)","v":{"$error":"#VALUE!"}},null,"SC/PC","01-",{"$f":"CONCAT!$D$8","v":""},null,1,{"$f":"J246&A246&K246","v":"01-FHSB25.5"},"11-FHSB25.5",1,"12-W25.530",{"$f":"Q246&K246","v":"12-W25.530"},1,{"$nulls":5},{"$f":"C246*1*(Color!$C$6+'Door Style'!$H$6)","v":{"$error":"#VALUE!"}},{"$f":"C246*$G$2*1*(Color!$D$6+'Door Style'!$G$6+Species!$C$6+'Custom Finish'!$C$6)","v":{"$error":"#VALUE!"}},null,"Black","Dark Gray",null,"1","Base Cabinet - Sink - Full Height"]
["FHSB27","Full Height Sink Base 27\"",{"v":376,"d":"$376.00"},2,null,{"$f":"C247*'Order Form'!$S$18*(Color!$C$6+'Door Style'!$H$6)","v":{"$error":"#VALUE!"}},{"$f":"C247*$G$1*'Order Form'!$S$18*(Color!$D$6+'Door Style'!$G$6+Species!$C$6+'Custom Finish'!$C$6)","v":{"$error":"#VALUE!"}},null,"01-","01-",{"$f":"CONCAT!$D$2","v":""},null,1,{"$f":"J247&A247&K247","v":"01-FHSB27"},"11-SB27",1,"12-W2730",{"$f":"Q247&K247","v":"12-W2730"},1,{"$nulls":5},{"$f":"C247*1*(Color!$C$6+'Door Style'!$H$6)","v":{"$error":"#VALUE!"}},{"$f":"C247*$G$2*1*(Color!$D$6+'Door Style'!$G$6+Species!$C$6+'Custom Finish'!$C$6)","v":{"$error":"#VALUE!"}},null,"Light Blue","Dark Gray",null,"1","Base Cabinet - Sink - Full Height"]
["FHSB30","Full Height Sink Base 30\"",{"v":402,"d":"$402.00"},2,null,{"$f":"C248*'Order Form'!$S$18*(Color!$C$6+'Door Style'!$H$6)","v":{"$error":"#VALUE!"}},{"$f":"C248*$G$1*'Order Form'!$S$18*(Color!$D$6+'Door Style'!$G$6+Species!$C$6+'Custom Finish'!$C$6)","v":{"$error":"#VALUE!"}},null,"01-","01-",{"$f":"CONCAT!$D$2","v":""},null,1,{"$f":"J248&A248&K248","v":"01-FHSB30"},"11-SB30",1,"12-W3030",{"$f":"Q248&K248","v":"12-W3030"},1,{"$nulls":5},{"$f":"C248*1*(Color!$C$6+'Door Style'!$H$6)","v":{"$error":"#VALUE!"}},{"$f":"C248*$G$2*1*(Color!$D$6+'Door Style'!$G$6+Species!$C$6+'Custom Finish'!$C$6)","v":{"$error":"#VALUE!"}},null,"Light Blue","Dark Gray",null,"1","Base Cabinet - Sink - Full Height"]
["FHSB33","Full Height Sink Base 33\"",{"v":427,"d":"$427.00"},2,null,{"$f":"C249*'Order Form'!$S$18*(Color!$C$6+'Door Style'!$H$6)","v":{"$error":"#VALUE!"}},{"$f":"C249*$G$1*'Order Form'!$S$18*(Color!$D$6+'Door Style'!$G$6+Species!$C$6+'Custom Finish'!$C$6)","v":{"$error":"#VALUE!"}},null,"01-","01-",{"$f":"CONCAT!$D$2","v":""},null,1,{"$f":"J249&A249&K249","v":"01-FHSB33"},"11-SB33",1,"12-W3330",{"$f":"Q249&K249","v":"12-W3330"},1,{"$nulls":5},{"$f":"C249*1*(Color!$C$6+'Door Style'!$H$6)","v":{"$error":"#VALUE!"}},{"$f":"C249*$G$2*1*(Color!$D$6+'Door Style'!$G$6+Species!$C$6+'Custom Finish'!$C$6)","v":{"$error":"#VALUE!"}},null,"Light Blue","Dark Gray",null,"1","Base Cabinet - Sink - Full Height"]
["FHSB36","Full Height Sink Base 36\"",{"v":450,"d":"$450.00"},2,null,{"$f":"C250*'Order Form'!$S$18*(Color!$C$6+'Door Style'!$H$6)","v":{"$error":"#VALUE!"}},{"$f":"C250*$G$1*'Order Form'!$S$18*(Color!$D$6+'Door Style'!$G$6+Species!$C$6+'Custom Finish'!$C$6)","v":{"$error":"#VALUE!"}},null,"01-","01-",{"$f":"CONCAT!$D$2","v":""},null,1,{"$f":"J250&A250&K250","v":"01-FHSB36"},"11-SB36",1,"12-W3630",{"$f":"Q250&K250","v":"12-W3630"},1,{"$nulls":5},{"$f":"C250*1*(Color!$C$6+'Door Style'!$H$6)","v":{"$error":"#VALUE!"}},{"$f":"C250*$G$2*1*(Color!$D$6+'Door Style'!$G$6+Species!$C$6+'Custom Finish'!$C$6)","v":{"$error":"#VALUE!"}},null,"Light Blue","Dark Gray",null,"1","Base Cabinet - Sink - Full Height"]
["FHSB39","Full Height Sink Base 39\"",{"v":478,"d":"$478.00"},2,null,{"$f":"C251*'Order Form'!$S$18*(Color!$C$6+'Door Style'!$H$6)","v":{"$error":"#VALUE!"}},{"$f":"C251*$G$1*'Order Form'!$S$18*(Color!$D$6+'Door Style'!$G$6+Species!$C$6+'Custom Finish'!$C$6)","v":{"$error":"#VALUE!"}},null,"01-","01-",{"$f":"CONCAT!$D$2","v":""},null,1,{"$f":"J251&A251&K251","v":"01-FHSB39"},"11-SB39",1,"12-W3930",{"$f":"Q251&K251","v":"12-W3930"},1,{"$nulls":5},{"$f":"C251*1*(Color!$C$6+'Door Style'!$H$6)","v":{"$error":"#VALUE!"}},{"$f":"C251*$G$2*1*(Color!$D$6+'Door Style'!$G$6+Species!$C$6+'Custom Finish'!$C$6)","v":{"$error":"#VALUE!"}},null,"Light Blue","Dark Gray",null,"1","Base Cabinet - Sink - Full Height"]
["FHVB12T","Full Height Vanity Base 12\" Tall",{"v":216,"d":"$216.00"},2,null,{"$f":"C252*'Order Form'!$S$18*(Color!$C$6+'Door Style'!$H$6)","v":{"$error":"#VALUE!"}},{"$f":"C252*$G$2*'Order Form'!$S$18*(Color!$D$6+'Door Style'!$G$6+Species!$C$6+'Custom Finish'!$C$6)","v":{"$error":"#VALUE!"}},null,"01-","01-",{"$f":"CONCAT!$D$2","v":""},null,1,{"$f":"J252&A252&K252","v":"01-FHVB12T"},"11-VB12T",1,"12-W1230",{"$f":"Q252&K252","v":"12-W1230"},1,{"$nulls":6},{"$f":"C252*$G$2*1*(Color!$D$6+'Door Style'!$G$6+Species!$C$6+'Custom Finish'!$C$6)","v":{"$error":"#VALUE!"}},null,"Light Blue","Dark yellow",null,"1","Vanity - Base - Full Height-Tall "]
["FHVB13.5T","Full Height Vanity Base 13.5\" Tall",{"v":247,"d":"$247.00"},3,null,null,{"$f":"C253*$G$2*'Order Form'!$S$18*(Color!$D$6+'Door Style'!$G$6+Species!$C$6+'Custom Finish'!$C$6)","v":{"$error":"#VALUE!"}},null,"SC/PC","01-",{"$f":"CONCAT!$D$8","v":""},null,1,{"$f":"J253&A253&K253","v":"01-FHVB13.5T"},"11-FHVB13.5T",1,"12-W13.530",{"$f":"Q253&K253","v":"12-W13.530"},1,{"$nulls":5},{"$f":"C253*1*(Color!$C$6+'Door Style'!$H$6)","v":{"$error":"#VALUE!"}},{"$f":"C253*$G$2*1*(Color!$D$6+'Door Style'!$G$6+Species!$C$6+'Custom Finish'!$C$6)","v":{"$error":"#VALUE!"}},null,"Black","Dark Yellow",null,"1","Vanity - Base - Full Height-Tall "]
["FHVB15T","Full Height Vanity Base 15\" Tall",{"v":246,"d":"$246.00"},2,null,{"$f":"C254*'Order Form'!$S$18*(Color!$C$6+'Door Style'!$H$6)","v":{"$error":"#VALUE!"}},{"$f":"C254*$G$2*'Order Form'!$S$18*(Color!$D$6+'Door Style'!$G$6+Species!$C$6+'Custom Finish'!$C$6)","v":{"$error":"#VALUE!"}},null,"01-","01-",{"$f":"CONCAT!$D$2","v":""},null,1,{"$f":"J254&A254&K254","v":"01-FHVB15T"},"11-VB15T",1,"12-W1530",{"$f":"Q254&K254","v":"12-W1530"},1,{"$nulls":6},{"$f":"C254*$G$2*1*(Color!$D$6+'Door Style'!$G$6+Species!$C$6+'Custom Finish'!$C$6)","v":{"$error":"#VALUE!"}},null,"Light Blue","Dark Yellow",null,"1","Vanity - Base - Full Height-Tall "]
["FHVB16.5T","Full Height Vanity Base 16.5\" Tall",{"v":278,"d":"$278.00"},3,null,null,{"$f":"C255*$G$2*'Order Form'!$S$18*(Color!$D$6+'Door Style'!$G$6+Species!$C$6+'Custom Finish'!$C$6)","v":{"$error":"#VALUE!"}},null,"SC/PC","01-",{"$f":"CONCAT!$D$8","v":""},null,1,{"$f":"J255&A255&K255","v":"01-FHVB16.5T"},"11-FHVB16.5T",1,"12-W16.530",{"$f":"Q255&K255","v":"12-W16.530"},1,{"$nulls":5},{"$f":"C255*1*(Color!$C$6+'Door Style'!$H$6)","v":{"$error":"#VALUE!"}},{"$f":"C255*$G$2*1*(Color!$D$6+'Door Style'!$G$6+Species!$C$6+'Custom Finish'!$C$6)","v":{"$error":"#VALUE!"}},null,"Black","Dark Yellow",null,"1","Vanity - Base - Full Height-Tall "]
["FHVB18T","Full Height Vanity Base 18\" Tall",{"v":276,"d":"$276.00"},2,null,{"$f":"C256*'Order Form'!$S$18*(Color!$C$6+'Door Style'!$H$6)","v":{"$error":"#VALUE!"}},{"$f":"C256*$G$2*'Order Form'!$S$18*(Color!$D$6+'Door Style'!$G$6+Species!$C$6+'Custom Finish'!$C$6)","v":{"$error":"#VALUE!"}},null,"01-","01-",{"$f":"CONCAT!$D$2","v":""},null,1,{"$f":"J256&A256&K256","v":"01-FHVB18T"},"11-VB18T",1,"12-W1830",{"$f":"Q256&K256","v":"12-W1830"},1,{"$nulls":6},{"$f":"C256*$G$2*1*(Color!$D$6+'Door Style'!$G$6+Species!$C$6+'Custom Finish'!$C$6)","v":{"$error":"#VALUE!"}},null,"Light Blue","Dark Yellow",null,"1","Vanity - Base - Full Height-Tall "]
["FHVB19.5T","Full Height Vanity Base 19.5\" Tall",{"v":308,"d":"$308.00"},3,null,null,{"$f":"C257*$G$2*'Order Form'!$S$18*(Color!$D$6+'Door Style'!$G$6+Species!$C$6+'Custom Finish'!$C$6)","v":{"$error":"#VALUE!"}},null,"SC/PC","01-",{"$f":"CONCAT!$D$8","v":""},null,1,{"$f":"J257&A257&K257","v":"01-FHVB19.5T"},"11-FHVB19.5T",1,"12-W19.530",{"$f":"Q257&K257","v":"12-W19.530"},1,{"$nulls":5},{"$f":"C257*1*(Color!$C$6+'Door Style'!$H$6)","v":{"$error":"#VALUE!"}},{"$f":"C257*$G$2*1*(Color!$D$6+'Door Style'!$G$6+Species!$C$6+'Custom Finish'!$C$6)","v":{"$error":"#VALUE!"}},null,"Black","Dark Yellow",null,"1","Vanity - Base - Full Height-Tall "]
["FHVB21T","Full Height Vanity Base 21\" Tall",{"v":306,"d":"$306.00"},2,null,{"$f":"C258*'Order Form'!$S$18*(Color!$C$6+'Door Style'!$H$6)","v":{"$error":"#VALUE!"}},{"$f":"C258*$G$2*'Order Form'!$S$18*(Color!$D$6+'Door Style'!$G$6+Species!$C$6+'Custom Finish'!$C$6)","v":{"$error":"#VALUE!"}},null,"01-","01-",{"$f":"CONCAT!$D$2","v":""},null,1,{"$f":"J258&A258&K258","v":"01-FHVB21T"},"11-VB21T",1,"12-W2130",{"$f":"Q258&K258","v":"12-W2130"},1,{"$nulls":5},{"$f":"C258*1*(Color!$C$6+'Door Style'!$H$6)","v":{"$error":"#VALUE!"}},{"$f":"C258*$G$2*1*(Color!$D$6+'Door Style'!$G$6+Species!$C$6+'Custom Finish'!$C$6)","v":{"$error":"#VALUE!"}},null,"Light Blue","Dark Yellow",null,"1","Vanity - Base - Full Height-Tall "]
["FHVB22.5T","Full Height Vanity Base 22.5\" Tall",{"v":338,"d":"$338.00"},3,null,null,{"$f":"C259*$G$2*'Order Form'!$S$18*(Color!$D$6+'Door Style'!$G$6+Species!$C$6+'Custom Finish'!$C$6)","v":{"$error":"#VALUE!"}},null,"SC/PC","01-",{"$f":"CONCAT!$D$8","v":""},null,1,{"$f":"J259&A259&K259","v":"01-FHVB22.5T"},"11-FHVB22.5T",1,"12-W22.530",{"$f":"Q259&K259","v":"12-W22.530"},1,{"$nulls":5},{"$f":"C259*1*(Color!$C$6+'Door Style'!$H$6)","v":{"$error":"#VALUE!"}},{"$f":"C259*$G$2*1*(Color!$D$6+'Door Style'!$G$6+Species!$C$6+'Custom Finish'!$C$6)","v":{"$error":"#VALUE!"}},null,"Black","Dark Yellow",null,"1","Vanity - Base - Full Height-Tall "]
["FHVB24T","Full Height Vanity Base 24\" Tall",{"v":336,"d":"$336.00"},2,null,{"$f":"C260*'Order Form'!$S$18*(Color!$C$6+'Door Style'!$H$6)","v":{"$error":"#VALUE!"}},{"$f":"C260*$G$2*'Order Form'!$S$18*(Color!$D$6+'Door Style'!$G$6+Species!$C$6+'Custom Finish'!$C$6)","v":{"$error":"#VALUE!"}},null,"01-","01-",{"$f":"CONCAT!$D$2","v":""},null,1,{"$f":"J260&A260&K260","v":"01-FHVB24T"},"11-VB24T",1,"12-W2430",{"$f":"Q260&K260","v":"12-W2430"},1,{"$nulls":5},{"$f":"C260*1*(Color!$C$6+'Door Style'!$H$6)","v":{"$error":"#VALUE!"}},{"$f":"C260*$G$2*1*(Color!$D$6+'Door Style'!$G$6+Species!$C$6+'Custom Finish'!$C$6)","v":{"$error":"#VALUE!"}},null,"Light Blue","Dark Yellow",null,"1","Vanity - Base - Full Height-Tall "]
["FHVB25.5T","Full Height Vanity Base 25.5\" Tall",{"v":390,"d":"$390.00"},3,null,null,{"$f":"C261*$G$2*'Order Form'!$S$18*(Color!$D$6+'Door Style'!$G$6+Species!$C$6+'Custom Finish'!$C$6)","v":{"$error":"#VALUE!"}},null,"SC/PC","01-",{"$f":"CONCAT!$D$8","v":""},null,1,{"$f":"J261&A261&K261","v":"01-FHVB25.5T"},"11-FHVB25.5T",1,"12-W25.530",{"$f":"Q261&K261","v":"12-W25.530"},1,{"$nulls":5},{"$f":"C261*1*(Color!$C$6+'Door Style'!$H$6)","v":{"$error":"#VALUE!"}},{"$f":"C261*$G$2*1*(Color!$D$6+'Door Style'!$G$6+Species!$C$6+'Custom Finish'!$C$6)","v":{"$error":"#VALUE!"}},null,"Black","Dark Yellow",null,"1","Vanity - Base - Full Height-Tall "]
["FHVB27T","Full Height Vanity Base 27\" Tall",{"v":388,"d":"$388.00"},2,null,{"$f":"C262*'Order Form'!$S$18*(Color!$C$6+'Door Style'!$H$6)","v":{"$error":"#VALUE!"}},{"$f":"C262*$G$2*'Order Form'!$S$18*(Color!$D$6+'Door Style'!$G$6+Species!$C$6+'Custom Finish'!$C$6)","v":{"$error":"#VALUE!"}},null,"01-","01-",{"$f":"CONCAT!$D$2","v":""},null,1,{"$f":"J262&A262&K262","v":"01-FHVB27T"},"11-VB27T",1,"12-W2730",{"$f":"Q262&K262","v":"12-W2730"},1,{"$nulls":5},{"$f":"C262","v":{"v":388,"d":"$388.00"}},{"$f":"C262","v":{"v":388,"d":"$388.00"}},null,"Light Blue","Dark Yellow",null,"1","Vanity - Base - Full Height-Tall "]
["FHVB30T","Full Height Vanity Base 30\" Tall",{"v":430,"d":"$430.00"},2,null,{"$f":"C263*'Order Form'!$S$18*(Color!$C$6+'Door Style'!$H$6)","v":{"$error":"#VALUE!"}},{"$f":"C263*$G$2*'Order Form'!$S$18*(Color!$D$6+'Door Style'!$G$6+Species!$C$6+'Custom Finish'!$C$6)","v":{"$error":"#VALUE!"}},null,"01-","01-",{"$f":"CONCAT!$D$2","v":""},null,1,{"$f":"J263&A263&K263","v":"01-FHVB30T"},"11-VB30T",1,"12-W3030",{"$f":"Q263&K263","v":"12-W3030"},1,{"$nulls":5},{"$f":"C263","v":{"v":430,"d":"$430.00"}},{"$f":"C263","v":{"v":430,"d":"$430.00"}},null,"Light Blue","Dark Yellow",null,"1","Vanity - Base - Full Height-Tall "]
["FHVB33T","Full Height Vanity Base 33\" Tall",{"v":475,"d":"$475.00"},2,null,{"$f":"C264*'Order Form'!$S$18*(Color!$C$6+'Door Style'!$H$6)","v":{"$error":"#VALUE!"}},{"$f":"C264*$G$2*'Order Form'!$S$18*(Color!$D$6+'Door Style'!$G$6+Species!$C$6+'Custom Finish'!$C$6)","v":{"$error":"#VALUE!"}},null,"01-","01-",{"$f":"CONCAT!$D$2","v":""},null,1,{"$f":"J264&A264&K264","v":"01-FHVB33T"},"11-VB33T",1,"12-W3330",{"$f":"Q264&K264","v":"12-W3330"},1,{"$nulls":5},{"$f":"(C264*Color!$G$6*1)","v":{"$error":"#VALUE!"}},{"$f":"C264*$G$1*1*(Color!$D$6+Species!$C$6)","v":{"$error":"#VALUE!"}},null,"Light Blue","Dark Yellow",null,"1","Vanity - Base - Full Height-Tall "]
["FHVB36T","Full Height Vanity Base 36\" Tall",{"v":506,"d":"$506.00"},2,null,{"$f":"C265*'Order Form'!$S$18*(Color!$C$6+'Door Style'!$H$6)","v":{"$error":"#VALUE!"}},{"$f":"C265*$G$2*'Order Form'!$S$18*(Color!$D$6+'Door Style'!$G$6+Species!$C$6+'Custom Finish'!$C$6)","v":{"$error":"#VALUE!"}},null,"01-","01-",{"$f":"CONCAT!$D$2","v":""},null,1,{"$f":"J265&A265&K265","v":"01-FHVB36T"},"11-VB36T",1,"12-W3630",{"$f":"Q265&K265","v":"12-W3630"},1,{"$nulls":5},{"$f":"(C265*Color!$G$6*1)","v":{"$error":"#VALUE!"}},{"$f":"C265*$G$1*1*(Color!$D$6+Species!$C$6)","v":{"$error":"#VALUE!"}},null,"Light Blue","Dark Yellow",null,"1","Vanity - Base - Full Height-Tall "]
["FHVB39T","Full Height Vanity Base 39\" Tall",{"v":536,"d":"$536.00"},2,null,{"$f":"C266*'Order Form'!$S$18*(Color!$C$6+'Door Style'!$H$6)","v":{"$error":"#VALUE!"}},{"$f":"C266*$G$2*'Order Form'!$S$18*(Color!$D$6+'Door Style'!$G$6+Species!$C$6+'Custom Finish'!$C$6)","v":{"$error":"#VALUE!"}},null,"01-","01-",{"$f":"CONCAT!$D$2","v":""},null,1,{"$f":"J266&A266&K266","v":"01-FHVB39T"},"11-VB39T",1,"12-W3930",{"$f":"Q266&K266","v":"12-W3930"},1,{"$nulls":6},{"$f":"C266*$G$1*1*(Color!$D$6+'Door Style'!$G$6+Species!$C$6+'Custom Finish'!$C$6)","v":{"$error":"#VALUE!"}},null,"Light Blue","Dark Yellow",null,"1","Vanity - Base - Full Height-Tall "]
["FHVSB18T","Full Height Vanity Sink Base 18\" Tall",{"v":276,"d":"$276.00"},2,null,{"$f":"C267*'Order Form'!$S$18*(Color!$C$6+'Door Style'!$H$6)","v":{"$error":"#VALUE!"}},{"$f":"C267*$G$2*'Order Form'!$S$18*(Color!$D$6+'Door Style'!$G$6+Species!$C$6+'Custom Finish'!$C$6)","v":{"$error":"#VALUE!"}},null,"01-","01-",{"$f":"CONCAT!$D$2","v":""},null,1,{"$f":"J267&A267&K267","v":"01-FHVSB18T"},"11-VB18T",1,"12-W1830",{"$f":"Q267&K267","v":"12-W1830"},1,{"$nulls":6},{"$f":"C267*$G$1*1*(Color!$D$6+'Door Style'!$G$6+Species!$C$6+'Custom Finish'!$C$6)","v":{"$error":"#VALUE!"}},null,"Light Blue","Dark Yellow",null,"1","Vanity - Sink Base - Full Height-Tall "]
["FHVSB19.5T","Full Height Vanity Sink Base 19.5\" Tall",{"v":310,"d":"$310.00"},3,null,null,{"$f":"C268*$G$2*'Order Form'!$S$18*(Color!$D$6+'Door Style'!$G$6+Species!$C$6+'Custom Finish'!$C$6)","v":{"$error":"#VALUE!"}},null,"SC/PC","01-",{"$f":"CONCAT!$D$8","v":""},null,1,{"$f":"J268&A268&K268","v":"01-FHVSB19.5T"},"11-FHVSB19.5T",1,"12-W19.530",{"$f":"Q268&K268","v":"12-W19.530"},1,{"$nulls":6},{"$f":"C268*$G$1*1*(Color!$D$6+'Door Style'!$G$6+Species!$C$6+'Custom Finish'!$C$6)","v":{"$error":"#VALUE!"}},null,"Black","Dark Yellow",null,"1","Vanity - Sink Base - Full Height-Tall "]
["FHVSB21T","Full Height Vanity Sink Base 21\" Tall",{"v":309,"d":"$309.00"},2,null,{"$f":"C269*'Order Form'!$S$18*(Color!$C$6+'Door Style'!$H$6)","v":{"$error":"#VALUE!"}},{"$f":"C269*$G$2*'Order Form'!$S$18*(Color!$D$6+'Door Style'!$G$6+Species!$C$6+'Custom Finish'!$C$6)","v":{"$error":"#VALUE!"}},null,"01-","01-",{"$f":"CONCAT!$D$2","v":""},null,1,{"$f":"J269&A269&K269","v":"01-FHVSB21T"},"11-VSB21T",1,"12-W2130",{"$f":"Q269&K269","v":"12-W2130"},1,{"$nulls":6},{"$f":"C269*$G$1*1*(Color!$D$6+'Door Style'!$G$6+Species!$C$6+'Custom Finish'!$C$6)","v":{"$error":"#VALUE!"}},null,"Light Blue","Dark Yellow",null,"1","Vanity - Sink Base - Full Height-Tall "]
["FHVSB22.5T","Full Height Vanity Sink Base 22.5\" Tall",{"v":344,"d":"$344.00"},3,null,null,{"$f":"C270*$G$2*'Order Form'!$S$18*(Color!$D$6+'Door Style'!$G$6+Species!$C$6+'Custom Finish'!$C$6)","v":{"$error":"#VALUE!"}},null,"SC/PC","01-",{"$f":"CONCAT!$D$8","v":""},null,1,{"$f":"J270&A270&K270","v":"01-FHVSB22.5T"},"11-FHVSB22.5T",1,"12-W22.530",{"$f":"Q270&K270","v":"12-W22.530"},1,{"$nulls":5},0,0,null,"Black","Dark Yellow",null,"1","Vanity - Sink Base - Full Height-Tall "]
["FHVSB24T","Full Height Vanity Sink Base 24\" Tall",{"v":342,"d":"$342.00"},2,null,{"$f":"C271*'Order Form'!$S$18*(Color!$C$6+'Door Style'!$H$6)","v":{"$error":"#VALUE!"}},{"$f":"C271*$G$2*'Order Form'!$S$18*(Color!$D$6+'Door Style'!$G$6+Species!$C$6+'Custom Finish'!$C$6)","v":{"$error":"#VALUE!"}},null,"01-","01-",{"$f":"CONCAT!$D$2","v":""},null,1,{"$f":"J271&A271&K271","v":"01-FHVSB24T"},"11-VSB24T",1,"12-W2430",{"$f":"Q271&K271","v":"12-W2430"},1,{"$nulls":5},{"$f":"C271","v":{"v":342,"d":"$342.00"}},{"$f":"C271","v":{"v":342,"d":"$342.00"}},null,"Light Blue","Dark Yellow",null,"1","Vanity - Sink Base - Full Height-Tall "]
["FHVSB25.5T","Full Height Vanity Sink Base 25.5\" Tall",{"v":378,"d":"$378.00"},3,null,null,{"$f":"C272*$G$2*'Order Form'!$S$18*(Color!$D$6+'Door Style'!$G$6+Species!$C$6+'Custom Finish'!$C$6)","v":{"$error":"#VALUE!"}},null,"SC/PC","01-",{"$f":"CONCAT!$D$8","v":""},null,1,{"$f":"J272&A272&K272","v":"01-FHVSB25.5T"},"11-FHVSB25.5T",1,"12-W25.530",{"$f":"Q272&K272","v":"12-W25.530"},1,{"$nulls":5},{"$f":"C272","v":{"v":378,"d":"$378.00"}},{"$f":"C272","v":{"v":378,"d":"$378.00"}},null,"Black","Dark Yellow",null,"1","Vanity - Sink Base - Full Height-Tall "]
["FHVSB27T","Full Height Vanity Sink Base 27\" Tall",{"v":376,"d":"$376.00"},2,null,{"$f":"C273*'Order Form'!$S$18*(Color!$C$6+'Door Style'!$H$6)","v":{"$error":"#VALUE!"}},{"$f":"C273*$G$2*'Order Form'!$S$18*(Color!$D$6+'Door Style'!$G$6+Species!$C$6+'Custom Finish'!$C$6)","v":{"$error":"#VALUE!"}},null,"01-","01-",{"$f":"CONCAT!$D$2","v":""},null,1,{"$f":"J273&A273&K273","v":"01-FHVSB27T"},"11-VSB27T",1,"12-W2730",{"$f":"Q273&K273","v":"12-W2730"},1,{"$nulls":5},{"$f":"C273","v":{"v":376,"d":"$376.00"}},{"$f":"C273","v":{"v":376,"d":"$376.00"}},null,"Light Blue","Dark Yellow",null,"1","Vanity - Sink Base - Full Height-Tall "]
["FHVSB30T","Full Height Vanity Sink Base 30\" Tall",{"v":402,"d":"$402.00"},2,null,{"$f":"C274*'Order Form'!$S$18*(Color!$C$6+'Door Style'!$H$6)","v":{"$error":"#VALUE!"}},{"$f":"C274*$G$2*'Order Form'!$S$18*(Color!$D$6+'Door Style'!$G$6+Species!$C$6+'Custom Finish'!$C$6)","v":{"$error":"#VALUE!"}},null,"01-","01-",{"$f":"CONCAT!$D$2","v":""},null,1,{"$f":"J274&A274&K274","v":"01-FHVSB30T"},"11-VSB30T",1,"12-W3030",{"$f":"Q274&K274","v":"12-W3030"},1,{"$nulls":5},{"$f":"C274","v":{"v":402,"d":"$402.00"}},{"$f":"C274","v":{"v":402,"d":"$402.00"}},null,"Light Blue","Dark Yellow",null,"1","Vanity - Sink Base - Full Height-Tall "]
["FHVSB33T","Full Height Vanity Sink Base 33\" Tall",{"v":475,"d":"$475.00"},2,null,{"$f":"C275*'Order Form'!$S$18*(Color!$C$6+'Door Style'!$H$6)","v":{"$error":"#VALUE!"}},{"$f":"C275*$G$2*'Order Form'!$S$18*(Color!$D$6+'Door Style'!$G$6+Species!$C$6+'Custom Finish'!$C$6)","v":{"$error":"#VALUE!"}},null,"01-","01-",{"$f":"CONCAT!$D$2","v":""},null,1,{"$f":"J275&A275&K275","v":"01-FHVSB33T"},"11-VSB33T",1,"12-W3330",{"$f":"Q275&K275","v":"12-W3330"},1,{"$nulls":5},{"$f":"C275","v":{"v":475,"d":"$475.00"}},{"$f":"C275","v":{"v":475,"d":"$475.00"}},null,"Light Blue","Dark Yellow",null,"1","Vanity - Sink Base - Full Height-Tall "]
["FHVSB36T","Full Height Vanity Sink Base 36\" Tall",{"v":452,"d":"$452.00"},2,null,{"$f":"C276*'Order Form'!$S$18*(Color!$C$6+'Door Style'!$H$6)","v":{"$error":"#VALUE!"}},{"$f":"C276*$G$2*'Order Form'!$S$18*(Color!$D$6+'Door Style'!$G$6+Species!$C$6+'Custom Finish'!$C$6)","v":{"$error":"#VALUE!"}},null,"01-","01-",{"$f":"CONCAT!$D$2","v":""},null,1,{"$f":"J276&A276&K276","v":"01-FHVSB36T"},"11-VSB36T",1,"12-W3630",{"$f":"Q276&K276","v":"12-W3630"},1,{"$nulls":5},{"$f":"C276","v":{"v":452,"d":"$452.00"}},{"$f":"C276","v":{"v":452,"d":"$452.00"}},null,"Light Blue","Dark Yellow",null,"1","Vanity - Sink Base - Full Height-Tall "]
["FHVSB39T","Full Height Vanity Sink Base 39\" Tall",{"v":536,"d":"$536.00"},2,null,{"$f":"C277*'Order Form'!$S$18*(Color!$C$6+'Door Style'!$H$6)","v":{"$error":"#VALUE!"}},{"$f":"C277*$G$2*'Order Form'!$S$18*(Color!$D$6+'Door Style'!$G$6+Species!$C$6+'Custom Finish'!$C$6)","v":{"$error":"#VALUE!"}},null,"01-","01-",{"$f":"CONCAT!$D$2","v":""},null,1,{"$f":"J277&A277&K277","v":"01-FHVSB39T"},"11-VSB39T",1,"12-W3930",{"$f":"Q277&K277","v":"12-W3930"},1,{"$nulls":5},{"$f":"C277","v":{"v":536,"d":"$536.00"}},{"$f":"C277","v":{"v":536,"d":"$536.00"}},null,"Light Blue","Dark Yellow",null,"1","Vanity - Sink Base - Full Height-Tall "]
["FILLER PULLOUT (3)"," 4.5\" filler pull out",{"v":240,"d":"$240.00"},2,null,{"$f":"C278","v":240},{"$f":"C278","v":240},null,"/","","",null,0,{"$f":"J278&A278&K278","v":"FILLER PULLOUT (3)"},{"$nulls":3},{"$f":"Q278&K278","v":""},null,{"$f":"N278","v":"FILLER PULLOUT (3)"},1,{"$nulls":3},{"$f":"C278","v":{"v":240,"d":"$240.00"}},{"$f":"C278","v":{"v":240,"d":"$240.00"}},null,"Tan","Tan",null,null,"Accessory - Filler"]
["FILLER PULLOUT (6)"," 7.5\" filler pull out",{"v":280,"d":"$280.00"},2,null,{"$f":"C279","v":280},{"$f":"C279","v":280},null,"/","","",null,0,{"$f":"J279&A279&K279","v":"FILLER PULLOUT (6)"},{"$nulls":3},{"$f":"Q279&K279","v":""},null,{"$f":"N279","v":"FILLER PULLOUT (6)"},1,{"$nulls":3},{"$f":"C279","v":{"v":280,"d":"$280.00"}},{"$f":"C279","v":{"v":280,"d":"$280.00"}},null,"Tan","Tan",null,null,"Accessory - Filler"]
["FP2496","Finished Panel 24\" x 96\"",{"v":238,"d":"$238.00"},2,null,{"$f":"(C280*Color!$G$6*'Order Form'!$S$18)","v":{"$error":"#VALUE!"}},{"$f":"C280*$G$1*'Order Form'!$S$18*(Color!$D$6+Species!$C$6)","v":{"$error":"#VALUE!"}},null,"13-","13-",{"$f":"CONCAT!$D$3","v":""},null,0,{"$f":"J280&A280&K280","v":"13-FP2496"},{"$nulls":3},{"$f":"Q280&K280","v":""},null,{"$f":"N280","v":"13-FP2496"},1,{"$nulls":3},{"$f":"C280","v":{"v":238,"d":"$238.00"}},{"$f":"C280","v":{"v":238,"d":"$238.00"}},null,"Orange","Pink",null,null,"Trim - Panel - Finished"]
["FP3096","Finished Panel 30\" x 96\"",{"v":359,"d":"$359.00"},2,null,{"$f":"(C281*Color!$G$6*'Order Form'!$S$18)","v":{"$error":"#VALUE!"}},{"$f":"C281*$G$1*'Order Form'!$S$18*(Color!$D$6+Species!$C$6)","v":{"$error":"#VALUE!"}},null,"13-","13-",{"$f":"CONCAT!$D$3","v":""},null,0,{"$f":"J281&A281&K281","v":"13-FP3096"},{"$nulls":3},{"$f":"Q281&K281","v":""},null,{"$f":"N281","v":"13-FP3096"},1,{"$nulls":4},{"$f":"C281*$G$1*1*(Color!$D$6+'Door Style'!$G$6+Species!$C$6+'Drawer Head'!$E$6+'Custom Finish'!$C$6)","v":{"$error":"#VALUE!"}},null,"Orange","Pink",null,null,"Trim - Panel - Finished"]
["FSB30","Farm Sink Base 30\"",{"v":507,"d":"$507.00"},3,null,null,{"$f":"C282*$G$1*'Order Form'!$S$18*(Color!$D$6+'Door Style'!$G$6+Species!$C$6+'Custom Finish'!$C$6)","v":{"$error":"#VALUE!"}},null,"SC/PC","01-",{"$f":"CONCAT!$D$8","v":""},"Yes",1,{"$f":"J282&A282&K282","v":"01-FSB30"},"11-FSB30",1,"12-FSB30",{"$f":"Q282&K282","v":"12-FSB30"},1,{"$nulls":6},{"$f":"C282*$G$1*1*(Color!$D$6+'Door Style'!$G$6+Species!$C$6+'Drawer Head'!$E$6+'Custom Finish'!$C$6)","v":{"$error":"#VALUE!"}},null,"Black","Dark Gray",null,"1","Base Cabinet - Sink - Farm"]
["FSB33","Farm Sink Base 33\"",{"v":539,"d":"$539.00"},3,null,null,{"$f":"C283*$G$1*'Order Form'!$S$18*(Color!$D$6+'Door Style'!$G$6+Species!$C$6+'Custom Finish'!$C$6)","v":{"$error":"#VALUE!"}},null,"SC/PC","01-",{"$f":"CONCAT!$D$8","v":""},"Yes",1,{"$f":"J283&A283&K283","v":"01-FSB33"},"11-FSB33",1,"12-FSB33",{"$f":"Q283&K283","v":"12-FSB33"},1,{"$nulls":6},{"$f":"C283*$G$1*1*(Color!$D$6+'Door Style'!$G$6+Species!$C$6+'Drawer Head'!$E$6+'Custom Finish'!$C$6)","v":{"$error":"#VALUE!"}},null,"Black","Dark Gray",null,"1","Base Cabinet - Sink - Farm"]
["FSB36","Farm Sink Base 36\"",{"v":574,"d":"$574.00"},3,null,null,{"$f":"C284*$G$1*'Order Form'!$S$18*(Color!$D$6+'Door Style'!$G$6+Species!$C$6+'Custom Finish'!$C$6)","v":{"$error":"#VALUE!"}},null,"SC/PC","01-",{"$f":"CONCAT!$D$8","v":""},"Yes",1,{"$f":"J284&A284&K284","v":"01-FSB36"},"11-FSB36",1,"12-FSB36",{"$f":"Q284&K284","v":"12-FSB36"},1,{"$nulls":6},{"$f":"C284*$G$1*1*(Color!$D$6+'Door Style'!$G$6+Species!$C$6+'Drawer Head'!$E$6+'Custom Finish'!$C$6)","v":{"$error":"#VALUE!"}},null,"Black","Dark Gray",null,"1","Base Cabinet - Sink - Farm"]
["FSB39","Farm Sink Base 39\"",{"v":621,"d":"$621.00"},3,null,null,{"$f":"C285*$G$1*'Order Form'!$S$18*(Color!$D$6+'Door Style'!$G$6+Species!$C$6+'Custom Finish'!$C$6)","v":{"$error":"#VALUE!"}},null,"SC/PC","01-",{"$f":"CONCAT!$D$8","v":""},"Yes",1,{"$f":"J285&A285&K285","v":"01-FSB39"},"11-FSB39",1,"12-FSB39",{"$f":"Q285&K285","v":"12-FSB39"},1,{"$nulls":6},{"$f":"C285*$G$1*1*(Color!$D$6+'Door Style'!$G$6+Species!$C$6+'Drawer Head'!$E$6+'Custom Finish'!$C$6)","v":{"$error":"#VALUE!"}},null,"Black","Dark Gray",null,"1","Base Cabinet - Sink - Farm"]
["HINGE MISC","Hinge Miscellaneous",0,2,null,0,0,null,"/","/","",null,0,{"$f":"J286&A286&K286","v":"/HINGE MISC"},{"$nulls":3},{"$f":"Q286&K286","v":""},null,{"$f":"N286","v":"/HINGE MISC"},1,{"$nulls":3},{"$f":"C286","v":0},{"$f":"C286","v":0},null,"Dark Blue","Dark Blue","N"]
["Install","Cabinet Installation",{"$f":"'Install Bid'!D40","v":0},2,null,{"$f":"C287","v":0},{"$f":"C287","v":0},null,"/","/","",null,0,{"$f":"J287&A287&K287","v":"/Install"},{"$nulls":3},{"$f":"Q287&K287","v":""},null,{"$f":"N287","v":"/Install"},1,{"$nulls":3},{"$f":"C287*1*(Color!$C$6+'Door Style'!$H$6)","v":{"$error":"#VALUE!"}},{"$f":"C287*$G$1*1*(Color!$D$6+'Door Style'!$G$6+Species!$C$6+'Custom Finish'!$C$6)","v":{"$error":"#VALUE!"}},null,"Tan","Tan","N"]
["K-1-143","Square Antique Nickel Knob",{"v":3.95,"d":"$3.95"},2,null,{"$f":"C288","v":3.95},{"$f":"C288","v":3.95},1,"/","","",null,0,{"$f":"J288&A288&K288","v":"K-1-143"},{"$nulls":3},{"$f":"Q288&K288","v":""},null,{"$f":"N288","v":"K-1-143"},1,{"$nulls":3},{"$f":"C288*1*(Color!$C$6+'Door Style'!$H$6)","v":{"$error":"#VALUE!"}},{"$f":"C288*$G$1*1*(Color!$D$6+'Door Style'!$G$6+Species!$C$6+'Custom Finish'!$C$6)","v":{"$error":"#VALUE!"}},null,"Tan","Tan",null,null,"Accessory - Pull"]
["K-1-195","Square Brushed Nickel Knob",{"v":3.95,"d":"$3.95"},2,null,{"$f":"C289","v":3.95},{"$f":"C289","v":3.95},1,"/","","",null,0,{"$f":"J289&A289&K289","v":"K-1-195"},{"$nulls":3},{"$f":"Q289&K289","v":""},null,{"$f":"N289","v":"K-1-195"},1,{"$nulls":3},{"$f":"C289*1*(Color!$C$6+'Door Style'!$H$6)","v":{"$error":"#VALUE!"}},{"$f":"C289*$G$1*1*(Color!$D$6+'Door Style'!$G$6+Species!$C$6+'Custom Finish'!$C$6)","v":{"$error":"#VALUE!"}},null,"Tan","Tan",null,null,"Accessory - Pull"]
["K-1-BORB","Square Brushed Oil Rubbed Bronze Knob",{"v":3.95,"d":"$3.95"},2,null,{"$f":"C290","v":3.95},{"$f":"C290","v":3.95},1,"/","","",null,0,{"$f":"J290&A290&K290","v":"K-1-BORB"},{"$nulls":3},{"$f":"Q290&K290","v":""},null,{"$f":"N290","v":"K-1-BORB"},1,{"$nulls":3},{"$f":"C290*1*(Color!$C$6+'Door Style'!$H$6)","v":{"$error":"#VALUE!"}},{"$f":"C290*$G$1*1*(Color!$D$6+'Door Style'!$G$6+Species!$C$6+'Custom Finish'!$C$6)","v":{"$error":"#VALUE!"}},null,"Tan","Tan",null,null,"Accessory - Pull"]
["K-2-195","Circular Brushed Nickel Knob",{"v":3.95,"d":"$3.95"},2,null,{"$f":"C291","v":3.95},{"$f":"C291","v":3.95},1,"/","","",null,0,{"$f":"J291&A291&K291","v":"K-2-195"},{"$nulls":3},{"$f":"Q291&K291","v":""},null,{"$f":"N291","v":"K-2-195"},1,{"$nulls":3},{"$f":"C291*1*(Color!$C$6+'Door Style'!$H$6)","v":{"$error":"#VALUE!"}},{"$f":"C291*$G$1*1*(Color!$D$6+'Door Style'!$G$6+Species!$C$6+'Custom Finish'!$C$6)","v":{"$error":"#VALUE!"}},null,"Tan","Tan",null,null,"Accessory - Pull"]
["K-2-BORB","Circular Brushed Oil Rubbed Bronze Knob",{"v":3.95,"d":"$3.95"},2,null,{"$f":"C292","v":3.95},{"$f":"C292","v":3.95},1,"/","","",null,0,{"$f":"J292&A292&K292","v":"K-2-BORB"},{"$nulls":3},{"$f":"Q292&K292","v":""},null,{"$f":"N292","v":"K-2-BORB"},1,{"$nulls":3},{"$f":"C292*1*(Color!$C$6+'Door Style'!$H$6)","v":{"$error":"#VALUE!"}},{"$f":"C292*$G$1*1*(Color!$D$6+'Door Style'!$G$6+Species!$C$6+'Custom Finish'!$C$6)","v":{"$error":"#VALUE!"}},null,"Tan","Tan",null,null,"Accessory - Pull"]
["K-3-143","Square Bevel Edge Antique Nickel Knob",{"v":3.95,"d":"$3.95"},2,null,{"$f":"C293","v":3.95},{"$f":"C293","v":3.95},1,"/","","",null,0,{"$f":"J293&A293&K293","v":"K-3-143"},{"$nulls":3},{"$f":"Q293&K293","v":""},null,{"$f":"N293","v":"K-3-143"},1,{"$nulls":3},0,0,null,"Tan","Tan",null,null,"Accessory - Pull"]
["K-3-195","Square Bevel Edge Brushed Nickel Knob",{"v":3.95,"d":"$3.95"},2,null,{"$f":"C294","v":3.95},{"$f":"C294","v":3.95},1,"/","","",null,0,{"$f":"J294&A294&K294","v":"K-3-195"},{"$nulls":3},{"$f":"Q294&K294","v":""},null,{"$f":"N294","v":"K-3-195"},1,{"$nulls":4},{"$f":"C294*$G$2*1*(Color!$D$6+'Door Style'!$G$6+Species!$C$6+'Custom Finish'!$C$6)","v":{"$error":"#VALUE!"}},null,"Tan","Tan",null,null,"Accessory - Pull"]
["K-3-BORB","Square Bevel Edge Brushed Oil Rubbed Bronze Knob",{"v":3.95,"d":"$3.95"},2,null,{"$f":"C295","v":3.95},{"$f":"C295","v":3.95},1,"/","","",null,0,{"$f":"J295&A295&K295","v":"K-3-BORB"},{"$nulls":3},{"$f":"Q295&K295","v":""},null,{"$f":"N295","v":"K-3-BORB"},1,{"$nulls":3},{"$f":"C295*1*(Color!$C$6+'Door Style'!$H$6)","v":{"$error":"#VALUE!"}},{"$f":"C295*$G$2*1*(Color!$D$6+'Door Style'!$G$6+Species!$C$6+'Custom Finish'!$C$6)","v":{"$error":"#VALUE!"}},null,"Tan","Tan",null,null,"Accessory - Pull"]
["KITCHEN PLANNING GUIDE","Help Customers Map their Space",{"v":2.5,"d":"$2.50"},2,null,{"$f":"C296","v":2.5},{"$f":"C296","v":2.5},null,"/","/",null,null,0,{"$f":"J296&A296&K296","v":"/KITCHEN PLANNING GUIDE"},{"$nulls":3},{"$f":"Q296&K296","v":""},null,{"$f":"N296","v":"/KITCHEN PLANNING GUIDE"},1,{"$nulls":4},{"$f":"C296*$G$1*1*(Color!$D$6+Species!$C$6)","v":{"$error":"#VALUE!"}},null,"Tan","Tan","Dealer",null,"Dealer support item"]
["KKD24","Kitchen Knee Drawer 24\"",{"v":249,"d":"$249.00"},3,null,null,{"$f":"C297*$G$1*'Order Form'!$S$18*(Color!$D$6+'Door Style'!$G$6+Species!$C$6+'Drawer Head'!$E$6+'Custom Finish'!$C$6)","v":{"$error":"#VALUE!"}},null,"SC/PC","01-",{"$f":"CONCAT!$D$8","v":""},null,1,{"$f":"J297&A297&K297","v":"01-KKD24"},"11-KKD24",1,"12-KKD24",{"$f":"Q297&K297","v":"12-KKD24"},1,null,null,"DG 21IN KITCHEN SET-DTC",1,null,null,{"$f":"C297*$G$1*1*(Color!$D$6+Species!$C$6)","v":{"$error":"#VALUE!"}},null,"Black","Light Gray",null,null,"Knee Drawer - Kitchen"]
["KKD27","Kitchen Knee Drawer 27\"",{"v":250,"d":"$250.00"},3,null,null,{"$f":"C298*$G$1*'Order Form'!$S$18*(Color!$D$6+'Door Style'!$G$6+Species!$C$6+'Drawer Head'!$E$6+'Custom Finish'!$C$6)","v":{"$error":"#VALUE!"}},null,"SC/PC","01-",{"$f":"CONCAT!$D$8","v":""},null,1,{"$f":"J298&A298&K298","v":"01-KKD27"},"11-KKD27",1,"12-KKD27",{"$f":"Q298&K298","v":"12-KKD27"},1,null,null,"DG 21IN KITCHEN SET-DTC",1,null,0,0,null,"Black","Light Gray",null,null,"Knee Drawer - Kitchen"]
["KKD30","Kitchen Knee Drawer 30\"",{"v":253,"d":"$253.00"},3,null,null,{"$f":"C299*$G$1*'Order Form'!$S$18*(Color!$D$6+'Door Style'!$G$6+Species!$C$6+'Drawer Head'!$E$6+'Custom Finish'!$C$6)","v":{"$error":"#VALUE!"}},null,"SC/PC","01-",{"$f":"CONCAT!$D$8","v":""},null,1,{"$f":"J299&A299&K299","v":"01-KKD30"},"11-KKD30",1,"12-KKD30",{"$f":"Q299&K299","v":"12-KKD30"},1,null,null,"DG 21IN KITCHEN SET-DTC",1,null,{"$f":"C299","v":{"v":253,"d":"$253.00"}},{"$f":"C299","v":{"v":253,"d":"$253.00"}},null,"Black","Light Gray",null,null,"Knee Drawer - Kitchen"]
["KKD33","Kitchen Knee Drawer 33\"",{"v":257,"d":"$257.00"},3,null,null,{"$f":"C300*$G$1*'Order Form'!$S$18*(Color!$D$6+'Door Style'!$G$6+Species!$C$6+'Drawer Head'!$E$6+'Custom Finish'!$C$6)","v":{"$error":"#VALUE!"}},null,"PROJECT","01-",{"$f":"CONCAT!$D$2","v":""},null,0,{"$f":"J300&A300&K300","v":"01-KKD33"},"11-KKD33",1,"12-KKD33",{"$f":"Q300&K300","v":"12-KKD33"},1,null,null,"DG 21IN KITCHEN SET-DTC",1,null,{"$f":"(C300*Color!$G$6*1)","v":{"$error":"#VALUE!"}},{"$f":"C300*$G$1*1*(Color!$D$6+Species!$C$6)","v":{"$error":"#VALUE!"}},null,"Black","Light Gray",null,null,"Knee Drawer - Kitchen"]
["KKD36","Kitchen Knee Drawer 36\"",{"v":259,"d":"$259.00"},3,null,null,{"$f":"C301*$G$1*'Order Form'!$S$18*(Color!$D$6+'Door Style'!$G$6+Species!$C$6+'Drawer Head'!$E$6+'Custom Finish'!$C$6)","v":{"$error":"#VALUE!"}},null,"PROJECT","01-",{"$f":"CONCAT!$D$2","v":""},null,0,{"$f":"J301&A301&K301","v":"01-KKD36"},"11-KKD36",1,"12-KKD36",{"$f":"Q301&K301","v":"12-KKD36"},1,null,null,"DG 21IN KITCHEN SET-DTC",1,null,{"$f":"C301","v":{"v":259,"d":"$259.00"}},{"$f":"C301","v":{"v":259,"d":"$259.00"}},null,"Black","Light Gray",null,null,"Knee Drawer - Kitchen"]
["KNOB PULL-V1","Sales Center Pull and Knobs Insert",{"v":50,"d":"$50.00"},2,null,{"$f":"C302","v":50},{"$f":"C302","v":50},null,"/","FCC SALES CENTER-","",null,0,{"$f":"J302&A302&K302","v":"FCC SALES CENTER-KNOB PULL-V1"},{"$nulls":3},{"$f":"Q302&K302","v":""},null,{"$f":"N302","v":"FCC SALES CENTER-KNOB PULL-V1"},1,{"$nulls":3},{"$f":"C302","v":{"v":50,"d":"$50.00"}},{"$f":"C302","v":{"v":50,"d":"$50.00"}},null,"Tan","Tan","Dealer",null,"Dealer support item"]
["LC1884","Linen Cabinet Vanity Depth 18\" x 84\"",{"v":783,"d":"$783.00"},2,null,{"$f":"C303*'Order Form'!$S$18*(Color!$C$6+'Door Style'!$H$6)","v":{"$error":"#VALUE!"}},{"$f":"C303*$G$1*'Order Form'!$S$18*(Color!$D$6+'Door Style'!$G$6+Species!$C$6+'Custom Finish'!$C$6)","v":{"$error":"#VALUE!"}},null,"01-","01-",{"$f":"CONCAT!$D$2","v":""},null,1,{"$f":"J303&A303&K303","v":"01-LC1884"},"11-LC1884",1,"12-UC1884",{"$f":"Q303&K303","v":"12-UC1884"},1,{"$nulls":5},{"$f":"C303","v":{"v":783,"d":"$783.00"}},{"$f":"C303","v":{"v":783,"d":"$783.00"}},null,"Light Blue","Dark Gray",null,"2","Tall Cabinet - Linen"]
["LC1890","Linen Cabinet Vanity Depth 18\" x 90\"",{"v":821,"d":"$821.00"},2,null,{"$f":"C304*'Order Form'!$S$18*(Color!$C$6+'Door Style'!$H$6)","v":{"$error":"#VALUE!"}},{"$f":"C304*$G$1*'Order Form'!$S$18*(Color!$D$6+'Door Style'!$G$6+Species!$C$6+'Custom Finish'!$C$6)","v":{"$error":"#VALUE!"}},null,"01-","01-",{"$f":"CONCAT!$D$2","v":""},null,1,{"$f":"J304&A304&K304","v":"01-LC1890"},"11-LC1890",1,"12-UC1890",{"$f":"Q304&K304","v":"12-UC1890"},1,{"$nulls":5},0,0,null,"Light Blue","Dark Gray",null,"2","Tall Cabinet - Linen"]
["LC1896","Linen Cabinet Vanity Depth 18\" x 96\"",{"v":863,"d":"$863.00"},2,null,{"$f":"C305*'Order Form'!$S$18*(Color!$C$6+'Door Style'!$H$6)","v":{"$error":"#VALUE!"}},{"$f":"C305*$G$1*'Order Form'!$S$18*(Color!$D$6+'Door Style'!$G$6+Species!$C$6+'Custom Finish'!$C$6)","v":{"$error":"#VALUE!"}},null,"01-","01-",{"$f":"CONCAT!$D$2","v":""},null,1,{"$f":"J305&A305&K305","v":"01-LC1896"},"11-LC1896",1,"12-UC1896",{"$f":"Q305&K305","v":"12-UC1896"},1,{"$nulls":6},{"$f":"C305","v":{"v":863,"d":"$863.00"}},null,"Light Blue","Dark Gray",null,"2","Tall Cabinet - Linen"]
["LC2484","Linen Cabinet Vanity Depth 24\" x 84\"",{"v":988,"d":"$988.00"},2,null,{"$f":"C306*'Order Form'!$S$18*(Color!$C$6+'Door Style'!$H$6)","v":{"$error":"#VALUE!"}},{"$f":"C306*$G$1*'Order Form'!$S$18*(Color!$D$6+'Door Style'!$G$6+Species!$C$6+'Custom Finish'!$C$6)","v":{"$error":"#VALUE!"}},null,"01-","01-",{"$f":"CONCAT!$D$2","v":""},null,1,{"$f":"J306&A306&K306","v":"01-LC2484"},"11-LC2484",1,"12-UC2484",{"$f":"Q306&K306","v":"12-UC2484"},1,{"$nulls":6},{"$f":"C306","v":{"v":988,"d":"$988.00"}},null,"Light Blue","Dark Gray",null,"2","Tall Cabinet - Linen"]
["LC2490","Linen Cabinet Vanity Depth 24\" x 90\"",{"v":1036,"d":"$1,036.00"},2,null,{"$f":"C307*'Order Form'!$S$18*(Color!$C$6+'Door Style'!$H$6)","v":{"$error":"#VALUE!"}},{"$f":"C307*$G$1*'Order Form'!$S$18*(Color!$D$6+'Door Style'!$G$6+Species!$C$6+'Custom Finish'!$C$6)","v":{"$error":"#VALUE!"}},null,"01-","01-",{"$f":"CONCAT!$D$2","v":""},null,1,{"$f":"J307&A307&K307","v":"01-LC2490"},"11-LC2490",1,"12-UC2490",{"$f":"Q307&K307","v":"12-UC2490"},1,{"$nulls":6},{"$f":"C307","v":{"v":1036,"d":"$1,036.00"}},null,"Light Blue","Dark Gray",null,"2","Tall Cabinet - Linen"]
["LC2496","Linen Cabinet Vanity Depth 24\" x 96\"",{"v":1087,"d":"$1,087.00"},2,null,{"$f":"C308*'Order Form'!$S$18*(Color!$C$6+'Door Style'!$H$6)","v":{"$error":"#VALUE!"}},{"$f":"C308*$G$1*'Order Form'!$S$18*(Color!$D$6+'Door Style'!$G$6+Species!$C$6+'Custom Finish'!$C$6)","v":{"$error":"#VALUE!"}},null,"01-","01-",{"$f":"CONCAT!$D$2","v":""},null,1,{"$f":"J308&A308&K308","v":"01-LC2496"},"11-LC2496",1,"12-UC2496",{"$f":"Q308&K308","v":"12-UC2496"},1,{"$nulls":6},{"$f":"C308","v":{"v":1087,"d":"$1,087.00"}},null,"Light Blue","Dark Gray",null,"2","Tall Cabinet - Linen"]
["LONG SCREWS-PULLS OR KNOBS","Long Screws for Pulls or Knobs",0,2,null,0,0,null,"/","/","",null,0,{"$f":"J309&A309&K309","v":"/LONG SCREWS-PULLS OR KNOBS"},{"$nulls":3},{"$f":"Q309&K309","v":""},null,{"$f":"N309","v":"/LONG SCREWS-PULLS OR KNOBS"},1,{"$nulls":3},{"$f":"C309","v":0},{"$f":"C309","v":0},null,"Dark Blue","Dark Blue","N"]
["LS33","Lazy Susan 33\"",{"v":766,"d":"$766.00"},3,null,null,{"$f":"C310*$G$2*'Order Form'!$S$18*(Color!$D$6+'Door Style'!$G$6+Species!$C$6+'Custom Finish'!$C$6)","v":{"$error":"#VALUE!"}},null,"PROJECT","01-",{"$f":"CONCAT!$D$2","v":""},null,1,{"$f":"J310&A310&K310","v":"01-LS33"},"11-LS36",1,"12-LS33",{"$f":"Q310&K310","v":"12-LS33"},1,{"$nulls":5},0,0,null,"Black","Dark Yellow",null,"1","Base Cabinet - Corner - Lazy Susan"]
["LS36","Lazy Susan 36\"",{"v":686,"d":"$686.00"},2,"PB",{"$f":"C311*'Order Form'!$S$18*(Color!$C$6+'Door Style'!$H$6)","v":{"$error":"#VALUE!"}},{"$f":"C311*$G$2*'Order Form'!$S$18*(Color!$D$6+'Door Style'!$G$6+Species!$C$6+'Custom Finish'!$C$6)","v":{"$error":"#VALUE!"}},null,"01-","01-",{"$f":"CONCAT!$D$2","v":""},null,1,{"$f":"J311&A311&K311","v":"01-LS36"},"11-LS36",1,"12-WEZR2430",{"$f":"Q311&K311","v":"12-WEZR2430"},1,{"$nulls":5},0,0,null,"Light Blue","Dark Yellow",null,"1","Base Cabinet - Corner - Lazy Susan"]
["MIR2430","Mirror Face 24\" x 30\"",{"v":203,"d":"$203.00"},3,null,null,{"$f":"C312*$G$1*'Order Form'!$S$18*(Color!$D$6+Species!$C$6)","v":{"$error":"#VALUE!"}},null,"SC/PC","13-",{"$f":"CONCAT!$D$8","v":""},null,0,{"$f":"J312&A312&K312","v":"13-MIR2430"},{"$nulls":3},{"$f":"Q312&K312","v":""},null,{"$f":"N312","v":"13-MIR2430"},1,{"$nulls":4},{"$f":"C312","v":{"v":203,"d":"$203.00"}},null,"Black","Pink",null,"1","Wall Cabinet - Mirror"]
["MIR3030","Mirror Face 30\" x 30\"",{"v":219,"d":"$219.00"},3,null,null,{"$f":"C313*$G$1*'Order Form'!$S$18*(Color!$D$6+Species!$C$6)","v":{"$error":"#VALUE!"}},null,"SC/PC","13-",{"$f":"CONCAT!$D$8","v":""},null,0,{"$f":"J313&A313&K313","v":"13-MIR3030"},{"$nulls":3},{"$f":"Q313&K313","v":""},null,{"$f":"N313","v":"13-MIR3030"},1,{"$nulls":4},{"$f":"C313","v":{"v":219,"d":"$219.00"}},null,"Black","Pink",null,"1","Wall Cabinet - Mirror"]
["MISC DISCOUNT","Use this Sku Sparely and with Approval",0,2,null,0,0,null,"/","/","",null,0,{"$f":"J314&A314&K314","v":"/MISC DISCOUNT"},{"$nulls":3},{"$f":"Q314&K314","v":""},null,{"$f":"N314","v":"/MISC DISCOUNT"},1,{"$nulls":3},{"$f":"C314","v":0},{"$f":"C314","v":0},null,"Dark Blue","Dark Blue","N"]
["MIXER LIFT","Mixer Lift Chrome w/ Shelf ",{"v":250,"d":"$250.00"},2,null,{"$f":"C315","v":250},{"$f":"C315","v":250},null,"/","01-","",null,0,{"$f":"J315&A315&K315","v":"01-MIXER LIFT"},{"$nulls":3},{"$f":"Q315&K315","v":""},null,{"$f":"N315","v":"01-MIXER LIFT"},1,{"$nulls":3},{"$f":"C315","v":{"v":250,"d":"$250.00"}},{"$f":"C315","v":{"v":250,"d":"$250.00"}},null,"Tan","Tan",null,"1","Accessory - Base - Full Height"]
["MOC90","Molding Outside Corner ",{"v":59,"d":"$59.00"},2,null,{"$f":"(C316*Color!$G$6*'Order Form'!$S$18)","v":{"$error":"#VALUE!"}},{"$f":"C316*$G$1*'Order Form'!$S$18*(Color!$D$6+Species!$C$6)","v":{"$error":"#VALUE!"}},null,"13-","13-",{"$f":"CONCAT!$D$3","v":""},null,0,{"$f":"J316&A316&K316","v":"13-MOC90"},{"$nulls":3},{"$f":"Q316&K316","v":""},null,{"$f":"N316","v":"13-MOC90"},1,{"$nulls":3},{"$f":"C316","v":{"v":59,"d":"$59.00"}},{"$f":"C316","v":{"v":59,"d":"$59.00"}},null,"Orange","Pink",null,null,"Trim"]
["MOD-B-DB-SIZE","Change In Drawer Box Size - Per Drawer",{"v":50,"d":"$50.00"},2,null,{"$f":"C317","v":50},{"$f":"C317","v":50},null,"/","/","",null,0,{"$f":"J317&A317&K317","v":"/MOD-B-DB-SIZE"},{"$nulls":3},{"$f":"Q317&K317","v":""},null,{"$f":"N317","v":"/MOD-B-DB-SIZE"},1,{"$nulls":4},{"$f":"C317","v":{"v":50,"d":"$50.00"}},null,"Tan","Tan",null,null,"Modification"]
["MOD-B-DD","Decrease Depth - 6\" Min Depth Base Cabinet",{"v":50,"d":"$50.00"},2,null,{"$f":"C318","v":50},{"$f":"C318","v":50},null,"/","/","",null,0,{"$f":"J318&A318&K318","v":"/MOD-B-DD"},{"$nulls":3},{"$f":"Q318&K318","v":""},null,{"$f":"N318","v":"/MOD-B-DD"},1,{"$nulls":3},{"$f":"C318","v":{"v":50,"d":"$50.00"}},{"$f":"C318","v":{"v":50,"d":"$50.00"}},null,"Tan","Tan",null,null,"Modification"]
["MOD-B-ID","Increase Depth - 30\" Max Depth Base Cabinet",{"v":75,"d":"$75.00"},2,null,{"$f":"C319","v":75},{"$f":"C319","v":75},null,"/","/","",null,0,{"$f":"J319&A319&K319","v":"/MOD-B-ID"},{"$nulls":3},{"$f":"Q319&K319","v":""},null,{"$f":"N319","v":"/MOD-B-ID"},1,{"$nulls":3},{"$f":"C319","v":{"v":75,"d":"$75.00"}},{"$f":"C319","v":{"v":75,"d":"$75.00"}},null,"Tan","Tan",null,null,"Modification"]
["MOD-B-RNG","Modify To Range Base",0,2,null,0,0,null,"/","/","",null,0,{"$f":"J320&A320&K320","v":"/MOD-B-RNG"},{"$nulls":3},{"$f":"Q320&K320","v":""},null,{"$f":"N320","v":"/MOD-B-RNG"},1,{"$nulls":3},{"$f":"C320","v":0},{"$f":"C320","v":0},null,"Dark Blue","Dark Blue",null,null,"Modification"]
["MOD-B-STILE","Extended Base Stile",{"v":50,"d":"$50.00"},3,null,null,{"$f":"C321","v":50},null,"/","/","",null,0,{"$f":"J321&A321&K321","v":"/MOD-B-STILE"},{"$nulls":3},{"$f":"Q321&K321","v":""},null,{"$f":"N321","v":"/MOD-B-STILE"},1,{"$nulls":3},{"$f":"C321","v":{"v":50,"d":"$50.00"}},{"$f":"C321","v":{"v":50,"d":"$50.00"}},null,"Black","Tan",null,null,"Modification"]
["MOD-FURNITURE BOTTOM","The face of the cabinet is stretched towards the bottom to eliminate the toe kick",{"v":150,"d":"$150.00"},3,null,null,{"$f":"C322","v":150},null,"/","/","",null,0,{"$f":"J322&A322&K322","v":"/MOD-FURNITURE BOTTOM"},{"$nulls":3},{"$f":"Q322&K322","v":""},null,{"$f":"N322","v":"/MOD-FURNITURE BOTTOM"},1,{"$nulls":3},{"$f":"C322","v":{"v":150,"d":"$150.00"}},{"$f":"C322","v":{"v":150,"d":"$150.00"}},null,"Black","Tan",null,null,"Modification"]
["MOD-FURNITURE TOEKICK","The face frame of the cabinet is extended to flush with the bottom of the cabinet",{"v":150,"d":"$150.00"},3,null,null,{"$f":"C323","v":150},null,"/","/","",null,0,{"$f":"J323&A323&K323","v":"/MOD-FURNITURE TOEKICK"},{"$nulls":3},{"$f":"Q323&K323","v":""},null,{"$f":"N323","v":"/MOD-FURNITURE TOEKICK"},1,{"$nulls":4},{"$f":"C323","v":{"v":150,"d":"$150.00"}},null,"Black","Tan",null,null,"Modification"]
["MOD-LS TO SHELF","Switch Lazy Susan to a Fixed shelf",{"v":50,"d":"$50.00"},3,null,null,{"$f":"C324","v":50},null,"/","/","",null,0,{"$f":"J324&A324&K324","v":"/MOD-LS TO SHELF"},{"$nulls":3},{"$f":"Q324&K324","v":""},null,{"$f":"N324","v":"/MOD-LS TO SHELF"},1,{"$nulls":3},{"$f":"C324","v":{"v":50,"d":"$50.00"}},{"$f":"C324","v":{"v":50,"d":"$50.00"}},null,"Black","Tan",null,null,"Modification"]
["MOD-MISC","Miscellaneous Modification",null,2,null,{"$f":"C325","v":0},{"$f":"C325","v":0},null,"/","/","",null,0,{"$f":"J325&A325&K325","v":"/MOD-MISC"},{"$nulls":3},{"$f":"Q325&K325","v":""},null,{"$f":"N325","v":"/MOD-MISC"},1,{"$nulls":3},{"$f":"C325","v":0},{"$f":"C325","v":0},null,"Tan","Tan","N",null,"Modification"]
["MOD-NODOOR","20% Discount for No Doors on Craftsman",0,3,null,0,0,null,"/","/","",null,0,{"$f":"J326&A326&K326","v":"/MOD-NODOOR"},{"$nulls":3},{"$f":"Q326&K326","v":""},null,{"$f":"N326","v":"/MOD-NODOOR"},1,{"$nulls":4},{"$f":"C326","v":0},null,"Dark Blue","Dark Blue",null,null,"Modification"]
["MOD-NOTOE","Toe Kick Removal Per Box ",0,2,null,0,0,null,"/","/","",null,0,{"$f":"J327&A327&K327","v":"/MOD-NOTOE"},{"$nulls":3},{"$f":"Q327&K327","v":""},null,{"$f":"N327","v":"/MOD-NOTOE"},1,{"$nulls":4},{"$f":"C327*$G$2*1*(Color!$D$6+'Door Style'!$G$6+Species!$C$6+'Drawer Head'!$E$6+'Custom Finish'!$C$6)","v":{"$error":"#VALUE!"}},null,"Dark Blue","Dark Blue",null,null,"Modification"]
["MOD-SINGLE DOUBLE DOOR","Change cabinet from a double door to a single door. Applies to 24\" wide cabinets (No warping warranty).",{"v":75,"d":"$75.00"},3,null,null,{"$f":"C328","v":75},null,"/","/","",null,0,{"$f":"J328&A328&K328","v":"/MOD-SINGLE DOUBLE DOOR"},{"$nulls":3},{"$f":"Q328&K328","v":""},null,{"$f":"N328","v":"/MOD-SINGLE DOUBLE DOOR"},1,{"$nulls":4},{"$f":"C328*$G$2*1*(Color!$D$6+'Door Style'!$G$6+Species!$C$6+'Drawer Head'!$E$6+'Custom Finish'!$C$6)","v":{"$error":"#VALUE!"}},null,"Black","Tan",null,null,"Modification"]
["MOD-SINGLE DOUBLE DRAWER","Change cabinet from double drawer to a single drawer. Applies to cabinet widths 33\", 36\", 39\".",{"v":75,"d":"$75.00"},3,null,null,{"$f":"C329","v":75},null,"/","/","",null,0,{"$f":"J329&A329&K329","v":"/MOD-SINGLE DOUBLE DRAWER"},{"$nulls":3},{"$f":"Q329&K329","v":""},null,{"$f":"N329","v":"/MOD-SINGLE DOUBLE DRAWER"},1,{"$nulls":4},{"$f":"C329*$G$2*1*(Color!$D$6+'Door Style'!$G$6+Species!$C$6+'Drawer Head'!$E$6+'Custom Finish'!$C$6)","v":{"$error":"#VALUE!"}},null,"Black","Tan",null,null,"Modification"]
["MOD-T-DD","Decrease Depth - 6\" Min Depth Tall Cabinet",{"v":75,"d":"$75.00"},2,null,{"$f":"C330","v":75},{"$f":"C330","v":75},null,"/","/","",null,0,{"$f":"J330&A330&K330","v":"/MOD-T-DD"},{"$nulls":3},{"$f":"Q330&K330","v":""},null,{"$f":"N330","v":"/MOD-T-DD"},1,{"$nulls":4},{"$f":"C330*$G$2*1*(Color!$D$6+'Door Style'!$G$6+Species!$C$6+'Drawer Head'!$E$6+'Custom Finish'!$C$6)","v":{"$error":"#VALUE!"}},null,"Tan","Tan",null,null,"Modification"]
["MOD-T-ID","Increase Depth - 30\"  Max Depth Tall Cabinet",{"v":100,"d":"$100.00"},2,null,{"$f":"C331","v":100},{"$f":"C331","v":100},null,"/","/","",null,0,{"$f":"J331&A331&K331","v":"/MOD-T-ID"},{"$nulls":3},{"$f":"Q331&K331","v":""},null,{"$f":"N331","v":"/MOD-T-ID"},1,{"$nulls":4},{"$f":"C331*$G$2*1*(Color!$D$6+'Door Style'!$G$6+Species!$C$6+'Drawer Head'!$E$6+'Custom Finish'!$C$6)","v":{"$error":"#VALUE!"}},null,"Tan","Tan",null,null,"Modification"]
["MOD-TOE","Toe Kick Modification Per Box ",{"v":50,"d":"$50.00"},2,null,{"$f":"C332","v":50},{"$f":"C332","v":50},null,"/","/","",null,0,{"$f":"J332&A332&K332","v":"/MOD-TOE"},{"$nulls":3},{"$f":"Q332&K332","v":""},null,{"$f":"N332","v":"/MOD-TOE"},1,{"$nulls":4},{"$f":"C332*$G$2*1*(Color!$D$6+'Door Style'!$G$6+Species!$C$6+'Drawer Head'!$E$6+'Custom Finish'!$C$6)","v":{"$error":"#VALUE!"}},null,"Tan","Tan",null,null,"Modification"]
["MOD-T-STILE","Extended Tall Stile",{"v":120,"d":"$120.00"},3,null,null,{"$f":"C333","v":120},null,"/","/","",null,0,{"$f":"J333&A333&K333","v":"/MOD-T-STILE"},{"$nulls":3},{"$f":"Q333&K333","v":""},null,{"$f":"N333","v":"/MOD-T-STILE"},1,{"$nulls":3},{"$f":"(C333*Color!$G$6*1)","v":{"$error":"#VALUE!"}},{"$f":"C333*$G$1*1*(Color!$D$6+Species!$C$6)","v":{"$error":"#VALUE!"}},null,"Black","Tan",null,null,"Modification"]
["MOD-V-DB-SIZE","Change In Drawer Box Size (12in min) - Per Drawer Vanity Cabinet",{"v":50,"d":"$50.00"},2,null,{"$f":"C334","v":50},{"$f":"C334","v":50},null,"/","/","",null,0,{"$f":"J334&A334&K334","v":"/MOD-V-DB-SIZE"},{"$nulls":3},{"$f":"Q334&K334","v":""},null,{"$f":"N334","v":"/MOD-V-DB-SIZE"},1,{"$nulls":3},{"$f":"C334*1*(Color!$C$6+'Door Style'!$H$6)","v":{"$error":"#VALUE!"}},{"$f":"C334*$G$1*1*(Color!$D$6+'Door Style'!$G$6+Species!$C$6+'Custom Finish'!$C$6)","v":{"$error":"#VALUE!"}},null,"Tan","Tan",null,null,"Modification"]
["MOD-V-DD","Decrease Depth - 6\" Min Depth Vanity Cabinet",{"v":50,"d":"$50.00"},2,null,{"$f":"C335","v":50},{"$f":"C335","v":50},null,"/","/","",null,0,{"$f":"J335&A335&K335","v":"/MOD-V-DD"},{"$nulls":3},{"$f":"Q335&K335","v":""},null,{"$f":"N335","v":"/MOD-V-DD"},1,{"$nulls":3},{"$f":"C335*1*(Color!$C$6+'Door Style'!$H$6)","v":{"$error":"#VALUE!"}},{"$f":"C335*$G$1*1*(Color!$D$6+'Door Style'!$G$6+Species!$C$6+'Custom Finish'!$C$6)","v":{"$error":"#VALUE!"}},null,"Tan","Tan",null,null,"Modification"]
["MOD-V-ID","Increase Depth - 30\"  Max Depth Vanity Cabinet",{"v":75,"d":"$75.00"},2,null,{"$f":"C336","v":75},{"$f":"C336","v":75},null,"/","/","",null,0,{"$f":"J336&A336&K336","v":"/MOD-V-ID"},{"$nulls":3},{"$f":"Q336&K336","v":""},null,{"$f":"N336","v":"/MOD-V-ID"},1,{"$nulls":3},{"$f":"C336*1*(Color!$C$6+'Door Style'!$H$6)","v":{"$error":"#VALUE!"}},{"$f":"C336*$G$1*1*(Color!$D$6+'Door Style'!$G$6+Species!$C$6+'Custom Finish'!$C$6)","v":{"$error":"#VALUE!"}},null,"Tan","Tan",null,null,"Modification"]
["MOD-V-INV","Modify a Vanity Base to a Vanity Sink Base Inverted",{"v":50,"d":"$50.00"},2,null,{"$f":"C337","v":50},{"$f":"C337","v":50},null,"/","/","",null,0,{"$f":"J337&A337&K337","v":"/MOD-V-INV"},{"$nulls":3},{"$f":"Q337&K337","v":""},null,{"$f":"N337","v":"/MOD-V-INV"},1,{"$nulls":3},{"$f":"C337","v":{"v":50,"d":"$50.00"}},{"$f":"C337","v":{"v":50,"d":"$50.00"}},null,"Tan","Tan",null,null,"Modification"]
["MOD-V-ROS","Reduce Roll Out Shelf To Vanity Depth",{"v":25,"d":"$25.00"},2,null,{"$f":"C338","v":25},{"$f":"C338","v":25},null,"/","/","",null,0,{"$f":"J338&A338&K338","v":"/MOD-V-ROS"},{"$nulls":3},{"$f":"Q338&K338","v":""},null,{"$f":"N338","v":"/MOD-V-ROS"},1,{"$nulls":3},{"$f":"C338","v":{"v":25,"d":"$25.00"}},{"$f":"C338","v":{"v":25,"d":"$25.00"}},null,"Tan","Tan",null,null,"Modification"]
["MOD-V-STILE","Extended Vanity Stile",{"v":50,"d":"$50.00"},3,null,null,{"$f":"C339","v":50},null,"/","/","",null,0,{"$f":"J339&A339&K339","v":"/MOD-V-STILE"},{"$nulls":3},{"$f":"Q339&K339","v":""},null,{"$f":"N339","v":"/MOD-V-STILE"},1,{"$nulls":3},{"$f":"C339","v":{"v":50,"d":"$50.00"}},{"$f":"C339","v":{"v":50,"d":"$50.00"}},null,"Black","Tan",null,null,"Modification"]
["MOD-W-DD","Decrease Depth - 6\" Min Depth Wall Cabinet",{"v":25,"d":"$25.00"},2,null,{"$f":"C340","v":25},{"$f":"C340","v":25},null,"/","/","",null,0,{"$f":"J340&A340&K340","v":"/MOD-W-DD"},{"$nulls":3},{"$f":"Q340&K340","v":""},null,{"$f":"N340","v":"/MOD-W-DD"},1,{"$nulls":3},{"$f":"C340","v":{"v":25,"d":"$25.00"}},{"$f":"C340","v":{"v":25,"d":"$25.00"}},null,"Tan","Tan",null,null,"Modification"]
["MOD-W-ID","Increase Depth - 24\"  Max Depth Wall Cabinet",{"v":75,"d":"$75.00"},2,null,{"$f":"C341","v":75},{"$f":"C341","v":75},null,"/","/","",null,0,{"$f":"J341&A341&K341","v":"/MOD-W-ID"},{"$nulls":3},{"$f":"Q341&K341","v":""},null,{"$f":"N341","v":"/MOD-W-ID"},1,{"$nulls":3},{"$f":"C341","v":{"v":75,"d":"$75.00"}},{"$f":"C341","v":{"v":75,"d":"$75.00"}},null,"Tan","Tan",null,null,"Modification"]
["MOD-W-STILE","Extended Wall Stile",{"v":50,"d":"$50.00"},3,null,null,{"$f":"C342","v":50},null,"/","/","",null,0,{"$f":"J342&A342&K342","v":"/MOD-W-STILE"},{"$nulls":3},{"$f":"Q342&K342","v":""},null,{"$f":"N342","v":"/MOD-W-STILE"},1,{"$nulls":4},{"$f":"C342*$G$1*1*(Color!$D$6+'Door Style'!$G$6+Species!$C$6+'Custom Finish'!$C$6)","v":{"$error":"#VALUE!"}},null,"Black","Tan",null,null,"Modification"]
["MWB24","Microwave Base Shelf 24",{"v":692,"d":"$692.00"},3,null,null,{"$f":"C343*$G$2*'Order Form'!$S$18*(Color!$D$6+'Door Style'!$G$6+Species!$C$6+'Drawer Head'!$E$6+'Custom Finish'!$C$6)","v":{"$error":"#VALUE!"}},null,"SC/PC","01-",{"$f":"CONCAT!$D$8","v":""},null,1,{"$f":"J343&A343&K343","v":"01-MWB24"},"11-MWB24",1,"12-MWB24",{"$f":"Q343&K343","v":"12-MWB24"},1,null,null,"DG 21IN KITCHEN SET-DTC",1,null,null,{"$f":"C343*$G$1*1*(Color!$D$6+'Door Style'!$G$6+Species!$C$6+'Custom Finish'!$C$6)","v":{"$error":"#VALUE!"}},null,"Black","Light Yellow",null,"1","Base Cabinet - Microwave Base Shelf "]
["MWB27","Microwave Base Shelf 27",{"v":746,"d":"$746.00"},3,null,null,{"$f":"C344*$G$2*'Order Form'!$S$18*(Color!$D$6+'Door Style'!$G$6+Species!$C$6+'Drawer Head'!$E$6+'Custom Finish'!$C$6)","v":{"$error":"#VALUE!"}},null,"SC/PC","01-",{"$f":"CONCAT!$D$8","v":""},null,1,{"$f":"J344&A344&K344","v":"01-MWB27"},"11-MWB27",1,"12-MWB27",{"$f":"Q344&K344","v":"12-MWB27"},1,null,null,"DG 21IN KITCHEN SET-DTC",1,null,null,{"$f":"C344*$G$1*1*(Color!$D$6+'Door Style'!$G$6+Species!$C$6+'Custom Finish'!$C$6)","v":{"$error":"#VALUE!"}},null,"Black","Light Yellow",null,"1","Base Cabinet - Microwave Base Shelf "]
["MWB30","Microwave Base Shelf 30",{"v":794,"d":"$794.00"},3,null,null,{"$f":"C345*$G$2*'Order Form'!$S$18*(Color!$D$6+'Door Style'!$G$6+Species!$C$6+'Drawer Head'!$E$6+'Custom Finish'!$C$6)","v":{"$error":"#VALUE!"}},null,"SC/PC","01-",{"$f":"CONCAT!$D$8","v":""},null,1,{"$f":"J345&A345&K345","v":"01-MWB30"},"11-MWB30",1,"12-MWB30",{"$f":"Q345&K345","v":"12-MWB30"},1,null,null,"DG 21IN KITCHEN SET-DTC",1,null,null,{"$f":"C345*$G$1*1*(Color!$D$6+'Door Style'!$G$6+Species!$C$6+'Custom Finish'!$C$6)","v":{"$error":"#VALUE!"}},null,"Black","Light Yellow",null,"1","Base Cabinet - Microwave Base Shelf "]
["MWBC24","Microwave Base Custom 24",{"v":744,"d":"$744.00"},3,null,null,{"$f":"C346*$G$2*'Order Form'!$S$18*(Color!$D$6+'Door Style'!$G$6+Species!$C$6+'Drawer Head'!$E$6+'Custom Finish'!$C$6)","v":{"$error":"#VALUE!"}},null,"SC/PC","01-",{"$f":"CONCAT!$D$8","v":""},"Yes",1,{"$f":"J346&A346&K346","v":"01-MWBC24"},"11-MWB24",1,"12-MWBC24",{"$f":"Q346&K346","v":"12-MWBC24"},1,null,null,"DG 21IN KITCHEN SET-DTC",1,null,null,{"$f":"C346*$G$1*1*(Color!$D$6+'Door Style'!$G$6+Species!$C$6+'Custom Finish'!$C$6)","v":{"$error":"#VALUE!"}},null,"Black","Light Yellow",null,"1","Base Cabinet - Microwave Custom"]
["MWBC27","Microwave Base Custom 27",{"v":798,"d":"$798.00"},3,null,null,{"$f":"C347*$G$2*'Order Form'!$S$18*(Color!$D$6+'Door Style'!$G$6+Species!$C$6+'Drawer Head'!$E$6+'Custom Finish'!$C$6)","v":{"$error":"#VALUE!"}},null,"SC/PC","01-",{"$f":"CONCAT!$D$8","v":""},"Yes",1,{"$f":"J347&A347&K347","v":"01-MWBC27"},"11-MWB27",1,"12-MWBC27",{"$f":"Q347&K347","v":"12-MWBC27"},1,null,null,"DG 21IN KITCHEN SET-DTC",1,null,null,{"$f":"C347*$G$1*1*(Color!$D$6+'Door Style'!$G$6+Species!$C$6+'Custom Finish'!$C$6)","v":{"$error":"#VALUE!"}},null,"Black","Light Yellow",null,"1","Base Cabinet - Microwave Custom"]
["MWBC30","Microwave Base Custom 30",{"v":846,"d":"$846.00"},3,null,null,{"$f":"C348*$G$2*'Order Form'!$S$18*(Color!$D$6+'Door Style'!$G$6+Species!$C$6+'Drawer Head'!$E$6+'Custom Finish'!$C$6)","v":{"$error":"#VALUE!"}},null,"SC/PC","01-",{"$f":"CONCAT!$D$8","v":""},"Yes",1,{"$f":"J348&A348&K348","v":"01-MWBC30"},"11-MWB30",1,"12-MWBC30",{"$f":"Q348&K348","v":"12-MWBC30"},1,null,null,"DG 21IN KITCHEN SET-DTC",1,null,{"$f":"C348","v":{"v":846,"d":"$846.00"}},{"$f":"C348","v":{"v":846,"d":"$846.00"}},null,"Black","Light Yellow",null,"1","Base Cabinet - Microwave Custom"]
["MWS3018","Microwave Wall Shelf 30 x 18",{"v":286,"d":"$286.00"},2,null,{"$f":"(C349*Color!$G$6*'Order Form'!$S$18)","v":{"$error":"#VALUE!"}},{"$f":"C349*$G$1*'Order Form'!$S$18*(Color!$D$6+Species!$C$6)","v":{"$error":"#VALUE!"}},null,"13-","01-",{"$f":"CONCAT!$D$3","v":""},null,1,{"$f":"J349&A349&K349","v":"01-MWS3018"},null,null,"12-MWS3018",{"$f":"Q349&K349","v":"12-MWS3018"},1,{"$f":"N349","v":"01-MWS3018"},1,{"$nulls":3},{"$f":"C349","v":{"v":286,"d":"$286.00"}},{"$f":"C349","v":{"v":286,"d":"$286.00"}},null,"Orange","Pink",null,"1","Wall Cabinet - Microwave"]
["MWS3030","Microwave Wall Shelf Cabinet 30\" x 30\"",{"v":465,"d":"$465.00"},2,null,{"$f":"C350*'Order Form'!$S$18*(Color!$C$6+'Door Style'!$H$6)","v":{"$error":"#VALUE!"}},{"$f":"C350*$G$1*'Order Form'!$S$18*(Color!$D$6+'Door Style'!$G$6+Species!$C$6+'Custom Finish'!$C$6)","v":{"$error":"#VALUE!"}},null,"01-","01-",{"$f":"CONCAT!$D$2","v":""},null,1,{"$f":"J350&A350&K350","v":"01-MWS3030"},null,null,"12-MWS3030",{"$f":"Q350&K350","v":"12-MWS3030"},1,{"$f":"N350","v":"01-MWS3030"},1,{"$nulls":3},{"$f":"C350","v":{"v":465,"d":"$465.00"}},{"$f":"C350","v":{"v":465,"d":"$465.00"}},null,"Light Blue","Dark Gray",null,"1","Wall Cabinet - Microwave"]
["MWS3036","Microwave Wall Shelf Cabinet 30\" x 36\"",{"v":518,"d":"$518.00"},2,null,{"$f":"C351*'Order Form'!$S$18*(Color!$C$6+'Door Style'!$H$6)","v":{"$error":"#VALUE!"}},{"$f":"C351*$G$1*'Order Form'!$S$18*(Color!$D$6+'Door Style'!$G$6+Species!$C$6+'Custom Finish'!$C$6)","v":{"$error":"#VALUE!"}},null,"01-","01-",{"$f":"CONCAT!$D$2","v":""},null,1,{"$f":"J351&A351&K351","v":"01-MWS3036"},null,null,"12-MWS3036",{"$f":"Q351&K351","v":"12-MWS3036"},1,{"$f":"N351","v":"01-MWS3036"},1,{"$nulls":3},{"$f":"C351","v":{"v":518,"d":"$518.00"}},{"$f":"C351","v":{"v":518,"d":"$518.00"}},null,"Light Blue","Dark Gray",null,"1","Wall Cabinet - Microwave"]
["MWS3042","Microwave Wall Shelf Cabinet 30\" x 42\"",{"v":590,"d":"$590.00"},2,null,{"$f":"C352*'Order Form'!$S$18*(Color!$C$6+'Door Style'!$H$6)","v":{"$error":"#VALUE!"}},{"$f":"C352*$G$1*'Order Form'!$S$18*(Color!$D$6+'Door Style'!$G$6+Species!$C$6+'Custom Finish'!$C$6)","v":{"$error":"#VALUE!"}},null,"01-","01-",{"$f":"CONCAT!$D$2","v":""},null,1,{"$f":"J352&A352&K352","v":"01-MWS3042"},null,null,"12-MWS3042",{"$f":"Q352&K352","v":"12-MWS3042"},1,{"$f":"N352","v":"01-MWS3042"},1,{"$nulls":3},{"$f":"C352","v":{"v":590,"d":"$590.00"}},{"$f":"C352","v":{"v":590,"d":"$590.00"}},null,"Light Blue","Dark Gray",null,"1","Wall Cabinet - Microwave"]
["NESTED CUTLERY DRAWER 15","Nested Cutlery Drawer for B15\"",{"v":200,"d":"$200.00"},2,null,{"$f":"C353","v":200},{"$f":"C353","v":200},null,"/","","",null,0,{"$f":"J353&A353&K353","v":"NESTED CUTLERY DRAWER 15"},{"$nulls":3},{"$f":"Q353&K353","v":""},null,{"$f":"N353","v":"NESTED CUTLERY DRAWER 15"},1,{"$nulls":3},{"$f":"C353","v":{"v":200,"d":"$200.00"}},{"$f":"C353","v":{"v":200,"d":"$200.00"}},null,"Tan","Tan",null,"1","Accessory - Base"]
["NESTED CUTLERY DRAWER 18","Nested Cutlery Drawer for B18\"",{"v":215,"d":"$215.00"},2,null,{"$f":"C354","v":215},{"$f":"C354","v":215},null,"/","","",null,0,{"$f":"J354&A354&K354","v":"NESTED CUTLERY DRAWER 18"},{"$nulls":3},{"$f":"Q354&K354","v":""},null,{"$f":"N354","v":"NESTED CUTLERY DRAWER 18"},1,{"$nulls":3},{"$f":"C354","v":{"v":215,"d":"$215.00"}},{"$f":"C354","v":{"v":215,"d":"$215.00"}},null,"Tan","Tan",null,"1","Accessory - Base"]
["NESTED CUTLERY DRAWER 21","Nested Cutlery Drawer for B21\"",{"v":230,"d":"$230.00"},2,null,{"$f":"C355","v":230},{"$f":"C355","v":230},null,"/","","",null,0,{"$f":"J355&A355&K355","v":"NESTED CUTLERY DRAWER 21"},{"$nulls":3},{"$f":"Q355&K355","v":""},null,{"$f":"N355","v":"NESTED CUTLERY DRAWER 21"},1,{"$nulls":3},{"$f":"C355","v":{"v":230,"d":"$230.00"}},{"$f":"C355","v":{"v":230,"d":"$230.00"}},null,"Tan","Tan",null,"1","Accessory - Base"]
["NESTED CUTLERY DRAWER 24","Nested Cutlery Drawer for B24\"",{"v":240,"d":"$240.00"},2,null,{"$f":"C356","v":240},{"$f":"C356","v":240},null,"/","","",null,0,{"$f":"J356&A356&K356","v":"NESTED CUTLERY DRAWER 24"},{"$nulls":3},{"$f":"Q356&K356","v":""},null,{"$f":"N356","v":"NESTED CUTLERY DRAWER 24"},1,{"$nulls":3},0,0,null,"Tan","Tan",null,"1","Accessory - Base"]
["NEW PROJECT WORKSHEET","New Project Work Sheets (50 Pack)",{"v":5,"d":"$5.00"},2,null,{"$f":"C357","v":5},{"$f":"C357","v":5},null,"/","/",null,null,0,{"$f":"J357&A357&K357","v":"/NEW PROJECT WORKSHEET"},{"$nulls":3},{"$f":"Q357&K357","v":""},null,{"$f":"N357","v":"/NEW PROJECT WORKSHEET"},1,{"$nulls":3},{"$f":"C357*Color!$P$6","v":0},{"$f":"C357*Color!$P$6","v":0},null,"Tan","Tan","Dealer",null,"Dealer support item"]
["OC3084","Custom Oven Cabinet 30\" x 84\"",{"v":1481,"d":"$1,481.00"},3,null,null,{"$f":"C358*$G$1*'Order Form'!$S$18*(Color!$D$6+'Door Style'!$G$6+Species!$C$6+'Custom Finish'!$C$6)","v":{"$error":"#VALUE!"}},null,"SC/PC","01-",{"$f":"CONCAT!$D$8","v":""},"Yes",1,{"$f":"J358&A358&K358","v":"01-OC3084"},"11-OC3084",1,"12-OC3084",{"$f":"Q358&K358","v":"12-OC3084"},1,null,null,"DG 21IN KITCHEN SET-DTC",3,null,{"$f":"C358*Color!$P$6","v":0},{"$f":"C358*Color!$P$6","v":0},null,"Black","Dark Gray",null,"2","Tall Cabinet - Oven"]
["OC3090","Custom Oven Cabinet 30\" x 90\"",{"v":1502,"d":"$1,502.00"},3,null,null,{"$f":"C359*$G$1*'Order Form'!$S$18*(Color!$D$6+'Door Style'!$G$6+Species!$C$6+'Custom Finish'!$C$6)","v":{"$error":"#VALUE!"}},null,"SC/PC","01-",{"$f":"CONCAT!$D$8","v":""},"Yes",1,{"$f":"J359&A359&K359","v":"01-OC3090"},"11-OC3090",1,"12-OC3090",{"$f":"Q359&K359","v":"12-OC3090"},1,null,null,"DG 21IN KITCHEN SET-DTC",3,null,{"$f":"C359*Color!$P$6","v":0},{"$f":"C359*Color!$P$6","v":0},null,"Black","Dark Gray",null,"2","Tall Cabinet - Oven"]
["OC3096","Custom Oven Cabinet 30\" x 96\"",{"v":1523,"d":"$1,523.00"},3,null,null,{"$f":"C360*$G$1*'Order Form'!$S$18*(Color!$D$6+'Door Style'!$G$6+Species!$C$6+'Custom Finish'!$C$6)","v":{"$error":"#VALUE!"}},null,"SC/PC","01-",{"$f":"CONCAT!$D$8","v":""},"Yes",1,{"$f":"J360&A360&K360","v":"01-OC3096"},"11-OC3096",1,"12-OC3096",{"$f":"Q360&K360","v":"12-OC3096"},1,null,null,"DG 21IN KITCHEN SET-DTC",3,null,{"$f":"C360*1*(Color!$C$6+'Door Style'!$H$6)","v":{"$error":"#VALUE!"}},{"$f":"C360*$G$1*1*(Color!$D$6+'Door Style'!$G$6+Species!$C$6+'Custom Finish'!$C$6)","v":{"$error":"#VALUE!"}},null,"Black","Dark Gray",null,"2","Tall Cabinet - Oven"]
["OC3384","Custom Oven Cabinet 33\" x 84\"",{"v":1675,"d":"$1,675.00"},3,null,null,{"$f":"C361*$G$1*'Order Form'!$S$18*(Color!$D$6+'Door Style'!$G$6+Species!$C$6+'Custom Finish'!$C$6)","v":{"$error":"#VALUE!"}},null,"SC/PC","01-",{"$f":"CONCAT!$D$8","v":""},"Yes",1,{"$f":"J361&A361&K361","v":"01-OC3384"},"11-OC3384",1,"12-OC3384",{"$f":"Q361&K361","v":"12-OC3384"},1,null,null,"DG 21IN KITCHEN SET-DTC",3,null,{"$f":"C361*1*(Color!$C$6+'Door Style'!$H$6)","v":{"$error":"#VALUE!"}},{"$f":"C361*$G$1*1*(Color!$D$6+'Door Style'!$G$6+Species!$C$6+'Custom Finish'!$C$6)","v":{"$error":"#VALUE!"}},null,"Black","Dark Gray",null,"2","Tall Cabinet - Oven"]
["OC3390","Custom Oven Cabinet 33\" x 90\"",{"v":1737,"d":"$1,737.00"},3,null,null,{"$f":"C362*$G$1*'Order Form'!$S$18*(Color!$D$6+'Door Style'!$G$6+Species!$C$6+'Custom Finish'!$C$6)","v":{"$error":"#VALUE!"}},null,"SC/PC","01-",{"$f":"CONCAT!$D$8","v":""},"Yes",1,{"$f":"J362&A362&K362","v":"01-OC3390"},"11-OC3390",1,"12-OC3390",{"$f":"Q362&K362","v":"12-OC3390"},1,null,null,"DG 21IN KITCHEN SET-DTC",3,null,{"$f":"C362*1*(Color!$C$6+'Door Style'!$H$6)","v":{"$error":"#VALUE!"}},{"$f":"C362*$G$1*1*(Color!$D$6+'Door Style'!$G$6+Species!$C$6+'Custom Finish'!$C$6)","v":{"$error":"#VALUE!"}},null,"Black","Dark Gray",null,"2","Tall Cabinet - Oven"]
["OC3396","Custom Oven Cabinet 33\" x 96\"",{"v":1794,"d":"$1,794.00"},3,null,null,{"$f":"C363*$G$1*'Order Form'!$S$18*(Color!$D$6+'Door Style'!$G$6+Species!$C$6+'Custom Finish'!$C$6)","v":{"$error":"#VALUE!"}},null,"SC/PC","01-",{"$f":"CONCAT!$D$8","v":""},"Yes",1,{"$f":"J363&A363&K363","v":"01-OC3396"},"11-OC3396",1,"12-OC3396",{"$f":"Q363&K363","v":"12-OC3396"},1,null,null,"DG 21IN KITCHEN SET-DTC",3,null,{"$f":"C363*1*(Color!$C$6+'Door Style'!$H$6)","v":{"$error":"#VALUE!"}},{"$f":"C363*$G$1*1*(Color!$D$6+'Door Style'!$G$6+Species!$C$6+'Custom Finish'!$C$6)","v":{"$error":"#VALUE!"}},null,"Black","Dark Gray",null,"2","Tall Cabinet - Oven"]
["P-1-143","Arched Antique Nickel Pull",{"v":4.95,"d":"$4.95"},2,null,{"$f":"C364","v":4.95},{"$f":"C364","v":4.95},1,"/","","",null,0,{"$f":"J364&A364&K364","v":"P-1-143"},{"$nulls":3},{"$f":"Q364&K364","v":""},null,{"$f":"N364","v":"P-1-143"},1,{"$nulls":3},{"$f":"C364*1","v":{"v":4.95,"d":"$4.95"}},{"$f":"C364*1","v":{"v":4.95,"d":"$4.95"}},null,"Tan","Tan",null,null,"Accessory - Pull"]
["P-1-195","Arched Brushed Nickel Pull",{"v":4.95,"d":"$4.95"},2,null,{"$f":"C365","v":4.95},{"$f":"C365","v":4.95},1,"/","","",null,0,{"$f":"J365&A365&K365","v":"P-1-195"},{"$nulls":3},{"$f":"Q365&K365","v":""},null,{"$f":"N365","v":"P-1-195"},1,{"$nulls":3},{"$f":"C365*1","v":{"v":4.95,"d":"$4.95"}},{"$f":"C365*1","v":{"v":4.95,"d":"$4.95"}},null,"Tan","Tan",null,null,"Accessory - Pull"]
["P-1-BORB","Arched Brushed Oil Rubbed Bronze Pull",{"v":4.95,"d":"$4.95"},2,null,{"$f":"C366","v":4.95},{"$f":"C366","v":4.95},1,"/","","",null,0,{"$f":"J366&A366&K366","v":"P-1-BORB"},{"$nulls":3},{"$f":"Q366&K366","v":""},null,{"$f":"N366","v":"P-1-BORB"},1,{"$nulls":4},{"$f":"C366*$G$1*1*(Color!$D$6+Species!$C$6)","v":{"$error":"#VALUE!"}},null,"Tan","Tan",null,null,"Accessory - Pull"]
["P-2-195","Tubular Brushed Nickel Pull",{"v":4.95,"d":"$4.95"},2,null,{"$f":"C367","v":4.95},{"$f":"C367","v":4.95},1,"/","","",null,0,{"$f":"J367&A367&K367","v":"P-2-195"},{"$nulls":3},{"$f":"Q367&K367","v":""},null,{"$f":"N367","v":"P-2-195"},1,{"$nulls":4},{"$f":"C367*$G$1*1*(Color!$D$6+'Door Style'!$G$6+Species!$C$6+'Custom Finish'!$C$6)","v":{"$error":"#VALUE!"}},null,"Tan","Tan",null,null,"Accessory - Pull"]
["P-2-BORB","Tubular Brushed Oil Rubbed Bronze Pull",{"v":4.95,"d":"$4.95"},2,null,{"$f":"C368","v":4.95},{"$f":"C368","v":4.95},1,"/","","",null,0,{"$f":"J368&A368&K368","v":"P-2-BORB"},{"$nulls":3},{"$f":"Q368&K368","v":""},null,{"$f":"N368","v":"P-2-BORB"},1,{"$nulls":4},{"$f":"C368*$G$1*1*(Color!$D$6+'Door Style'!$G$6+Species!$C$6+'Custom Finish'!$C$6)","v":{"$error":"#VALUE!"}},null,"Tan","Tan",null,null,"Accessory - Pull"]
["P-3-143","Squared Antique Nickel Pull",{"v":4.95,"d":"$4.95"},2,null,{"$f":"C369","v":4.95},{"$f":"C369","v":4.95},1,"/","","",null,0,{"$f":"J369&A369&K369","v":"P-3-143"},{"$nulls":3},{"$f":"Q369&K369","v":""},null,{"$f":"N369","v":"P-3-143"},1,{"$nulls":4},{"$f":"C369*$G$1*1*(Color!$D$6+'Door Style'!$G$6+Species!$C$6+'Custom Finish'!$C$6)","v":{"$error":"#VALUE!"}},null,"Tan","Tan",null,null,"Accessory - Pull"]
["P-3-195","Squared Brushed Nickel Pull",{"v":4.95,"d":"$4.95"},2,null,{"$f":"C370","v":4.95},{"$f":"C370","v":4.95},1,"/","","",null,0,{"$f":"J370&A370&K370","v":"P-3-195"},{"$nulls":3},{"$f":"Q370&K370","v":""},null,{"$f":"N370","v":"P-3-195"},1,{"$nulls":3},0,0,null,"Tan","Tan",null,null,"Accessory - Pull"]
["P-3-BORB","Squared Brushed Oil Rubbed Bronze Pull",{"v":4.95,"d":"$4.95"},2,null,{"$f":"C371","v":4.95},{"$f":"C371","v":4.95},1,"/","","",null,0,{"$f":"J371&A371&K371","v":"P-3-BORB"},{"$nulls":3},{"$f":"Q371&K371","v":""},null,{"$f":"N371","v":"P-3-BORB"},1,{"$nulls":3},{"$f":"(C371*Color!$G$6*1)","v":{"$error":"#VALUE!"}},{"$f":"C371*$G$1*1*(Color!$D$6+Species!$C$6)","v":{"$error":"#VALUE!"}},null,"Tan","Tan",null,null,"Accessory - Pull"]
["PAINT","Use this Sku to paint a customer provided accessory - see sales personhand book for pricing",0,2,null,0,0,null,"/","/","",null,0,{"$f":"J372&A372&K372","v":"/PAINT"},{"$nulls":5},{"$f":"N372","v":"/PAINT"},1,{"$nulls":3},{"$f":"C372","v":0},{"$f":"C372","v":0},null,"Dark Blue","Dark Blue",null,null,"Accessory - Finish"]
["PAINT-5 GALLON","Paint to Spray, Not Brush - 5 Gallons- 50% more if Custom Color",{"v":400,"d":"$400.00"},2,null,{"$f":"C373*Color!$P$6","v":0},{"$f":"C373*Color!$P$6","v":0},null,"/","/","",null,0,{"$f":"J373&A373&K373","v":"/PAINT-5 GALLON"},{"$nulls":3},{"$f":"Q373&K373","v":""},null,{"$f":"N373","v":"/PAINT-5 GALLON"},1,{"$nulls":3},{"$f":"C373","v":{"v":400,"d":"$400.00"}},{"$f":"C373","v":{"v":400,"d":"$400.00"}},null,"Green","Green",null,null,"Accessory - Finish"]
["PAINT-GALLON","Paint to Spray, Not Brush - Gallon - 50% more if Custom Color",{"v":100,"d":"$100.00"},2,null,{"$f":"C374*Color!$P$6","v":0},{"$f":"C374*Color!$P$6","v":0},null,"/","/","",null,0,{"$f":"J374&A374&K374","v":"/PAINT-GALLON"},{"$nulls":3},{"$f":"Q374&K374","v":""},null,{"$f":"N374","v":"/PAINT-GALLON"},1,{"$nulls":3},{"$f":"C374","v":{"v":100,"d":"$100.00"}},{"$f":"C374","v":{"v":100,"d":"$100.00"}},null,"Green","Green",null,null,"Accessory - Finish"]
["PAINT-QUART","Paint to Spray, Not Brush - Quart - 50% more if Custom Color",{"v":25,"d":"$25.00"},2,null,{"$f":"C375*Color!$P$6","v":0},{"$f":"C375*Color!$P$6","v":0},null,"/","/","",null,0,{"$f":"J375&A375&K375","v":"/PAINT-QUART"},{"$nulls":3},{"$f":"Q375&K375","v":""},null,{"$f":"N375","v":"/PAINT-QUART"},1,{"$nulls":3},{"$f":"C375","v":{"v":25,"d":"$25.00"}},{"$f":"C375","v":{"v":25,"d":"$25.00"}},null,"Green","Green",null,null,"Accessory - Finish"]
["PD1230","Plant on Door 12\" x 30\"",{"v":68,"d":"$68.00"},2,null,{"$f":"C376*'Order Form'!$S$18*(Color!$C$6+'Door Style'!$H$6)","v":{"$error":"#VALUE!"}},{"$f":"C376*$G$1*'Order Form'!$S$18*(Color!$D$6+'Door Style'!$G$6+Species!$C$6+'Custom Finish'!$C$6)","v":{"$error":"#VALUE!"}},null,"01-","13-",{"$f":"CONCAT!$D$2","v":""},null,0,{"$f":"J376&A376&K376","v":"13-PD1230"},{"$nulls":3},{"$f":"Q376&K376","v":""},null,{"$f":"N376","v":"13-PD1230"},1,{"$nulls":3},0,0,null,"Light Blue","Dark Gray",null,null,"Plant on Doors"]
["PD1236","Plant on Door 12\" x 36\"",{"v":77,"d":"$77.00"},2,null,{"$f":"C377*'Order Form'!$S$18*(Color!$C$6+'Door Style'!$H$6)","v":{"$error":"#VALUE!"}},{"$f":"C377*$G$1*'Order Form'!$S$18*(Color!$D$6+'Door Style'!$G$6+Species!$C$6+'Custom Finish'!$C$6)","v":{"$error":"#VALUE!"}},null,"01-","13-",{"$f":"CONCAT!$D$2","v":""},null,0,{"$f":"J377&A377&K377","v":"13-PD1236"},{"$nulls":3},{"$f":"Q377&K377","v":""},null,{"$f":"N377","v":"13-PD1236"},1,{"$nulls":3},{"$f":"C377*1","v":{"v":77,"d":"$77.00"}},{"$f":"C377*1","v":{"v":77,"d":"$77.00"}},null,"Light Blue","Dark Gray",null,null,"Plant on Doors"]
["PD1242","Plant on Door 12\" x 42\"",{"v":92,"d":"$92.00"},2,null,{"$f":"C378*'Order Form'!$S$18*(Color!$C$6+'Door Style'!$H$6)","v":{"$error":"#VALUE!"}},{"$f":"C378*$G$1*'Order Form'!$S$18*(Color!$D$6+'Door Style'!$G$6+Species!$C$6+'Custom Finish'!$C$6)","v":{"$error":"#VALUE!"}},null,"01-","13-",{"$f":"CONCAT!$D$2","v":""},null,0,{"$f":"J378&A378&K378","v":"13-PD1242"},{"$nulls":3},{"$f":"Q378&K378","v":""},null,{"$f":"N378","v":"13-PD1242"},1,{"$nulls":3},{"$f":"C378*1","v":{"v":92,"d":"$92.00"}},{"$f":"C378*1","v":{"v":92,"d":"$92.00"}},null,"Light Blue","Dark Gray",null,null,"Plant on Doors"]
["PD2430","Plant on Door 24\" x 30\"",{"v":132,"d":"$132.00"},2,null,{"$f":"C379*'Order Form'!$S$18*(Color!$C$6+'Door Style'!$H$6)","v":{"$error":"#VALUE!"}},{"$f":"C379*$G$1*'Order Form'!$S$18*(Color!$D$6+'Door Style'!$G$6+Species!$C$6+'Custom Finish'!$C$6)","v":{"$error":"#VALUE!"}},null,"01-","13-",{"$f":"CONCAT!$D$2","v":""},null,0,{"$f":"J379&A379&K379","v":"13-PD2430"},{"$nulls":3},{"$f":"Q379&K379","v":""},null,{"$f":"N379","v":"13-PD2430"},1,{"$nulls":3},{"$f":"C379*1","v":{"v":132,"d":"$132.00"}},{"$f":"C379*1","v":{"v":132,"d":"$132.00"}},null,"Light Blue","Dark Gray",null,null,"Plant on Doors"]
["PLY WHITE BIRCH 12MM-RAW","Plywood 12mm White Birch Plywood Raw",{"v":100,"d":"$100.00"},2,null,{"$f":"C380*'Order Form'!$S$18","v":0},{"$f":"C380*'Order Form'!$S$18","v":0},null,"/","","",null,0,{"$f":"J380&A380&K380","v":"PLY WHITE BIRCH 12MM-RAW"},{"$nulls":3},{"$f":"Q380&K380","v":""},null,{"$f":"N380","v":"PLY WHITE BIRCH 12MM-RAW"},1,{"$nulls":3},{"$f":"C380*1","v":{"v":100,"d":"$100.00"}},{"$f":"C380*1","v":{"v":100,"d":"$100.00"}},null,"Tan","Tan",null,null,"Accessory - Extra"]
["PLY WHITE BIRCH 19MM-RAW","Plywood 19mm White Birch Plywood Raw",{"v":125,"d":"$125.00"},2,null,{"$f":"C381*'Order Form'!$S$18","v":0},{"$f":"C381*'Order Form'!$S$18","v":0},null,"/","","",null,0,{"$f":"J381&A381&K381","v":"PLY WHITE BIRCH 19MM-RAW"},{"$nulls":3},{"$f":"Q381&K381","v":""},null,{"$f":"N381","v":"PLY WHITE BIRCH 19MM-RAW"},1,{"$nulls":3},{"$f":"C381*1","v":{"v":125,"d":"$125.00"}},{"$f":"C381*1","v":{"v":125,"d":"$125.00"}},null,"Tan","Tan",null,null,"Accessory - Extra"]
["PR3015","Plate Rack Cabinet 30\" x 15\"",{"v":232,"d":"$232.00"},3,null,null,{"$f":"C382*$G$1*'Order Form'!$S$18*(Color!$D$6+Species!$C$6)","v":{"$error":"#VALUE!"}},null,"SC/PC","13-",{"$f":"CONCAT!$D$8","v":""},null,1,{"$f":"J382&A382&K382","v":"13-PR3015"},"11-PR3015",1,"12-PR3015",{"$f":"Q382&K382","v":"12-PR3015"},1,{"$nulls":5},{"$f":"C382*1","v":{"v":232,"d":"$232.00"}},{"$f":"C382*1","v":{"v":232,"d":"$232.00"}},null,"Black","Pink",null,"1","Wall Cabinet - Plate Rack"]
["PR3030","Plate Rack Cabinet 30\" x 30\"",{"v":439,"d":"$439.00"},3,null,null,{"$f":"C383*$G$1*'Order Form'!$S$18*(Color!$D$6+'Door Style'!$G$6+Species!$C$6+'Custom Finish'!$C$6)","v":{"$error":"#VALUE!"}},null,"SC/PC","01-",{"$f":"CONCAT!$D$8","v":""},null,1,{"$f":"J383&A383&K383","v":"01-PR3030"},"11-PR3030",1,"12-PR3030",{"$f":"Q383&K383","v":"12-PR3030"},1,{"$nulls":5},{"$f":"C383*1","v":{"v":439,"d":"$439.00"}},{"$f":"C383*1","v":{"v":439,"d":"$439.00"}},null,"Black","Dark Gray",null,"1","Wall Cabinet - Plate Rack"]
["PR3036","Plate Rack Cabinet 30\" x 36\"",{"v":512,"d":"$512.00"},3,null,null,{"$f":"C384*$G$1*'Order Form'!$S$18*(Color!$D$6+'Door Style'!$G$6+Species!$C$6+'Custom Finish'!$C$6)","v":{"$error":"#VALUE!"}},null,"SC/PC","01-",{"$f":"CONCAT!$D$8","v":""},null,1,{"$f":"J384&A384&K384","v":"01-PR3036"},"11-PR3036",1,"12-PR3036",{"$f":"Q384&K384","v":"12-PR3036"},1,{"$nulls":5},{"$f":"C384*1","v":{"v":512,"d":"$512.00"}},{"$f":"C384*1","v":{"v":512,"d":"$512.00"}},null,"Black","Dark Gray",null,"1","Wall Cabinet - Plate Rack"]
["PR3042","Plate Rack Cabinet 30\" x 42\"",{"v":578,"d":"$578.00"},3,null,null,{"$f":"C385*$G$1*'Order Form'!$S$18*(Color!$D$6+'Door Style'!$G$6+Species!$C$6+'Custom Finish'!$C$6)","v":{"$error":"#VALUE!"}},null,"SC/PC","01-",{"$f":"CONCAT!$D$8","v":""},null,1,{"$f":"J385&A385&K385","v":"01-PR3042"},"11-PR3042",1,"12-PR3042",{"$f":"Q385&K385","v":"12-PR3042"},1,{"$nulls":6},{"$f":"C385*1","v":{"v":578,"d":"$578.00"}},null,"Black","Dark Gray",null,"1","Wall Cabinet - Plate Rack"]
["PULL-NONSTOCK","Place Holder For Any Buy to Order Pull or Knob",0,2,null,0,0,1,"/","","",null,0,{"$f":"J386&A386&K386","v":"PULL-NONSTOCK"},{"$nulls":3},{"$f":"Q386&K386","v":""},null,{"$f":"N386","v":"PULL-NONSTOCK"},1,{"$nulls":3},{"$f":"(C386*Color!$G$6*1)","v":{"$error":"#VALUE!"}},{"$f":"C386*$G$1*1*(Color!$D$6+Species!$C$6)","v":{"$error":"#VALUE!"}},null,"Dark Blue","Dark Blue",null,null,"Accessory - Pull"]
["QTRRND",".75\" x .75\" Quarter Round ",{"v":29,"d":"$29.00"},2,null,{"$f":"(C387*Color!$G$6*'Order Form'!$S$18)","v":{"$error":"#VALUE!"}},{"$f":"C387*$G$1*'Order Form'!$S$18*(Color!$D$6+Species!$C$6)","v":{"$error":"#VALUE!"}},null,"13-","13-",{"$f":"CONCAT!$D$3","v":""},null,0,{"$f":"J387&A387&K387","v":"13-QTRRND"},{"$nulls":3},{"$f":"Q387&K387","v":""},null,{"$f":"N387","v":"13-QTRRND"},1,{"$nulls":3},{"$f":"(C387*Color!$G$6*1)","v":{"$error":"#VALUE!"}},{"$f":"C387*$G$1*1*(Color!$D$6+Species!$C$6)","v":{"$error":"#VALUE!"}},null,"Orange","Pink",null,null,"Trim"]
["RECYCLE CENTER-CHROME SALICE","Two 35QT cans - w/Chrome System for B18",{"v":250,"d":"$250.00"},2,null,{"$f":"C388","v":250},{"$f":"C388","v":250},null,"/","","",null,0,{"$f":"J388&A388&K388","v":"RECYCLE CENTER-CHROME SALICE"},{"$nulls":3},{"$f":"Q388&K388","v":""},null,{"$f":"N388","v":"RECYCLE CENTER-CHROME SALICE"},1,{"$nulls":4},{"$f":"C388*$G$1*1*(Color!$D$6+'Door Style'!$G$6+Species!$C$6+'Custom Finish'!$C$6)","v":{"$error":"#VALUE!"}},null,"Tan","Tan",null,null,"Accessory - Base - Recycle/Trash"]
["RECYCLE CENTER-FHB21","Two 50QT cans for FHB 21",{"v":415,"d":"$415.00"},2,null,{"$f":"C389","v":415},{"$f":"C389","v":415},null,"/","","",null,0,{"$f":"J389&A389&K389","v":"RECYCLE CENTER-FHB21"},{"$nulls":3},{"$f":"Q389&K389","v":""},null,{"$f":"N389","v":"RECYCLE CENTER-FHB21"},1,{"$nulls":4},{"$f":"C389*$G$1*1*(Color!$D$6+'Door Style'!$G$6+Species!$C$6+'Custom Finish'!$C$6)","v":{"$error":"#VALUE!"}},null,"Tan","Tan",null,null,"Accessory - Base - Recycle/Trash"]
["RECYCLE CENTER-WOOD REV","Two 35QT cans - w/Wood System for B18",{"v":370,"d":"$370.00"},2,null,{"$f":"C390","v":370},{"$f":"C390","v":370},null,"/","","",null,0,{"$f":"J390&A390&K390","v":"RECYCLE CENTER-WOOD REV"},{"$nulls":3},{"$f":"Q390&K390","v":""},null,{"$f":"N390","v":"RECYCLE CENTER-WOOD REV"},1,{"$nulls":3},{"$f":"C390*1*(Color!$C$6+'Door Style'!$H$6)","v":{"$error":"#VALUE!"}},{"$f":"C390*$G$1*1*(Color!$D$6+'Door Style'!$G$6+Species!$C$6+'Custom Finish'!$C$6)","v":{"$error":"#VALUE!"}},null,"Tan","Tan",null,null,"Accessory - Base - Recycle/Trash"]
["RECYCLE SINGLE-WOOD REV","Single 35QT can -w/ Wood System for B15",{"v":250,"d":"$250.00"},2,null,{"$f":"C391","v":250},{"$f":"C391","v":250},null,"/","","",null,0,{"$f":"J391&A391&K391","v":"RECYCLE SINGLE-WOOD REV"},{"$nulls":3},{"$f":"Q391&K391","v":""},null,{"$f":"N391","v":"RECYCLE SINGLE-WOOD REV"},1,{"$nulls":3},{"$f":"C391*1*(Color!$C$6+'Door Style'!$H$6)","v":{"$error":"#VALUE!"}},{"$f":"C391*$G$1*1*(Color!$D$6+'Door Style'!$G$6+Species!$C$6+'Custom Finish'!$C$6)","v":{"$error":"#VALUE!"}},null,"Tan","Tan",null,null,"Accessory - Base - Recycle/Trash"]
["RESTOCKING FEE","25% but only after the return has been approved",0,2,null,0,0,null,"/","/","",null,0,{"$f":"J392&A392&K392","v":"/RESTOCKING FEE"},{"$nulls":3},{"$f":"Q392&K392","v":""},null,{"$f":"N392","v":"/RESTOCKING FEE"},1,{"$nulls":3},{"$f":"C392*1*(Color!$C$6+'Door Style'!$H$6)","v":{"$error":"#VALUE!"}},{"$f":"C392*$G$1*1*(Color!$D$6+'Door Style'!$G$6+Species!$C$6+'Custom Finish'!$C$6)","v":{"$error":"#VALUE!"}},null,"Dark Blue","Dark Blue","N"]
["ROS15","Roll Out Shelf 15\" ",{"v":64,"d":"$64.00"},2,null,{"$f":"C393*'Order Form'!$S$18","v":0},{"$f":"C393*'Order Form'!$S$18","v":0},null,"/","01-","",null,0,{"$f":"J393&A393&K393","v":"01-ROS15"},{"$nulls":3},{"$f":"Q393&K393","v":""},null,{"$f":"N393","v":"01-ROS15"},1,"DG 21IN KITCHEN SET-DTC",1,null,{"$f":"C393*1*(Color!$C$6+'Door Style'!$H$6)","v":{"$error":"#VALUE!"}},{"$f":"C393*$G$1*1*(Color!$D$6+'Door Style'!$G$6+Species!$C$6+'Custom Finish'!$C$6)","v":{"$error":"#VALUE!"}},null,"Purple","Purple",null,null,"Shelf - Roll Out"]
["ROS18","Roll Out Shelf 18\"",{"v":70,"d":"$70.00"},2,null,{"$f":"C394*'Order Form'!$S$18","v":0},{"$f":"C394*'Order Form'!$S$18","v":0},null,"/","01-","",null,0,{"$f":"J394&A394&K394","v":"01-ROS18"},{"$nulls":3},{"$f":"Q394&K394","v":""},null,{"$f":"N394","v":"01-ROS18"},1,"DG 21IN KITCHEN SET-DTC",1,null,{"$f":"C394*1*(Color!$C$6+'Door Style'!$H$6)","v":{"$error":"#VALUE!"}},{"$f":"C394*$G$1*1*(Color!$D$6+'Door Style'!$G$6+Species!$C$6+'Custom Finish'!$C$6)","v":{"$error":"#VALUE!"}},null,"Purple","Purple",null,null,"Shelf - Roll Out"]
["ROS21","Roll Out Shelf 21\"",{"v":77,"d":"$77.00"},2,null,{"$f":"C395*'Order Form'!$S$18","v":0},{"$f":"C395*'Order Form'!$S$18","v":0},null,"/","01-","",null,0,{"$f":"J395&A395&K395","v":"01-ROS21"},{"$nulls":3},{"$f":"Q395&K395","v":""},null,{"$f":"N395","v":"01-ROS21"},1,"DG 21IN KITCHEN SET-DTC",1,null,{"$f":"C395*1*(Color!$C$6+'Door Style'!$H$6)","v":{"$error":"#VALUE!"}},{"$f":"C395*$G$1*1*(Color!$D$6+'Door Style'!$G$6+Species!$C$6+'Custom Finish'!$C$6)","v":{"$error":"#VALUE!"}},null,"Purple","Purple",null,null,"Shelf - Roll Out"]
["ROS24","Roll Out Shelf 24\"",{"v":83,"d":"$83.00"},2,null,{"$f":"C396*'Order Form'!$S$18","v":0},{"$f":"C396*'Order Form'!$S$18","v":0},null,"/","01-","",null,0,{"$f":"J396&A396&K396","v":"01-ROS24"},{"$nulls":3},{"$f":"Q396&K396","v":""},null,{"$f":"N396","v":"01-ROS24"},1,"DG 21IN KITCHEN SET-DTC",1,null,{"$f":"C396*1*(Color!$C$6+'Door Style'!$H$6)","v":{"$error":"#VALUE!"}},{"$f":"C396*$G$1*1*(Color!$D$6+'Door Style'!$G$6+Species!$C$6+'Custom Finish'!$C$6)","v":{"$error":"#VALUE!"}},null,"Purple","Purple",null,null,"Shelf - Roll Out"]
["ROS27","Roll Out Shelf 27\"",{"v":88,"d":"$88.00"},2,null,{"$f":"C397*'Order Form'!$S$18","v":0},{"$f":"C397*'Order Form'!$S$18","v":0},null,"/","01-","",null,0,{"$f":"J397&A397&K397","v":"01-ROS27"},{"$nulls":3},{"$f":"Q397&K397","v":""},null,{"$f":"N397","v":"01-ROS27"},1,"DG 21IN KITCHEN SET-DTC",1,null,{"$f":"C397*1*(Color!$C$6+'Door Style'!$H$6)","v":{"$error":"#VALUE!"}},{"$f":"C397*$G$1*1*(Color!$D$6+'Door Style'!$G$6+Species!$C$6+'Custom Finish'!$C$6)","v":{"$error":"#VALUE!"}},null,"Purple","Purple",null,null,"Shelf - Roll Out"]
["ROS30","Roll Out Shelf 30\"",{"v":95,"d":"$95.00"},2,null,{"$f":"C398*'Order Form'!$S$18","v":0},{"$f":"C398*'Order Form'!$S$18","v":0},null,"/","01-","",null,0,{"$f":"J398&A398&K398","v":"01-ROS30"},{"$nulls":3},{"$f":"Q398&K398","v":""},null,{"$f":"N398","v":"01-ROS30"},1,"DG 21IN KITCHEN SET-DTC",1,null,{"$f":"C398*1*(Color!$C$6+'Door Style'!$H$6)","v":{"$error":"#VALUE!"}},{"$f":"C398*$G$1*1*(Color!$D$6+'Door Style'!$G$6+Species!$C$6+'Custom Finish'!$C$6)","v":{"$error":"#VALUE!"}},null,"Purple","Purple",null,null,"Shelf - Roll Out"]
["ROS33","Roll Out Shelf 33\"",{"v":101,"d":"$101.00"},2,null,{"$f":"C399*'Order Form'!$S$18","v":0},{"$f":"C399*'Order Form'!$S$18","v":0},null,"/","01-","",null,0,{"$f":"J399&A399&K399","v":"01-ROS33"},{"$nulls":3},{"$f":"Q399&K399","v":""},null,{"$f":"N399","v":"01-ROS33"},1,"DG 21IN KITCHEN SET-DTC",1,null,{"$f":"C399*1*(Color!$C$6+'Door Style'!$H$6)","v":{"$error":"#VALUE!"}},{"$f":"C399*$G$1*1*(Color!$D$6+'Door Style'!$G$6+Species!$C$6+'Custom Finish'!$C$6)","v":{"$error":"#VALUE!"}},null,"Purple","Purple",null,null,"Shelf - Roll Out"]
["ROS36","Roll Out Shelf 36\"",{"v":108,"d":"$108.00"},2,null,{"$f":"C400*'Order Form'!$S$18","v":0},{"$f":"C400*'Order Form'!$S$18","v":0},null,"/","01-","",null,0,{"$f":"J400&A400&K400","v":"01-ROS36"},{"$nulls":3},{"$f":"Q400&K400","v":""},null,{"$f":"N400","v":"01-ROS36"},1,"DG 21IN KITCHEN SET-DTC",1,null,{"$f":"C400*1*(Color!$C$6+'Door Style'!$H$6)","v":{"$error":"#VALUE!"}},{"$f":"C400*$G$1*1*(Color!$D$6+'Door Style'!$G$6+Species!$C$6+'Custom Finish'!$C$6)","v":{"$error":"#VALUE!"}},null,"Purple","Purple",null,null,"Shelf - Roll Out"]
["ROS39","Roll Out Shelf 39\"",{"v":117,"d":"$117.00"},3,null,null,{"$f":"C401*'Order Form'!$S$18","v":0},null,"/","01-","",null,0,{"$f":"J401&A401&K401","v":"01-ROS39"},{"$nulls":3},{"$f":"Q401&K401","v":""},null,{"$f":"N401","v":"01-ROS39"},1,"DG 21IN KITCHEN SET-DTC",1,null,{"$f":"C401*1*(Color!$C$6+'Door Style'!$H$6)","v":{"$error":"#VALUE!"}},{"$f":"C401*$G$1*1*(Color!$D$6+'Door Style'!$G$6+Species!$C$6+'Custom Finish'!$C$6)","v":{"$error":"#VALUE!"}},null,"Black","Purple",null,null,"Shelf - Roll Out"]
["RP2496","Refrigerator panel with 1.5\" Stile 24\" x 96\"",{"v":278,"d":"$278.00"},2,null,{"$f":"(C402*Color!$G$6*'Order Form'!$S$18)","v":{"$error":"#VALUE!"}},{"$f":"C402*$G$1*'Order Form'!$S$18*(Color!$D$6+Species!$C$6)","v":{"$error":"#VALUE!"}},null,"13-","13-",{"$f":"CONCAT!$D$3","v":""},null,0,{"$f":"J402&A402&K402","v":"13-RP2496"},{"$nulls":3},{"$f":"Q402&K402","v":""},null,{"$f":"N402","v":"13-RP2496"},1,{"$nulls":3},{"$f":"C402*1*(Color!$C$6+'Door Style'!$H$6)","v":{"$error":"#VALUE!"}},{"$f":"C402*$G$1*1*(Color!$D$6+'Door Style'!$G$6+Species!$C$6+'Custom Finish'!$C$6)","v":{"$error":"#VALUE!"}},null,"Orange","Pink",null,null,"Trim - Panel - Refrigerator"]
["RP3096","Refrigerator panel with 1.5\" Stile 30\" x 96\"",{"v":400,"d":"$400.00"},2,null,{"$f":"(C403*Color!$G$6*'Order Form'!$S$18)","v":{"$error":"#VALUE!"}},{"$f":"C403*$G$1*'Order Form'!$S$18*(Color!$D$6+Species!$C$6)","v":{"$error":"#VALUE!"}},null,"13-","13-",{"$f":"CONCAT!$D$3","v":""},null,0,{"$f":"J403&A403&K403","v":"13-RP3096"},{"$nulls":3},{"$f":"Q403&K403","v":""},null,{"$f":"N403","v":"13-RP3096"},1,{"$nulls":4},{"$f":"C403*$G$1*1*(Color!$D$6+'Door Style'!$G$6+Species!$C$6+'Custom Finish'!$C$6)","v":{"$error":"#VALUE!"}},null,"Orange","Pink",null,null,"Trim - Panel - Refrigerator"]
["RPES2496","Refrigerator Panel 24\" x 96\"",{"v":524,"d":"$524.00"},3,null,null,{"$f":"C404*$G$1*'Order Form'!$S$18*(Color!$D$6+'Door Style'!$G$6+Species!$C$6+'Custom Finish'!$C$6)","v":{"$error":"#VALUE!"}},null,"SC/PC","13-",{"$f":"CONCAT!$D$8","v":""},null,0,{"$f":"J404&A404&K404","v":"13-RPES2496"},{"$nulls":3},{"$f":"Q404&K404","v":""},null,{"$f":"N404","v":"13-RPES2496"},1,{"$nulls":4},{"$f":"C404*$G$1*1*(Color!$D$6+'Door Style'!$G$6+Species!$C$6+'Custom Finish'!$C$6)","v":{"$error":"#VALUE!"}},null,"Black","Dark Gray",null,null,"Trim - Panel - Refrigerator"]
["RPES3096","Refrigerator Panel 30\" x 96\"",{"v":663,"d":"$663.00"},3,null,null,{"$f":"C405*$G$1*'Order Form'!$S$18*(Color!$D$6+'Door Style'!$G$6+Species!$C$6+'Custom Finish'!$C$6)","v":{"$error":"#VALUE!"}},null,"SC/PC","13-",{"$f":"CONCAT!$D$8","v":""},null,0,{"$f":"J405&A405&K405","v":"13-RPES3096"},{"$nulls":3},{"$f":"Q405&K405","v":""},null,{"$f":"N405","v":"13-RPES3096"},1,{"$nulls":3},{"$f":"C405*1*(Color!$C$6+'Door Style'!$H$6)","v":{"$error":"#VALUE!"}},{"$f":"C405*$G$1*1*(Color!$D$6+'Door Style'!$G$6+Species!$C$6+'Custom Finish'!$C$6)","v":{"$error":"#VALUE!"}},null,"Black","Dark Gray",null,null,"Trim - Panel - Refrigerator"]
["RW3012","Refrigerator Wall 30\" x 12\"",{"v":238,"d":"$238.00"},2,null,{"$f":"C406*'Order Form'!$S$18*(Color!$C$6+'Door Style'!$H$6)","v":{"$error":"#VALUE!"}},{"$f":"C406*$G$1*'Order Form'!$S$18*(Color!$D$6+'Door Style'!$G$6+Species!$C$6+'Custom Finish'!$C$6)","v":{"$error":"#VALUE!"}},null,"01-","01-",{"$f":"CONCAT!$D$2","v":""},null,1,{"$f":"J406&A406&K406","v":"01-RW3012"},"11-RW3012",1,"12-W3012",{"$f":"Q406&K406","v":"12-W3012"},1,{"$nulls":6},{"$f":"C406*$G$1*1*(Color!$D$6+'Door Style'!$G$6+Species!$C$6+'Custom Finish'!$C$6)","v":{"$error":"#VALUE!"}},null,"Light Blue","Dark Gray",null,"1","Wall Cabinet - Refrigerator"]
["RW3015","Refrigerator Wall 30\" x 15\"",{"v":275,"d":"$275.00"},2,null,{"$f":"C407*'Order Form'!$S$18*(Color!$C$6+'Door Style'!$H$6)","v":{"$error":"#VALUE!"}},{"$f":"C407*$G$1*'Order Form'!$S$18*(Color!$D$6+'Door Style'!$G$6+Species!$C$6+'Custom Finish'!$C$6)","v":{"$error":"#VALUE!"}},null,"01-","01-",{"$f":"CONCAT!$D$2","v":""},null,1,{"$f":"J407&A407&K407","v":"01-RW3015"},"11-RW3015",1,"12-W3015",{"$f":"Q407&K407","v":"12-W3015"},1,{"$nulls":5},{"$f":"C407*1*(Color!$C$6+'Door Style'!$H$6)","v":{"$error":"#VALUE!"}},{"$f":"C407*$G$1*1*(Color!$D$6+'Door Style'!$G$6+Species!$C$6+'Custom Finish'!$C$6)","v":{"$error":"#VALUE!"}},null,"Light Blue","Dark Gray",null,"1","Wall Cabinet - Refrigerator"]
["RW3018","Refrigerator Wall 30\" x 18\"",{"v":293,"d":"$293.00"},2,null,{"$f":"C408*'Order Form'!$S$18*(Color!$C$6+'Door Style'!$H$6)","v":{"$error":"#VALUE!"}},{"$f":"C408*$G$1*'Order Form'!$S$18*(Color!$D$6+'Door Style'!$G$6+Species!$C$6+'Custom Finish'!$C$6)","v":{"$error":"#VALUE!"}},null,"01-","01-",{"$f":"CONCAT!$D$2","v":""},null,1,{"$f":"J408&A408&K408","v":"01-RW3018"},"11-RW3018",1,"12-W3018",{"$f":"Q408&K408","v":"12-W3018"},1,{"$nulls":5},{"$f":"C408","v":{"v":293,"d":"$293.00"}},{"$f":"C408","v":{"v":293,"d":"$293.00"}},null,"Light Blue","Dark Gray",null,"1","Wall Cabinet - Refrigerator"]
["RW3021","Refrigerator Wall 30\" x 21\"",{"v":364,"d":"$364.00"},2,null,{"$f":"C409*'Order Form'!$S$18*(Color!$C$6+'Door Style'!$H$6)","v":{"$error":"#VALUE!"}},{"$f":"C409*$G$1*'Order Form'!$S$18*(Color!$D$6+'Door Style'!$G$6+Species!$C$6+'Custom Finish'!$C$6)","v":{"$error":"#VALUE!"}},null,"01-","01-",{"$f":"CONCAT!$D$2","v":""},null,1,{"$f":"J409&A409&K409","v":"01-RW3021"},"11-RW3021",1,"12-W3021",{"$f":"Q409&K409","v":"12-W3021"},1,{"$nulls":5},{"$f":"C409","v":{"v":364,"d":"$364.00"}},{"$f":"C409","v":{"v":364,"d":"$364.00"}},null,"Light Blue","Dark Gray",null,"1","Wall Cabinet - Refrigerator"]
["RW3024","Refrigerator Wall 30\" x 24\"",{"v":392,"d":"$392.00"},2,null,{"$f":"C410*'Order Form'!$S$18*(Color!$C$6+'Door Style'!$H$6)","v":{"$error":"#VALUE!"}},{"$f":"C410*$G$1*'Order Form'!$S$18*(Color!$D$6+'Door Style'!$G$6+Species!$C$6+'Custom Finish'!$C$6)","v":{"$error":"#VALUE!"}},null,"01-","01-",{"$f":"CONCAT!$D$2","v":""},null,1,{"$f":"J410&A410&K410","v":"01-RW3024"},"11-RW3024",1,"12-W3024",{"$f":"Q410&K410","v":"12-W3024"},1,{"$nulls":5},{"$f":"C410","v":{"v":392,"d":"$392.00"}},{"$f":"C410","v":{"v":392,"d":"$392.00"}},null,"Light Blue","Dark Gray",null,"1","Wall Cabinet - Refrigerator"]
["RW3312","Refrigerator Wall 33\" x 12\"",{"v":246,"d":"$246.00"},2,null,{"$f":"C411*'Order Form'!$S$18*(Color!$C$6+'Door Style'!$H$6)","v":{"$error":"#VALUE!"}},{"$f":"C411*$G$1*'Order Form'!$S$18*(Color!$D$6+'Door Style'!$G$6+Species!$C$6+'Custom Finish'!$C$6)","v":{"$error":"#VALUE!"}},null,"01-","01-",{"$f":"CONCAT!$D$2","v":""},null,1,{"$f":"J411&A411&K411","v":"01-RW3312"},"11-RW3312",1,"12-W3312",{"$f":"Q411&K411","v":"12-W3312"},1,{"$nulls":5},0,0,null,"Light Blue","Dark Gray",null,"1","Wall Cabinet - Refrigerator"]
["RW3315","Refrigerator Wall 33\" x 15\"",{"v":266,"d":"$266.00"},2,null,{"$f":"C412*'Order Form'!$S$18*(Color!$C$6+'Door Style'!$H$6)","v":{"$error":"#VALUE!"}},{"$f":"C412*$G$1*'Order Form'!$S$18*(Color!$D$6+'Door Style'!$G$6+Species!$C$6+'Custom Finish'!$C$6)","v":{"$error":"#VALUE!"}},null,"01-","01-",{"$f":"CONCAT!$D$2","v":""},null,1,{"$f":"J412&A412&K412","v":"01-RW3315"},"11-RW3315",1,"12-W3315",{"$f":"Q412&K412","v":"12-W3315"},1,{"$nulls":5},{"$f":"C412*1*(Color!$C$6+'Door Style'!$H$6)","v":{"$error":"#VALUE!"}},{"$f":"C412*$G$1*1*(Color!$D$6+'Door Style'!$G$6+Species!$C$6+'Drawer Head'!$E$6+'Custom Finish'!$C$6)","v":{"$error":"#VALUE!"}},null,"Light Blue","Dark Gray",null,"1","Wall Cabinet - Refrigerator"]
["RW3318","Refrigerator Wall 33\" x 18\"",{"v":304,"d":"$304.00"},2,null,{"$f":"C413*'Order Form'!$S$18*(Color!$C$6+'Door Style'!$H$6)","v":{"$error":"#VALUE!"}},{"$f":"C413*$G$1*'Order Form'!$S$18*(Color!$D$6+'Door Style'!$G$6+Species!$C$6+'Custom Finish'!$C$6)","v":{"$error":"#VALUE!"}},null,"01-","01-",{"$f":"CONCAT!$D$2","v":""},null,1,{"$f":"J413&A413&K413","v":"01-RW3318"},"11-RW3318",1,"12-W3318",{"$f":"Q413&K413","v":"12-W3318"},1,{"$nulls":6},{"$f":"C413*$G$1*1*(Color!$D$6+'Door Style'!$G$6+Species!$C$6+'Drawer Head'!$E$6+'Custom Finish'!$C$6)","v":{"$error":"#VALUE!"}},null,"Light Blue","Dark Gray",null,"1","Wall Cabinet - Refrigerator"]
["RW3612","Refrigerator Wall 36\" x 12\"",{"v":259,"d":"$259.00"},2,null,{"$f":"C414*'Order Form'!$S$18*(Color!$C$6+'Door Style'!$H$6)","v":{"$error":"#VALUE!"}},{"$f":"C414*$G$1*'Order Form'!$S$18*(Color!$D$6+'Door Style'!$G$6+Species!$C$6+'Custom Finish'!$C$6)","v":{"$error":"#VALUE!"}},null,"01-","01-",{"$f":"CONCAT!$D$2","v":""},null,1,{"$f":"J414&A414&K414","v":"01-RW3612"},"11-RW3612",1,"12-W3612",{"$f":"Q414&K414","v":"12-W3612"},1,{"$nulls":5},{"$f":"C414*1*(Color!$C$6+'Door Style'!$H$6)","v":{"$error":"#VALUE!"}},{"$f":"C414*$G$1*1*(Color!$D$6+'Door Style'!$G$6+Species!$C$6+'Drawer Head'!$E$6+'Custom Finish'!$C$6)","v":{"$error":"#VALUE!"}},null,"Light Blue","Dark Gray",null,"1","Wall Cabinet - Refrigerator"]
["RW3615","Refrigerator Wall 36\" x 15\"",{"v":292,"d":"$292.00"},2,null,{"$f":"C415*'Order Form'!$S$18*(Color!$C$6+'Door Style'!$H$6)","v":{"$error":"#VALUE!"}},{"$f":"C415*$G$1*'Order Form'!$S$18*(Color!$D$6+'Door Style'!$G$6+Species!$C$6+'Custom Finish'!$C$6)","v":{"$error":"#VALUE!"}},null,"01-","01-",{"$f":"CONCAT!$D$2","v":""},null,1,{"$f":"J415&A415&K415","v":"01-RW3615"},"11-RW3615",1,"12-W3615",{"$f":"Q415&K415","v":"12-W3615"},1,{"$nulls":6},{"$f":"C415*$G$1*1*(Color!$D$6+'Door Style'!$G$6+Species!$C$6+'Drawer Head'!$E$6+'Custom Finish'!$C$6)","v":{"$error":"#VALUE!"}},null,"Light Blue","Dark Gray",null,"1","Wall Cabinet - Refrigerator"]
["RW3618","Refrigerator Wall 36\" x 18\"",{"v":322,"d":"$322.00"},2,null,{"$f":"C416*'Order Form'!$S$18*(Color!$C$6+'Door Style'!$H$6)","v":{"$error":"#VALUE!"}},{"$f":"C416*$G$1*'Order Form'!$S$18*(Color!$D$6+'Door Style'!$G$6+Species!$C$6+'Custom Finish'!$C$6)","v":{"$error":"#VALUE!"}},null,"01-","01-",{"$f":"CONCAT!$D$2","v":""},null,1,{"$f":"J416&A416&K416","v":"01-RW3618"},"11-RW3618",1,"12-W3618",{"$f":"Q416&K416","v":"12-W3618"},1,{"$nulls":5},{"$f":"C416*1*(Color!$C$6+'Door Style'!$H$6)","v":{"$error":"#VALUE!"}},{"$f":"C416*$G$1*1*(Color!$D$6+'Door Style'!$G$6+Species!$C$6+'Drawer Head'!$E$6+'Custom Finish'!$C$6)","v":{"$error":"#VALUE!"}},null,"Light Blue","Dark Gray",null,"1","Wall Cabinet - Refrigerator"]
["RW3621","Refrigerator Wall 36\" x 21\"",{"v":389,"d":"$389.00"},2,null,{"$f":"C417*'Order Form'!$S$18*(Color!$C$6+'Door Style'!$H$6)","v":{"$error":"#VALUE!"}},{"$f":"C417*$G$1*'Order Form'!$S$18*(Color!$D$6+'Door Style'!$G$6+Species!$C$6+'Custom Finish'!$C$6)","v":{"$error":"#VALUE!"}},null,"01-","01-",{"$f":"CONCAT!$D$2","v":""},null,1,{"$f":"J417&A417&K417","v":"01-RW3621"},"11-RW3621",1,"12-W3621",{"$f":"Q417&K417","v":"12-W3621"},1,{"$nulls":6},{"$f":"C417*$G$1*1*(Color!$D$6+'Door Style'!$G$6+Species!$C$6+'Drawer Head'!$E$6+'Custom Finish'!$C$6)","v":{"$error":"#VALUE!"}},null,"Light Blue","Dark Gray",null,"1","Wall Cabinet - Refrigerator"]
["RW3624","Refrigerator Wall 36\" x 24\"",{"v":422,"d":"$422.00"},2,null,{"$f":"C418*'Order Form'!$S$18*(Color!$C$6+'Door Style'!$H$6)","v":{"$error":"#VALUE!"}},{"$f":"C418*$G$1*'Order Form'!$S$18*(Color!$D$6+'Door Style'!$G$6+Species!$C$6+'Custom Finish'!$C$6)","v":{"$error":"#VALUE!"}},null,"01-","01-",{"$f":"CONCAT!$D$2","v":""},null,1,{"$f":"J418&A418&K418","v":"01-RW3624"},"11-RW3624",1,"12-W3624",{"$f":"Q418&K418","v":"12-W3624"},1,{"$nulls":5},{"$f":"C418*1*(Color!$C$6+'Door Style'!$H$6)","v":{"$error":"#VALUE!"}},{"$f":"C418*$G$1*1*(Color!$D$6+'Door Style'!$G$6+Species!$C$6+'Drawer Head'!$E$6+'Custom Finish'!$C$6)","v":{"$error":"#VALUE!"}},null,"Light Blue","Dark Gray",null,"1","Wall Cabinet - Refrigerator"]
["RW3912","Refrigerator Wall 39\" x 12\"",{"v":288,"d":"$288.00"},3,null,null,{"$f":"C419*$G$1*'Order Form'!$S$18*(Color!$D$6+'Door Style'!$G$6+Species!$C$6+'Custom Finish'!$C$6)","v":{"$error":"#VALUE!"}},null,"SC/PC","01-",{"$f":"CONCAT!$D$8","v":""},null,1,{"$f":"J419&A419&K419","v":"01-RW3912"},"11-RW3912",1,"12-W3912",{"$f":"Q419&K419","v":"12-W3912"},1,{"$nulls":5},{"$f":"C419*1*(Color!$C$6+'Door Style'!$H$6)","v":{"$error":"#VALUE!"}},{"$f":"C419*$G$1*1*(Color!$D$6+'Door Style'!$G$6+Species!$C$6+'Drawer Head'!$E$6+'Custom Finish'!$C$6)","v":{"$error":"#VALUE!"}},null,"Black","Dark Gray",null,"1","Wall Cabinet - Refrigerator"]
["RW3915","Refrigerator Wall 39\" x 15\"",{"v":322,"d":"$322.00"},3,null,null,{"$f":"C420*$G$1*'Order Form'!$S$18*(Color!$D$6+'Door Style'!$G$6+Species!$C$6+'Custom Finish'!$C$6)","v":{"$error":"#VALUE!"}},null,"SC/PC","01-",{"$f":"CONCAT!$D$8","v":""},null,1,{"$f":"J420&A420&K420","v":"01-RW3915"},"11-RW3915",1,"12-W3915",{"$f":"Q420&K420","v":"12-W3915"},1,{"$nulls":5},{"$f":"C420*1*(Color!$C$6+'Door Style'!$H$6)","v":{"$error":"#VALUE!"}},{"$f":"C420*$G$1*1*(Color!$D$6+'Door Style'!$G$6+Species!$C$6+'Drawer Head'!$E$6+'Custom Finish'!$C$6)","v":{"$error":"#VALUE!"}},null,"Black","Dark Gray",null,"1","Wall Cabinet - Refrigerator"]
["RW3918","Refrigerator Wall 39\" x 18\"",{"v":383,"d":"$383.00"},2,null,{"$f":"C421*'Order Form'!$S$18*(Color!$C$6+'Door Style'!$H$6)","v":{"$error":"#VALUE!"}},{"$f":"C421*$G$1*'Order Form'!$S$18*(Color!$D$6+'Door Style'!$G$6+Species!$C$6+'Custom Finish'!$C$6)","v":{"$error":"#VALUE!"}},null,"01-","01-",{"$f":"CONCAT!$D$2","v":""},null,1,{"$f":"J421&A421&K421","v":"01-RW3918"},"11-RW3918",1,"12-W3918",{"$f":"Q421&K421","v":"12-W3918"},1,{"$nulls":5},{"$f":"C421*1*(Color!$C$6+'Door Style'!$H$6)","v":{"$error":"#VALUE!"}},{"$f":"C421*$G$1*1*(Color!$D$6+'Door Style'!$G$6+Species!$C$6+'Drawer Head'!$E$6+'Custom Finish'!$C$6)","v":{"$error":"#VALUE!"}},null,"Light Blue","Dark Gray",null,"1","Wall Cabinet - Refrigerator"]
["RW3921","Refrigerator Wall 39\" x 21\"",{"v":432,"d":"$432.00"},3,null,null,{"$f":"C422*$G$1*'Order Form'!$S$18*(Color!$D$6+'Door Style'!$G$6+Species!$C$6+'Custom Finish'!$C$6)","v":{"$error":"#VALUE!"}},null,"SC/PC","01-",{"$f":"CONCAT!$D$8","v":""},null,1,{"$f":"J422&A422&K422","v":"01-RW3921"},"11-RW3921",1,"12-W3921",{"$f":"Q422&K422","v":"12-W3921"},1,{"$nulls":5},{"$f":"C422*1*(Color!$C$6+'Door Style'!$H$6)","v":{"$error":"#VALUE!"}},{"$f":"C422*$G$1*1*(Color!$D$6+'Door Style'!$G$6+Species!$C$6+'Drawer Head'!$E$6+'Custom Finish'!$C$6)","v":{"$error":"#VALUE!"}},null,"Black","Dark Gray",null,"1","Wall Cabinet - Refrigerator"]
["RW3924","Refrigerator Wall 39\" x 24\"",{"v":475,"d":"$475.00"},2,null,{"$f":"C423*'Order Form'!$S$18*(Color!$C$6+'Door Style'!$H$6)","v":{"$error":"#VALUE!"}},{"$f":"C423*$G$1*'Order Form'!$S$18*(Color!$D$6+'Door Style'!$G$6+Species!$C$6+'Custom Finish'!$C$6)","v":{"$error":"#VALUE!"}},null,"01-","01-",{"$f":"CONCAT!$D$2","v":""},null,1,{"$f":"J423&A423&K423","v":"01-RW3924"},"11-RW3924",1,"12-W3924",{"$f":"Q423&K423","v":"12-W3924"},1,{"$nulls":6},{"$f":"C423*$G$1*1*(Color!$D$6+'Door Style'!$G$6+Species!$C$6+'Custom Finish'!$C$6)","v":{"$error":"#VALUE!"}},null,"Light Blue","Dark Gray",null,"1","Wall Cabinet - Refrigerator"]
["SAMPLE CHIPS 4 X 6","Single Sample Chip",{"v":1,"d":"$1.00"},2,null,{"$f":"C424","v":1},{"$f":"C424","v":1},null,"/","/","",null,0,{"$f":"J424&A424&K424","v":"/SAMPLE CHIPS 4 X 6"},{"$nulls":3},{"$f":"Q424&K424","v":""},null,{"$f":"N424","v":"/SAMPLE CHIPS 4 X 6"},1,{"$nulls":4},{"$f":"C424*$G$1*1*(Color!$D$6+'Door Style'!$G$6+Species!$C$6+'Custom Finish'!$C$6)","v":{"$error":"#VALUE!"}},null,"Tan","Tan","Dealer",null,"Dealer support item"]
["SAMPLE CHIPS 4 X 6 Set","Includes 5 of each of the 14 colorways",{"v":50,"d":"$50.00"},2,null,{"$f":"C425","v":50},{"$f":"C425","v":50},null,"/","/",null,null,0,{"$f":"J425&A425&K425","v":"/SAMPLE CHIPS 4 X 6 Set"},{"$nulls":3},{"$f":"Q425&K425","v":""},null,{"$f":"N425","v":"/SAMPLE CHIPS 4 X 6 Set"},1,{"$nulls":3},{"$f":"(C425*Color!$G$6*1)","v":{"$error":"#VALUE!"}},{"$f":"C425*$G$1*1*(Color!$D$6+Species!$C$6)","v":{"$error":"#VALUE!"}},null,"Tan","Tan","Dealer",null,"Dealer support item"]
["SAMPLE DOOR","12\" x 16\" Sample To Match Job",{"v":50,"d":"$50.00"},2,null,{"$f":"C426","v":50},{"$f":"C426","v":50},null,"01-","",{"$f":"CONCAT!$D$2","v":""},null,0,{"$f":"J426&A426&K426","v":"SAMPLE DOOR"},{"$nulls":3},{"$f":"Q426&K426","v":""},null,{"$f":"N426","v":"SAMPLE DOOR"},1,{"$nulls":3},{"$f":"C426","v":{"v":50,"d":"$50.00"}},{"$f":"C426","v":{"v":50,"d":"$50.00"}},null,"Tan","Tan",null,null,"Dealer support item"]
["SAMPLE DOOR CREDIT","Credit for sample door that was previously paid",0,2,null,0,0,null,"/","/","",null,0,{"$f":"J427&A427&K427","v":"/SAMPLE DOOR CREDIT"},{"$nulls":3},{"$f":"Q427&K427","v":""},null,{"$f":"N427","v":"/SAMPLE DOOR CREDIT"},1,{"$nulls":3},{"$f":"(C427*Color!$G$6*1)","v":{"$error":"#VALUE!"}},{"$f":"C427*$G$1*1*(Color!$D$6+Species!$C$6)","v":{"$error":"#VALUE!"}},null,"Dark Blue","Dark Blue",null,null,"Modification - Credit"]
["SB18","Sink Base 18\"",{"v":283,"d":"$283.00"},2,null,{"$f":"C428*'Order Form'!$S$18*(Color!$C$6+'Door Style'!$H$6)","v":{"$error":"#VALUE!"}},{"$f":"C428*$G$1*'Order Form'!$S$18*(Color!$D$6+'Door Style'!$G$6+Species!$C$6+'Drawer Head'!$E$6+'Custom Finish'!$C$6)","v":{"$error":"#VALUE!"}},null,"01-","01-",{"$f":"CONCAT!$D$2","v":""},null,1,{"$f":"J428&A428&K428","v":"01-SB18"},"11-SB18",1,"12-B18",{"$f":"Q428&K428","v":"12-B18"},1,{"$nulls":5},{"$f":"(C428*Color!$G$6*1)","v":{"$error":"#VALUE!"}},{"$f":"C428*$G$1*1*(Color!$D$6+Species!$C$6)","v":{"$error":"#VALUE!"}},null,"Light Blue","Light Gray",null,"1","Base Cabinet - Sink"]
["SB19.5","Sink Base 19.5\"",{"v":322,"d":"$322.00"},3,null,null,{"$f":"C429*$G$1*'Order Form'!$S$18*(Color!$D$6+'Door Style'!$G$6+Species!$C$6+'Drawer Head'!$E$6+'Custom Finish'!$C$6)","v":{"$error":"#VALUE!"}},null,"SC/PC","01-",{"$f":"CONCAT!$D$8","v":""},null,1,{"$f":"J429&A429&K429","v":"01-SB19.5"},"11-SB19.5",1,"12-B19.5",{"$f":"Q429&K429","v":"12-B19.5"},1,{"$nulls":5},{"$f":"(C429*Color!$G$6*1)","v":{"$error":"#VALUE!"}},{"$f":"C429*$G$1*1*(Color!$D$6+Species!$C$6)","v":{"$error":"#VALUE!"}},null,"Black","Light Gray",null,"1","Base Cabinet - Sink"]
["SB21","Sink Base 21\"",{"v":320,"d":"$320.00"},2,null,{"$f":"C430*'Order Form'!$S$18*(Color!$C$6+'Door Style'!$H$6)","v":{"$error":"#VALUE!"}},{"$f":"C430*$G$1*'Order Form'!$S$18*(Color!$D$6+'Door Style'!$G$6+Species!$C$6+'Drawer Head'!$E$6+'Custom Finish'!$C$6)","v":{"$error":"#VALUE!"}},null,"01-","01-",{"$f":"CONCAT!$D$2","v":""},null,1,{"$f":"J430&A430&K430","v":"01-SB21"},"11-SB21",1,"12-B21",{"$f":"Q430&K430","v":"12-B21"},1,{"$nulls":5},{"$f":"(C430*Color!$G$6*1)","v":{"$error":"#VALUE!"}},{"$f":"C430*$G$1*1*(Color!$D$6+Species!$C$6)","v":{"$error":"#VALUE!"}},null,"Light Blue","Light Gray",null,"1","Base Cabinet - Sink"]
["SB22.5","Sink Base 22.5\"",{"v":356,"d":"$356.00"},3,null,null,{"$f":"C431*$G$1*'Order Form'!$S$18*(Color!$D$6+'Door Style'!$G$6+Species!$C$6+'Drawer Head'!$E$6+'Custom Finish'!$C$6)","v":{"$error":"#VALUE!"}},null,"SC/PC","01-",{"$f":"CONCAT!$D$8","v":""},null,1,{"$f":"J431&A431&K431","v":"01-SB22.5"},"11-SB22.5",1,"12-B22.5",{"$f":"Q431&K431","v":"12-B22.5"},1,{"$nulls":5},{"$f":"(C431*Color!$G$6*1)","v":{"$error":"#VALUE!"}},{"$f":"C431*$G$1*1*(Color!$D$6+Species!$C$6)","v":{"$error":"#VALUE!"}},null,"Black","Light Gray",null,"1","Base Cabinet - Sink"]
["SB24","Sink Base 24\"",{"v":355,"d":"$355.00"},2,null,{"$f":"C432*'Order Form'!$S$18*(Color!$C$6+'Door Style'!$H$6)","v":{"$error":"#VALUE!"}},{"$f":"C432*$G$1*'Order Form'!$S$18*(Color!$D$6+'Door Style'!$G$6+Species!$C$6+'Drawer Head'!$E$6+'Custom Finish'!$C$6)","v":{"$error":"#VALUE!"}},null,"01-","01-",{"$f":"CONCAT!$D$2","v":""},null,1,{"$f":"J432&A432&K432","v":"01-SB24"},"11-SB24",1,"12-B24",{"$f":"Q432&K432","v":"12-B24"},1,{"$nulls":5},0,0,null,"Light Blue","Light Gray",null,"1","Base Cabinet - Sink"]
["SB25.5","Sink Base 25.5\"",{"v":395,"d":"$395.00"},3,null,null,{"$f":"C433*$G$1*'Order Form'!$S$18*(Color!$D$6+'Door Style'!$G$6+Species!$C$6+'Drawer Head'!$E$6+'Custom Finish'!$C$6)","v":{"$error":"#VALUE!"}},null,"SC/PC","01-",{"$f":"CONCAT!$D$8","v":""},null,1,{"$f":"J433&A433&K433","v":"01-SB25.5"},"11-SB25.5",1,"12-B25.5",{"$f":"Q433&K433","v":"12-B25.5"},1,{"$nulls":5},{"$f":"C433*Color!$P$6","v":0},{"$f":"C433*Color!$P$6","v":0},null,"Black","Light Gray",null,"1","Base Cabinet - Sink"]
["SB27","Sink Base 27\"",{"v":392,"d":"$392.00"},2,null,{"$f":"C434*'Order Form'!$S$18*(Color!$C$6+'Door Style'!$H$6)","v":{"$error":"#VALUE!"}},{"$f":"C434*$G$1*'Order Form'!$S$18*(Color!$D$6+'Door Style'!$G$6+Species!$C$6+'Drawer Head'!$E$6+'Custom Finish'!$C$6)","v":{"$error":"#VALUE!"}},null,"01-","01-",{"$f":"CONCAT!$D$2","v":""},null,1,{"$f":"J434&A434&K434","v":"01-SB27"},"11-SB27",1,"12-B27",{"$f":"Q434&K434","v":"12-B27"},1,{"$nulls":5},{"$f":"C434*Color!$P$6","v":0},{"$f":"C434*Color!$P$6","v":0},null,"Light Blue","Light Gray",null,"1","Base Cabinet - Sink"]
["SB30","Sink Base 30\"",{"v":420,"d":"$420.00"},2,"PB",{"$f":"C435*'Order Form'!$S$18*(Color!$C$6+'Door Style'!$H$6)","v":{"$error":"#VALUE!"}},{"$f":"C435*$G$1*'Order Form'!$S$18*(Color!$D$6+'Door Style'!$G$6+Species!$C$6+'Drawer Head'!$E$6+'Custom Finish'!$C$6)","v":{"$error":"#VALUE!"}},null,"01-","01-",{"$f":"CONCAT!$D$2","v":""},null,1,{"$f":"J435&A435&K435","v":"01-SB30"},"11-SB30",1,"12-B30",{"$f":"Q435&K435","v":"12-B30"},1,{"$nulls":5},{"$f":"C435*Color!$P$6","v":0},{"$f":"C435*Color!$P$6","v":0},null,"Light Blue","Light Gray",null,"1","Base Cabinet - Sink"]
["SB33","Sink Base 33\"",{"v":447,"d":"$447.00"},2,"PB",{"$f":"C436*'Order Form'!$S$18*(Color!$C$6+'Door Style'!$H$6)","v":{"$error":"#VALUE!"}},{"$f":"C436*$G$1*'Order Form'!$S$18*(Color!$D$6+'Door Style'!$G$6+Species!$C$6+'Drawer Head'!$E$6+'Custom Finish'!$C$6)","v":{"$error":"#VALUE!"}},null,"01-","01-",{"$f":"CONCAT!$D$2","v":""},null,1,{"$f":"J436&A436&K436","v":"01-SB33"},"11-SB33",1,"12-B33",{"$f":"Q436&K436","v":"12-B33"},1,{"$nulls":5},{"$f":"C436","v":{"v":447,"d":"$447.00"}},{"$f":"C436","v":{"v":447,"d":"$447.00"}},null,"Light Blue","Light Gray",null,"1","Base Cabinet - Sink"]
["SB36","Sink Base 36\"",{"v":475,"d":"$475.00"},2,"PB",{"$f":"C437*'Order Form'!$S$18*(Color!$C$6+'Door Style'!$H$6)","v":{"$error":"#VALUE!"}},{"$f":"C437*$G$1*'Order Form'!$S$18*(Color!$D$6+'Door Style'!$G$6+Species!$C$6+'Drawer Head'!$E$6+'Custom Finish'!$C$6)","v":{"$error":"#VALUE!"}},null,"01-","01-",{"$f":"CONCAT!$D$2","v":""},null,1,{"$f":"J437&A437&K437","v":"01-SB36"},"11-SB36",1,"12-B36",{"$f":"Q437&K437","v":"12-B36"},1,{"$nulls":5},{"$f":"C437","v":{"v":475,"d":"$475.00"}},{"$f":"C437","v":{"v":475,"d":"$475.00"}},null,"Light Blue","Light Gray",null,"1","Base Cabinet - Sink"]
["SB39","Sink Base 39\"",{"v":502,"d":"$502.00"},2,null,{"$f":"C438*'Order Form'!$S$18*(Color!$C$6+'Door Style'!$H$6)","v":{"$error":"#VALUE!"}},{"$f":"C438*$G$1*'Order Form'!$S$18*(Color!$D$6+'Door Style'!$G$6+Species!$C$6+'Drawer Head'!$E$6+'Custom Finish'!$C$6)","v":{"$error":"#VALUE!"}},null,"01-","01-",{"$f":"CONCAT!$D$2","v":""},null,1,{"$f":"J438&A438&K438","v":"01-SB39"},"11-SB39",1,"12-B39",{"$f":"Q438&K438","v":"12-B39"},1,{"$nulls":5},{"$f":"C438","v":{"v":502,"d":"$502.00"}},{"$f":"C438","v":{"v":502,"d":"$502.00"}},null,"Light Blue","Light Gray",null,"1","Base Cabinet - Sink"]
["SBC45","Sink Base Corner Face Frame 45\"",{"v":908,"d":"$908.00"},3,null,null,{"$f":"C439*$G$1*'Order Form'!$S$18*(Color!$D$6+'Door Style'!$G$6+Species!$C$6+'Custom Finish'!$C$6)","v":{"$error":"#VALUE!"}},null,"SC/PC","01-",{"$f":"CONCAT!$D$8","v":""},null,1,{"$f":"J439&A439&K439","v":"01-SBC45"},"11-SBC45",1,"12-SBC45",{"$f":"Q439&K439","v":"12-SBC45"},1,{"$nulls":5},{"$f":"C439","v":{"v":908,"d":"$908.00"}},{"$f":"C439","v":{"v":908,"d":"$908.00"}},null,"Black","Dark Gray",null,"1","Base Cabinet - Sink - Corner"]
["SBD45","Sink Base Diagonal Box , Face 45\"",{"v":1522,"d":"$1,522.00"},3,null,null,{"$f":"C440*$G$1*'Order Form'!$S$18*(Color!$D$6+'Door Style'!$G$6+Species!$C$6+'Custom Finish'!$C$6)","v":{"$error":"#VALUE!"}},null,"SC/PC","01-",{"$f":"CONCAT!$D$8","v":""},null,1,{"$f":"J440&A440&K440","v":"01-SBD45"},"11-SBD45",1,"12-SBD45",{"$f":"Q440&K440","v":"12-SBD45"},1,{"$nulls":5},{"$f":"C440","v":{"v":1522,"d":"$1,522.00"}},{"$f":"C440","v":{"v":1522,"d":"$1,522.00"}},null,"Black","Dark Gray",null,"1","Base Cabinet - Sink - Diagonal"]
["SCRIBE","7/8\" Scribe Molding",{"v":41,"d":"$41.00"},2,"PB",{"$f":"(C441*Color!$G$6*'Order Form'!$S$18)","v":{"$error":"#VALUE!"}},{"$f":"C441*$G$1*'Order Form'!$S$18*(Color!$D$6+Species!$C$6)","v":{"$error":"#VALUE!"}},null,"13-","13-",{"$f":"CONCAT!$D$3","v":""},null,0,{"$f":"J441&A441&K441","v":"13-SCRIBE"},{"$nulls":3},{"$f":"Q441&K441","v":""},null,{"$f":"N441","v":"13-SCRIBE"},1,{"$nulls":3},{"$f":"C441","v":{"v":41,"d":"$41.00"}},{"$f":"C441","v":{"v":41,"d":"$41.00"}},null,"Orange","Pink",null,null,"Trim"]
["SELECT DOOR SET","Dealer Select Door With Bag",{"v":250,"d":"$250.00"},2,null,{"$f":"C442","v":250},{"$f":"C442","v":250},null,"/",null,"",null,0,{"$f":"J442&A442&K442","v":"SELECT DOOR SET"},{"$nulls":3},{"$f":"Q442&K442","v":""},null,{"$f":"N442","v":"SELECT DOOR SET"},1,{"$nulls":3},{"$f":"C442","v":{"v":250,"d":"$250.00"}},{"$f":"C442","v":{"v":250,"d":"$250.00"}},null,"Tan","Tan","Dealer",null,"Dealer support item"]
["SKIN4848","Skin Panel 48\" x 48\"",{"v":148,"d":"$148.00"},2,null,{"$f":"(C443*Color!$G$6*'Order Form'!$S$18)","v":{"$error":"#VALUE!"}},{"$f":"C443*$G$1*'Order Form'!$S$18*(Color!$D$6+Species!$C$6)","v":{"$error":"#VALUE!"}},null,"13-","13-",{"$f":"CONCAT!$D$3","v":""},null,0,{"$f":"J443&A443&K443","v":"13-SKIN4848"},{"$nulls":3},{"$f":"Q443&K443","v":""},null,{"$f":"N443","v":"13-SKIN4848"},1,{"$nulls":3},{"$f":"C443","v":{"v":148,"d":"$148.00"}},{"$f":"C443","v":{"v":148,"d":"$148.00"}},null,"Orange","Pink",null,null,"Skin"]
["SKIN4896","Skin Panel 48\" x 96\"",{"v":226,"d":"$226.00"},2,"PB",{"$f":"(C444*Color!$G$6*'Order Form'!$S$18)","v":{"$error":"#VALUE!"}},{"$f":"C444*$G$1*'Order Form'!$S$18*(Color!$D$6+Species!$C$6)","v":{"$error":"#VALUE!"}},null,"13-","13-",{"$f":"CONCAT!$D$3","v":""},null,0,{"$f":"J444&A444&K444","v":"13-SKIN4896"},{"$nulls":3},{"$f":"Q444&K444","v":""},null,{"$f":"N444","v":"13-SKIN4896"},1,{"$nulls":3},{"$f":"C444","v":{"v":226,"d":"$226.00"}},{"$f":"C444","v":{"v":226,"d":"$226.00"}},null,"Orange","Pink",null,null,"Skin"]
["SPLASH","Back Splash 8FT",{"v":209,"d":"$209.00"},2,null,{"$f":"(C445*Color!$G$6*'Order Form'!$S$18)","v":{"$error":"#VALUE!"}},{"$f":"C445*$G$1*'Order Form'!$S$18*(Color!$D$6+Species!$C$6)","v":{"$error":"#VALUE!"}},null,"13-","13-",{"$f":"CONCAT!$D$3","v":""},null,0,{"$f":"J445&A445&K445","v":"13-SPLASH"},{"$nulls":3},{"$f":"Q445&K445","v":""},null,{"$f":"N445","v":"13-SPLASH"},1,{"$nulls":3},{"$f":"C445","v":{"v":209,"d":"$209.00"}},{"$f":"C445","v":{"v":209,"d":"$209.00"}},null,"Orange","Pink",null,null,"Trim - Splash"]
["SPLASH12","Back Splash 12FT",{"v":313,"d":"$313.00"},2,null,{"$f":"(C446*Color!$G$6*'Order Form'!$S$18)","v":{"$error":"#VALUE!"}},{"$f":"C446*$G$1*'Order Form'!$S$18*(Color!$D$6+Species!$C$6)","v":{"$error":"#VALUE!"}},null,"13-","13-",{"$f":"CONCAT!$D$3","v":""},null,0,{"$f":"J446&A446&K446","v":"13-SPLASH12"},{"$nulls":3},{"$f":"Q446&K446","v":""},null,{"$f":"N446","v":"13-SPLASH12"},1,{"$nulls":3},{"$f":"C446","v":{"v":313,"d":"$313.00"}},{"$f":"C446","v":{"v":313,"d":"$313.00"}},null,"Orange","Pink",null,null,"Trim - Splash"]
["SPLASH4","Back Splash 4FT",{"v":105,"d":"$105.00"},2,null,{"$f":"(C447*Color!$G$6*'Order Form'!$S$18)","v":{"$error":"#VALUE!"}},{"$f":"C447*$G$1*'Order Form'!$S$18*(Color!$D$6+Species!$C$6)","v":{"$error":"#VALUE!"}},null,"13-","13-",{"$f":"CONCAT!$D$3","v":""},null,0,{"$f":"J447&A447&K447","v":"13-SPLASH4"},{"$nulls":3},{"$f":"Q447&K447","v":""},null,{"$f":"N447","v":"13-SPLASH4"},1,{"$nulls":3},{"$f":"C447","v":{"v":105,"d":"$105.00"}},{"$f":"C447","v":{"v":105,"d":"$105.00"}},null,"Orange","Pink",null,null,"Trim - Splash"]
["STAIN","Use this Sku to stain a customer provided accessory - see sales personhand book for pricing",0,2,null,0,0,null,"/","/","",null,0,{"$f":"J448&A448&K448","v":"/STAIN"},{"$nulls":5},{"$f":"N448","v":"/STAIN"},1,{"$nulls":3},{"$f":"C448","v":0},{"$f":"C448","v":0},null,"Dark Blue","Dark Blue",null,null,"Accessory - Finish"]
["STAIN-5 GALLON","Stain to Spray, Not Brush - 5 Gallons- 50% more if Custom Color",{"v":320,"d":"$320.00"},2,null,{"$f":"C449*Color!$P$6","v":0},{"$f":"C449*Color!$P$6","v":0},null,"/","/","",null,0,{"$f":"J449&A449&K449","v":"/STAIN-5 GALLON"},{"$nulls":3},{"$f":"Q449&K449","v":""},null,{"$f":"N449","v":"/STAIN-5 GALLON"},1,{"$nulls":3},{"$f":"(C449*Color!$G$6*1)","v":{"$error":"#VALUE!"}},{"$f":"C449*$G$1*1*(Color!$D$6+Species!$C$6)","v":{"$error":"#VALUE!"}},null,"Green","Green",null,null,"Accessory - Finish"]
["STAIN-GALLON","Stain to Spray, Not Brush - Gallon - 50% more if Custom Color",{"v":80,"d":"$80.00"},2,null,{"$f":"C450*Color!$P$6","v":0},{"$f":"C450*Color!$P$6","v":0},null,"/","/","",null,0,{"$f":"J450&A450&K450","v":"/STAIN-GALLON"},{"$nulls":3},{"$f":"Q450&K450","v":""},null,{"$f":"N450","v":"/STAIN-GALLON"},1,{"$nulls":3},{"$f":"Color!I6","v":0},{"$f":"Color!I6","v":0},null,"Green","Green",null,null,"Accessory - Finish"]
["STAIN-QUART","Stain to Spray, Not Brush - Quart - 50% more if Custom Color",{"v":20,"d":"$20.00"},2,null,{"$f":"C451*Color!$P$6","v":0},{"$f":"C451*Color!$P$6","v":0},null,"/","/","",null,0,{"$f":"J451&A451&K451","v":"/STAIN-QUART"},{"$nulls":3},{"$f":"Q451&K451","v":""},null,{"$f":"N451","v":"/STAIN-QUART"},1,{"$nulls":3},{"$f":"C451","v":{"v":20,"d":"$20.00"}},{"$f":"C451","v":{"v":20,"d":"$20.00"}},null,"Green","Green",null,null,"Accessory - Finish"]
["STEMWARE-BRASS","Stemware Organizer-Brass",{"v":38,"d":"$38.00"},2,null,{"$f":"C452","v":38},{"$f":"C452","v":38},null,"/","","",null,0,{"$f":"J452&A452&K452","v":"STEMWARE-BRASS"},{"$nulls":3},{"$f":"Q452&K452","v":""},null,{"$f":"N452","v":"STEMWARE-BRASS"},1,{"$nulls":3},{"$f":"(C452*Color!$G$6*1)","v":{"$error":"#VALUE!"}},{"$f":"C452*$G$1*1*(Color!$D$6+Species!$C$6)","v":{"$error":"#VALUE!"}},null,"Tan","Tan",null,null,"Accessory - Beverages"]
["STEMWARE-BRONZE","Stemware Organizer-Bronze",{"v":42,"d":"$42.00"},2,null,{"$f":"C453","v":42},{"$f":"C453","v":42},null,"/","","",null,0,{"$f":"J453&A453&K453","v":"STEMWARE-BRONZE"},{"$nulls":3},{"$f":"Q453&K453","v":""},null,{"$f":"N453","v":"STEMWARE-BRONZE"},1,{"$nulls":4},{"$f":"C453*$G$1*1*(Color!$D$6+'Door Style'!$G$6+Species!$C$6+'Custom Finish'!$C$6)","v":{"$error":"#VALUE!"}},null,"Tan","Tan",null,null,"Accessory - Beverages"]
["STEMWARE-CHROME","Stemware Organizer-Chrome",{"v":32,"d":"$32.00"},2,null,{"$f":"C454","v":32},{"$f":"C454","v":32},null,"/","","",null,0,{"$f":"J454&A454&K454","v":"STEMWARE-CHROME"},{"$nulls":3},{"$f":"Q454&K454","v":""},null,{"$f":"N454","v":"STEMWARE-CHROME"},1,{"$nulls":4},{"$f":"C454*$G$1*1*(Color!$D$6+'Door Style'!$G$6+Species!$C$6+'Custom Finish'!$C$6)","v":{"$error":"#VALUE!"}},null,"Tan","Tan",null,null,"Accessory - Beverages"]
["STEMWARE-NICKLE","Stemware Organizer-Nickle",{"v":37,"d":"$37.00"},2,null,{"$f":"C455","v":37},{"$f":"C455","v":37},null,"/","","",null,0,{"$f":"J455&A455&K455","v":"STEMWARE-NICKLE"},{"$nulls":3},{"$f":"Q455&K455","v":""},null,{"$f":"N455","v":"STEMWARE-NICKLE"},1,{"$nulls":4},{"$f":"C455*$G$1*1*(Color!$D$6+'Door Style'!$G$6+Species!$C$6+'Custom Finish'!$C$6)","v":{"$error":"#VALUE!"}},null,"Tan","Tan",null,null,"Accessory - Beverages"]
["SUBTOP-PARTICLE BOARD 25x97","Subtop-Particle Board 25\" x 97\"",{"v":20,"d":"$20.00"},2,null,{"$f":"C456","v":20},{"$f":"C456","v":20},null,"/","","",null,0,{"$f":"J456&A456&K456","v":"SUBTOP-PARTICLE BOARD 25x97"},{"$nulls":3},{"$f":"Q456&K456","v":""},null,{"$f":"N456","v":"SUBTOP-PARTICLE BOARD 25x97"},1,{"$nulls":3},{"$f":"C456*1*(Color!$C$6+'Door Style'!$H$6)","v":{"$error":"#VALUE!"}},{"$f":"C456*$G$1*1*(Color!$D$6+'Door Style'!$G$6+Species!$C$6+'Custom Finish'!$C$6)","v":{"$error":"#VALUE!"}},null,"Tan","Tan","N"]
["SUBTOP-PARTICLE BOARD 49X97","Subtop-Particle Board 49\" x 97\"",{"v":40,"d":"$40.00"},2,null,{"$f":"C457","v":40},{"$f":"C457","v":40},null,"/","","",null,0,{"$f":"J457&A457&K457","v":"SUBTOP-PARTICLE BOARD 49X97"},{"$nulls":3},{"$f":"Q457&K457","v":""},null,{"$f":"N457","v":"SUBTOP-PARTICLE BOARD 49X97"},1,{"$nulls":3},{"$f":"C457*1*(Color!$C$6+'Door Style'!$H$6)","v":{"$error":"#VALUE!"}},{"$f":"C457*$G$1*1*(Color!$D$6+'Door Style'!$G$6+Species!$C$6+'Custom Finish'!$C$6)","v":{"$error":"#VALUE!"}},null,"Tan","Tan","N"]
["SUBTOP-PLYWOOD 25X96","Subtop-Plywood 25\" x 96\"",{"v":38.18,"d":"$38.18"},2,null,{"$f":"C458","v":38.18},{"$f":"C458","v":38.18},null,"/","","",null,0,{"$f":"J458&A458&K458","v":"SUBTOP-PLYWOOD 25X96"},{"$nulls":3},{"$f":"Q458&K458","v":""},null,{"$f":"N458","v":"SUBTOP-PLYWOOD 25X96"},1,{"$nulls":3},{"$f":"C458*1*(Color!$C$6+'Door Style'!$H$6)","v":{"$error":"#VALUE!"}},{"$f":"C458*$G$1*1*(Color!$D$6+'Door Style'!$G$6+Species!$C$6+'Custom Finish'!$C$6)","v":{"$error":"#VALUE!"}},null,"Tan","Tan","N"]
["SUBTOP-PLYWOOD 49X97","Subtop-Plywood 49\" x 97\"",{"v":50.14,"d":"$50.14"},2,null,{"$f":"C459","v":50.14},{"$f":"C459","v":50.14},null,"/","","",null,0,{"$f":"J459&A459&K459","v":"SUBTOP-PLYWOOD 49X97"},{"$nulls":3},{"$f":"Q459&K459","v":""},null,{"$f":"N459","v":"SUBTOP-PLYWOOD 49X97"},1,{"$nulls":3},{"$f":"C459*1*(Color!$C$6+'Door Style'!$H$6)","v":{"$error":"#VALUE!"}},{"$f":"C459*$G$1*1*(Color!$D$6+'Door Style'!$G$6+Species!$C$6+'Custom Finish'!$C$6)","v":{"$error":"#VALUE!"}},null,"Tan","Tan","N"]
["TIP OUT TRAY SB24","Tip out Tray for SB24\"",{"v":20,"d":"$20.00"},2,null,{"$f":"C460","v":20},{"$f":"C460","v":20},null,"/","01-","",null,0,{"$f":"J460&A460&K460","v":"01-TIP OUT TRAY SB24"},{"$nulls":3},{"$f":"Q460&K460","v":""},null,{"$f":"N460","v":"01-TIP OUT TRAY SB24"},1,{"$nulls":3},{"$f":"C460*1*(Color!$C$6+'Door Style'!$H$6)","v":{"$error":"#VALUE!"}},{"$f":"C460*$G$1*1*(Color!$D$6+'Door Style'!$G$6+Species!$C$6+'Custom Finish'!$C$6)","v":{"$error":"#VALUE!"}},null,"Tan","Tan",null,"1","Accessory - Base - Sink"]
["TIP OUT TRAY SB30","Tip out Tray for SB30\"",{"v":24,"d":"$24.00"},2,null,{"$f":"C461","v":24},{"$f":"C461","v":24},null,"/","01-","",null,0,{"$f":"J461&A461&K461","v":"01-TIP OUT TRAY SB30"},{"$nulls":3},{"$f":"Q461&K461","v":""},null,{"$f":"N461","v":"01-TIP OUT TRAY SB30"},1,{"$nulls":3},{"$f":"C461*1*(Color!$C$6+'Door Style'!$H$6)","v":{"$error":"#VALUE!"}},{"$f":"C461*$G$1*1*(Color!$D$6+'Door Style'!$G$6+Species!$C$6+'Custom Finish'!$C$6)","v":{"$error":"#VALUE!"}},null,"Tan","Tan",null,"1","Accessory - Base - Sink"]
["TIP OUT TRAY SB33","Tip out Tray for SB33\"",{"v":39,"d":"$39.00"},2,null,{"$f":"C462","v":39},{"$f":"C462","v":39},null,"/","01-","",null,0,{"$f":"J462&A462&K462","v":"01-TIP OUT TRAY SB33"},{"$nulls":3},{"$f":"Q462&K462","v":""},null,{"$f":"N462","v":"01-TIP OUT TRAY SB33"},1,{"$nulls":4},{"$f":"C462*$G$1*1*(Color!$D$6+'Door Style'!$G$6+Species!$C$6+'Custom Finish'!$C$6)","v":{"$error":"#VALUE!"}},null,"Tan","Tan",null,"1","Accessory - Base - Sink"]
["TIP OUT TRAY SB36","Tip out Tray for SB36\"",{"v":45,"d":"$45.00"},2,null,{"$f":"C463","v":45},{"$f":"C463","v":45},null,"/","01-","",null,0,{"$f":"J463&A463&K463","v":"01-TIP OUT TRAY SB36"},{"$nulls":3},{"$f":"Q463&K463","v":""},null,{"$f":"N463","v":"01-TIP OUT TRAY SB36"},1,{"$nulls":4},{"$f":"C463*$G$1*1*(Color!$D$6+'Door Style'!$G$6+Species!$C$6+'Custom Finish'!$C$6)","v":{"$error":"#VALUE!"}},null,"Tan","Tan",null,"1","Accessory - Base - Sink"]
["TIP OUT TRAY SB39","Tip out Tray for SB39\"",{"v":45,"d":"$45.00"},2,null,{"$f":"C464","v":45},{"$f":"C464","v":45},null,"/","01-","",null,0,{"$f":"J464&A464&K464","v":"01-TIP OUT TRAY SB39"},{"$nulls":3},{"$f":"Q464&K464","v":""},null,{"$f":"N464","v":"01-TIP OUT TRAY SB39"},1,{"$nulls":4},{"$f":"C464*$G$1*1*(Color!$D$6+'Door Style'!$G$6+Species!$C$6+'Custom Finish'!$C$6)","v":{"$error":"#VALUE!"}},null,"Tan","Tan",null,"1","Accessory - Base - Sink"]
["TOESKIN","Toe Kick Skin",{"v":30,"d":"$30.00"},2,"PB",{"$f":"(C465*Color!$G$6*'Order Form'!$S$18)","v":{"$error":"#VALUE!"}},{"$f":"C465*$G$1*'Order Form'!$S$18*(Color!$D$6+Species!$C$6)","v":{"$error":"#VALUE!"}},null,"13-","13-",{"$f":"CONCAT!$D$3","v":""},null,0,{"$f":"J465&A465&K465","v":"13-TOESKIN"},{"$nulls":3},{"$f":"Q465&K465","v":""},null,{"$f":"N465","v":"13-TOESKIN"},1,{"$nulls":3},{"$f":"C465*1*(Color!$C$6+'Door Style'!$H$6)","v":{"$error":"#VALUE!"}},{"$f":"C465*$G$2*1*(Color!$D$6+'Door Style'!$G$6+Species!$C$6+'Drawer Head'!$E$6+'Custom Finish'!$C$6)","v":{"$error":"#VALUE!"}},null,"Orange","Pink",null,null,"Skin - Toe"]
["TOUCH UP","Touch Up Kit",{"v":12,"d":"$12.00"},2,"PB",{"$f":"Color!I6","v":0},{"$f":"Color!I6","v":0},null,"13-","13-",{"$f":"Color!H6","v":""},null,0,{"$f":"J466&A466&K466","v":"13-TOUCH UP"},{"$nulls":3},{"$f":"Q466&K466","v":""},null,{"$f":"N466","v":"13-TOUCH UP"},1,{"$nulls":3},{"$f":"C466*1*(Color!$C$6+'Door Style'!$H$6)","v":{"$error":"#VALUE!"}},{"$f":"C466*$G$2*1*(Color!$D$6+'Door Style'!$G$6+Species!$C$6+'Drawer Head'!$E$6+'Custom Finish'!$C$6)","v":{"$error":"#VALUE!"}},null,"Light Red","Light Red",null,null,"Touch Up Kit"]
["TRAY DIVIDER-REV","Chrome Tray Divider",{"v":35,"d":"$35.00"},2,null,{"$f":"C467","v":35},{"$f":"C467","v":35},null,"/","","",null,0,{"$f":"J467&A467&K467","v":"TRAY DIVIDER-REV"},{"$nulls":3},{"$f":"Q467&K467","v":""},null,{"$f":"N467","v":"TRAY DIVIDER-REV"},1,{"$nulls":3},{"$f":"C467*1*(Color!$C$6+'Door Style'!$H$6)","v":{"$error":"#VALUE!"}},{"$f":"C467*$G$2*1*(Color!$D$6+'Door Style'!$G$6+Species!$C$6+'Drawer Head'!$E$6+'Custom Finish'!$C$6)","v":{"$error":"#VALUE!"}},null,"Tan","Tan",null,"1","Accessory - Base - Full Height"]
["TSKIN","Tall Skin",{"v":136,"d":"$136.00"},2,"PB",{"$f":"(C468*Color!$G$6*'Order Form'!$S$18)","v":{"$error":"#VALUE!"}},{"$f":"C468*$G$1*'Order Form'!$S$18*(Color!$D$6+Species!$C$6)","v":{"$error":"#VALUE!"}},null,"13-","13-",{"$f":"CONCAT!$D$3","v":""},null,0,{"$f":"J468&A468&K468","v":"13-TSKIN"},{"$nulls":3},{"$f":"Q468&K468","v":""},null,{"$f":"N468","v":"13-TSKIN"},1,{"$nulls":3},{"$f":"C468*1*(Color!$C$6+'Door Style'!$H$6)","v":{"$error":"#VALUE!"}},{"$f":"C468*$G$2*1*(Color!$D$6+'Door Style'!$G$6+Species!$C$6+'Drawer Head'!$E$6+'Custom Finish'!$C$6)","v":{"$error":"#VALUE!"}},null,"Orange","Pink",null,null,"Skin - Tall"]
["UC1584","Utility Cabinet 15\" x 84\"",{"v":660,"d":"$660.00"},3,null,null,{"$f":"C469*$G$1*'Order Form'!$S$18*(Color!$D$6+'Door Style'!$G$6+Species!$C$6+'Custom Finish'!$C$6)","v":{"$error":"#VALUE!"}},null,"SC/PC","01-",{"$f":"CONCAT!$D$8","v":""},null,1,{"$f":"J469&A469&K469","v":"01-UC1584"},"11-UC1584",1,"12-UC1584",{"$f":"Q469&K469","v":"12-UC1584"},1,{"$nulls":5},{"$f":"C469*1*(Color!$C$6+'Door Style'!$H$6)","v":{"$error":"#VALUE!"}},{"$f":"C469*$G$2*1*(Color!$D$6+'Door Style'!$G$6+Species!$C$6+'Drawer Head'!$E$6+'Custom Finish'!$C$6)","v":{"$error":"#VALUE!"}},null,"Black","Dark Gray",null,"2","Tall Cabinet - Utility"]
["UC1590","Utility Cabinet 15\" x 90\"",{"v":699,"d":"$699.00"},3,null,null,{"$f":"C470*$G$1*'Order Form'!$S$18*(Color!$D$6+'Door Style'!$G$6+Species!$C$6+'Custom Finish'!$C$6)","v":{"$error":"#VALUE!"}},null,"SC/PC","01-",{"$f":"CONCAT!$D$8","v":""},null,1,{"$f":"J470&A470&K470","v":"01-UC1590"},"11-UC1590",1,"12-UC1590",{"$f":"Q470&K470","v":"12-UC1590"},1,{"$nulls":5},{"$f":"C470*1*(Color!$C$6+'Door Style'!$H$6)","v":{"$error":"#VALUE!"}},{"$f":"C470*$G$2*1*(Color!$D$6+'Door Style'!$G$6+Species!$C$6+'Drawer Head'!$E$6+'Custom Finish'!$C$6)","v":{"$error":"#VALUE!"}},null,"Black","Dark Gray",null,"2","Tall Cabinet - Utility"]
["UC1596","Utility Cabinet 15\" x 96\"",{"v":732,"d":"$732.00"},3,null,null,{"$f":"C471*$G$1*'Order Form'!$S$18*(Color!$D$6+'Door Style'!$G$6+Species!$C$6+'Custom Finish'!$C$6)","v":{"$error":"#VALUE!"}},null,"SC/PC","01-",{"$f":"CONCAT!$D$8","v":""},null,1,{"$f":"J471&A471&K471","v":"01-UC1596"},"11-UC1596",1,"12-UC1596",{"$f":"Q471&K471","v":"12-UC1596"},1,{"$nulls":5},{"$f":"C471*1*(Color!$C$6+'Door Style'!$H$6)","v":{"$error":"#VALUE!"}},{"$f":"C471*$G$2*1*(Color!$D$6+'Door Style'!$G$6+Species!$C$6+'Drawer Head'!$E$6+'Custom Finish'!$C$6)","v":{"$error":"#VALUE!"}},null,"Black","Dark Gray",null,"2","Tall Cabinet - Utility"]
["UC1884","Utility Cabinet 18\" x 84\"",{"v":783,"d":"$783.00"},2,null,{"$f":"C472*'Order Form'!$S$18*(Color!$C$6+'Door Style'!$H$6)","v":{"$error":"#VALUE!"}},{"$f":"C472*$G$1*'Order Form'!$S$18*(Color!$D$6+'Door Style'!$G$6+Species!$C$6+'Custom Finish'!$C$6)","v":{"$error":"#VALUE!"}},null,"01-","01-",{"$f":"CONCAT!$D$2","v":""},null,1,{"$f":"J472&A472&K472","v":"01-UC1884"},"11-UC1884",1,"12-UC1884",{"$f":"Q472&K472","v":"12-UC1884"},1,{"$nulls":5},{"$f":"C472","v":{"v":783,"d":"$783.00"}},{"$f":"C472","v":{"v":783,"d":"$783.00"}},null,"Light Blue","Dark Gray",null,"2","Tall Cabinet - Utility"]
["UC1890","Utility Cabinet 18\" x 90\"",{"v":821,"d":"$821.00"},2,null,{"$f":"C473*'Order Form'!$S$18*(Color!$C$6+'Door Style'!$H$6)","v":{"$error":"#VALUE!"}},{"$f":"C473*$G$1*'Order Form'!$S$18*(Color!$D$6+'Door Style'!$G$6+Species!$C$6+'Custom Finish'!$C$6)","v":{"$error":"#VALUE!"}},null,"01-","01-",{"$f":"CONCAT!$D$2","v":""},null,1,{"$f":"J473&A473&K473","v":"01-UC1890"},"11-UC1890",1,"12-UC1890",{"$f":"Q473&K473","v":"12-UC1890"},1,{"$nulls":5},{"$f":"C473*1","v":{"v":821,"d":"$821.00"}},{"$f":"C473*1","v":{"v":821,"d":"$821.00"}},null,"Light Blue","Dark Gray",null,"2","Tall Cabinet - Utility"]
["UC1896","Utility Cabinet 18\" x 96\"",{"v":863,"d":"$863.00"},2,null,{"$f":"C474*'Order Form'!$S$18*(Color!$C$6+'Door Style'!$H$6)","v":{"$error":"#VALUE!"}},{"$f":"C474*$G$1*'Order Form'!$S$18*(Color!$D$6+'Door Style'!$G$6+Species!$C$6+'Custom Finish'!$C$6)","v":{"$error":"#VALUE!"}},null,"01-","01-",{"$f":"CONCAT!$D$2","v":""},null,1,{"$f":"J474&A474&K474","v":"01-UC1896"},"11-UC1896",1,"12-UC1896",{"$f":"Q474&K474","v":"12-UC1896"},1,{"$nulls":5},{"$f":"C474*1*(Color!$C$6+'Door Style'!$H$6)","v":{"$error":"#VALUE!"}},{"$f":"C474*$G$2*1*(Color!$D$6+'Door Style'!$G$6+Species!$C$6+'Drawer Head'!$E$6+'Custom Finish'!$C$6)","v":{"$error":"#VALUE!"}},null,"Light Blue","Dark Gray",null,"2","Tall Cabinet - Utility"]
["UC2484","Utility Cabinet 24\" x 84\"",{"v":988,"d":"$988.00"},2,null,{"$f":"C475*'Order Form'!$S$18*(Color!$C$6+'Door Style'!$H$6)","v":{"$error":"#VALUE!"}},{"$f":"C475*$G$1*'Order Form'!$S$18*(Color!$D$6+'Door Style'!$G$6+Species!$C$6+'Custom Finish'!$C$6)","v":{"$error":"#VALUE!"}},null,"01-","01-",{"$f":"CONCAT!$D$2","v":""},null,1,{"$f":"J475&A475&K475","v":"01-UC2484"},"11-UC2484",1,"12-UC2484",{"$f":"Q475&K475","v":"12-UC2484"},1,{"$nulls":5},{"$f":"C475*1","v":{"v":988,"d":"$988.00"}},{"$f":"C475*1","v":{"v":988,"d":"$988.00"}},null,"Light Blue","Dark Gray",null,"2","Tall Cabinet - Utility"]
["UC2490","Utility Cabinet 24\" x 90\"",{"v":1036,"d":"$1,036.00"},2,null,{"$f":"C476*'Order Form'!$S$18*(Color!$C$6+'Door Style'!$H$6)","v":{"$error":"#VALUE!"}},{"$f":"C476*$G$1*'Order Form'!$S$18*(Color!$D$6+'Door Style'!$G$6+Species!$C$6+'Custom Finish'!$C$6)","v":{"$error":"#VALUE!"}},null,"01-","01-",{"$f":"CONCAT!$D$2","v":""},null,1,{"$f":"J476&A476&K476","v":"01-UC2490"},"11-UC2490",1,"12-UC2490",{"$f":"Q476&K476","v":"12-UC2490"},1,{"$nulls":5},{"$f":"C476*1*(Color!$C$6+'Door Style'!$H$6)","v":{"$error":"#VALUE!"}},{"$f":"C476*$G$2*1*(Color!$D$6+'Door Style'!$G$6+Species!$C$6+'Drawer Head'!$E$6+'Custom Finish'!$C$6)","v":{"$error":"#VALUE!"}},null,"Light Blue","Dark Gray",null,"2","Tall Cabinet - Utility"]
["UC2496","Utility Cabinet 24\" x 96\"",{"v":1087,"d":"$1,087.00"},2,null,{"$f":"C477*'Order Form'!$S$18*(Color!$C$6+'Door Style'!$H$6)","v":{"$error":"#VALUE!"}},{"$f":"C477*$G$1*'Order Form'!$S$18*(Color!$D$6+'Door Style'!$G$6+Species!$C$6+'Custom Finish'!$C$6)","v":{"$error":"#VALUE!"}},null,"01-","01-",{"$f":"CONCAT!$D$2","v":""},null,1,{"$f":"J477&A477&K477","v":"01-UC2496"},"11-UC2496",1,"12-UC2496",{"$f":"Q477&K477","v":"12-UC2496"},1,{"$nulls":6},{"$f":"C477*$G$2*1*(Color!$D$6+'Door Style'!$G$6+Species!$C$6+'Drawer Head'!$E$6+'Custom Finish'!$C$6)","v":{"$error":"#VALUE!"}},null,"Light Blue","Dark Gray",null,"2","Tall Cabinet - Utility"]
["UC3084","Utility Cabinet 30\" x 84\"",{"v":1319,"d":"$1,319.00"},3,null,null,{"$f":"C478*$G$1*'Order Form'!$S$18*(Color!$D$6+'Door Style'!$G$6+Species!$C$6+'Custom Finish'!$C$6)","v":{"$error":"#VALUE!"}},null,"SC/PC","01-",{"$f":"CONCAT!$D$8","v":""},null,1,{"$f":"J478&A478&K478","v":"01-UC3084"},"11-UC3084",1,"12-UC3084",{"$f":"Q478&K478","v":"12-UC3084"},1,{"$nulls":5},{"$f":"C478*1","v":{"v":1319,"d":"$1,319.00"}},{"$f":"C478*1","v":{"v":1319,"d":"$1,319.00"}},null,"Black","Dark Gray",null,"2","Tall Cabinet - Utility"]
["UC3090","Utility Cabinet 30\" x 90\"",{"v":1398,"d":"$1,398.00"},3,null,null,{"$f":"C479*$G$1*'Order Form'!$S$18*(Color!$D$6+'Door Style'!$G$6+Species!$C$6+'Custom Finish'!$C$6)","v":{"$error":"#VALUE!"}},null,"SC/PC","01-",{"$f":"CONCAT!$D$8","v":""},null,1,{"$f":"J479&A479&K479","v":"01-UC3090"},"11-UC3090",1,"12-UC3090",{"$f":"Q479&K479","v":"12-UC3090"},1,{"$nulls":6},{"$f":"C479*$G$2*1*(Color!$D$6+'Door Style'!$G$6+Species!$C$6+'Drawer Head'!$E$6+'Custom Finish'!$C$6)","v":{"$error":"#VALUE!"}},null,"Black","Dark Gray",null,"2","Tall Cabinet - Utility"]
["UC3096","Utility Cabinet 30\" x 96\"",{"v":1463,"d":"$1,463.00"},3,null,null,{"$f":"C480*$G$1*'Order Form'!$S$18*(Color!$D$6+'Door Style'!$G$6+Species!$C$6+'Custom Finish'!$C$6)","v":{"$error":"#VALUE!"}},null,"SC/PC","01-",{"$f":"CONCAT!$D$8","v":""},null,1,{"$f":"J480&A480&K480","v":"01-UC3096"},"11-UC3096",1,"12-UC3096",{"$f":"Q480&K480","v":"12-UC3096"},1,{"$nulls":5},{"$f":"C480*1*(Color!$C$6+'Door Style'!$H$6)","v":{"$error":"#VALUE!"}},{"$f":"C480*$G$2*1*(Color!$D$6+'Door Style'!$G$6+Species!$C$6+'Drawer Head'!$E$6+'Custom Finish'!$C$6)","v":{"$error":"#VALUE!"}},null,"Black","Dark Gray",null,"2","Tall Cabinet - Utility"]
["VA30-DL","Vanity Assembly 2 Drawers (Door Left) 30\"",{"v":672,"d":"$672.00"},2,null,{"$f":"C481*'Order Form'!$S$18*(Color!$C$6+'Door Style'!$H$6)","v":{"$error":"#VALUE!"}},{"$f":"C481*$G$2*'Order Form'!$S$18*(Color!$D$6+'Door Style'!$G$6+Species!$C$6+'Drawer Head'!$E$6+'Custom Finish'!$C$6)","v":{"$error":"#VALUE!"}},null,"01-","01-",{"$f":"CONCAT!$D$2","v":""},null,1,{"$f":"J481&A481&K481","v":"01-VA30-DL"},"11-VA30-DL",1,"12-VA30-DL",{"$f":"Q481&K481","v":"12-VA30-DL"},1,null,null,"DG 18IN VANITY SET-DTC",2,null,{"$f":"C481*1","v":{"v":672,"d":"$672.00"}},{"$f":"C481*1","v":{"v":672,"d":"$672.00"}},null,"Light Blue","Light Yellow",null,"1","Vanity Assembly"]
["VA30-DR","Vanity Assembly 2 Drawers (Door Right) 30\"",{"v":672,"d":"$672.00"},2,null,{"$f":"C482*'Order Form'!$S$18*(Color!$C$6+'Door Style'!$H$6)","v":{"$error":"#VALUE!"}},{"$f":"C482*$G$2*'Order Form'!$S$18*(Color!$D$6+'Door Style'!$G$6+Species!$C$6+'Drawer Head'!$E$6+'Custom Finish'!$C$6)","v":{"$error":"#VALUE!"}},null,"01-","01-",{"$f":"CONCAT!$D$2","v":""},null,1,{"$f":"J482&A482&K482","v":"01-VA30-DR"},"11-VA30-DR",1,"12-VA30-DR",{"$f":"Q482&K482","v":"12-VA30-DR"},1,null,null,"DG 18IN VANITY SET-DTC",2,null,{"$f":"C482*1*(Color!$C$6+'Door Style'!$H$6)","v":{"$error":"#VALUE!"}},{"$f":"C482*$G$2*1*(Color!$D$6+'Door Style'!$G$6+Species!$C$6+'Drawer Head'!$E$6+'Custom Finish'!$C$6)","v":{"$error":"#VALUE!"}},null,"Light Blue","Light Yellow",null,"1","Vanity Assembly"]
["VA36-DL","Vanity Assembly 2 Drawers (Door Left) 36\"",{"v":770,"d":"$770.00"},2,null,{"$f":"C483*'Order Form'!$S$18*(Color!$C$6+'Door Style'!$H$6)","v":{"$error":"#VALUE!"}},{"$f":"C483*$G$2*'Order Form'!$S$18*(Color!$D$6+'Door Style'!$G$6+Species!$C$6+'Drawer Head'!$E$6+'Custom Finish'!$C$6)","v":{"$error":"#VALUE!"}},null,"01-","01-",{"$f":"CONCAT!$D$2","v":""},null,1,{"$f":"J483&A483&K483","v":"01-VA36-DL"},"11-VA36-DL",1,"12-VA36-DL",{"$f":"Q483&K483","v":"12-VA36-DL"},1,null,null,"DG 18IN VANITY SET-DTC",2,null,null,{"$f":"C483*$G$2*1*(Color!$D$6+'Door Style'!$G$6+Species!$C$6+'Drawer Head'!$E$6+'Custom Finish'!$C$6)","v":{"$error":"#VALUE!"}},null,"Light Blue","Light Yellow",null,"1","Vanity Assembly"]
["VA36-DR","Vanity Assembly 2 Drawers (Door Right) 36\"",{"v":770,"d":"$770.00"},2,null,{"$f":"C484*'Order Form'!$S$18*(Color!$C$6+'Door Style'!$H$6)","v":{"$error":"#VALUE!"}},{"$f":"C484*$G$2*'Order Form'!$S$18*(Color!$D$6+'Door Style'!$G$6+Species!$C$6+'Drawer Head'!$E$6+'Custom Finish'!$C$6)","v":{"$error":"#VALUE!"}},null,"01-","01-",{"$f":"CONCAT!$D$2","v":""},null,1,{"$f":"J484&A484&K484","v":"01-VA36-DR"},"11-VA36-DR",1,"12-VA36-DR",{"$f":"Q484&K484","v":"12-VA36-DR"},1,null,null,"DG 18IN VANITY SET-DTC",2,null,{"$f":"C484*1","v":{"v":770,"d":"$770.00"}},{"$f":"C484*1","v":{"v":770,"d":"$770.00"}},null,"Light Blue","Light Yellow",null,"1","Vanity Assembly"]
["VA48","Vanity Assembly 6 Drawers 48\"",{"v":1085,"d":"$1,085.00"},2,null,{"$f":"C485*'Order Form'!$S$18*(Color!$C$6+'Door Style'!$H$6)","v":{"$error":"#VALUE!"}},{"$f":"C485*$G$2*'Order Form'!$S$18*(Color!$D$6+'Door Style'!$G$6+Species!$C$6+'Drawer Head'!$E$6+'Custom Finish'!$C$6)","v":{"$error":"#VALUE!"}},null,"01-","01-",{"$f":"CONCAT!$D$2","v":""},null,1,{"$f":"J485&A485&K485","v":"01-VA48"},"11-VA48",1,"12-VA48",{"$f":"Q485&K485","v":"12-VA48"},1,null,null,"DG 18IN VANITY SET-DTC",6,null,null,{"$f":"C485*$G$2*1*(Color!$D$6+'Door Style'!$G$6+Species!$C$6+'Drawer Head'!$E$6+'Custom Finish'!$C$6)","v":{"$error":"#VALUE!"}},null,"Light Blue","Light Yellow",null,"1","Vanity Assembly"]
["VA60","Vanity Assembly 6 Drawers 60\"",{"v":1187,"d":"$1,187.00"},2,null,{"$f":"C486*'Order Form'!$S$18*(Color!$C$6+'Door Style'!$H$6)","v":{"$error":"#VALUE!"}},{"$f":"C486*$G$2*'Order Form'!$S$18*(Color!$D$6+'Door Style'!$G$6+Species!$C$6+'Drawer Head'!$E$6+'Custom Finish'!$C$6)","v":{"$error":"#VALUE!"}},null,"01-","01-",{"$f":"CONCAT!$D$2","v":""},null,1,{"$f":"J486&A486&K486","v":"01-VA60"},"11-VA60",1,"12-VA60",{"$f":"Q486&K486","v":"12-VA60"},1,null,null,"DG 18IN VANITY SET-DTC",6,null,{"$f":"C486*1*(Color!$C$6+'Door Style'!$H$6)","v":{"$error":"#VALUE!"}},{"$f":"C486*$G$2*1*(Color!$D$6+'Door Style'!$G$6+Species!$C$6+'Drawer Head'!$E$6+'Custom Finish'!$C$6)","v":{"$error":"#VALUE!"}},null,"Light Blue","Light Yellow",null,"1","Vanity Assembly"]
["VA60DD","Vanity Assembly 3 Drawers 60\"",{"v":991,"d":"$991.00"},2,null,{"$f":"C487*'Order Form'!$S$18*(Color!$C$6+'Door Style'!$H$6)","v":{"$error":"#VALUE!"}},{"$f":"C487*$G$2*'Order Form'!$S$18*(Color!$D$6+'Door Style'!$G$6+Species!$C$6+'Drawer Head'!$E$6+'Custom Finish'!$C$6)","v":{"$error":"#VALUE!"}},null,"01-","01-",{"$f":"CONCAT!$D$2","v":""},null,1,{"$f":"J487&A487&K487","v":"01-VA60DD"},"11-VA60DD",1,"12-VA60DD",{"$f":"Q487&K487","v":"12-VA60DD"},1,null,null,"DG 18IN VANITY SET-DTC",3,null,{"$f":"C487*1","v":{"v":991,"d":"$991.00"}},{"$f":"C487*1","v":{"v":991,"d":"$991.00"}},null,"Light Blue","Light Yellow",null,"1","Vanity Assembly"]
["VANITY POSTER BOARD",null,{"v":25,"d":"$25.00"},2,null,{"$f":"C488","v":25},{"$f":"C488","v":25},null,"/","/","",null,0,{"$f":"J488&A488&K488","v":"/VANITY POSTER BOARD"},{"$nulls":3},{"$f":"Q488&K488","v":""},null,{"$f":"N488","v":"/VANITY POSTER BOARD"},1,{"$nulls":3},{"$f":"C488*1*(Color!$C$6+'Door Style'!$H$6)","v":{"$error":"#VALUE!"}},{"$f":"C488*$G$2*1*(Color!$D$6+'Door Style'!$G$6+Species!$C$6+'Drawer Head'!$E$6+'Custom Finish'!$C$6)","v":{"$error":"#VALUE!"}},null,"Tan","Tan","Dealer",null,"Dealer support item"]
["VB10.5-SHELF","Vanity Base Shelf For 10.5\"",{"v":23,"d":"$23.00"},2,null,{"$f":"C489*'Order Form'!$S$18","v":0},{"$f":"C489*'Order Form'!$S$18","v":0},null,"14-","14-","",null,0,{"$f":"J489&A489&K489","v":"14-VB10.5-SHELF"},{"$nulls":3},{"$f":"Q489&K489","v":""},null,{"$f":"N489","v":"14-VB10.5-SHELF"},1,{"$nulls":4},{"$f":"C489*$G$2*1*(Color!$D$6+'Door Style'!$G$6+Species!$C$6+'Drawer Head'!$E$6+'Custom Finish'!$C$6)","v":{"$error":"#VALUE!"}},null,"Purple","Purple",null,"1","Shelf - Vanity - Base"]
["VB12","Vanity Base 12\"",{"v":250,"d":"$250.00"},2,"PB",{"$f":"C490*'Order Form'!$S$18*(Color!$C$6+'Door Style'!$H$6)","v":{"$error":"#VALUE!"}},{"$f":"C490*$G$2*'Order Form'!$S$18*(Color!$D$6+'Door Style'!$G$6+Species!$C$6+'Drawer Head'!$E$6+'Custom Finish'!$C$6)","v":{"$error":"#VALUE!"}},null,"01-","01-",{"$f":"CONCAT!$D$2","v":""},null,1,{"$f":"J490&A490&K490","v":"01-VB12"},"11-VB12",1,"12-VB12",{"$f":"Q490&K490","v":"12-VB12"},1,null,null,"DG 18IN VANITY SET-DTC",1,null,{"$f":"C490*1","v":{"v":250,"d":"$250.00"}},{"$f":"C490*1","v":{"v":250,"d":"$250.00"}},null,"Light Blue","Light Yellow",null,"1","Vanity - Base"]
["VB12-SHELF","Vanity Base Shelf For 12\"",{"v":26,"d":"$26.00"},2,null,{"$f":"C491*'Order Form'!$S$18","v":0},{"$f":"C491*'Order Form'!$S$18","v":0},null,"14-","14-","",null,0,{"$f":"J491&A491&K491","v":"14-VB12-SHELF"},{"$nulls":3},{"$f":"Q491&K491","v":""},null,{"$f":"N491","v":"14-VB12-SHELF"},1,{"$nulls":4},{"$f":"C491*$G$2*1*(Color!$D$6+'Door Style'!$G$6+Species!$C$6+'Drawer Head'!$E$6+'Custom Finish'!$C$6)","v":{"$error":"#VALUE!"}},null,"Purple","Purple",null,"1","Shelf - Vanity - Base"]
["VB12T","Vanity Base Tall 12\"",{"v":250,"d":"$250.00"},2,null,{"$f":"C492*'Order Form'!$S$18*(Color!$C$6+'Door Style'!$H$6)","v":{"$error":"#VALUE!"}},{"$f":"C492*$G$2*'Order Form'!$S$18*(Color!$D$6+'Door Style'!$G$6+Species!$C$6+'Drawer Head'!$E$6+'Custom Finish'!$C$6)","v":{"$error":"#VALUE!"}},null,"01-","01-",{"$f":"CONCAT!$D$2","v":""},null,1,{"$f":"J492&A492&K492","v":"01-VB12T"},"11-VB12T",1,"12-B12",{"$f":"Q492&K492","v":"12-B12"},1,null,null,"DG 18IN VANITY SET-DTC",1,null,{"$f":"C492*1*(Color!$C$6+'Door Style'!$H$6)","v":{"$error":"#VALUE!"}},{"$f":"C492*$G$2*1*(Color!$D$6+'Door Style'!$G$6+Species!$C$6+'Drawer Head'!$E$6+'Custom Finish'!$C$6)","v":{"$error":"#VALUE!"}},null,"Light Blue","Light Yellow",null,"1","Vanity - Base  - Tall"]
["VB13.5","Vanity Base 13.5\"",{"v":360,"d":"$360.00"},3,null,null,{"$f":"C493*$G$2*'Order Form'!$S$18*(Color!$D$6+'Door Style'!$G$6+Species!$C$6+'Drawer Head'!$E$6+'Custom Finish'!$C$6)","v":{"$error":"#VALUE!"}},null,"SC/PC","01-",{"$f":"CONCAT!$D$8","v":""},null,1,{"$f":"J493&A493&K493","v":"01-VB13.5"},"11-VB13.5",1,"12-VB13.5",{"$f":"Q493&K493","v":"12-VB13.5"},1,null,null,"DG 18IN VANITY SET-DTC",1,null,{"$f":"C493*1","v":{"v":360,"d":"$360.00"}},{"$f":"C493*1","v":{"v":360,"d":"$360.00"}},null,"Black","Light Yellow",null,"1","Vanity - Base"]
["VB13.5-SHELF","Vanity Base Shelf For 13.5\"",{"v":30,"d":"$30.00"},2,null,{"$f":"C494*'Order Form'!$S$18","v":0},{"$f":"C494*'Order Form'!$S$18","v":0},null,"14-","14-","",null,0,{"$f":"J494&A494&K494","v":"14-VB13.5-SHELF"},{"$nulls":3},{"$f":"Q494&K494","v":""},null,{"$f":"N494","v":"14-VB13.5-SHELF"},1,{"$nulls":3},{"$f":"C494*1*(Color!$C$6+'Door Style'!$H$6)","v":{"$error":"#VALUE!"}},{"$f":"C494*$G$2*1*(Color!$D$6+'Door Style'!$G$6+Species!$C$6+'Drawer Head'!$E$6+'Custom Finish'!$C$6)","v":{"$error":"#VALUE!"}},null,"Purple","Purple",null,"1","Shelf - Vanity - Base"]
["VB13.5T","Vanity Base 13.5\" Tall",{"v":379,"d":"$379.00"},3,null,null,{"$f":"C495*$G$2*'Order Form'!$S$18*(Color!$D$6+'Door Style'!$G$6+Species!$C$6+'Drawer Head'!$E$6+'Custom Finish'!$C$6)","v":{"$error":"#VALUE!"}},null,"SC/PC","01-",{"$f":"CONCAT!$D$8","v":""},null,1,{"$f":"J495&A495&K495","v":"01-VB13.5T"},"11-VB13.5T",1,"12-B13.5",{"$f":"Q495&K495","v":"12-B13.5"},1,null,null,"DG 18IN VANITY SET-DTC",1,null,null,{"$f":"C495*$G$2*1*(Color!$D$6+'Door Style'!$G$6+Species!$C$6+'Drawer Head'!$E$6+'Custom Finish'!$C$6)","v":{"$error":"#VALUE!"}},null,"Black","Light Yellow",null,"1","Vanity - Base  - Tall"]
["VB15","Vanity Base 15\"",{"v":279,"d":"$279.00"},2,null,{"$f":"C496*'Order Form'!$S$18*(Color!$C$6+'Door Style'!$H$6)","v":{"$error":"#VALUE!"}},{"$f":"C496*$G$2*'Order Form'!$S$18*(Color!$D$6+'Door Style'!$G$6+Species!$C$6+'Drawer Head'!$E$6+'Custom Finish'!$C$6)","v":{"$error":"#VALUE!"}},null,"01-","01-",{"$f":"CONCAT!$D$2","v":""},null,1,{"$f":"J496&A496&K496","v":"01-VB15"},"11-VB15",1,"12-VB15",{"$f":"Q496&K496","v":"12-VB15"},1,null,null,"DG 18IN VANITY SET-DTC",1,null,{"$f":"C496*1","v":{"v":279,"d":"$279.00"}},{"$f":"C496*1","v":{"v":279,"d":"$279.00"}},null,"Light Blue","Light Yellow",null,"1","Vanity - Base"]
["VB15-SHELF","Vanity Base Shelf For 15\"",{"v":33,"d":"$33.00"},2,null,{"$f":"C497*'Order Form'!$S$18","v":0},{"$f":"C497*'Order Form'!$S$18","v":0},null,"14-","14-","",null,0,{"$f":"J497&A497&K497","v":"14-VB15-SHELF"},{"$nulls":3},{"$f":"Q497&K497","v":""},null,{"$f":"N497","v":"14-VB15-SHELF"},1,{"$nulls":4},{"$f":"C497*$G$2*1*(Color!$D$6+'Door Style'!$G$6+Species!$C$6+'Drawer Head'!$E$6+'Custom Finish'!$C$6)","v":{"$error":"#VALUE!"}},null,"Purple","Purple",null,"1","Shelf - Vanity - Base"]
["VB15T","Vanity Base 15\" Tall",{"v":296,"d":"$296.00"},2,null,{"$f":"C498*'Order Form'!$S$18*(Color!$C$6+'Door Style'!$H$6)","v":{"$error":"#VALUE!"}},{"$f":"C498*$G$2*'Order Form'!$S$18*(Color!$D$6+'Door Style'!$G$6+Species!$C$6+'Drawer Head'!$E$6+'Custom Finish'!$C$6)","v":{"$error":"#VALUE!"}},null,"01-","01-",{"$f":"CONCAT!$D$2","v":""},null,1,{"$f":"J498&A498&K498","v":"01-VB15T"},"11-VB15T",1,"12-B15",{"$f":"Q498&K498","v":"12-B15"},1,null,null,"DG 18IN VANITY SET-DTC",1,null,{"$f":"C498*1*(Color!$C$6+'Door Style'!$H$6)","v":{"$error":"#VALUE!"}},{"$f":"C498*$G$2*1*(Color!$D$6+'Door Style'!$G$6+Species!$C$6+'Drawer Head'!$E$6+'Custom Finish'!$C$6)","v":{"$error":"#VALUE!"}},null,"Light Blue","Light Yellow",null,"1","Vanity - Base  - Tall"]
["VB16.5","Vanity Base 16.5\"",{"v":389,"d":"$389.00"},3,null,null,{"$f":"C499*$G$2*'Order Form'!$S$18*(Color!$D$6+'Door Style'!$G$6+Species!$C$6+'Drawer Head'!$E$6+'Custom Finish'!$C$6)","v":{"$error":"#VALUE!"}},null,"SC/PC","01-",{"$f":"CONCAT!$D$8","v":""},null,1,{"$f":"J499&A499&K499","v":"01-VB16.5"},"11-VB16.5",1,"12-VB16.5",{"$f":"Q499&K499","v":"12-VB16.5"},1,null,null,"DG 18IN VANITY SET-DTC",1,null,{"$f":"C499*1","v":{"v":389,"d":"$389.00"}},{"$f":"C499*1","v":{"v":389,"d":"$389.00"}},null,"Black","Light Yellow",null,"1","Vanity - Base"]
["VB16.5-SHELF","Vanity Base Shelf For 16.5\"",{"v":36,"d":"$36.00"},2,null,{"$f":"C500*'Order Form'!$S$18","v":0},{"$f":"C500*'Order Form'!$S$18","v":0},null,"14-","14-","",null,0,{"$f":"J500&A500&K500","v":"14-VB16.5-SHELF"},{"$nulls":3},{"$f":"Q500&K500","v":""},null,{"$f":"N500","v":"14-VB16.5-SHELF"},1,{"$nulls":3},{"$f":"C500*1*(Color!$C$6+'Door Style'!$H$6)","v":{"$error":"#VALUE!"}},{"$f":"C500*$G$2*1*(Color!$D$6+'Door Style'!$G$6+Species!$C$6+'Drawer Head'!$E$6+'Custom Finish'!$C$6)","v":{"$error":"#VALUE!"}},null,"Purple","Purple",null,"1","Shelf - Vanity - Base"]
["VB16.5T","Vanity Base 16.5\" Tall",{"v":407,"d":"$407.00"},3,null,null,{"$f":"C501*$G$2*'Order Form'!$S$18*(Color!$D$6+'Door Style'!$G$6+Species!$C$6+'Drawer Head'!$E$6+'Custom Finish'!$C$6)","v":{"$error":"#VALUE!"}},null,"SC/PC","01-",{"$f":"CONCAT!$D$8","v":""},null,1,{"$f":"J501&A501&K501","v":"01-VB16.5T"},"11-VB16.5T",1,"12-B16.5",{"$f":"Q501&K501","v":"12-B16.5"},1,null,null,"DG 18IN VANITY SET-DTC",1,null,null,{"$f":"C501*$G$2*1*(Color!$D$6+'Door Style'!$G$6+Species!$C$6+'Drawer Head'!$E$6+'Custom Finish'!$C$6)","v":{"$error":"#VALUE!"}},null,"Black","Light Yellow",null,"1","Vanity - Base  - Tall"]
["VB18","Vanity Base 18\"",{"v":310,"d":"$310.00"},2,null,{"$f":"C502*'Order Form'!$S$18*(Color!$C$6+'Door Style'!$H$6)","v":{"$error":"#VALUE!"}},{"$f":"C502*$G$2*'Order Form'!$S$18*(Color!$D$6+'Door Style'!$G$6+Species!$C$6+'Drawer Head'!$E$6+'Custom Finish'!$C$6)","v":{"$error":"#VALUE!"}},null,"01-","01-",{"$f":"CONCAT!$D$2","v":""},null,1,{"$f":"J502&A502&K502","v":"01-VB18"},"11-VB18",1,"12-VB18",{"$f":"Q502&K502","v":"12-VB18"},1,null,null,"DG 18IN VANITY SET-DTC",1,null,{"$f":"C502*1","v":{"v":310,"d":"$310.00"}},{"$f":"C502*1","v":{"v":310,"d":"$310.00"}},null,"Light Blue","Light Yellow",null,"1","Vanity - Base"]
["VB18-SHELF","Vanity Base Shelf For 18\"",{"v":39,"d":"$39.00"},2,null,{"$f":"C503*'Order Form'!$S$18","v":0},{"$f":"C503*'Order Form'!$S$18","v":0},null,"14-","14-","",null,0,{"$f":"J503&A503&K503","v":"14-VB18-SHELF"},{"$nulls":3},{"$f":"Q503&K503","v":""},null,{"$f":"N503","v":"14-VB18-SHELF"},1,{"$nulls":4},{"$f":"C503*$G$2*1*(Color!$D$6+'Door Style'!$G$6+Species!$C$6+'Drawer Head'!$E$6+'Custom Finish'!$C$6)","v":{"$error":"#VALUE!"}},null,"Purple","Purple",null,"1","Shelf - Vanity - Base"]
["VB18T","Vanity Base 18\" Tall ",{"v":330,"d":"$330.00"},2,null,{"$f":"C504*'Order Form'!$S$18*(Color!$C$6+'Door Style'!$H$6)","v":{"$error":"#VALUE!"}},{"$f":"C504*$G$2*'Order Form'!$S$18*(Color!$D$6+'Door Style'!$G$6+Species!$C$6+'Drawer Head'!$E$6+'Custom Finish'!$C$6)","v":{"$error":"#VALUE!"}},null,"01-","01-",{"$f":"CONCAT!$D$2","v":""},null,1,{"$f":"J504&A504&K504","v":"01-VB18T"},"11-VB18T",1,"12-B18",{"$f":"Q504&K504","v":"12-B18"},1,null,null,"DG 18IN VANITY SET-DTC",1,null,{"$f":"C504*1*(Color!$C$6+'Door Style'!$H$6)","v":{"$error":"#VALUE!"}},{"$f":"C504*$G$2*1*(Color!$D$6+'Door Style'!$G$6+Species!$C$6+'Drawer Head'!$E$6+'Custom Finish'!$C$6)","v":{"$error":"#VALUE!"}},null,"Light Blue","Light Yellow",null,"1","Vanity - Base  - Tall"]
["VB19.5","Vanity Base 19.5\"",{"v":426,"d":"$426.00"},3,null,null,{"$f":"C505*$G$2*'Order Form'!$S$18*(Color!$D$6+'Door Style'!$G$6+Species!$C$6+'Drawer Head'!$E$6+'Custom Finish'!$C$6)","v":{"$error":"#VALUE!"}},null,"SC/PC","01-",{"$f":"CONCAT!$D$8","v":""},null,1,{"$f":"J505&A505&K505","v":"01-VB19.5"},"11-VB19.5",1,"12-VB19.5",{"$f":"Q505&K505","v":"12-VB19.5"},1,null,null,"DG 18IN VANITY SET-DTC",1,null,{"$f":"C505*1","v":{"v":426,"d":"$426.00"}},{"$f":"C505*1","v":{"v":426,"d":"$426.00"}},null,"Black","Light Yellow",null,"1","Vanity - Base"]
["VB19.5-SHELF","Vanity Base Shelf For 19.5\"",{"v":42,"d":"$42.00"},2,null,{"$f":"C506*'Order Form'!$S$18","v":0},{"$f":"C506*'Order Form'!$S$18","v":0},null,"14-","14-","",null,0,{"$f":"J506&A506&K506","v":"14-VB19.5-SHELF"},{"$nulls":3},{"$f":"Q506&K506","v":""},null,{"$f":"N506","v":"14-VB19.5-SHELF"},1,{"$nulls":3},{"$f":"C506*1*(Color!$C$6+'Door Style'!$H$6)","v":{"$error":"#VALUE!"}},{"$f":"C506*$G$2*1*(Color!$D$6+'Door Style'!$G$6+Species!$C$6+'Drawer Head'!$E$6+'Custom Finish'!$C$6)","v":{"$error":"#VALUE!"}},null,"Purple","Purple",null,"1","Shelf - Vanity - Base"]
["VB19.5T","Vanity Base 19.5\" Tall",{"v":453,"d":"$453.00"},3,null,null,{"$f":"C507*$G$2*'Order Form'!$S$18*(Color!$D$6+'Door Style'!$G$6+Species!$C$6+'Drawer Head'!$E$6+'Custom Finish'!$C$6)","v":{"$error":"#VALUE!"}},null,"SC/PC","01-",{"$f":"CONCAT!$D$8","v":""},null,1,{"$f":"J507&A507&K507","v":"01-VB19.5T"},"11-VB19.5T",1,"12-B19.5",{"$f":"Q507&K507","v":"12-B19.5"},1,null,null,"DG 18IN VANITY SET-DTC",1,null,{"$f":"C507*1*(Color!$C$6+'Door Style'!$H$6)","v":{"$error":"#VALUE!"}},{"$f":"C507*$G$2*1*(Color!$D$6+'Door Style'!$G$6+Species!$C$6+'Drawer Head'!$E$6+'Custom Finish'!$C$6)","v":{"$error":"#VALUE!"}},null,"Black","Light Yellow",null,"1","Vanity - Base  - Tall"]
["VB21","Vanity Base 21\"",{"v":341,"d":"$341.00"},2,null,{"$f":"C508*'Order Form'!$S$18*(Color!$C$6+'Door Style'!$H$6)","v":{"$error":"#VALUE!"}},{"$f":"C508*$G$2*'Order Form'!$S$18*(Color!$D$6+'Door Style'!$G$6+Species!$C$6+'Drawer Head'!$E$6+'Custom Finish'!$C$6)","v":{"$error":"#VALUE!"}},null,"01-","01-",{"$f":"CONCAT!$D$2","v":""},null,1,{"$f":"J508&A508&K508","v":"01-VB21"},"11-VB21",1,"12-VB21",{"$f":"Q508&K508","v":"12-VB21"},1,null,null,"DG 18IN VANITY SET-DTC",1,null,{"$f":"C508*1","v":{"v":341,"d":"$341.00"}},{"$f":"C508*1","v":{"v":341,"d":"$341.00"}},null,"Light Blue","Light Yellow",null,"1","Vanity - Base"]
["VB21-SHELF","Vanity Base Shelf For 21\"",{"v":45,"d":"$45.00"},2,null,{"$f":"C509*'Order Form'!$S$18","v":0},{"$f":"C509*'Order Form'!$S$18","v":0},null,"14-","14-","",null,0,{"$f":"J509&A509&K509","v":"14-VB21-SHELF"},{"$nulls":3},{"$f":"Q509&K509","v":""},null,{"$f":"N509","v":"14-VB21-SHELF"},1,{"$nulls":3},{"$f":"C509*1*(Color!$C$6+'Door Style'!$H$6)","v":{"$error":"#VALUE!"}},{"$f":"C509*$G$2*1*(Color!$D$6+'Door Style'!$G$6+Species!$C$6+'Drawer Head'!$E$6+'Custom Finish'!$C$6)","v":{"$error":"#VALUE!"}},null,"Purple","Purple",null,"1","Shelf - Vanity - Base"]
["VB21T","Vanity Base 21\" Tall",{"v":361,"d":"$361.00"},2,null,{"$f":"C510*'Order Form'!$S$18*(Color!$C$6+'Door Style'!$H$6)","v":{"$error":"#VALUE!"}},{"$f":"C510*$G$2*'Order Form'!$S$18*(Color!$D$6+'Door Style'!$G$6+Species!$C$6+'Drawer Head'!$E$6+'Custom Finish'!$C$6)","v":{"$error":"#VALUE!"}},null,"01-","01-",{"$f":"CONCAT!$D$2","v":""},null,1,{"$f":"J510&A510&K510","v":"01-VB21T"},"11-VB21T",1,"12-B21",{"$f":"Q510&K510","v":"12-B21"},1,null,null,"DG 18IN VANITY SET-DTC",1,null,null,{"$f":"C510*$G$2*1*(Color!$D$6+'Door Style'!$G$6+Species!$C$6+'Drawer Head'!$E$6+'Custom Finish'!$C$6)","v":{"$error":"#VALUE!"}},null,"Light Blue","Light Yellow",null,"1","Vanity - Base  - Tall"]
["VB22.5","Vanity Base 22.5\"",{"v":472,"d":"$472.00"},3,null,null,{"$f":"C511*$G$2*'Order Form'!$S$18*(Color!$D$6+'Door Style'!$G$6+Species!$C$6+'Drawer Head'!$E$6+'Custom Finish'!$C$6)","v":{"$error":"#VALUE!"}},null,"SC/PC","01-",{"$f":"CONCAT!$D$8","v":""},null,1,{"$f":"J511&A511&K511","v":"01-VB22.5"},"11-VB22.5",1,"12-VB22.5",{"$f":"Q511&K511","v":"12-VB22.5"},1,null,null,"DG 18IN VANITY SET-DTC",1,null,{"$f":"C511*1","v":{"v":472,"d":"$472.00"}},{"$f":"C511*1","v":{"v":472,"d":"$472.00"}},null,"Black","Light Yellow",null,"1","Vanity - Base"]
["VB22.5-SHELF","Vanity Base Shelf For 22.5\"",{"v":48,"d":"$48.00"},2,null,{"$f":"C512*'Order Form'!$S$18","v":0},{"$f":"C512*'Order Form'!$S$18","v":0},null,"14-","14-","",null,0,{"$f":"J512&A512&K512","v":"14-VB22.5-SHELF"},{"$nulls":3},{"$f":"Q512&K512","v":""},null,{"$f":"N512","v":"14-VB22.5-SHELF"},1,{"$nulls":3},{"$f":"C512*1*(Color!$C$6+'Door Style'!$H$6)","v":{"$error":"#VALUE!"}},{"$f":"C512*$G$2*1*(Color!$D$6+'Door Style'!$G$6+Species!$C$6+'Drawer Head'!$E$6+'Custom Finish'!$C$6)","v":{"$error":"#VALUE!"}},null,"Purple","Purple",null,"1","Shelf - Vanity - Base"]
["VB22.5T","Vanity Base 22.5\" Tall",{"v":530,"d":"$530.00"},3,null,null,{"$f":"C513*$G$2*'Order Form'!$S$18*(Color!$D$6+'Door Style'!$G$6+Species!$C$6+'Drawer Head'!$E$6+'Custom Finish'!$C$6)","v":{"$error":"#VALUE!"}},null,"SC/PC","01-",{"$f":"CONCAT!$D$8","v":""},null,1,{"$f":"J513&A513&K513","v":"01-VB22.5T"},"11-VB22.5T",1,"12-B22.5",{"$f":"Q513&K513","v":"12-B22.5"},1,null,null,"DG 18IN VANITY SET-DTC",1,null,{"$f":"C513*1*(Color!$C$6+'Door Style'!$H$6)","v":{"$error":"#VALUE!"}},{"$f":"C513*$G$2*1*(Color!$D$6+'Door Style'!$G$6+Species!$C$6+'Drawer Head'!$E$6+'Custom Finish'!$C$6)","v":{"$error":"#VALUE!"}},null,"Black","Light Yellow",null,"1","Vanity - Base  - Tall"]
["VB24","Vanity Base 24\"",{"v":440,"d":"$440.00"},2,null,{"$f":"C514*'Order Form'!$S$18*(Color!$C$6+'Door Style'!$H$6)","v":{"$error":"#VALUE!"}},{"$f":"C514*$G$2*'Order Form'!$S$18*(Color!$D$6+'Door Style'!$G$6+Species!$C$6+'Drawer Head'!$E$6+'Custom Finish'!$C$6)","v":{"$error":"#VALUE!"}},null,"01-","01-",{"$f":"CONCAT!$D$2","v":""},null,1,{"$f":"J514&A514&K514","v":"01-VB24"},"11-VB24",1,"12-VB24",{"$f":"Q514&K514","v":"12-VB24"},1,null,null,"DG 18IN VANITY SET-DTC",1,null,{"$f":"C514*1","v":{"v":440,"d":"$440.00"}},{"$f":"C514*1","v":{"v":440,"d":"$440.00"}},null,"Light Blue","Light Yellow",null,"1","Vanity - Base"]
["VB24-SHELF","Vanity Base Shelf For 24\"",{"v":51,"d":"$51.00"},2,null,{"$f":"C515*'Order Form'!$S$18","v":0},{"$f":"C515*'Order Form'!$S$18","v":0},null,"14-","14-","",null,0,{"$f":"J515&A515&K515","v":"14-VB24-SHELF"},{"$nulls":3},{"$f":"Q515&K515","v":""},null,{"$f":"N515","v":"14-VB24-SHELF"},1,{"$nulls":3},{"$f":"C515*1*(Color!$C$6+'Door Style'!$H$6)","v":{"$error":"#VALUE!"}},{"$f":"C515*$G$2*1*(Color!$D$6+'Door Style'!$G$6+Species!$C$6+'Drawer Head'!$E$6+'Custom Finish'!$C$6)","v":{"$error":"#VALUE!"}},null,"Purple","Purple",null,"1","Shelf - Vanity - Base"]
["VB24T","Vanity Base 24\" Tall",{"v":394,"d":"$394.00"},2,null,{"$f":"C516*'Order Form'!$S$18*(Color!$C$6+'Door Style'!$H$6)","v":{"$error":"#VALUE!"}},{"$f":"C516*$G$2*'Order Form'!$S$18*(Color!$D$6+'Door Style'!$G$6+Species!$C$6+'Drawer Head'!$E$6+'Custom Finish'!$C$6)","v":{"$error":"#VALUE!"}},null,"01-","01-",{"$f":"CONCAT!$D$2","v":""},null,1,{"$f":"J516&A516&K516","v":"01-VB24T"},"11-VB24T",1,"12-B24",{"$f":"Q516&K516","v":"12-B24"},1,null,null,"DG 18IN VANITY SET-DTC",1,null,{"$f":"C516*1*(Color!$C$6+'Door Style'!$H$6)","v":{"$error":"#VALUE!"}},{"$f":"C516*$G$2*1*(Color!$D$6+'Door Style'!$G$6+Species!$C$6+'Drawer Head'!$E$6+'Custom Finish'!$C$6)","v":{"$error":"#VALUE!"}},null,"Light Blue","Light Yellow",null,"1","Vanity - Base  - Tall"]
["VB25.5","Vanity Base 25.5\"",{"v":555,"d":"$555.00"},3,null,null,{"$f":"C517*$G$2*'Order Form'!$S$18*(Color!$D$6+'Door Style'!$G$6+Species!$C$6+'Drawer Head'!$E$6+'Custom Finish'!$C$6)","v":{"$error":"#VALUE!"}},null,"SC/PC","01-",{"$f":"CONCAT!$D$8","v":""},null,1,{"$f":"J517&A517&K517","v":"01-VB25.5"},"11-VB25.5",1,"12-VB25.5",{"$f":"Q517&K517","v":"12-VB25.5"},1,null,null,"DG 18IN VANITY SET-DTC",1,null,{"$f":"C517*1","v":{"v":555,"d":"$555.00"}},{"$f":"C517*1","v":{"v":555,"d":"$555.00"}},null,"Black","Light Yellow",null,"1","Vanity - Base"]
["VB25.5-SHELF","Vanity Base Shelf For 25.5\"",{"v":55,"d":"$55.00"},2,null,{"$f":"C518*'Order Form'!$S$18","v":0},{"$f":"C518*'Order Form'!$S$18","v":0},null,"14-","14-","",null,0,{"$f":"J518&A518&K518","v":"14-VB25.5-SHELF"},{"$nulls":3},{"$f":"Q518&K518","v":""},null,{"$f":"N518","v":"14-VB25.5-SHELF"},1,{"$nulls":4},{"$f":"C518*$G$2*1*(Color!$D$6+'Door Style'!$G$6+Species!$C$6+'Drawer Head'!$E$6+'Custom Finish'!$C$6)","v":{"$error":"#VALUE!"}},null,"Purple","Purple",null,"1","Shelf - Vanity - Base"]
["VB25.5T","Vanity Base 25.5\" Tall",{"v":590,"d":"$590.00"},3,null,null,{"$f":"C519*$G$2*'Order Form'!$S$18*(Color!$D$6+'Door Style'!$G$6+Species!$C$6+'Drawer Head'!$E$6+'Custom Finish'!$C$6)","v":{"$error":"#VALUE!"}},null,"SC/PC","01-",{"$f":"CONCAT!$D$8","v":""},null,1,{"$f":"J519&A519&K519","v":"01-VB25.5T"},"11-VB25.5T",1,"12-B25.5",{"$f":"Q519&K519","v":"12-B25.5"},1,null,null,"DG 18IN VANITY SET-DTC",1,null,null,{"$f":"C519*$G$2*1*(Color!$D$6+'Door Style'!$G$6+Species!$C$6+'Drawer Head'!$E$6+'Custom Finish'!$C$6)","v":{"$error":"#VALUE!"}},null,"Black","Light Yellow",null,"1","Vanity - Base  - Tall"]
["VB27","Vanity Base 27\"",{"v":467,"d":"$467.00"},2,null,{"$f":"C520*'Order Form'!$S$18*(Color!$C$6+'Door Style'!$H$6)","v":{"$error":"#VALUE!"}},{"$f":"C520*$G$2*'Order Form'!$S$18*(Color!$D$6+'Door Style'!$G$6+Species!$C$6+'Drawer Head'!$E$6+'Custom Finish'!$C$6)","v":{"$error":"#VALUE!"}},null,"01-","01-",{"$f":"CONCAT!$D$2","v":""},null,1,{"$f":"J520&A520&K520","v":"01-VB27"},"11-VB27",1,"12-VB27",{"$f":"Q520&K520","v":"12-VB27"},1,null,null,"DG 18IN VANITY SET-DTC",1,null,null,{"$f":"C520*$G$2*1*(Color!$D$6+'Door Style'!$G$6+Species!$C$6+'Drawer Head'!$E$6+'Custom Finish'!$C$6)","v":{"$error":"#VALUE!"}},null,"Light Blue","Light Yellow",null,"1","Vanity - Base"]
["VB27-SHELF","Vanity Base Shelf For 27\"",{"v":58,"d":"$58.00"},2,null,{"$f":"C521*'Order Form'!$S$18","v":0},{"$f":"C521*'Order Form'!$S$18","v":0},null,"14-","14-","",null,0,{"$f":"J521&A521&K521","v":"14-VB27-SHELF"},{"$nulls":3},{"$f":"Q521&K521","v":""},null,{"$f":"N521","v":"14-VB27-SHELF"},1,{"$nulls":4},{"$f":"C521*$G$2*1*(Color!$D$6+'Door Style'!$G$6+Species!$C$6+'Drawer Head'!$E$6+'Custom Finish'!$C$6)","v":{"$error":"#VALUE!"}},null,"Purple","Purple",null,"1","Shelf - Vanity - Base"]
["VB27T","Vanity Base 27\" Tall",{"v":448,"d":"$448.00"},2,null,{"$f":"C522*'Order Form'!$S$18*(Color!$C$6+'Door Style'!$H$6)","v":{"$error":"#VALUE!"}},{"$f":"C522*$G$2*'Order Form'!$S$18*(Color!$D$6+'Door Style'!$G$6+Species!$C$6+'Drawer Head'!$E$6+'Custom Finish'!$C$6)","v":{"$error":"#VALUE!"}},null,"01-","01-",{"$f":"CONCAT!$D$2","v":""},null,1,{"$f":"J522&A522&K522","v":"01-VB27T"},"11-VB27T",1,"12-B27",{"$f":"Q522&K522","v":"12-B27"},1,null,null,"DG 18IN VANITY SET-DTC",1,null,null,{"$f":"C522*$G$2*1*(Color!$D$6+'Door Style'!$G$6+Species!$C$6+'Drawer Head'!$E$6+'Custom Finish'!$C$6)","v":{"$error":"#VALUE!"}},null,"Light Blue","Light Yellow",null,"1","Vanity - Base  - Tall"]
["VB30","Vanity Base 30\"",{"v":490,"d":"$490.00"},2,null,{"$f":"C523*'Order Form'!$S$18*(Color!$C$6+'Door Style'!$H$6)","v":{"$error":"#VALUE!"}},{"$f":"C523*$G$2*'Order Form'!$S$18*(Color!$D$6+'Door Style'!$G$6+Species!$C$6+'Drawer Head'!$E$6+'Custom Finish'!$C$6)","v":{"$error":"#VALUE!"}},null,"01-","01-",{"$f":"CONCAT!$D$2","v":""},null,1,{"$f":"J523&A523&K523","v":"01-VB30"},"11-VB30",1,"12-VB30",{"$f":"Q523&K523","v":"12-VB30"},1,null,null,"DG 18IN VANITY SET-DTC",1,null,{"$f":"C523*1*(Color!$C$6+'Door Style'!$H$6)","v":{"$error":"#VALUE!"}},{"$f":"C523*$G$2*1*(Color!$D$6+'Door Style'!$G$6+Species!$C$6+'Drawer Head'!$E$6+'Custom Finish'!$C$6)","v":{"$error":"#VALUE!"}},null,"Light Blue","Light Yellow",null,"1","Vanity - Base"]
["VB30-SHELF","Vanity Base Shelf For 30\"",{"v":65,"d":"$65.00"},2,null,{"$f":"C524*'Order Form'!$S$18","v":0},{"$f":"C524*'Order Form'!$S$18","v":0},null,"14-","14-","",null,0,{"$f":"J524&A524&K524","v":"14-VB30-SHELF"},{"$nulls":3},{"$f":"Q524&K524","v":""},null,{"$f":"N524","v":"14-VB30-SHELF"},1,{"$nulls":3},{"$f":"C524*1*(Color!$C$6+'Door Style'!$H$6)","v":{"$error":"#VALUE!"}},{"$f":"C524*$G$2*1*(Color!$D$6+'Door Style'!$G$6+Species!$C$6+'Drawer Head'!$E$6+'Custom Finish'!$C$6)","v":{"$error":"#VALUE!"}},null,"Purple","Purple",null,"1","Shelf - Vanity - Base"]
["VB30T","Vanity Base 30\" Tall",{"v":491,"d":"$491.00"},2,null,{"$f":"C525*'Order Form'!$S$18*(Color!$C$6+'Door Style'!$H$6)","v":{"$error":"#VALUE!"}},{"$f":"C525*$G$2*'Order Form'!$S$18*(Color!$D$6+'Door Style'!$G$6+Species!$C$6+'Drawer Head'!$E$6+'Custom Finish'!$C$6)","v":{"$error":"#VALUE!"}},null,"01-","01-",{"$f":"CONCAT!$D$2","v":""},null,1,{"$f":"J525&A525&K525","v":"01-VB30T"},"11-VB30T",1,"12-B30",{"$f":"Q525&K525","v":"12-B30"},1,null,null,"DG 18IN VANITY SET-DTC",1,null,null,{"$f":"C525*$G$2*1*(Color!$D$6+'Door Style'!$G$6+Species!$C$6+'Drawer Head'!$E$6+'Custom Finish'!$C$6)","v":{"$error":"#VALUE!"}},null,"Light Blue","Light Yellow",null,"1","Vanity - Base  - Tall"]
["VB33","Vanity Base 33\"",{"v":740,"d":"$740.00"},3,null,null,{"$f":"C526*$G$2*'Order Form'!$S$18*(Color!$D$6+'Door Style'!$G$6+Species!$C$6+'Drawer Head'!$E$6+'Custom Finish'!$C$6)","v":{"$error":"#VALUE!"}},null,"PROJECT","01-",{"$f":"CONCAT!$D$2","v":""},null,1,{"$f":"J526&A526&K526","v":"01-VB33"},"11-VB33",1,"12-VB33",{"$f":"Q526&K526","v":"12-VB33"},1,null,null,"DG 18IN VANITY SET-DTC",2,null,null,{"$f":"C526*$G$2*1*(Color!$D$6+'Door Style'!$G$6+Species!$C$6+'Drawer Head'!$E$6+'Custom Finish'!$C$6)","v":{"$error":"#VALUE!"}},null,"Black","Light Yellow",null,"1","Vanity - Base"]
["VB33-SHELF","Vanity Base Shelf For 33\"",{"v":71,"d":"$71.00"},2,null,{"$f":"C527*'Order Form'!$S$18","v":0},{"$f":"C527*'Order Form'!$S$18","v":0},null,"14-","14-","",null,0,{"$f":"J527&A527&K527","v":"14-VB33-SHELF"},{"$nulls":3},{"$f":"Q527&K527","v":""},null,{"$f":"N527","v":"14-VB33-SHELF"},1,{"$nulls":3},{"$f":"C527*1*(Color!$C$6+'Door Style'!$H$6)","v":{"$error":"#VALUE!"}},{"$f":"C527*$G$2*1*(Color!$D$6+'Door Style'!$G$6+Species!$C$6+'Drawer Head'!$E$6+'Custom Finish'!$C$6)","v":{"$error":"#VALUE!"}},null,"Purple","Purple",null,"1","Shelf - Vanity - Base"]
["VB33T","Vanity Base 33\" Tall",{"v":581,"d":"$581.00"},2,null,{"$f":"C528*'Order Form'!$S$18*(Color!$C$6+'Door Style'!$H$6)","v":{"$error":"#VALUE!"}},{"$f":"C528*$G$2*'Order Form'!$S$18*(Color!$D$6+'Door Style'!$G$6+Species!$C$6+'Drawer Head'!$E$6+'Custom Finish'!$C$6)","v":{"$error":"#VALUE!"}},null,"01-","01-",{"$f":"CONCAT!$D$2","v":""},null,1,{"$f":"J528&A528&K528","v":"01-VB33T"},"11-VB33T",1,"12-B33",{"$f":"Q528&K528","v":"12-B33"},1,null,null,"DG 18IN VANITY SET-DTC",2,null,{"$f":"C528*1*(Color!$C$6+'Door Style'!$H$6)","v":{"$error":"#VALUE!"}},{"$f":"C528*$G$2*1*(Color!$D$6+'Door Style'!$G$6+Species!$C$6+'Drawer Head'!$E$6+'Custom Finish'!$C$6)","v":{"$error":"#VALUE!"}},null,"Light Blue","Light Yellow",null,"1","Vanity - Base  - Tall"]
["VB36","Vanity Base 36\"",{"v":600,"d":"$600.00"},2,null,{"$f":"C529*'Order Form'!$S$18*(Color!$C$6+'Door Style'!$H$6)","v":{"$error":"#VALUE!"}},{"$f":"C529*$G$2*'Order Form'!$S$18*(Color!$D$6+'Door Style'!$G$6+Species!$C$6+'Drawer Head'!$E$6+'Custom Finish'!$C$6)","v":{"$error":"#VALUE!"}},null,"01-","01-",{"$f":"CONCAT!$D$2","v":""},null,1,{"$f":"J529&A529&K529","v":"01-VB36"},"11-VB36",1,"12-VB36",{"$f":"Q529&K529","v":"12-VB36"},1,null,null,"DG 18IN VANITY SET-DTC",2,null,null,{"$f":"C529*$G$2*1*(Color!$D$6+'Door Style'!$G$6+Species!$C$6+'Drawer Head'!$E$6+'Custom Finish'!$C$6)","v":{"$error":"#VALUE!"}},null,"Light Blue","Light Yellow",null,"1","Vanity - Base"]
["VB36-SHELF","Vanity Base Shelf For 36\"",{"v":77,"d":"$77.00"},2,null,{"$f":"C530*'Order Form'!$S$18","v":0},{"$f":"C530*'Order Form'!$S$18","v":0},null,"14-","14-","",null,0,{"$f":"J530&A530&K530","v":"14-VB36-SHELF"},{"$nulls":3},{"$f":"Q530&K530","v":""},null,{"$f":"N530","v":"14-VB36-SHELF"},1,{"$nulls":4},{"$f":"C530*$G$2*1*(Color!$D$6+'Door Style'!$G$6+Species!$C$6+'Drawer Head'!$E$6+'Custom Finish'!$C$6)","v":{"$error":"#VALUE!"}},null,"Purple","Purple",null,"1","Shelf - Vanity - Base"]
["VB36T","Vanity Base 36\" Tall",{"v":615,"d":"$615.00"},2,null,{"$f":"C531*'Order Form'!$S$18*(Color!$C$6+'Door Style'!$H$6)","v":{"$error":"#VALUE!"}},{"$f":"C531*$G$2*'Order Form'!$S$18*(Color!$D$6+'Door Style'!$G$6+Species!$C$6+'Drawer Head'!$E$6+'Custom Finish'!$C$6)","v":{"$error":"#VALUE!"}},null,"01-","01-",{"$f":"CONCAT!$D$2","v":""},null,1,{"$f":"J531&A531&K531","v":"01-VB36T"},"11-VB36T",1,"12-B36",{"$f":"Q531&K531","v":"12-B36"},1,null,null,"DG 18IN VANITY SET-DTC",2,null,{"$f":"C531*1*(Color!$C$6+'Door Style'!$H$6)","v":{"$error":"#VALUE!"}},{"$f":"C531*$G$2*1*(Color!$D$6+'Door Style'!$G$6+Species!$C$6+'Drawer Head'!$E$6+'Custom Finish'!$C$6)","v":{"$error":"#VALUE!"}},null,"Light Blue","Light Yellow",null,"1","Vanity - Base  - Tall"]
["VB39T","Vanity Base 39\" Tall",{"v":647,"d":"$647.00"},2,null,{"$f":"C532*'Order Form'!$S$18*(Color!$C$6+'Door Style'!$H$6)","v":{"$error":"#VALUE!"}},{"$f":"C532*$G$2*'Order Form'!$S$18*(Color!$D$6+'Door Style'!$G$6+Species!$C$6+'Drawer Head'!$E$6+'Custom Finish'!$C$6)","v":{"$error":"#VALUE!"}},null,"01-","01-",{"$f":"CONCAT!$D$2","v":""},null,1,{"$f":"J532&A532&K532","v":"01-VB39T"},"11-VB39T",1,"12-B39",{"$f":"Q532&K532","v":"12-B39"},1,null,null,"DG 18IN VANITY SET-DTC",2,null,{"$f":"C532*1*(Color!$C$6+'Door Style'!$H$6)","v":{"$error":"#VALUE!"}},{"$f":"C532*$G$2*1*(Color!$D$6+'Door Style'!$G$6+Species!$C$6+'Drawer Head'!$E$6+'Custom Finish'!$C$6)","v":{"$error":"#VALUE!"}},null,"Light Blue","Light Yellow",null,"1","Vanity - Base  - Tall"]
["VBSHELF","Vanity Base Shelf 8FT Length",{"v":167,"d":"$167.00"},2,null,{"$f":"C533*'Order Form'!$S$18","v":0},{"$f":"C533*'Order Form'!$S$18","v":0},null,"14-","13-","",null,0,{"$f":"J533&A533&K533","v":"13-VBSHELF"},{"$nulls":3},{"$f":"Q533&K533","v":""},null,{"$f":"N533","v":"13-VBSHELF"},1,{"$nulls":4},{"$f":"C533*$G$2*1*(Color!$D$6+'Door Style'!$G$6+Species!$C$6+'Drawer Head'!$E$6+'Custom Finish'!$C$6)","v":{"$error":"#VALUE!"}},null,"Purple","Purple",null,"1","Shelf - Vanity - Base"]
["VKD24","Vanity Knee Drawer 24\"",{"v":223,"d":"$223.00"},3,null,null,{"$f":"C534*$G$2*'Order Form'!$S$18*(Color!$D$6+'Door Style'!$G$6+Species!$C$6+'Drawer Head'!$E$6+'Custom Finish'!$C$6)","v":{"$error":"#VALUE!"}},null,"SC/PC","01-",{"$f":"CONCAT!$D$8","v":""},null,1,{"$f":"J534&A534&K534","v":"01-VKD24"},"11-VKD24",1,"12-KKD24",{"$f":"Q534&K534","v":"12-KKD24"},1,null,null,"DG 18IN VANITY SET-DTC",1,null,null,{"$f":"C534*$G$2*1*(Color!$D$6+'Door Style'!$G$6+Species!$C$6+'Drawer Head'!$E$6+'Custom Finish'!$C$6)","v":{"$error":"#VALUE!"}},null,"Black","Light Yellow",null,null,"Knee Drawer - Vanity"]
["VKD27","Vanity Knee Drawer 27\"",{"v":226,"d":"$226.00"},3,null,null,{"$f":"C535*$G$2*'Order Form'!$S$18*(Color!$D$6+'Door Style'!$G$6+Species!$C$6+'Drawer Head'!$E$6+'Custom Finish'!$C$6)","v":{"$error":"#VALUE!"}},null,"SC/PC","01-",{"$f":"CONCAT!$D$8","v":""},null,1,{"$f":"J535&A535&K535","v":"01-VKD27"},"11-VKD27",1,"12-KKD27",{"$f":"Q535&K535","v":"12-KKD27"},1,null,null,"DG 18IN VANITY SET-DTC",1,null,{"$f":"C535*1*(Color!$C$6+'Door Style'!$H$6)","v":{"$error":"#VALUE!"}},{"$f":"C535*$G$2*1*(Color!$D$6+'Door Style'!$G$6+Species!$C$6+'Drawer Head'!$E$6+'Custom Finish'!$C$6)","v":{"$error":"#VALUE!"}},null,"Black","Light Yellow",null,null,"Knee Drawer - Vanity"]
["VKD30","Vanity Knee Drawer 30\"",{"v":232,"d":"$232.00"},3,null,null,{"$f":"C536*$G$2*'Order Form'!$S$18*(Color!$D$6+'Door Style'!$G$6+Species!$C$6+'Drawer Head'!$E$6+'Custom Finish'!$C$6)","v":{"$error":"#VALUE!"}},null,"SC/PC","01-",{"$f":"CONCAT!$D$8","v":""},null,1,{"$f":"J536&A536&K536","v":"01-VKD30"},"11-VKD30",1,"12-KKD30",{"$f":"Q536&K536","v":"12-KKD30"},1,null,null,"DG 18IN VANITY SET-DTC",1,null,{"$f":"C536*1*(Color!$C$6+'Door Style'!$H$6)","v":{"$error":"#VALUE!"}},{"$f":"C536*$G$2*1*(Color!$D$6+'Door Style'!$G$6+Species!$C$6+'Drawer Head'!$E$6+'Custom Finish'!$C$6)","v":{"$error":"#VALUE!"}},null,"Black","Light Yellow",null,null,"Knee Drawer - Vanity"]
["VKD33","Vanity Knee Drawer 33\"",{"v":238,"d":"$238.00"},3,null,null,{"$f":"C537*$G$2*'Order Form'!$S$18*(Color!$D$6+'Door Style'!$G$6+Species!$C$6+'Drawer Head'!$E$6+'Custom Finish'!$C$6)","v":{"$error":"#VALUE!"}},null,"PROJECT","01-",{"$f":"CONCAT!$D$2","v":""},null,1,{"$f":"J537&A537&K537","v":"01-VKD33"},"11-VKD33",1,"12-KKD33",{"$f":"Q537&K537","v":"12-KKD33"},1,null,null,"DG 18IN VANITY SET-DTC",1,null,{"$f":"C537*1*(Color!$C$6+'Door Style'!$H$6)","v":{"$error":"#VALUE!"}},{"$f":"C537*$G$2*1*(Color!$D$6+'Door Style'!$G$6+Species!$C$6+'Drawer Head'!$E$6+'Custom Finish'!$C$6)","v":{"$error":"#VALUE!"}},null,"Black","Light Yellow",null,null,"Knee Drawer - Vanity"]
["VKD36","Vanity Knee Drawer 36\"",{"v":246,"d":"$246.00"},3,null,null,{"$f":"C538*$G$2*'Order Form'!$S$18*(Color!$D$6+'Door Style'!$G$6+Species!$C$6+'Drawer Head'!$E$6+'Custom Finish'!$C$6)","v":{"$error":"#VALUE!"}},null,"PROJECT","01-",{"$f":"CONCAT!$D$2","v":""},null,1,{"$f":"J538&A538&K538","v":"01-VKD36"},"11-VKD36",1,"12-KKD36",{"$f":"Q538&K538","v":"12-KKD36"},1,null,null,"DG 18IN VANITY SET-DTC",1,null,{"$f":"C538*1*(Color!$C$6+'Door Style'!$H$6)","v":{"$error":"#VALUE!"}},{"$f":"C538*$G$2*1*(Color!$D$6+'Door Style'!$G$6+Species!$C$6+'Drawer Head'!$E$6+'Custom Finish'!$C$6)","v":{"$error":"#VALUE!"}},null,"Black","Light Yellow",null,null,"Knee Drawer - Vanity"]
["VSB18","Vanity Sink Base 18\"",{"v":267,"d":"$267.00"},2,null,{"$f":"C539*'Order Form'!$S$18*(Color!$C$6+'Door Style'!$H$6)","v":{"$error":"#VALUE!"}},{"$f":"C539*$G$2*'Order Form'!$S$18*(Color!$D$6+'Door Style'!$G$6+Species!$C$6+'Drawer Head'!$E$6+'Custom Finish'!$C$6)","v":{"$error":"#VALUE!"}},null,"01-","01-",{"$f":"CONCAT!$D$2","v":""},null,1,{"$f":"J539&A539&K539","v":"01-VSB18"},"11-VSB18",1,"12-VB18",{"$f":"Q539&K539","v":"12-VB18"},1,{"$nulls":6},{"$f":"C539*$G$2*1*(Color!$D$6+'Door Style'!$G$6+Species!$C$6+'Drawer Head'!$E$6+'Custom Finish'!$C$6)","v":{"$error":"#VALUE!"}},null,"Light Blue","Light Yellow",null,"1","Vanity - Sink Base"]
["VSB18T","Vanity Sink Base 18\" Tall",{"v":284,"d":"$284.00"},2,null,{"$f":"C540*'Order Form'!$S$18*(Color!$C$6+'Door Style'!$H$6)","v":{"$error":"#VALUE!"}},{"$f":"C540*$G$2*'Order Form'!$S$18*(Color!$D$6+'Door Style'!$G$6+Species!$C$6+'Drawer Head'!$E$6+'Custom Finish'!$C$6)","v":{"$error":"#VALUE!"}},null,"01-","01-",{"$f":"CONCAT!$D$2","v":""},null,1,{"$f":"J540&A540&K540","v":"01-VSB18T"},"11-VSB18T",1,"12-B18",{"$f":"Q540&K540","v":"12-B18"},1,{"$nulls":5},{"$f":"C540*1*(Color!$C$6+'Door Style'!$H$6)","v":{"$error":"#VALUE!"}},{"$f":"C540*$G$2*1*(Color!$D$6+'Door Style'!$G$6+Species!$C$6+'Drawer Head'!$E$6+'Custom Finish'!$C$6)","v":{"$error":"#VALUE!"}},null,"Light Blue","Light Yellow",null,"1","Vanity - Sink Base  - Tall "]
["VSB19.5","Vanity Sink Base 19.5\"",{"v":311,"d":"$311.00"},3,null,null,{"$f":"C541*$G$2*'Order Form'!$S$18*(Color!$D$6+'Door Style'!$G$6+Species!$C$6+'Drawer Head'!$E$6+'Custom Finish'!$C$6)","v":{"$error":"#VALUE!"}},null,"SC/PC","01-",{"$f":"CONCAT!$D$8","v":""},null,1,{"$f":"J541&A541&K541","v":"01-VSB19.5"},"11-VSB19.5",1,"12-VB19.5",{"$f":"Q541&K541","v":"12-VB19.5"},1,{"$nulls":5},{"$f":"C541*1*(Color!$C$6+'Door Style'!$H$6)","v":{"$error":"#VALUE!"}},{"$f":"C541*$G$2*1*(Color!$D$6+'Door Style'!$G$6+Species!$C$6+'Drawer Head'!$E$6+'Custom Finish'!$C$6)","v":{"$error":"#VALUE!"}},null,"Black","Light Yellow",null,"1","Vanity - Sink Base"]
["VSB19.5T","Vanity Sink Base 19.5\" Tall",{"v":329,"d":"$329.00"},3,null,null,{"$f":"C542*$G$2*'Order Form'!$S$18*(Color!$D$6+'Door Style'!$G$6+Species!$C$6+'Drawer Head'!$E$6+'Custom Finish'!$C$6)","v":{"$error":"#VALUE!"}},null,"SC/PC","01-",{"$f":"CONCAT!$D$8","v":""},null,1,{"$f":"J542&A542&K542","v":"01-VSB19.5T"},"11-VSB19.5T",1,"12-B19.5",{"$f":"Q542&K542","v":"12-B19.5"},1,{"$nulls":5},{"$f":"C542*1*(Color!$C$6+'Door Style'!$H$6)","v":{"$error":"#VALUE!"}},{"$f":"C542*$G$2*1*(Color!$D$6+'Door Style'!$G$6+Species!$C$6+'Drawer Head'!$E$6+'Custom Finish'!$C$6)","v":{"$error":"#VALUE!"}},null,"Black","Light Yellow",null,"1","Vanity - Sink Base  - Tall "]
["VSB21","Vanity Sink Base 21\"",{"v":310,"d":"$310.00"},2,null,{"$f":"C543*'Order Form'!$S$18*(Color!$C$6+'Door Style'!$H$6)","v":{"$error":"#VALUE!"}},{"$f":"C543*$G$2*'Order Form'!$S$18*(Color!$D$6+'Door Style'!$G$6+Species!$C$6+'Drawer Head'!$E$6+'Custom Finish'!$C$6)","v":{"$error":"#VALUE!"}},null,"01-","01-",{"$f":"CONCAT!$D$2","v":""},null,1,{"$f":"J543&A543&K543","v":"01-VSB21"},"11-VSB21",1,"12-VB21",{"$f":"Q543&K543","v":"12-VB21"},1,{"$nulls":5},{"$f":"C543*1*(Color!$C$6+'Door Style'!$H$6)","v":{"$error":"#VALUE!"}},{"$f":"C543*$G$2*1*(Color!$D$6+'Door Style'!$G$6+Species!$C$6+'Drawer Head'!$E$6+'Custom Finish'!$C$6)","v":{"$error":"#VALUE!"}},null,"Light Blue","Light Yellow",null,"1","Vanity - Sink Base"]
["VSB21T","Vanity Sink Base 21\" Tall",{"v":320,"d":"$320.00"},2,null,{"$f":"C544*'Order Form'!$S$18*(Color!$C$6+'Door Style'!$H$6)","v":{"$error":"#VALUE!"}},{"$f":"C544*$G$2*'Order Form'!$S$18*(Color!$D$6+'Door Style'!$G$6+Species!$C$6+'Drawer Head'!$E$6+'Custom Finish'!$C$6)","v":{"$error":"#VALUE!"}},null,"01-","01-",{"$f":"CONCAT!$D$2","v":""},null,1,{"$f":"J544&A544&K544","v":"01-VSB21T"},"11-VSB21T",1,"12-B21",{"$f":"Q544&K544","v":"12-B21"},1,{"$nulls":6},{"$f":"C544*$G$1*1*(Color!$D$6+'Door Style'!$G$6+Species!$C$6+'Custom Finish'!$C$6)","v":{"$error":"#VALUE!"}},null,"Light Blue","Light Yellow",null,"1","Vanity - Sink Base  - Tall "]
["VSB22.5","Vanity Sink Base 22.5\"",{"v":320,"d":"$320.00"},3,null,null,{"$f":"C545*$G$2*'Order Form'!$S$18*(Color!$D$6+'Door Style'!$G$6+Species!$C$6+'Drawer Head'!$E$6+'Custom Finish'!$C$6)","v":{"$error":"#VALUE!"}},null,"SC/PC","01-",{"$f":"CONCAT!$D$8","v":""},null,1,{"$f":"J545&A545&K545","v":"01-VSB22.5"},"11-VSB22.5",1,"12-VB22.5",{"$f":"Q545&K545","v":"12-VB22.5"},1,{"$nulls":6},{"$f":"C545*$G$1*1*(Color!$D$6+'Door Style'!$G$6+Species!$C$6+'Custom Finish'!$C$6)","v":{"$error":"#VALUE!"}},null,"Black","Light Yellow",null,"1","Vanity - Sink Base"]
["VSB22.5T","Vanity Sink Base 22.5\" Tall",{"v":336,"d":"$336.00"},3,null,null,{"$f":"C546*$G$2*'Order Form'!$S$18*(Color!$D$6+'Door Style'!$G$6+Species!$C$6+'Drawer Head'!$E$6+'Custom Finish'!$C$6)","v":{"$error":"#VALUE!"}},null,"SC/PC","01-",{"$f":"CONCAT!$D$8","v":""},null,1,{"$f":"J546&A546&K546","v":"01-VSB22.5T"},"11-VSB22.5T",1,"12-B22.5",{"$f":"Q546&K546","v":"12-B22.5"},1,{"$nulls":6},{"$f":"C546*$G$1*1*(Color!$D$6+'Door Style'!$G$6+Species!$C$6+'Custom Finish'!$C$6)","v":{"$error":"#VALUE!"}},null,"Black","Light Yellow",null,"1","Vanity - Sink Base  - Tall "]
["VSB24","Vanity Sink Base 24\"",{"v":318,"d":"$318.00"},2,"PB",{"$f":"C547*'Order Form'!$S$18*(Color!$C$6+'Door Style'!$H$6)","v":{"$error":"#VALUE!"}},{"$f":"C547*$G$2*'Order Form'!$S$18*(Color!$D$6+'Door Style'!$G$6+Species!$C$6+'Drawer Head'!$E$6+'Custom Finish'!$C$6)","v":{"$error":"#VALUE!"}},null,"01-","01-",{"$f":"CONCAT!$D$2","v":""},null,1,{"$f":"J547&A547&K547","v":"01-VSB24"},"11-VSB24",1,"12-VB24",{"$f":"Q547&K547","v":"12-VB24"},1,{"$nulls":6},{"$f":"C547*$G$1*1*(Color!$D$6+'Door Style'!$G$6+Species!$C$6+'Custom Finish'!$C$6)","v":{"$error":"#VALUE!"}},null,"Light Blue","Light Yellow",null,"1","Vanity - Sink Base"]
["VSB24T","Vanity Sink Base 24\" Tall",{"v":355,"d":"$355.00"},2,null,{"$f":"C548*'Order Form'!$S$18*(Color!$C$6+'Door Style'!$H$6)","v":{"$error":"#VALUE!"}},{"$f":"C548*$G$2*'Order Form'!$S$18*(Color!$D$6+'Door Style'!$G$6+Species!$C$6+'Drawer Head'!$E$6+'Custom Finish'!$C$6)","v":{"$error":"#VALUE!"}},null,"01-","01-",{"$f":"CONCAT!$D$2","v":""},null,1,{"$f":"J548&A548&K548","v":"01-VSB24T"},"11-VSB24T",1,"12-B24",{"$f":"Q548&K548","v":"12-B24"},1,{"$nulls":5},{"$f":"C548*1*(Color!$C$6+'Door Style'!$H$6)","v":{"$error":"#VALUE!"}},{"$f":"C548*$G$1*1*(Color!$D$6+'Door Style'!$G$6+Species!$C$6+'Custom Finish'!$C$6)","v":{"$error":"#VALUE!"}},null,"Light Blue","Light Yellow",null,"1","Vanity - Sink Base  - Tall "]
["VSB25.5","Vanity Sink Base 25.5\"",{"v":379,"d":"$379.00"},3,null,null,{"$f":"C549*$G$2*'Order Form'!$S$18*(Color!$D$6+'Door Style'!$G$6+Species!$C$6+'Drawer Head'!$E$6+'Custom Finish'!$C$6)","v":{"$error":"#VALUE!"}},null,"SC/PC","01-",{"$f":"CONCAT!$D$8","v":""},null,1,{"$f":"J549&A549&K549","v":"01-VSB25.5"},"11-VSB25.5",1,"12-VB25.5",{"$f":"Q549&K549","v":"12-VB25.5"},1,{"$nulls":5},{"$f":"C549*1*(Color!$C$6+'Door Style'!$H$6)","v":{"$error":"#VALUE!"}},{"$f":"C549*$G$1*1*(Color!$D$6+'Door Style'!$G$6+Species!$C$6+'Custom Finish'!$C$6)","v":{"$error":"#VALUE!"}},null,"Black","Light Yellow",null,"1","Vanity - Sink Base"]
["VSB25.5T","Vanity Sink Base 25.5\" Tall",{"v":400,"d":"$400.00"},3,null,null,{"$f":"C550*$G$2*'Order Form'!$S$18*(Color!$D$6+'Door Style'!$G$6+Species!$C$6+'Drawer Head'!$E$6+'Custom Finish'!$C$6)","v":{"$error":"#VALUE!"}},null,"SC/PC","01-",{"$f":"CONCAT!$D$8","v":""},null,1,{"$f":"J550&A550&K550","v":"01-VSB25.5T"},"11-VSB25.5T",1,"12-B25.5",{"$f":"Q550&K550","v":"12-B25.5"},1,{"$nulls":5},{"$f":"C550*1*(Color!$C$6+'Door Style'!$H$6)","v":{"$error":"#VALUE!"}},{"$f":"C550*$G$1*1*(Color!$D$6+'Door Style'!$G$6+Species!$C$6+'Custom Finish'!$C$6)","v":{"$error":"#VALUE!"}},null,"Black","Light Yellow",null,"1","Vanity - Sink Base  - Tall "]
["VSB27","Vanity Sink Base 27\"",{"v":377,"d":"$377.00"},2,"PB",{"$f":"C551*'Order Form'!$S$18*(Color!$C$6+'Door Style'!$H$6)","v":{"$error":"#VALUE!"}},{"$f":"C551*$G$2*'Order Form'!$S$18*(Color!$D$6+'Door Style'!$G$6+Species!$C$6+'Drawer Head'!$E$6+'Custom Finish'!$C$6)","v":{"$error":"#VALUE!"}},null,"01-","01-",{"$f":"CONCAT!$D$2","v":""},null,1,{"$f":"J551&A551&K551","v":"01-VSB27"},"11-VSB27",1,"12-VB27",{"$f":"Q551&K551","v":"12-VB27"},1,{"$nulls":5},{"$f":"C551*1","v":{"v":377,"d":"$377.00"}},{"$f":"C551*1","v":{"v":377,"d":"$377.00"}},null,"Light Blue","Light Yellow",null,"1","Vanity - Sink Base"]
["VSB27T","Vanity Sink Base 27\" Tall",{"v":392,"d":"$392.00"},2,null,{"$f":"C552*'Order Form'!$S$18*(Color!$C$6+'Door Style'!$H$6)","v":{"$error":"#VALUE!"}},{"$f":"C552*$G$2*'Order Form'!$S$18*(Color!$D$6+'Door Style'!$G$6+Species!$C$6+'Drawer Head'!$E$6+'Custom Finish'!$C$6)","v":{"$error":"#VALUE!"}},null,"01-","01-",{"$f":"CONCAT!$D$2","v":""},null,1,{"$f":"J552&A552&K552","v":"01-VSB27T"},"11-VSB27T",1,"12-B27",{"$f":"Q552&K552","v":"12-B27"},1,{"$nulls":6},{"$f":"C552*$G$1*1*(Color!$D$6+'Door Style'!$G$6+Species!$C$6+'Custom Finish'!$C$6)","v":{"$error":"#VALUE!"}},null,"Light Blue","Light Yellow",null,"1","Vanity - Sink Base  - Tall "]
["VSB30","Vanity Sink Base 30\"",{"v":404,"d":"$404.00"},2,"PB",{"$f":"C553*'Order Form'!$S$18*(Color!$C$6+'Door Style'!$H$6)","v":{"$error":"#VALUE!"}},{"$f":"C553*$G$2*'Order Form'!$S$18*(Color!$D$6+'Door Style'!$G$6+Species!$C$6+'Drawer Head'!$E$6+'Custom Finish'!$C$6)","v":{"$error":"#VALUE!"}},null,"01-","01-",{"$f":"CONCAT!$D$2","v":""},null,1,{"$f":"J553&A553&K553","v":"01-VSB30"},"11-VSB30",1,"12-VB30",{"$f":"Q553&K553","v":"12-VB30"},1,{"$nulls":6},{"$f":"C553*$G$1*1*(Color!$D$6+'Door Style'!$G$6+Species!$C$6+'Custom Finish'!$C$6)","v":{"$error":"#VALUE!"}},null,"Light Blue","Light Yellow",null,"1","Vanity - Sink Base"]
["VSB30T","Vanity Sink Base 30\" Tall",{"v":420,"d":"$420.00"},2,null,{"$f":"C554*'Order Form'!$S$18*(Color!$C$6+'Door Style'!$H$6)","v":{"$error":"#VALUE!"}},{"$f":"C554*$G$2*'Order Form'!$S$18*(Color!$D$6+'Door Style'!$G$6+Species!$C$6+'Drawer Head'!$E$6+'Custom Finish'!$C$6)","v":{"$error":"#VALUE!"}},null,"01-","01-",{"$f":"CONCAT!$D$2","v":""},null,1,{"$f":"J554&A554&K554","v":"01-VSB30T"},"11-VSB30T",1,"12-B30",{"$f":"Q554&K554","v":"12-B30"},1,{"$nulls":6},{"$f":"C554*$G$1*1*(Color!$D$6+'Door Style'!$G$6+Species!$C$6+'Custom Finish'!$C$6)","v":{"$error":"#VALUE!"}},null,"Light Blue","Light Yellow",null,"1","Vanity - Sink Base  - Tall "]
["VSB33","Vanity Sink Base 33\"",{"v":436,"d":"$436.00"},3,null,null,{"$f":"C555*$G$2*'Order Form'!$S$18*(Color!$D$6+'Door Style'!$G$6+Species!$C$6+'Drawer Head'!$E$6+'Custom Finish'!$C$6)","v":{"$error":"#VALUE!"}},null,"PROJECT","01-",{"$f":"CONCAT!$D$2","v":""},null,1,{"$f":"J555&A555&K555","v":"01-VSB33"},"11-VSB33",1,"12-VB33",{"$f":"Q555&K555","v":"12-VB33"},1,{"$nulls":6},{"$f":"C555*$G$1*1*(Color!$D$6+'Door Style'!$G$6+Species!$C$6+'Custom Finish'!$C$6)","v":{"$error":"#VALUE!"}},null,"Black","Light Yellow",null,"1","Vanity - Sink Base"]
["VSB33T","Vanity Sink Base 33\" Tall",{"v":457,"d":"$457.00"},2,null,{"$f":"C556*'Order Form'!$S$18*(Color!$C$6+'Door Style'!$H$6)","v":{"$error":"#VALUE!"}},{"$f":"C556*$G$2*'Order Form'!$S$18*(Color!$D$6+'Door Style'!$G$6+Species!$C$6+'Drawer Head'!$E$6+'Custom Finish'!$C$6)","v":{"$error":"#VALUE!"}},null,"01-","01-",{"$f":"CONCAT!$D$2","v":""},null,1,{"$f":"J556&A556&K556","v":"01-VSB33T"},"11-VSB33T",1,"12-B33",{"$f":"Q556&K556","v":"12-B33"},1,{"$nulls":6},{"$f":"C556*$G$1*1*(Color!$D$6+'Door Style'!$G$6+Species!$C$6+'Custom Finish'!$C$6)","v":{"$error":"#VALUE!"}},null,"Light Blue","Light Yellow",null,"1","Vanity - Sink Base  - Tall "]
["VSB36","Vanity Sink Base 36\"",{"v":455,"d":"$455.00"},2,null,{"$f":"C557*'Order Form'!$S$18*(Color!$C$6+'Door Style'!$H$6)","v":{"$error":"#VALUE!"}},{"$f":"C557*$G$2*'Order Form'!$S$18*(Color!$D$6+'Door Style'!$G$6+Species!$C$6+'Drawer Head'!$E$6+'Custom Finish'!$C$6)","v":{"$error":"#VALUE!"}},null,"01-","01-",{"$f":"CONCAT!$D$2","v":""},null,1,{"$f":"J557&A557&K557","v":"01-VSB36"},"11-VSB36",1,"12-VB36",{"$f":"Q557&K557","v":"12-VB36"},1,{"$nulls":6},{"$f":"C557*$G$1*1*(Color!$D$6+'Door Style'!$G$6+Species!$C$6+'Custom Finish'!$C$6)","v":{"$error":"#VALUE!"}},null,"Light Blue","Light Yellow",null,"1","Vanity - Sink Base"]
["VSB36T","Vanity Sink Base 36\" Tall",{"v":475,"d":"$475.00"},2,null,{"$f":"C558*'Order Form'!$S$18*(Color!$C$6+'Door Style'!$H$6)","v":{"$error":"#VALUE!"}},{"$f":"C558*$G$2*'Order Form'!$S$18*(Color!$D$6+'Door Style'!$G$6+Species!$C$6+'Drawer Head'!$E$6+'Custom Finish'!$C$6)","v":{"$error":"#VALUE!"}},null,"01-","01-",{"$f":"CONCAT!$D$2","v":""},null,1,{"$f":"J558&A558&K558","v":"01-VSB36T"},"11-VSB36T",1,"12-B36",{"$f":"Q558&K558","v":"12-B36"},1,{"$nulls":5},{"$f":"C558*1*(Color!$C$6+'Door Style'!$H$6)","v":{"$error":"#VALUE!"}},{"$f":"C558*$G$1*1*(Color!$D$6+'Door Style'!$G$6+Species!$C$6+'Custom Finish'!$C$6)","v":{"$error":"#VALUE!"}},null,"Light Blue","Light Yellow",null,"1","Vanity - Sink Base  - Tall "]
["VSB39T","Vanity Sink Base 39\" Tall",{"v":502,"d":"$502.00"},2,null,{"$f":"C559*'Order Form'!$S$18*(Color!$C$6+'Door Style'!$H$6)","v":{"$error":"#VALUE!"}},{"$f":"C559*$G$2*'Order Form'!$S$18*(Color!$D$6+'Door Style'!$G$6+Species!$C$6+'Drawer Head'!$E$6+'Custom Finish'!$C$6)","v":{"$error":"#VALUE!"}},null,"01-","01-",{"$f":"CONCAT!$D$2","v":""},null,1,{"$f":"J559&A559&K559","v":"01-VSB39T"},"11-VSB39T",1,"12-B39",{"$f":"Q559&K559","v":"12-B39"},1,{"$nulls":5},{"$f":"C559*1*(Color!$C$6+'Door Style'!$H$6)","v":{"$error":"#VALUE!"}},{"$f":"C559*$G$1*1*(Color!$D$6+'Door Style'!$G$6+Species!$C$6+'Custom Finish'!$C$6)","v":{"$error":"#VALUE!"}},null,"Light Blue","Light Yellow",null,"1","Vanity - Sink Base  - Tall "]
["VW1830","Van Wall 18\" x 30\" x 6\"",{"v":247,"d":"$247.00"},3,null,null,{"$f":"C560*$G$1*'Order Form'!$S$18*(Color!$D$6+'Door Style'!$G$6+Species!$C$6+'Custom Finish'!$C$6)","v":{"$error":"#VALUE!"}},null,"PROJECT","01-",{"$f":"CONCAT!$D$2","v":""},null,1,{"$f":"J560&A560&K560","v":"01-VW1830"},"11-VW1830",1,"12-VW1830",{"$f":"Q560&K560","v":"12-VW1830"},1,{"$nulls":5},{"$f":"C560*1*(Color!$C$6+'Door Style'!$H$6)","v":{"$error":"#VALUE!"}},{"$f":"C560*$G$1*1*(Color!$D$6+'Door Style'!$G$6+Species!$C$6+'Custom Finish'!$C$6)","v":{"$error":"#VALUE!"}},null,"Black","Dark Gray",null,"1","Vanity - Wall"]
["VW1836","Van Wall 18\" x 36\" x 6\"",{"v":290,"d":"$290.00"},3,null,null,{"$f":"C561*$G$1*'Order Form'!$S$18*(Color!$D$6+'Door Style'!$G$6+Species!$C$6+'Custom Finish'!$C$6)","v":{"$error":"#VALUE!"}},null,"SC/PC","01-",{"$f":"CONCAT!$D$8","v":""},null,1,{"$f":"J561&A561&K561","v":"01-VW1836"},"11-VW1836",1,"12-VW1836",{"$f":"Q561&K561","v":"12-VW1836"},1,{"$nulls":5},{"$f":"C561*1","v":{"v":290,"d":"$290.00"}},{"$f":"C561*1","v":{"v":290,"d":"$290.00"}},null,"Black","Dark Gray",null,"1","Vanity - Wall"]
["VW2130","Van Wall 21\" x 30\" x 6\"",{"v":276,"d":"$276.00"},3,null,null,{"$f":"C562*$G$1*'Order Form'!$S$18*(Color!$D$6+'Door Style'!$G$6+Species!$C$6+'Custom Finish'!$C$6)","v":{"$error":"#VALUE!"}},null,"SC/PC","01-",{"$f":"CONCAT!$D$8","v":""},null,1,{"$f":"J562&A562&K562","v":"01-VW2130"},"11-VW2130",1,"12-VW2130",{"$f":"Q562&K562","v":"12-VW2130"},1,{"$nulls":6},{"$f":"C562*$G$1*1*(Color!$D$6+'Door Style'!$G$6+Species!$C$6+'Custom Finish'!$C$6)","v":{"$error":"#VALUE!"}},null,"Black","Dark Gray",null,"1","Vanity - Wall"]
["VW2136","Van Wall 21\" x 36\" x 6\"",{"v":322,"d":"$322.00"},3,null,null,{"$f":"C563*$G$1*'Order Form'!$S$18*(Color!$D$6+'Door Style'!$G$6+Species!$C$6+'Custom Finish'!$C$6)","v":{"$error":"#VALUE!"}},null,"SC/PC","01-",{"$f":"CONCAT!$D$8","v":""},null,1,{"$f":"J563&A563&K563","v":"01-VW2136"},"11-VW2136",1,"12-VW2136",{"$f":"Q563&K563","v":"12-VW2136"},1,{"$nulls":6},{"$f":"C563*$G$1*1*(Color!$D$6+'Door Style'!$G$6+Species!$C$6+'Custom Finish'!$C$6)","v":{"$error":"#VALUE!"}},null,"Black","Dark Gray",null,"1","Vanity - Wall"]
["W0930","Wall 9\" x 30\"",{"v":164,"d":"$164.00"},2,"PB",{"$f":"C564*'Order Form'!$S$18*(Color!$C$6+'Door Style'!$H$6)","v":{"$error":"#VALUE!"}},{"$f":"C564*$G$1*'Order Form'!$S$18*(Color!$D$6+'Door Style'!$G$6+Species!$C$6+'Custom Finish'!$C$6)","v":{"$error":"#VALUE!"}},null,"01-","01-",{"$f":"CONCAT!$D$2","v":""},null,1,{"$f":"J564&A564&K564","v":"01-W0930"},"11-W0930",1,"12-W0930",{"$f":"Q564&K564","v":"12-W0930"},1,{"$nulls":6},{"$f":"C564*$G$1*1*(Color!$D$6+'Door Style'!$G$6+Species!$C$6+'Custom Finish'!$C$6)","v":{"$error":"#VALUE!"}},null,"Light Blue","Dark Gray",null,"1","Wall Cabinet - 30\" Wall"]
["W0936","Wall 9\" x 36\"",{"v":182,"d":"$182.00"},2,null,{"$f":"C565*'Order Form'!$S$18*(Color!$C$6+'Door Style'!$H$6)","v":{"$error":"#VALUE!"}},{"$f":"C565*$G$1*'Order Form'!$S$18*(Color!$D$6+'Door Style'!$G$6+Species!$C$6+'Custom Finish'!$C$6)","v":{"$error":"#VALUE!"}},null,"01-","01-",{"$f":"CONCAT!$D$2","v":""},null,1,{"$f":"J565&A565&K565","v":"01-W0936"},"11-W0936",1,"12-W0936",{"$f":"Q565&K565","v":"12-W0936"},1,{"$nulls":6},{"$f":"C565*$G$1*1*(Color!$D$6+'Door Style'!$G$6+Species!$C$6+'Custom Finish'!$C$6)","v":{"$error":"#VALUE!"}},null,"Light Blue","Dark Gray",null,"1","Wall Cabinet - 36\" Wall"]
["W0942","Wall 9\" x 42\"",{"v":217,"d":"$217.00"},2,null,{"$f":"C566*'Order Form'!$S$18*(Color!$C$6+'Door Style'!$H$6)","v":{"$error":"#VALUE!"}},{"$f":"C566*$G$1*'Order Form'!$S$18*(Color!$D$6+'Door Style'!$G$6+Species!$C$6+'Custom Finish'!$C$6)","v":{"$error":"#VALUE!"}},null,"01-","01-",{"$f":"CONCAT!$D$2","v":""},null,1,{"$f":"J566&A566&K566","v":"01-W0942"},"11-W0942",1,"12-W0942",{"$f":"Q566&K566","v":"12-W0942"},1,{"$nulls":6},{"$f":"C566*$G$1*1*(Color!$D$6+'Door Style'!$G$6+Species!$C$6+'Custom Finish'!$C$6)","v":{"$error":"#VALUE!"}},null,"Light Blue","Dark Gray",null,"1","Wall Cabinet - 42\" Wall"]
["W10.5-SHELF","Wall Shelf For 10.5\"",{"v":11,"d":"$11.00"},2,null,{"$f":"C567*'Order Form'!$S$18","v":0},{"$f":"C567*'Order Form'!$S$18","v":0},null,"14-","14-","",null,0,{"$f":"J567&A567&K567","v":"14-W10.5-SHELF"},{"$nulls":3},{"$f":"Q567&K567","v":""},null,{"$f":"N567","v":"14-W10.5-SHELF"},1,{"$nulls":4},{"$f":"C567*$G$1*1*(Color!$D$6+'Door Style'!$G$6+Species!$C$6+'Custom Finish'!$C$6)","v":{"$error":"#VALUE!"}},null,"Purple","Purple",null,null,"Shelf - Wall"]
["W1212","Wall 12\" x 12\"",{"v":150,"d":"$150.00"},3,null,null,{"$f":"C568*$G$1*'Order Form'!$S$18*(Color!$D$6+'Door Style'!$G$6+Species!$C$6+'Custom Finish'!$C$6)","v":{"$error":"#VALUE!"}},null,"SC/PC","01-",{"$f":"CONCAT!$D$8","v":""},null,1,{"$f":"J568&A568&K568","v":"01-W1212"},"11-W1212",1,"12-W1212",{"$f":"Q568&K568","v":"12-W1212"},1,{"$nulls":6},{"$f":"C568*$G$1*1*(Color!$D$6+'Door Style'!$G$6+Species!$C$6+'Custom Finish'!$C$6)","v":{"$error":"#VALUE!"}},null,"Black","Dark Gray",null,"1","Wall Cabinet - 12\" Wall"]
["W1215","Wall 12\" x 15\"",{"v":158,"d":"$158.00"},3,null,null,{"$f":"C569*$G$1*'Order Form'!$S$18*(Color!$D$6+'Door Style'!$G$6+Species!$C$6+'Custom Finish'!$C$6)","v":{"$error":"#VALUE!"}},null,"SC/PC","01-",{"$f":"CONCAT!$D$8","v":""},null,1,{"$f":"J569&A569&K569","v":"01-W1215"},"11-W1215",1,"12-W1215",{"$f":"Q569&K569","v":"12-W1215"},1,{"$nulls":6},{"$f":"C569*$G$1*1*(Color!$D$6+'Door Style'!$G$6+Species!$C$6+'Custom Finish'!$C$6)","v":{"$error":"#VALUE!"}},null,"Black","Dark Gray",null,"1","Wall Cabinet - 15\" Wall"]
["W1218","Wall 12\" x 18\"",{"v":166,"d":"$166.00"},3,null,null,{"$f":"C570*$G$1*'Order Form'!$S$18*(Color!$D$6+'Door Style'!$G$6+Species!$C$6+'Custom Finish'!$C$6)","v":{"$error":"#VALUE!"}},null,"SC/PC","01-",{"$f":"CONCAT!$D$8","v":""},null,1,{"$f":"J570&A570&K570","v":"01-W1218"},"11-W1218",1,"12-W1218",{"$f":"Q570&K570","v":"12-W1218"},1,{"$nulls":6},{"$f":"C570*$G$1*1*(Color!$D$6+'Door Style'!$G$6+Species!$C$6+'Custom Finish'!$C$6)","v":{"$error":"#VALUE!"}},null,"Black","Dark Gray",null,"1","Wall Cabinet - 18\" Wall"]
["W1221","Wall 12\" x 21\"",{"v":174,"d":"$174.00"},3,null,null,{"$f":"C571*$G$1*'Order Form'!$S$18*(Color!$D$6+'Door Style'!$G$6+Species!$C$6+'Custom Finish'!$C$6)","v":{"$error":"#VALUE!"}},null,"SC/PC","01-",{"$f":"CONCAT!$D$8","v":""},null,1,{"$f":"J571&A571&K571","v":"01-W1221"},"11-W1221",1,"12-W1221",{"$f":"Q571&K571","v":"12-W1221"},1,{"$nulls":5},{"$f":"C571*1","v":{"v":174,"d":"$174.00"}},{"$f":"C571*1","v":{"v":174,"d":"$174.00"}},null,"Black","Dark Gray",null,"1","Wall Cabinet - 21\" Wall"]
["W1224","Wall 12\" x 24\"",{"v":180,"d":"$180.00"},3,null,null,{"$f":"C572*$G$1*'Order Form'!$S$18*(Color!$D$6+'Door Style'!$G$6+Species!$C$6+'Custom Finish'!$C$6)","v":{"$error":"#VALUE!"}},null,"SC/PC","01-",{"$f":"CONCAT!$D$8","v":""},null,1,{"$f":"J572&A572&K572","v":"01-W1224"},"11-W1224",1,"12-W1224",{"$f":"Q572&K572","v":"12-W1224"},1,{"$nulls":6},{"$f":"C572*$G$1*1*(Color!$D$6+'Door Style'!$G$6+Species!$C$6+'Custom Finish'!$C$6)","v":{"$error":"#VALUE!"}},null,"Black","Dark Gray",null,"1","Wall Cabinet - 24\" Wall"]
["W1227","Wall 12\" x 27\"",{"v":189,"d":"$189.00"},3,null,null,{"$f":"C573*$G$1*'Order Form'!$S$18*(Color!$D$6+'Door Style'!$G$6+Species!$C$6+'Custom Finish'!$C$6)","v":{"$error":"#VALUE!"}},null,"SC/PC","01-",{"$f":"CONCAT!$D$8","v":""},null,1,{"$f":"J573&A573&K573","v":"01-W1227"},"11-W1227",1,"12-W1227",{"$f":"Q573&K573","v":"12-W1227"},1,{"$nulls":6},{"$f":"C573*$G$1*1*(Color!$D$6+'Door Style'!$G$6+Species!$C$6+'Custom Finish'!$C$6)","v":{"$error":"#VALUE!"}},null,"Black","Dark Gray",null,"1","Wall Cabinet - 27\" Wall"]
["W1230","Wall 12\" x 30\"",{"v":194,"d":"$194.00"},2,"PB",{"$f":"C574*'Order Form'!$S$18*(Color!$C$6+'Door Style'!$H$6)","v":{"$error":"#VALUE!"}},{"$f":"C574*$G$1*'Order Form'!$S$18*(Color!$D$6+'Door Style'!$G$6+Species!$C$6+'Custom Finish'!$C$6)","v":{"$error":"#VALUE!"}},null,"01-","01-",{"$f":"CONCAT!$D$2","v":""},null,1,{"$f":"J574&A574&K574","v":"01-W1230"},"11-W1230",1,"12-W1230",{"$f":"Q574&K574","v":"12-W1230"},1,{"$nulls":6},{"$f":"C574*$G$1*1*(Color!$D$6+'Door Style'!$G$6+Species!$C$6+'Custom Finish'!$C$6)","v":{"$error":"#VALUE!"}},null,"Light Blue","Dark Gray",null,"1","Wall Cabinet - 30\" Wall"]
["W1236","Wall 12\" x 36\"",{"v":218,"d":"$218.00"},2,null,{"$f":"C575*'Order Form'!$S$18*(Color!$C$6+'Door Style'!$H$6)","v":{"$error":"#VALUE!"}},{"$f":"C575*$G$1*'Order Form'!$S$18*(Color!$D$6+'Door Style'!$G$6+Species!$C$6+'Custom Finish'!$C$6)","v":{"$error":"#VALUE!"}},null,"01-","01-",{"$f":"CONCAT!$D$2","v":""},null,1,{"$f":"J575&A575&K575","v":"01-W1236"},"11-W1236",1,"12-W1236",{"$f":"Q575&K575","v":"12-W1236"},1,{"$nulls":6},{"$f":"C575*$G$1*1*(Color!$D$6+'Door Style'!$G$6+Species!$C$6+'Custom Finish'!$C$6)","v":{"$error":"#VALUE!"}},null,"Light Blue","Dark Gray",null,"1","Wall Cabinet - 36\" Wall"]
["W1242","Wall 12\" x 42\"",{"v":255,"d":"$255.00"},2,null,{"$f":"C576*'Order Form'!$S$18*(Color!$C$6+'Door Style'!$H$6)","v":{"$error":"#VALUE!"}},{"$f":"C576*$G$1*'Order Form'!$S$18*(Color!$D$6+'Door Style'!$G$6+Species!$C$6+'Custom Finish'!$C$6)","v":{"$error":"#VALUE!"}},null,"01-","01-",{"$f":"CONCAT!$D$2","v":""},null,1,{"$f":"J576&A576&K576","v":"01-W1242"},"11-W1242",1,"12-W1242",{"$f":"Q576&K576","v":"12-W1242"},1,{"$nulls":6},{"$f":"C576*$G$1*1*(Color!$D$6+'Door Style'!$G$6+Species!$C$6+'Custom Finish'!$C$6)","v":{"$error":"#VALUE!"}},null,"Light Blue","Dark Gray",null,"1","Wall Cabinet - 42\" Wall"]
["W12-SHELF","Wall Shelf For 12\"",{"v":13,"d":"$13.00"},2,null,{"$f":"C577*'Order Form'!$S$18","v":0},{"$f":"C577*'Order Form'!$S$18","v":0},null,"14-","14-","",null,0,{"$f":"J577&A577&K577","v":"14-W12-SHELF"},{"$nulls":3},{"$f":"Q577&K577","v":""},null,{"$f":"N577","v":"14-W12-SHELF"},1,{"$nulls":4},{"$f":"C577*$G$1*1*(Color!$D$6+'Door Style'!$G$6+Species!$C$6+'Custom Finish'!$C$6)","v":{"$error":"#VALUE!"}},null,"Purple","Purple",null,null,"Shelf - Wall"]
["W13.512","Wall 13.5\" x 12\"",{"v":158,"d":"$158.00"},3,null,null,{"$f":"C578*$G$1*'Order Form'!$S$18*(Color!$D$6+'Door Style'!$G$6+Species!$C$6+'Custom Finish'!$C$6)","v":{"$error":"#VALUE!"}},null,"SC/PC","01-",{"$f":"CONCAT!$D$8","v":""},null,1,{"$f":"J578&A578&K578","v":"01-W13.512"},"11-W13.512",1,"12-W13.512",{"$f":"Q578&K578","v":"12-W13.512"},1,{"$nulls":5},{"$f":"C578*1*(Color!$C$6+'Door Style'!$H$6)","v":{"$error":"#VALUE!"}},{"$f":"C578*$G$1*1*(Color!$D$6+'Door Style'!$G$6+Species!$C$6+'Custom Finish'!$C$6)","v":{"$error":"#VALUE!"}},null,"Black","Dark Gray",null,"1","Wall Cabinet - 12\" Wall"]
["W13.515","Wall 13.5\" x 15\"",{"v":170,"d":"$170.00"},3,null,null,{"$f":"C579*$G$1*'Order Form'!$S$18*(Color!$D$6+'Door Style'!$G$6+Species!$C$6+'Custom Finish'!$C$6)","v":{"$error":"#VALUE!"}},null,"SC/PC","01-",{"$f":"CONCAT!$D$8","v":""},null,1,{"$f":"J579&A579&K579","v":"01-W13.515"},"11-W13.515",1,"12-W13.515",{"$f":"Q579&K579","v":"12-W13.515"},1,{"$nulls":5},{"$f":"C579*1*(Color!$C$6+'Door Style'!$H$6)","v":{"$error":"#VALUE!"}},{"$f":"C579*$G$1*1*(Color!$D$6+'Door Style'!$G$6+Species!$C$6+'Custom Finish'!$C$6)","v":{"$error":"#VALUE!"}},null,"Black","Dark Gray",null,"1","Wall Cabinet - 15\" Wall"]
["W13.518","Wall 13.5\" x 18\"",{"v":180,"d":"$180.00"},3,null,null,{"$f":"C580*$G$1*'Order Form'!$S$18*(Color!$D$6+'Door Style'!$G$6+Species!$C$6+'Custom Finish'!$C$6)","v":{"$error":"#VALUE!"}},null,"SC/PC","01-",{"$f":"CONCAT!$D$8","v":""},null,1,{"$f":"J580&A580&K580","v":"01-W13.518"},"11-W13.518",1,"12-W13.518",{"$f":"Q580&K580","v":"12-W13.518"},1,{"$nulls":5},{"$f":"C580*1*(Color!$C$6+'Door Style'!$H$6)","v":{"$error":"#VALUE!"}},{"$f":"C580*$G$1*1*(Color!$D$6+'Door Style'!$G$6+Species!$C$6+'Custom Finish'!$C$6)","v":{"$error":"#VALUE!"}},null,"Black","Dark Gray",null,"1","Wall Cabinet - 18\" Wall"]
["W13.521","Wall 13.5\" x 21\"",{"v":192,"d":"$192.00"},3,null,null,{"$f":"C581*$G$1*'Order Form'!$S$18*(Color!$D$6+'Door Style'!$G$6+Species!$C$6+'Custom Finish'!$C$6)","v":{"$error":"#VALUE!"}},null,"SC/PC","01-",{"$f":"CONCAT!$D$8","v":""},null,1,{"$f":"J581&A581&K581","v":"01-W13.521"},"11-W13.521",1,"12-W13.521",{"$f":"Q581&K581","v":"12-W13.521"},1,{"$nulls":5},{"$f":"C581*1","v":{"v":192,"d":"$192.00"}},{"$f":"C581*1","v":{"v":192,"d":"$192.00"}},null,"Black","Dark Gray",null,"1","Wall Cabinet - 21\" Wall"]
["W13.524","Wall 13.5\" x 24\"",{"v":203,"d":"$203.00"},3,null,null,{"$f":"C582*$G$1*'Order Form'!$S$18*(Color!$D$6+'Door Style'!$G$6+Species!$C$6+'Custom Finish'!$C$6)","v":{"$error":"#VALUE!"}},null,"SC/PC","01-",{"$f":"CONCAT!$D$8","v":""},null,1,{"$f":"J582&A582&K582","v":"01-W13.524"},"11-W13.524",1,"12-W13.524",{"$f":"Q582&K582","v":"12-W13.524"},1,{"$nulls":6},{"$f":"C582*$G$1*1*(Color!$D$6+'Door Style'!$G$6+Species!$C$6+'Custom Finish'!$C$6)","v":{"$error":"#VALUE!"}},null,"Black","Dark Gray",null,"1","Wall Cabinet - 24\" Wall"]
["W13.527","Wall 13.5\" x 27\"",{"v":215,"d":"$215.00"},3,null,null,{"$f":"C583*$G$1*'Order Form'!$S$18*(Color!$D$6+'Door Style'!$G$6+Species!$C$6+'Custom Finish'!$C$6)","v":{"$error":"#VALUE!"}},null,"SC/PC","01-",{"$f":"CONCAT!$D$8","v":""},null,1,{"$f":"J583&A583&K583","v":"01-W13.527"},"11-W13.527",1,"12-W13.527",{"$f":"Q583&K583","v":"12-W13.527"},1,{"$nulls":6},{"$f":"C583*$G$1*1*(Color!$D$6+'Door Style'!$G$6+Species!$C$6+'Custom Finish'!$C$6)","v":{"$error":"#VALUE!"}},null,"Black","Dark Gray",null,"1","Wall Cabinet - 27\" Wall"]
["W13.530","Wall 13.5\" x 30\"",{"v":226,"d":"$226.00"},3,null,null,{"$f":"C584*$G$1*'Order Form'!$S$18*(Color!$D$6+'Door Style'!$G$6+Species!$C$6+'Custom Finish'!$C$6)","v":{"$error":"#VALUE!"}},null,"SC/PC","01-",{"$f":"CONCAT!$D$8","v":""},null,1,{"$f":"J584&A584&K584","v":"01-W13.530"},"11-W13.530",1,"12-W13.530",{"$f":"Q584&K584","v":"12-W13.530"},1,{"$nulls":6},{"$f":"C584*$G$1*1*(Color!$D$6+'Door Style'!$G$6+Species!$C$6+'Custom Finish'!$C$6)","v":{"$error":"#VALUE!"}},null,"Black","Dark Gray",null,"1","Wall Cabinet - 30\" Wall"]
["W13.536","Wall 13.5\" x 36\"",{"v":263,"d":"$263.00"},3,null,null,{"$f":"C585*$G$1*'Order Form'!$S$18*(Color!$D$6+'Door Style'!$G$6+Species!$C$6+'Custom Finish'!$C$6)","v":{"$error":"#VALUE!"}},null,"SC/PC","01-",{"$f":"CONCAT!$D$8","v":""},null,1,{"$f":"J585&A585&K585","v":"01-W13.536"},"11-W13.536",1,"12-W13.536",{"$f":"Q585&K585","v":"12-W13.536"},1,{"$nulls":6},{"$f":"C585*$G$1*1*(Color!$D$6+'Door Style'!$G$6+Species!$C$6+'Custom Finish'!$C$6)","v":{"$error":"#VALUE!"}},null,"Black","Dark Gray",null,"1","Wall Cabinet - 36\" Wall"]
["W13.542","Wall 13.5\" x 42\"",{"v":304,"d":"$304.00"},3,null,null,{"$f":"C586*$G$1*'Order Form'!$S$18*(Color!$D$6+'Door Style'!$G$6+Species!$C$6+'Custom Finish'!$C$6)","v":{"$error":"#VALUE!"}},null,"SC/PC","01-",{"$f":"CONCAT!$D$8","v":""},null,1,{"$f":"J586&A586&K586","v":"01-W13.542"},"11-W13.542",1,"12-W13.542",{"$f":"Q586&K586","v":"12-W13.542"},1,{"$nulls":6},{"$f":"C586*$G$1*1*(Color!$D$6+'Door Style'!$G$6+Species!$C$6+'Custom Finish'!$C$6)","v":{"$error":"#VALUE!"}},null,"Black","Dark Gray",null,"1","Wall Cabinet - 42\" Wall"]
["W13.5-SHELF","Wall Shelf For 13.5\"",{"v":15,"d":"$15.00"},2,null,{"$f":"C587*'Order Form'!$S$18","v":0},{"$f":"C587*'Order Form'!$S$18","v":0},null,"14-","14-","",null,0,{"$f":"J587&A587&K587","v":"14-W13.5-SHELF"},{"$nulls":3},{"$f":"Q587&K587","v":""},null,{"$f":"N587","v":"14-W13.5-SHELF"},1,{"$nulls":4},{"$f":"C587*$G$1*1*(Color!$D$6+'Door Style'!$G$6+Species!$C$6+'Custom Finish'!$C$6)","v":{"$error":"#VALUE!"}},null,"Purple","Purple",null,null,"Shelf - Wall"]
["W1512","Wall 15\" x 12\"",{"v":158,"d":"$158.00"},3,null,null,{"$f":"C588*$G$1*'Order Form'!$S$18*(Color!$D$6+'Door Style'!$G$6+Species!$C$6+'Custom Finish'!$C$6)","v":{"$error":"#VALUE!"}},null,"SC/PC","01-",{"$f":"CONCAT!$D$8","v":""},null,1,{"$f":"J588&A588&K588","v":"01-W1512"},"11-W1512",1,"12-W1512",{"$f":"Q588&K588","v":"12-W1512"},1,{"$nulls":6},{"$f":"C588*$G$1*1*(Color!$D$6+'Door Style'!$G$6+Species!$C$6+'Custom Finish'!$C$6)","v":{"$error":"#VALUE!"}},null,"Black","Dark Gray",null,"1","Wall Cabinet - 12\" Wall"]
["W1515","Wall 15\" x 15\"",{"v":170,"d":"$170.00"},3,null,null,{"$f":"C589*$G$1*'Order Form'!$S$18*(Color!$D$6+'Door Style'!$G$6+Species!$C$6+'Custom Finish'!$C$6)","v":{"$error":"#VALUE!"}},null,"SC/PC","01-",{"$f":"CONCAT!$D$8","v":""},null,1,{"$f":"J589&A589&K589","v":"01-W1515"},"11-W1515",1,"12-W1515",{"$f":"Q589&K589","v":"12-W1515"},1,{"$nulls":6},{"$f":"C589*$G$1*1*(Color!$D$6+'Door Style'!$G$6+Species!$C$6+'Custom Finish'!$C$6)","v":{"$error":"#VALUE!"}},null,"Black","Dark Gray",null,"1","Wall Cabinet - 15\" Wall"]
["W1518","Wall 15\" x 18\"",{"v":180,"d":"$180.00"},3,null,null,{"$f":"C590*$G$1*'Order Form'!$S$18*(Color!$D$6+'Door Style'!$G$6+Species!$C$6+'Custom Finish'!$C$6)","v":{"$error":"#VALUE!"}},null,"SC/PC","01-",{"$f":"CONCAT!$D$8","v":""},null,1,{"$f":"J590&A590&K590","v":"01-W1518"},"11-W1518",1,"12-W1518",{"$f":"Q590&K590","v":"12-W1518"},1,{"$nulls":6},{"$f":"C590*$G$1*1*(Color!$D$6+'Door Style'!$G$6+Species!$C$6+'Custom Finish'!$C$6)","v":{"$error":"#VALUE!"}},null,"Black","Dark Gray",null,"1","Wall Cabinet - 18\" Wall"]
["W1521","Wall 15\" x 21\"",{"v":192,"d":"$192.00"},3,null,null,{"$f":"C591*$G$1*'Order Form'!$S$18*(Color!$D$6+'Door Style'!$G$6+Species!$C$6+'Custom Finish'!$C$6)","v":{"$error":"#VALUE!"}},null,"SC/PC","01-",{"$f":"CONCAT!$D$8","v":""},null,1,{"$f":"J591&A591&K591","v":"01-W1521"},"11-W1521",1,"12-W1521",{"$f":"Q591&K591","v":"12-W1521"},1,{"$nulls":5},{"$f":"C591*1","v":{"v":192,"d":"$192.00"}},{"$f":"C591*1","v":{"v":192,"d":"$192.00"}},null,"Black","Dark Gray",null,"1","Wall Cabinet - 21\" Wall"]
["W1524","Wall 15\" x 24\"",{"v":203,"d":"$203.00"},3,null,null,{"$f":"C592*$G$1*'Order Form'!$S$18*(Color!$D$6+'Door Style'!$G$6+Species!$C$6+'Custom Finish'!$C$6)","v":{"$error":"#VALUE!"}},null,"PROJECT","01-",{"$f":"CONCAT!$D$2","v":""},null,0,{"$f":"J592&A592&K592","v":"01-W1524"},"11-W1524",1,"12-W1524",{"$f":"Q592&K592","v":"12-W1524"},1,{"$nulls":6},{"$f":"C592*$G$1*1*(Color!$D$6+'Door Style'!$G$6+Species!$C$6+'Custom Finish'!$C$6)","v":{"$error":"#VALUE!"}},null,"Black","Dark Gray",null,"1","Wall Cabinet - 24\" Wall"]
["W1527","Wall 15\" x 27\"",{"v":215,"d":"$215.00"},3,null,null,{"$f":"C593*$G$1*'Order Form'!$S$18*(Color!$D$6+'Door Style'!$G$6+Species!$C$6+'Custom Finish'!$C$6)","v":{"$error":"#VALUE!"}},null,"SC/PC","01-",{"$f":"CONCAT!$D$8","v":""},null,1,{"$f":"J593&A593&K593","v":"01-W1527"},"11-W1527",1,"12-W1527",{"$f":"Q593&K593","v":"12-W1527"},1,{"$nulls":6},{"$f":"C593*$G$1*1*(Color!$D$6+'Door Style'!$G$6+Species!$C$6+'Custom Finish'!$C$6)","v":{"$error":"#VALUE!"}},null,"Black","Dark Gray",null,"1","Wall Cabinet - 27\" Wall"]
["W1530","Wall 15\" x 30\"",{"v":224,"d":"$224.00"},2,"PB",{"$f":"C594*'Order Form'!$S$18*(Color!$C$6+'Door Style'!$H$6)","v":{"$error":"#VALUE!"}},{"$f":"C594*$G$1*'Order Form'!$S$18*(Color!$D$6+'Door Style'!$G$6+Species!$C$6+'Custom Finish'!$C$6)","v":{"$error":"#VALUE!"}},null,"01-","01-",{"$f":"CONCAT!$D$2","v":""},null,1,{"$f":"J594&A594&K594","v":"01-W1530"},"11-W1530",1,"12-W1530",{"$f":"Q594&K594","v":"12-W1530"},1,{"$nulls":6},{"$f":"C594*$G$1*1*(Color!$D$6+'Door Style'!$G$6+Species!$C$6+'Custom Finish'!$C$6)","v":{"$error":"#VALUE!"}},null,"Light Blue","Dark Gray",null,"1","Wall Cabinet - 30\" Wall"]
["W1536","Wall 15\" x 36\"",{"v":260,"d":"$260.00"},2,null,{"$f":"C595*'Order Form'!$S$18*(Color!$C$6+'Door Style'!$H$6)","v":{"$error":"#VALUE!"}},{"$f":"C595*$G$1*'Order Form'!$S$18*(Color!$D$6+'Door Style'!$G$6+Species!$C$6+'Custom Finish'!$C$6)","v":{"$error":"#VALUE!"}},null,"01-","01-",{"$f":"CONCAT!$D$2","v":""},null,1,{"$f":"J595&A595&K595","v":"01-W1536"},"11-W1536",1,"12-W1536",{"$f":"Q595&K595","v":"12-W1536"},1,{"$nulls":6},{"$f":"C595*$G$1*1*(Color!$D$6+'Door Style'!$G$6+Species!$C$6+'Custom Finish'!$C$6)","v":{"$error":"#VALUE!"}},null,"Light Blue","Dark Gray",null,"1","Wall Cabinet - 36\" Wall"]
["W1542","Wall 15\" x 42\"",{"v":302,"d":"$302.00"},2,null,{"$f":"C596*'Order Form'!$S$18*(Color!$C$6+'Door Style'!$H$6)","v":{"$error":"#VALUE!"}},{"$f":"C596*$G$1*'Order Form'!$S$18*(Color!$D$6+'Door Style'!$G$6+Species!$C$6+'Custom Finish'!$C$6)","v":{"$error":"#VALUE!"}},null,"01-","01-",{"$f":"CONCAT!$D$2","v":""},null,1,{"$f":"J596&A596&K596","v":"01-W1542"},"11-W1542",1,"12-W1542",{"$f":"Q596&K596","v":"12-W1542"},1,{"$nulls":6},{"$f":"C596*$G$1*1*(Color!$D$6+'Door Style'!$G$6+Species!$C$6+'Custom Finish'!$C$6)","v":{"$error":"#VALUE!"}},null,"Light Blue","Dark Gray",null,"1","Wall Cabinet - 42\" Wall"]
["W15-SHELF","Wall Shelf For 15\"",{"v":16,"d":"$16.00"},2,null,{"$f":"C597*'Order Form'!$S$18","v":0},{"$f":"C597*'Order Form'!$S$18","v":0},null,"14-","14-","",null,0,{"$f":"J597&A597&K597","v":"14-W15-SHELF"},{"$nulls":3},{"$f":"Q597&K597","v":""},null,{"$f":"N597","v":"14-W15-SHELF"},1,{"$nulls":4},{"$f":"C597*$G$1*1*(Color!$D$6+'Door Style'!$G$6+Species!$C$6+'Custom Finish'!$C$6)","v":{"$error":"#VALUE!"}},null,"Purple","Purple",null,null,"Shelf - Wall"]
["W16.512","Wall 16.5\" x 12\"",{"v":158,"d":"$158.00"},3,null,null,{"$f":"C598*$G$1*'Order Form'!$S$18*(Color!$D$6+'Door Style'!$G$6+Species!$C$6+'Custom Finish'!$C$6)","v":{"$error":"#VALUE!"}},null,"SC/PC","01-",{"$f":"CONCAT!$D$8","v":""},null,1,{"$f":"J598&A598&K598","v":"01-W16.512"},"11-W16.512",1,"12-W16.512",{"$f":"Q598&K598","v":"12-W16.512"},1,{"$nulls":5},{"$f":"C598*1*(Color!$C$6+'Door Style'!$H$6)","v":{"$error":"#VALUE!"}},{"$f":"C598*$G$1*1*(Color!$D$6+'Door Style'!$G$6+Species!$C$6+'Custom Finish'!$C$6)","v":{"$error":"#VALUE!"}},null,"Black","Dark Gray",null,"1","Wall Cabinet - 12\" Wall"]
["W16.515","Wall 16.5\" x 15\"",{"v":173,"d":"$173.00"},3,null,null,{"$f":"C599*$G$1*'Order Form'!$S$18*(Color!$D$6+'Door Style'!$G$6+Species!$C$6+'Custom Finish'!$C$6)","v":{"$error":"#VALUE!"}},null,"SC/PC","01-",{"$f":"CONCAT!$D$8","v":""},null,1,{"$f":"J599&A599&K599","v":"01-W16.515"},"11-W16.515",1,"12-W16.515",{"$f":"Q599&K599","v":"12-W16.515"},1,{"$nulls":5},{"$f":"C599*1*(Color!$C$6+'Door Style'!$H$6)","v":{"$error":"#VALUE!"}},{"$f":"C599*$G$1*1*(Color!$D$6+'Door Style'!$G$6+Species!$C$6+'Custom Finish'!$C$6)","v":{"$error":"#VALUE!"}},null,"Black","Dark Gray",null,"1","Wall Cabinet - 15\" Wall"]
["W16.518","Wall 16.5\" x 18\"",{"v":188,"d":"$188.00"},3,null,null,{"$f":"C600*$G$1*'Order Form'!$S$18*(Color!$D$6+'Door Style'!$G$6+Species!$C$6+'Custom Finish'!$C$6)","v":{"$error":"#VALUE!"}},null,"SC/PC","01-",{"$f":"CONCAT!$D$8","v":""},null,1,{"$f":"J600&A600&K600","v":"01-W16.518"},"11-W16.518",1,"12-W16.518",{"$f":"Q600&K600","v":"12-W16.518"},1,{"$nulls":5},{"$f":"C600*1*(Color!$C$6+'Door Style'!$H$6)","v":{"$error":"#VALUE!"}},{"$f":"C600*$G$1*1*(Color!$D$6+'Door Style'!$G$6+Species!$C$6+'Custom Finish'!$C$6)","v":{"$error":"#VALUE!"}},null,"Black","Dark Gray",null,"1","Wall Cabinet - 18\" Wall"]
["W16.521","Wall 16.5\" x 21\"",{"v":203,"d":"$203.00"},3,null,null,{"$f":"C601*$G$1*'Order Form'!$S$18*(Color!$D$6+'Door Style'!$G$6+Species!$C$6+'Custom Finish'!$C$6)","v":{"$error":"#VALUE!"}},null,"SC/PC","01-",{"$f":"CONCAT!$D$8","v":""},null,1,{"$f":"J601&A601&K601","v":"01-W16.521"},"11-W16.521",1,"12-W16.521",{"$f":"Q601&K601","v":"12-W16.521"},1,{"$nulls":5},{"$f":"C601*1","v":{"v":203,"d":"$203.00"}},{"$f":"C601*1","v":{"v":203,"d":"$203.00"}},null,"Black","Dark Gray",null,"1","Wall Cabinet - 21\" Wall"]
["W16.524","Wall 16.5\" x 24\"",{"v":218,"d":"$218.00"},3,null,null,{"$f":"C602*$G$1*'Order Form'!$S$18*(Color!$D$6+'Door Style'!$G$6+Species!$C$6+'Custom Finish'!$C$6)","v":{"$error":"#VALUE!"}},null,"SC/PC","01-",{"$f":"CONCAT!$D$8","v":""},null,1,{"$f":"J602&A602&K602","v":"01-W16.524"},"11-W16.524",1,"12-W16.524",{"$f":"Q602&K602","v":"12-W16.524"},1,{"$nulls":6},{"$f":"C602*$G$1*1*(Color!$D$6+'Door Style'!$G$6+Species!$C$6+'Custom Finish'!$C$6)","v":{"$error":"#VALUE!"}},null,"Black","Dark Gray",null,"1","Wall Cabinet - 24\" Wall"]
["W16.527","Wall 16.5\" x 27\"",{"v":233,"d":"$233.00"},3,null,null,{"$f":"C603*$G$1*'Order Form'!$S$18*(Color!$D$6+'Door Style'!$G$6+Species!$C$6+'Custom Finish'!$C$6)","v":{"$error":"#VALUE!"}},null,"SC/PC","01-",{"$f":"CONCAT!$D$8","v":""},null,1,{"$f":"J603&A603&K603","v":"01-W16.527"},"11-W16.527",1,"12-W16.527",{"$f":"Q603&K603","v":"12-W16.527"},1,{"$nulls":6},{"$f":"C603*$G$1*1*(Color!$D$6+'Door Style'!$G$6+Species!$C$6+'Custom Finish'!$C$6)","v":{"$error":"#VALUE!"}},null,"Black","Dark Gray",null,"1","Wall Cabinet - 27\" Wall"]
["W16.530","Wall 16.5\" x 30\"",{"v":248,"d":"$248.00"},3,null,null,{"$f":"C604*$G$1*'Order Form'!$S$18*(Color!$D$6+'Door Style'!$G$6+Species!$C$6+'Custom Finish'!$C$6)","v":{"$error":"#VALUE!"}},null,"SC/PC","01-",{"$f":"CONCAT!$D$8","v":""},null,1,{"$f":"J604&A604&K604","v":"01-W16.530"},"11-W16.530",1,"12-W16.530",{"$f":"Q604&K604","v":"12-W16.530"},1,{"$nulls":6},{"$f":"C604*$G$1*1*(Color!$D$6+'Door Style'!$G$6+Species!$C$6+'Custom Finish'!$C$6)","v":{"$error":"#VALUE!"}},null,"Black","Dark Gray",null,"1","Wall Cabinet - 30\" Wall"]
["W16.536","Wall 16.5\" x 36\"",{"v":291,"d":"$291.00"},3,null,null,{"$f":"C605*$G$1*'Order Form'!$S$18*(Color!$D$6+'Door Style'!$G$6+Species!$C$6+'Custom Finish'!$C$6)","v":{"$error":"#VALUE!"}},null,"SC/PC","01-",{"$f":"CONCAT!$D$8","v":""},null,1,{"$f":"J605&A605&K605","v":"01-W16.536"},"11-W16.536",1,"12-W16.536",{"$f":"Q605&K605","v":"12-W16.536"},1,{"$nulls":6},{"$f":"C605*$G$1*1*(Color!$D$6+'Door Style'!$G$6+Species!$C$6+'Custom Finish'!$C$6)","v":{"$error":"#VALUE!"}},null,"Black","Dark Gray",null,"1","Wall Cabinet - 36\" Wall"]
["W16.542","Wall 16.5\" x 42\"",{"v":335,"d":"$335.00"},3,null,null,{"$f":"C606*$G$1*'Order Form'!$S$18*(Color!$D$6+'Door Style'!$G$6+Species!$C$6+'Custom Finish'!$C$6)","v":{"$error":"#VALUE!"}},null,"SC/PC","01-",{"$f":"CONCAT!$D$8","v":""},null,1,{"$f":"J606&A606&K606","v":"01-W16.542"},"11-W16.542",1,"12-W16.542",{"$f":"Q606&K606","v":"12-W16.542"},1,{"$nulls":6},{"$f":"C606*$G$1*1*(Color!$D$6+'Door Style'!$G$6+Species!$C$6+'Custom Finish'!$C$6)","v":{"$error":"#VALUE!"}},null,"Black","Dark Gray",null,"1","Wall Cabinet - 42\" Wall"]
["W16.5-SHELF","Wall Shelf For 16.5\"",{"v":18,"d":"$18.00"},2,null,{"$f":"C607*'Order Form'!$S$18","v":0},{"$f":"C607*'Order Form'!$S$18","v":0},null,"14-","14-","",null,0,{"$f":"J607&A607&K607","v":"14-W16.5-SHELF"},{"$nulls":3},{"$f":"Q607&K607","v":""},null,{"$f":"N607","v":"14-W16.5-SHELF"},1,{"$nulls":4},{"$f":"C607*$G$1*1*(Color!$D$6+'Door Style'!$G$6+Species!$C$6+'Custom Finish'!$C$6)","v":{"$error":"#VALUE!"}},null,"Purple","Purple",null,null,"Shelf - Wall"]
["W1812","Wall 18\" x 12\"",{"v":158,"d":"$158.00"},3,null,null,{"$f":"C608*$G$1*'Order Form'!$S$18*(Color!$D$6+'Door Style'!$G$6+Species!$C$6+'Custom Finish'!$C$6)","v":{"$error":"#VALUE!"}},null,"SC/PC","01-",{"$f":"CONCAT!$D$8","v":""},null,1,{"$f":"J608&A608&K608","v":"01-W1812"},"11-W1812",1,"12-W1812",{"$f":"Q608&K608","v":"12-W1812"},1,{"$nulls":6},{"$f":"C608*$G$1*1*(Color!$D$6+'Door Style'!$G$6+Species!$C$6+'Custom Finish'!$C$6)","v":{"$error":"#VALUE!"}},null,"Black","Dark Gray",null,"1","Wall Cabinet - 12\" Wall"]
["W1815","Wall 18\" x 15\"",{"v":173,"d":"$173.00"},3,null,null,{"$f":"C609*$G$1*'Order Form'!$S$18*(Color!$D$6+'Door Style'!$G$6+Species!$C$6+'Custom Finish'!$C$6)","v":{"$error":"#VALUE!"}},null,"SC/PC","01-",{"$f":"CONCAT!$D$8","v":""},null,1,{"$f":"J609&A609&K609","v":"01-W1815"},"11-W1815",1,"12-W1815",{"$f":"Q609&K609","v":"12-W1815"},1,{"$nulls":6},{"$f":"C609*$G$1*1*(Color!$D$6+'Door Style'!$G$6+Species!$C$6+'Custom Finish'!$C$6)","v":{"$error":"#VALUE!"}},null,"Black","Dark Gray",null,"1","Wall Cabinet - 15\" Wall"]
["W1818","Wall 18\" x 18\"",{"v":188,"d":"$188.00"},3,null,null,{"$f":"C610*$G$1*'Order Form'!$S$18*(Color!$D$6+'Door Style'!$G$6+Species!$C$6+'Custom Finish'!$C$6)","v":{"$error":"#VALUE!"}},null,"SC/PC","01-",{"$f":"CONCAT!$D$8","v":""},null,1,{"$f":"J610&A610&K610","v":"01-W1818"},"11-W1818",1,"12-W1818",{"$f":"Q610&K610","v":"12-W1818"},1,{"$nulls":6},{"$f":"C610*$G$1*1*(Color!$D$6+'Door Style'!$G$6+Species!$C$6+'Custom Finish'!$C$6)","v":{"$error":"#VALUE!"}},null,"Black","Dark Gray",null,"1","Wall Cabinet - 18\" Wall"]
["W1821","Wall 18\" x 21\"",{"v":203,"d":"$203.00"},3,null,null,{"$f":"C611*$G$1*'Order Form'!$S$18*(Color!$D$6+'Door Style'!$G$6+Species!$C$6+'Custom Finish'!$C$6)","v":{"$error":"#VALUE!"}},null,"SC/PC","01-",{"$f":"CONCAT!$D$8","v":""},null,1,{"$f":"J611&A611&K611","v":"01-W1821"},"11-W1821",1,"12-W1821",{"$f":"Q611&K611","v":"12-W1821"},1,{"$nulls":5},{"$f":"C611*1","v":{"v":203,"d":"$203.00"}},{"$f":"C611*1","v":{"v":203,"d":"$203.00"}},null,"Black","Dark Gray",null,"1","Wall Cabinet - 21\" Wall"]
["W1824","Wall 18\" x 24\"",{"v":218,"d":"$218.00"},3,null,null,{"$f":"C612*$G$1*'Order Form'!$S$18*(Color!$D$6+'Door Style'!$G$6+Species!$C$6+'Custom Finish'!$C$6)","v":{"$error":"#VALUE!"}},null,"SC/PC","01-",{"$f":"CONCAT!$D$8","v":""},null,1,{"$f":"J612&A612&K612","v":"01-W1824"},"11-W1824",1,"12-W1824",{"$f":"Q612&K612","v":"12-W1824"},1,{"$nulls":6},{"$f":"C612*$G$1*1*(Color!$D$6+'Door Style'!$G$6+Species!$C$6+'Custom Finish'!$C$6)","v":{"$error":"#VALUE!"}},null,"Black","Dark Gray",null,"1","Wall Cabinet - 24\" Wall"]
["W1827","Wall 18\" x 27\"",{"v":233,"d":"$233.00"},3,null,null,{"$f":"C613*$G$1*'Order Form'!$S$18*(Color!$D$6+'Door Style'!$G$6+Species!$C$6+'Custom Finish'!$C$6)","v":{"$error":"#VALUE!"}},null,"SC/PC","01-",{"$f":"CONCAT!$D$8","v":""},null,1,{"$f":"J613&A613&K613","v":"01-W1827"},"11-W1827",1,"12-W1827",{"$f":"Q613&K613","v":"12-W1827"},1,{"$nulls":6},{"$f":"C613*$G$1*1*(Color!$D$6+'Door Style'!$G$6+Species!$C$6+'Custom Finish'!$C$6)","v":{"$error":"#VALUE!"}},null,"Black","Dark Gray",null,"1","Wall Cabinet - 27\" Wall"]
["W1830","Wall 18\" x 30\"",{"v":247,"d":"$247.00"},2,"PB",{"$f":"C614*'Order Form'!$S$18*(Color!$C$6+'Door Style'!$H$6)","v":{"$error":"#VALUE!"}},{"$f":"C614*$G$1*'Order Form'!$S$18*(Color!$D$6+'Door Style'!$G$6+Species!$C$6+'Custom Finish'!$C$6)","v":{"$error":"#VALUE!"}},null,"01-","01-",{"$f":"CONCAT!$D$2","v":""},null,1,{"$f":"J614&A614&K614","v":"01-W1830"},"11-W1830",1,"12-W1830",{"$f":"Q614&K614","v":"12-W1830"},1,{"$nulls":6},{"$f":"C614*$G$1*1*(Color!$D$6+'Door Style'!$G$6+Species!$C$6+'Custom Finish'!$C$6)","v":{"$error":"#VALUE!"}},null,"Light Blue","Dark Gray",null,"1","Wall Cabinet - 30\" Wall"]
["W1836","Wall 18\" x 36\"",{"v":289,"d":"$289.00"},2,null,{"$f":"C615*'Order Form'!$S$18*(Color!$C$6+'Door Style'!$H$6)","v":{"$error":"#VALUE!"}},{"$f":"C615*$G$1*'Order Form'!$S$18*(Color!$D$6+'Door Style'!$G$6+Species!$C$6+'Custom Finish'!$C$6)","v":{"$error":"#VALUE!"}},null,"01-","01-",{"$f":"CONCAT!$D$2","v":""},null,1,{"$f":"J615&A615&K615","v":"01-W1836"},"11-W1836",1,"12-W1836",{"$f":"Q615&K615","v":"12-W1836"},1,{"$nulls":6},{"$f":"C615*$G$1*1*(Color!$D$6+'Door Style'!$G$6+Species!$C$6+'Custom Finish'!$C$6)","v":{"$error":"#VALUE!"}},null,"Light Blue","Dark Gray",null,"1","Wall Cabinet - 36\" Wall"]
["W1842","Wall 18\" x 42\"",{"v":334,"d":"$334.00"},2,null,{"$f":"C616*'Order Form'!$S$18*(Color!$C$6+'Door Style'!$H$6)","v":{"$error":"#VALUE!"}},{"$f":"C616*$G$1*'Order Form'!$S$18*(Color!$D$6+'Door Style'!$G$6+Species!$C$6+'Custom Finish'!$C$6)","v":{"$error":"#VALUE!"}},null,"01-","01-",{"$f":"CONCAT!$D$2","v":""},null,1,{"$f":"J616&A616&K616","v":"01-W1842"},"11-W1842",1,"12-W1842",{"$f":"Q616&K616","v":"12-W1842"},1,{"$nulls":6},{"$f":"C616*$G$1*1*(Color!$D$6+'Door Style'!$G$6+Species!$C$6+'Custom Finish'!$C$6)","v":{"$error":"#VALUE!"}},null,"Light Blue","Dark Gray",null,"1","Wall Cabinet - 42\" Wall"]
["W18-SHELF","Wall Shelf For 18\"",{"v":19,"d":"$19.00"},2,null,{"$f":"C617*'Order Form'!$S$18","v":0},{"$f":"C617*'Order Form'!$S$18","v":0},null,"14-","14-","",null,0,{"$f":"J617&A617&K617","v":"14-W18-SHELF"},{"$nulls":3},{"$f":"Q617&K617","v":""},null,{"$f":"N617","v":"14-W18-SHELF"},1,{"$nulls":4},{"$f":"C617*$G$1*1*(Color!$D$6+'Door Style'!$G$6+Species!$C$6+'Custom Finish'!$C$6)","v":{"$error":"#VALUE!"}},null,"Purple","Purple",null,null,"Shelf - Wall"]
["W19.512","Wall 19.5\" x 12\"",{"v":186,"d":"$186.00"},3,null,null,{"$f":"C618*$G$1*'Order Form'!$S$18*(Color!$D$6+'Door Style'!$G$6+Species!$C$6+'Custom Finish'!$C$6)","v":{"$error":"#VALUE!"}},null,"SC/PC","01-",{"$f":"CONCAT!$D$8","v":""},null,1,{"$f":"J618&A618&K618","v":"01-W19.512"},"11-W19.512",1,"12-W19.512",{"$f":"Q618&K618","v":"12-W19.512"},1,{"$nulls":5},{"$f":"C618*1*(Color!$C$6+'Door Style'!$H$6)","v":{"$error":"#VALUE!"}},{"$f":"C618*$G$1*1*(Color!$D$6+'Door Style'!$G$6+Species!$C$6+'Custom Finish'!$C$6)","v":{"$error":"#VALUE!"}},null,"Black","Dark Gray",null,"1","Wall Cabinet - 12\" Wall"]
["W19.515","Wall 19.5\" x 15\"",{"v":201,"d":"$201.00"},3,null,null,{"$f":"C619*$G$1*'Order Form'!$S$18*(Color!$D$6+'Door Style'!$G$6+Species!$C$6+'Custom Finish'!$C$6)","v":{"$error":"#VALUE!"}},null,"SC/PC","01-",{"$f":"CONCAT!$D$8","v":""},null,1,{"$f":"J619&A619&K619","v":"01-W19.515"},"11-W19.515",1,"12-W19.515",{"$f":"Q619&K619","v":"12-W19.515"},1,{"$nulls":5},{"$f":"C619*1*(Color!$C$6+'Door Style'!$H$6)","v":{"$error":"#VALUE!"}},{"$f":"C619*$G$1*1*(Color!$D$6+'Door Style'!$G$6+Species!$C$6+'Custom Finish'!$C$6)","v":{"$error":"#VALUE!"}},null,"Black","Dark Gray",null,"1","Wall Cabinet - 15\" Wall"]
["W19.518","Wall 19.5\" x 18\"",{"v":216,"d":"$216.00"},3,null,null,{"$f":"C620*$G$1*'Order Form'!$S$18*(Color!$D$6+'Door Style'!$G$6+Species!$C$6+'Custom Finish'!$C$6)","v":{"$error":"#VALUE!"}},null,"SC/PC","01-",{"$f":"CONCAT!$D$8","v":""},null,1,{"$f":"J620&A620&K620","v":"01-W19.518"},"11-W19.518",1,"12-W19.518",{"$f":"Q620&K620","v":"12-W19.518"},1,{"$nulls":5},{"$f":"C620*1*(Color!$C$6+'Door Style'!$H$6)","v":{"$error":"#VALUE!"}},{"$f":"C620*$G$1*1*(Color!$D$6+'Door Style'!$G$6+Species!$C$6+'Custom Finish'!$C$6)","v":{"$error":"#VALUE!"}},null,"Black","Dark Gray",null,"1","Wall Cabinet - 18\" Wall"]
["W19.521","Wall 19.5\" x 21\"",{"v":230,"d":"$230.00"},3,null,null,{"$f":"C621*$G$1*'Order Form'!$S$18*(Color!$D$6+'Door Style'!$G$6+Species!$C$6+'Custom Finish'!$C$6)","v":{"$error":"#VALUE!"}},null,"SC/PC","01-",{"$f":"CONCAT!$D$8","v":""},null,1,{"$f":"J621&A621&K621","v":"01-W19.521"},"11-W19.521",1,"12-W19.521",{"$f":"Q621&K621","v":"12-W19.521"},1,{"$nulls":5},{"$f":"C621*1","v":{"v":230,"d":"$230.00"}},{"$f":"C621*1","v":{"v":230,"d":"$230.00"}},null,"Black","Dark Gray",null,"1","Wall Cabinet - 21\" Wall"]
["W19.524","Wall 19.5\" x 24\"",{"v":246,"d":"$246.00"},3,null,null,{"$f":"C622*$G$1*'Order Form'!$S$18*(Color!$D$6+'Door Style'!$G$6+Species!$C$6+'Custom Finish'!$C$6)","v":{"$error":"#VALUE!"}},null,"SC/PC","01-",{"$f":"CONCAT!$D$8","v":""},null,1,{"$f":"J622&A622&K622","v":"01-W19.524"},"11-W19.524",1,"12-W19.524",{"$f":"Q622&K622","v":"12-W19.524"},1,{"$nulls":6},{"$f":"C622*$G$1*1*(Color!$D$6+'Door Style'!$G$6+Species!$C$6+'Custom Finish'!$C$6)","v":{"$error":"#VALUE!"}},null,"Black","Dark Gray",null,"1","Wall Cabinet - 24\" Wall"]
["W19.527","Wall 19.5\" x 27\"",{"v":262,"d":"$262.00"},3,null,null,{"$f":"C623*$G$1*'Order Form'!$S$18*(Color!$D$6+'Door Style'!$G$6+Species!$C$6+'Custom Finish'!$C$6)","v":{"$error":"#VALUE!"}},null,"SC/PC","01-",{"$f":"CONCAT!$D$8","v":""},null,1,{"$f":"J623&A623&K623","v":"01-W19.527"},"11-W19.527",1,"12-W19.527",{"$f":"Q623&K623","v":"12-W19.527"},1,{"$nulls":6},{"$f":"C623*$G$1*1*(Color!$D$6+'Door Style'!$G$6+Species!$C$6+'Custom Finish'!$C$6)","v":{"$error":"#VALUE!"}},null,"Black","Dark Gray",null,"1","Wall Cabinet - 27\" Wall"]
["W19.530","Wall 19.5\" x 30\"",{"v":276,"d":"$276.00"},3,null,null,{"$f":"C624*$G$1*'Order Form'!$S$18*(Color!$D$6+'Door Style'!$G$6+Species!$C$6+'Custom Finish'!$C$6)","v":{"$error":"#VALUE!"}},null,"SC/PC","01-",{"$f":"CONCAT!$D$8","v":""},null,1,{"$f":"J624&A624&K624","v":"01-W19.530"},"11-W19.530",1,"12-W19.530",{"$f":"Q624&K624","v":"12-W19.530"},1,{"$nulls":6},{"$f":"C624*$G$1*1*(Color!$D$6+'Door Style'!$G$6+Species!$C$6+'Custom Finish'!$C$6)","v":{"$error":"#VALUE!"}},null,"Black","Dark Gray",null,"1","Wall Cabinet - 30\" Wall"]
["W19.536","Wall 19.5\" x 36\"",{"v":322,"d":"$322.00"},3,null,null,{"$f":"C625*$G$1*'Order Form'!$S$18*(Color!$D$6+'Door Style'!$G$6+Species!$C$6+'Custom Finish'!$C$6)","v":{"$error":"#VALUE!"}},null,"SC/PC","01-",{"$f":"CONCAT!$D$8","v":""},null,1,{"$f":"J625&A625&K625","v":"01-W19.536"},"11-W19.536",1,"12-W19.536",{"$f":"Q625&K625","v":"12-W19.536"},1,{"$nulls":6},{"$f":"C625*$G$1*1*(Color!$D$6+'Door Style'!$G$6+Species!$C$6+'Custom Finish'!$C$6)","v":{"$error":"#VALUE!"}},null,"Black","Dark Gray",null,"1","Wall Cabinet - 36\" Wall"]
["W19.542","Wall 19.5\" x 42\"",{"v":373,"d":"$373.00"},3,null,null,{"$f":"C626*$G$1*'Order Form'!$S$18*(Color!$D$6+'Door Style'!$G$6+Species!$C$6+'Custom Finish'!$C$6)","v":{"$error":"#VALUE!"}},null,"SC/PC","01-",{"$f":"CONCAT!$D$8","v":""},null,1,{"$f":"J626&A626&K626","v":"01-W19.542"},"11-W19.542",1,"12-W19.542",{"$f":"Q626&K626","v":"12-W19.542"},1,{"$nulls":6},{"$f":"C626*$G$1*1*(Color!$D$6+'Door Style'!$G$6+Species!$C$6+'Custom Finish'!$C$6)","v":{"$error":"#VALUE!"}},null,"Black","Dark Gray",null,"1","Wall Cabinet - 42\" Wall"]
["W19.5-SHELF","Wall Shelf For 19.5\"",{"v":21,"d":"$21.00"},2,null,{"$f":"C627*'Order Form'!$S$18","v":0},{"$f":"C627*'Order Form'!$S$18","v":0},null,"14-","14-","",null,0,{"$f":"J627&A627&K627","v":"14-W19.5-SHELF"},{"$nulls":3},{"$f":"Q627&K627","v":""},null,{"$f":"N627","v":"14-W19.5-SHELF"},1,{"$nulls":4},{"$f":"C627*$G$1*1*(Color!$D$6+'Door Style'!$G$6+Species!$C$6+'Custom Finish'!$C$6)","v":{"$error":"#VALUE!"}},null,"Purple","Purple",null,null,"Shelf - Wall"]
["W2112","Wall 21\" x 12\"",{"v":186,"d":"$186.00"},3,null,null,{"$f":"C628*$G$1*'Order Form'!$S$18*(Color!$D$6+'Door Style'!$G$6+Species!$C$6+'Custom Finish'!$C$6)","v":{"$error":"#VALUE!"}},null,"SC/PC","01-",{"$f":"CONCAT!$D$8","v":""},null,1,{"$f":"J628&A628&K628","v":"01-W2112"},"11-W2112",1,"12-W2112",{"$f":"Q628&K628","v":"12-W2112"},1,{"$nulls":6},{"$f":"C628*$G$1*1*(Color!$D$6+'Door Style'!$G$6+Species!$C$6+'Custom Finish'!$C$6)","v":{"$error":"#VALUE!"}},null,"Black","Dark Gray",null,"1","Wall Cabinet - 12\" Wall"]
["W2115","Wall 21\" x 15\"",{"v":201,"d":"$201.00"},3,null,null,{"$f":"C629*$G$1*'Order Form'!$S$18*(Color!$D$6+'Door Style'!$G$6+Species!$C$6+'Custom Finish'!$C$6)","v":{"$error":"#VALUE!"}},null,"SC/PC","01-",{"$f":"CONCAT!$D$8","v":""},null,1,{"$f":"J629&A629&K629","v":"01-W2115"},"11-W2115",1,"12-W2115",{"$f":"Q629&K629","v":"12-W2115"},1,{"$nulls":6},{"$f":"C629*$G$1*1*(Color!$D$6+'Door Style'!$G$6+Species!$C$6+'Custom Finish'!$C$6)","v":{"$error":"#VALUE!"}},null,"Black","Dark Gray",null,"1","Wall Cabinet - 15\" Wall"]
["W2118","Wall 21\" x 18\"",{"v":216,"d":"$216.00"},3,null,null,{"$f":"C630*$G$1*'Order Form'!$S$18*(Color!$D$6+'Door Style'!$G$6+Species!$C$6+'Custom Finish'!$C$6)","v":{"$error":"#VALUE!"}},null,"SC/PC","01-",{"$f":"CONCAT!$D$8","v":""},null,1,{"$f":"J630&A630&K630","v":"01-W2118"},"11-W2118",1,"12-W2118",{"$f":"Q630&K630","v":"12-W2118"},1,{"$nulls":6},{"$f":"C630*$G$1*1*(Color!$D$6+'Door Style'!$G$6+Species!$C$6+'Custom Finish'!$C$6)","v":{"$error":"#VALUE!"}},null,"Black","Dark Gray",null,"1","Wall Cabinet - 18\" Wall"]
["W2121","Wall 21\" x 21\"",{"v":230,"d":"$230.00"},3,null,null,{"$f":"C631*$G$1*'Order Form'!$S$18*(Color!$D$6+'Door Style'!$G$6+Species!$C$6+'Custom Finish'!$C$6)","v":{"$error":"#VALUE!"}},null,"SC/PC","01-",{"$f":"CONCAT!$D$8","v":""},null,1,{"$f":"J631&A631&K631","v":"01-W2121"},"11-W2121",1,"12-W2121",{"$f":"Q631&K631","v":"12-W2121"},1,{"$nulls":5},{"$f":"C631*1","v":{"v":230,"d":"$230.00"}},{"$f":"C631*1","v":{"v":230,"d":"$230.00"}},null,"Black","Dark Gray",null,"1","Wall Cabinet - 21\" Wall"]
["W2124","Wall 21\" x 24\"",{"v":246,"d":"$246.00"},3,null,null,{"$f":"C632*$G$1*'Order Form'!$S$18*(Color!$D$6+'Door Style'!$G$6+Species!$C$6+'Custom Finish'!$C$6)","v":{"$error":"#VALUE!"}},null,"PROJECT","01-",{"$f":"CONCAT!$D$2","v":""},null,1,{"$f":"J632&A632&K632","v":"01-W2124"},"11-W2124",1,"12-W2124",{"$f":"Q632&K632","v":"12-W2124"},1,{"$nulls":6},{"$f":"C632*$G$1*1*(Color!$D$6+'Door Style'!$G$6+Species!$C$6+'Custom Finish'!$C$6)","v":{"$error":"#VALUE!"}},null,"Black","Dark Gray",null,"1","Wall Cabinet - 24\" Wall"]
["W2127","Wall 21\" x 27\"",{"v":262,"d":"$262.00"},3,null,null,{"$f":"C633*$G$1*'Order Form'!$S$18*(Color!$D$6+'Door Style'!$G$6+Species!$C$6+'Custom Finish'!$C$6)","v":{"$error":"#VALUE!"}},null,"SC/PC","01-",{"$f":"CONCAT!$D$8","v":""},null,1,{"$f":"J633&A633&K633","v":"01-W2127"},"11-W2127",1,"12-W2127",{"$f":"Q633&K633","v":"12-W2127"},1,{"$nulls":6},{"$f":"C633*$G$1*1*(Color!$D$6+'Door Style'!$G$6+Species!$C$6+'Custom Finish'!$C$6)","v":{"$error":"#VALUE!"}},null,"Black","Dark Gray",null,"1","Wall Cabinet - 27\" Wall"]
["W2130","Wall 21\" x 30\"",{"v":275,"d":"$275.00"},2,"PB",{"$f":"C634*'Order Form'!$S$18*(Color!$C$6+'Door Style'!$H$6)","v":{"$error":"#VALUE!"}},{"$f":"C634*$G$1*'Order Form'!$S$18*(Color!$D$6+'Door Style'!$G$6+Species!$C$6+'Custom Finish'!$C$6)","v":{"$error":"#VALUE!"}},null,"01-","01-",{"$f":"CONCAT!$D$2","v":""},null,1,{"$f":"J634&A634&K634","v":"01-W2130"},"11-W2130",1,"12-W2130",{"$f":"Q634&K634","v":"12-W2130"},1,{"$nulls":6},{"$f":"C634*$G$1*1*(Color!$D$6+'Door Style'!$G$6+Species!$C$6+'Custom Finish'!$C$6)","v":{"$error":"#VALUE!"}},null,"Light Blue","Dark Gray",null,"1","Wall Cabinet - 30\" Wall"]
["W2136","Wall 21\" x 36\"",{"v":321,"d":"$321.00"},2,null,{"$f":"C635*'Order Form'!$S$18*(Color!$C$6+'Door Style'!$H$6)","v":{"$error":"#VALUE!"}},{"$f":"C635*$G$1*'Order Form'!$S$18*(Color!$D$6+'Door Style'!$G$6+Species!$C$6+'Custom Finish'!$C$6)","v":{"$error":"#VALUE!"}},null,"01-","01-",{"$f":"CONCAT!$D$2","v":""},null,1,{"$f":"J635&A635&K635","v":"01-W2136"},"11-W2136",1,"12-W2136",{"$f":"Q635&K635","v":"12-W2136"},1,{"$nulls":6},{"$f":"C635*$G$1*1*(Color!$D$6+'Door Style'!$G$6+Species!$C$6+'Custom Finish'!$C$6)","v":{"$error":"#VALUE!"}},null,"Light Blue","Dark Gray",null,"1","Wall Cabinet - 36\" Wall"]
["W2142","Wall 21\" x 42\"",{"v":372,"d":"$372.00"},2,null,{"$f":"C636*'Order Form'!$S$18*(Color!$C$6+'Door Style'!$H$6)","v":{"$error":"#VALUE!"}},{"$f":"C636*$G$1*'Order Form'!$S$18*(Color!$D$6+'Door Style'!$G$6+Species!$C$6+'Custom Finish'!$C$6)","v":{"$error":"#VALUE!"}},null,"01-","01-",{"$f":"CONCAT!$D$2","v":""},null,1,{"$f":"J636&A636&K636","v":"01-W2142"},"11-W2142",1,"12-W2142",{"$f":"Q636&K636","v":"12-W2142"},1,{"$nulls":6},{"$f":"C636*$G$1*1*(Color!$D$6+'Door Style'!$G$6+Species!$C$6+'Custom Finish'!$C$6)","v":{"$error":"#VALUE!"}},null,"Light Blue","Dark Gray",null,"1","Wall Cabinet - 42\" Wall"]
["W21-SHELF","Wall Shelf For 21\"",{"v":22,"d":"$22.00"},2,null,{"$f":"C637*'Order Form'!$S$18","v":0},{"$f":"C637*'Order Form'!$S$18","v":0},null,"14-","14-","",null,0,{"$f":"J637&A637&K637","v":"14-W21-SHELF"},{"$nulls":3},{"$f":"Q637&K637","v":""},null,{"$f":"N637","v":"14-W21-SHELF"},1,{"$nulls":4},{"$f":"C637*$G$1*1*(Color!$D$6+'Door Style'!$G$6+Species!$C$6+'Custom Finish'!$C$6)","v":{"$error":"#VALUE!"}},null,"Purple","Purple",null,null,"Shelf - Wall"]
["W22.512","Wall 22.5\" x 12\"",{"v":217,"d":"$217.00"},3,null,null,{"$f":"C638*$G$1*'Order Form'!$S$18*(Color!$D$6+'Door Style'!$G$6+Species!$C$6+'Custom Finish'!$C$6)","v":{"$error":"#VALUE!"}},null,"SC/PC","01-",{"$f":"CONCAT!$D$8","v":""},null,1,{"$f":"J638&A638&K638","v":"01-W22.512"},"11-W22.512",1,"12-W22.512",{"$f":"Q638&K638","v":"12-W22.512"},1,{"$nulls":5},{"$f":"C638*1*(Color!$C$6+'Door Style'!$H$6)","v":{"$error":"#VALUE!"}},{"$f":"C638*$G$1*1*(Color!$D$6+'Door Style'!$G$6+Species!$C$6+'Custom Finish'!$C$6)","v":{"$error":"#VALUE!"}},null,"Black","Dark Gray",null,"1","Wall Cabinet - 12\" Wall"]
["W22.515","Wall 22.5\" x 15\"",{"v":232,"d":"$232.00"},3,null,null,{"$f":"C639*$G$1*'Order Form'!$S$18*(Color!$D$6+'Door Style'!$G$6+Species!$C$6+'Custom Finish'!$C$6)","v":{"$error":"#VALUE!"}},null,"SC/PC","01-",{"$f":"CONCAT!$D$8","v":""},null,1,{"$f":"J639&A639&K639","v":"01-W22.515"},"11-W22.515",1,"12-W22.515",{"$f":"Q639&K639","v":"12-W22.515"},1,{"$nulls":5},{"$f":"C639*1*(Color!$C$6+'Door Style'!$H$6)","v":{"$error":"#VALUE!"}},{"$f":"C639*$G$1*1*(Color!$D$6+'Door Style'!$G$6+Species!$C$6+'Custom Finish'!$C$6)","v":{"$error":"#VALUE!"}},null,"Black","Dark Gray",null,"1","Wall Cabinet - 15\" Wall"]
["W22.518","Wall 22.5\" x 18\"",{"v":247,"d":"$247.00"},3,null,null,{"$f":"C640*$G$1*'Order Form'!$S$18*(Color!$D$6+'Door Style'!$G$6+Species!$C$6+'Custom Finish'!$C$6)","v":{"$error":"#VALUE!"}},null,"SC/PC","01-",{"$f":"CONCAT!$D$8","v":""},null,1,{"$f":"J640&A640&K640","v":"01-W22.518"},"11-W22.518",1,"12-W22.518",{"$f":"Q640&K640","v":"12-W22.518"},1,{"$nulls":5},{"$f":"C640*1*(Color!$C$6+'Door Style'!$H$6)","v":{"$error":"#VALUE!"}},{"$f":"C640*$G$1*1*(Color!$D$6+'Door Style'!$G$6+Species!$C$6+'Custom Finish'!$C$6)","v":{"$error":"#VALUE!"}},null,"Black","Dark Gray",null,"1","Wall Cabinet - 18\" Wall"]
["W22.521","Wall 22.5\" x 21\"",{"v":263,"d":"$263.00"},3,null,null,{"$f":"C641*$G$1*'Order Form'!$S$18*(Color!$D$6+'Door Style'!$G$6+Species!$C$6+'Custom Finish'!$C$6)","v":{"$error":"#VALUE!"}},null,"SC/PC","01-",{"$f":"CONCAT!$D$8","v":""},null,1,{"$f":"J641&A641&K641","v":"01-W22.521"},"11-W22.521",1,"12-W22.521",{"$f":"Q641&K641","v":"12-W22.521"},1,{"$nulls":5},{"$f":"C641*1","v":{"v":263,"d":"$263.00"}},{"$f":"C641*1","v":{"v":263,"d":"$263.00"}},null,"Black","Dark Gray",null,"1","Wall Cabinet - 21\" Wall"]
["W22.524","Wall 22.5\" x 24\"",{"v":278,"d":"$278.00"},3,null,null,{"$f":"C642*$G$1*'Order Form'!$S$18*(Color!$D$6+'Door Style'!$G$6+Species!$C$6+'Custom Finish'!$C$6)","v":{"$error":"#VALUE!"}},null,"SC/PC","01-",{"$f":"CONCAT!$D$8","v":""},null,1,{"$f":"J642&A642&K642","v":"01-W22.524"},"11-W22.524",1,"12-W22.524",{"$f":"Q642&K642","v":"12-W22.524"},1,{"$nulls":6},{"$f":"C642*$G$1*1*(Color!$D$6+'Door Style'!$G$6+Species!$C$6+'Custom Finish'!$C$6)","v":{"$error":"#VALUE!"}},null,"Black","Dark Gray",null,"1","Wall Cabinet - 24\" Wall"]
["W22.527","Wall 22.5\" x 27\"",{"v":293,"d":"$293.00"},3,null,null,{"$f":"C643*$G$1*'Order Form'!$S$18*(Color!$D$6+'Door Style'!$G$6+Species!$C$6+'Custom Finish'!$C$6)","v":{"$error":"#VALUE!"}},null,"SC/PC","01-",{"$f":"CONCAT!$D$8","v":""},null,1,{"$f":"J643&A643&K643","v":"01-W22.527"},"11-W22.527",1,"12-W22.527",{"$f":"Q643&K643","v":"12-W22.527"},1,{"$nulls":6},{"$f":"C643*$G$1*1*(Color!$D$6+'Door Style'!$G$6+Species!$C$6+'Custom Finish'!$C$6)","v":{"$error":"#VALUE!"}},null,"Black","Dark Gray",null,"1","Wall Cabinet - 27\" Wall"]
["W22.530","Wall 22.5\" x 30\"",{"v":308,"d":"$308.00"},3,null,null,{"$f":"C644*$G$1*'Order Form'!$S$18*(Color!$D$6+'Door Style'!$G$6+Species!$C$6+'Custom Finish'!$C$6)","v":{"$error":"#VALUE!"}},null,"SC/PC","01-",{"$f":"CONCAT!$D$8","v":""},null,1,{"$f":"J644&A644&K644","v":"01-W22.530"},"11-W22.530",1,"12-W22.530",{"$f":"Q644&K644","v":"12-W22.530"},1,{"$nulls":6},{"$f":"C644*$G$1*1*(Color!$D$6+'Door Style'!$G$6+Species!$C$6+'Custom Finish'!$C$6)","v":{"$error":"#VALUE!"}},null,"Black","Dark Gray",null,"1","Wall Cabinet - 30\" Wall"]
["W22.536","Wall 22.5\" x 36\"",{"v":359,"d":"$359.00"},3,null,null,{"$f":"C645*$G$1*'Order Form'!$S$18*(Color!$D$6+'Door Style'!$G$6+Species!$C$6+'Custom Finish'!$C$6)","v":{"$error":"#VALUE!"}},null,"SC/PC","01-",{"$f":"CONCAT!$D$8","v":""},null,1,{"$f":"J645&A645&K645","v":"01-W22.536"},"11-W22.536",1,"12-W22.536",{"$f":"Q645&K645","v":"12-W22.536"},1,{"$nulls":6},{"$f":"C645*$G$1*1*(Color!$D$6+'Door Style'!$G$6+Species!$C$6+'Custom Finish'!$C$6)","v":{"$error":"#VALUE!"}},null,"Black","Dark Gray",null,"1","Wall Cabinet - 36\" Wall"]
["W22.542","Wall 22.5\" x 42\"",{"v":424,"d":"$424.00"},3,null,null,{"$f":"C646*$G$1*'Order Form'!$S$18*(Color!$D$6+'Door Style'!$G$6+Species!$C$6+'Custom Finish'!$C$6)","v":{"$error":"#VALUE!"}},null,"SC/PC","01-",{"$f":"CONCAT!$D$8","v":""},null,1,{"$f":"J646&A646&K646","v":"01-W22.542"},"11-W22.542",1,"12-W22.542",{"$f":"Q646&K646","v":"12-W22.542"},1,{"$nulls":6},{"$f":"C646*$G$1*1*(Color!$D$6+'Door Style'!$G$6+Species!$C$6+'Custom Finish'!$C$6)","v":{"$error":"#VALUE!"}},null,"Black","Dark Gray",null,"1","Wall Cabinet - 42\" Wall"]
["W22.5-SHELF","Wall Shelf For 25.5\"",{"v":24,"d":"$24.00"},2,null,{"$f":"C647*'Order Form'!$S$18","v":0},{"$f":"C647*'Order Form'!$S$18","v":0},null,"14-","14-","",null,0,{"$f":"J647&A647&K647","v":"14-W22.5-SHELF"},{"$nulls":3},{"$f":"Q647&K647","v":""},null,{"$f":"N647","v":"14-W22.5-SHELF"},1,{"$nulls":4},{"$f":"C647*$G$1*1*(Color!$D$6+'Door Style'!$G$6+Species!$C$6+'Custom Finish'!$C$6)","v":{"$error":"#VALUE!"}},null,"Purple","Purple",null,null,"Shelf - Wall"]
["W2412","Wall 24\" x 12\"",{"v":217,"d":"$217.00"},3,null,null,{"$f":"C648*$G$1*'Order Form'!$S$18*(Color!$D$6+'Door Style'!$G$6+Species!$C$6+'Custom Finish'!$C$6)","v":{"$error":"#VALUE!"}},null,"SC/PC","01-",{"$f":"CONCAT!$D$8","v":""},null,1,{"$f":"J648&A648&K648","v":"01-W2412"},"11-W2412",1,"12-W2412",{"$f":"Q648&K648","v":"12-W2412"},1,{"$nulls":6},{"$f":"C648*$G$1*1*(Color!$D$6+'Door Style'!$G$6+Species!$C$6+'Custom Finish'!$C$6)","v":{"$error":"#VALUE!"}},null,"Black","Dark Gray",null,"1","Wall Cabinet - 12\" Wall"]
["W2415","Wall 24\" x 15\"",{"v":232,"d":"$232.00"},3,null,null,{"$f":"C649*$G$1*'Order Form'!$S$18*(Color!$D$6+'Door Style'!$G$6+Species!$C$6+'Custom Finish'!$C$6)","v":{"$error":"#VALUE!"}},null,"SC/PC","01-",{"$f":"CONCAT!$D$8","v":""},null,1,{"$f":"J649&A649&K649","v":"01-W2415"},"11-W2415",1,"12-W2415",{"$f":"Q649&K649","v":"12-W2415"},1,{"$nulls":6},{"$f":"C649*$G$1*1*(Color!$D$6+'Door Style'!$G$6+Species!$C$6+'Custom Finish'!$C$6)","v":{"$error":"#VALUE!"}},null,"Black","Dark Gray",null,"1","Wall Cabinet - 15\" Wall"]
["W2418","Wall 24\" x 18\"",{"v":247,"d":"$247.00"},3,null,null,{"$f":"C650*$G$1*'Order Form'!$S$18*(Color!$D$6+'Door Style'!$G$6+Species!$C$6+'Custom Finish'!$C$6)","v":{"$error":"#VALUE!"}},null,"SC/PC","01-",{"$f":"CONCAT!$D$8","v":""},null,1,{"$f":"J650&A650&K650","v":"01-W2418"},"11-W2418",1,"12-W2418",{"$f":"Q650&K650","v":"12-W2418"},1,{"$nulls":6},{"$f":"C650*$G$1*1*(Color!$D$6+'Door Style'!$G$6+Species!$C$6+'Custom Finish'!$C$6)","v":{"$error":"#VALUE!"}},null,"Black","Dark Gray",null,"1","Wall Cabinet - 18\" Wall"]
["W2421","Wall 24\" x 21\"",{"v":263,"d":"$263.00"},3,null,null,{"$f":"C651*$G$1*'Order Form'!$S$18*(Color!$D$6+'Door Style'!$G$6+Species!$C$6+'Custom Finish'!$C$6)","v":{"$error":"#VALUE!"}},null,"PROJECT","01-",{"$f":"CONCAT!$D$2","v":""},null,1,{"$f":"J651&A651&K651","v":"01-W2421"},"11-W2421",1,"12-W2421",{"$f":"Q651&K651","v":"12-W2421"},1,{"$nulls":5},{"$f":"C651*1","v":{"v":263,"d":"$263.00"}},{"$f":"C651*1","v":{"v":263,"d":"$263.00"}},null,"Black","Dark Gray",null,"1","Wall Cabinet - 21\" Wall"]
["W2424","Wall 24\" x 24\"",{"v":278,"d":"$278.00"},3,null,null,{"$f":"C652*$G$1*'Order Form'!$S$18*(Color!$D$6+'Door Style'!$G$6+Species!$C$6+'Custom Finish'!$C$6)","v":{"$error":"#VALUE!"}},null,"SC/PC","01-",{"$f":"CONCAT!$D$8","v":""},null,1,{"$f":"J652&A652&K652","v":"01-W2424"},"11-W2424",1,"12-W2424",{"$f":"Q652&K652","v":"12-W2424"},1,{"$nulls":6},{"$f":"C652*$G$1*1*(Color!$D$6+'Door Style'!$G$6+Species!$C$6+'Custom Finish'!$C$6)","v":{"$error":"#VALUE!"}},null,"Black","Dark Gray",null,"1","Wall Cabinet - 24\" Wall"]
["W2427","Wall 24\" x 27\"",{"v":293,"d":"$293.00"},3,null,null,{"$f":"C653*$G$1*'Order Form'!$S$18*(Color!$D$6+'Door Style'!$G$6+Species!$C$6+'Custom Finish'!$C$6)","v":{"$error":"#VALUE!"}},null,"SC/PC","01-",{"$f":"CONCAT!$D$8","v":""},null,1,{"$f":"J653&A653&K653","v":"01-W2427"},"11-W2427",1,"12-W2427",{"$f":"Q653&K653","v":"12-W2427"},1,{"$nulls":6},{"$f":"C653*$G$1*1*(Color!$D$6+'Door Style'!$G$6+Species!$C$6+'Custom Finish'!$C$6)","v":{"$error":"#VALUE!"}},null,"Black","Dark Gray",null,"1","Wall Cabinet - 27\" Wall"]
["W2430","Wall 24\" x 30\"",{"v":306,"d":"$306.00"},2,"PB",{"$f":"C654*'Order Form'!$S$18*(Color!$C$6+'Door Style'!$H$6)","v":{"$error":"#VALUE!"}},{"$f":"C654*$G$1*'Order Form'!$S$18*(Color!$D$6+'Door Style'!$G$6+Species!$C$6+'Custom Finish'!$C$6)","v":{"$error":"#VALUE!"}},null,"01-","01-",{"$f":"CONCAT!$D$2","v":""},null,1,{"$f":"J654&A654&K654","v":"01-W2430"},"11-W2430",1,"12-W2430",{"$f":"Q654&K654","v":"12-W2430"},1,{"$nulls":6},{"$f":"C654*$G$1*1*(Color!$D$6+'Door Style'!$G$6+Species!$C$6+'Custom Finish'!$C$6)","v":{"$error":"#VALUE!"}},null,"Light Blue","Dark Gray",null,"1","Wall Cabinet - 30\" Wall"]
["W2436","Wall 24\" x 36\"",{"v":358,"d":"$358.00"},2,null,{"$f":"C655*'Order Form'!$S$18*(Color!$C$6+'Door Style'!$H$6)","v":{"$error":"#VALUE!"}},{"$f":"C655*$G$1*'Order Form'!$S$18*(Color!$D$6+'Door Style'!$G$6+Species!$C$6+'Custom Finish'!$C$6)","v":{"$error":"#VALUE!"}},null,"01-","01-",{"$f":"CONCAT!$D$2","v":""},null,1,{"$f":"J655&A655&K655","v":"01-W2436"},"11-W2436",1,"12-W2436",{"$f":"Q655&K655","v":"12-W2436"},1,{"$nulls":6},{"$f":"C655*$G$1*1*(Color!$D$6+'Door Style'!$G$6+Species!$C$6+'Custom Finish'!$C$6)","v":{"$error":"#VALUE!"}},null,"Light Blue","Dark Gray",null,"1","Wall Cabinet - 36\" Wall"]
["W2442","Wall 24\" x 42\"",{"v":423,"d":"$423.00"},2,null,{"$f":"C656*'Order Form'!$S$18*(Color!$C$6+'Door Style'!$H$6)","v":{"$error":"#VALUE!"}},{"$f":"C656*$G$1*'Order Form'!$S$18*(Color!$D$6+'Door Style'!$G$6+Species!$C$6+'Custom Finish'!$C$6)","v":{"$error":"#VALUE!"}},null,"01-","01-",{"$f":"CONCAT!$D$2","v":""},null,1,{"$f":"J656&A656&K656","v":"01-W2442"},"11-W2442",1,"12-W2442",{"$f":"Q656&K656","v":"12-W2442"},1,{"$nulls":6},{"$f":"C656*$G$1*1*(Color!$D$6+'Door Style'!$G$6+Species!$C$6+'Custom Finish'!$C$6)","v":{"$error":"#VALUE!"}},null,"Light Blue","Dark Gray",null,"1","Wall Cabinet - 42\" Wall"]
["W24-SHELF","Wall Shelf For 24\"",{"v":25,"d":"$25.00"},2,null,{"$f":"C657*'Order Form'!$S$18","v":0},{"$f":"C657*'Order Form'!$S$18","v":0},null,"14-","14-","",null,0,{"$f":"J657&A657&K657","v":"14-W24-SHELF"},{"$nulls":3},{"$f":"Q657&K657","v":""},null,{"$f":"N657","v":"14-W24-SHELF"},1,{"$nulls":4},{"$f":"C657*$G$1*1*(Color!$D$6+'Door Style'!$G$6+Species!$C$6+'Custom Finish'!$C$6)","v":{"$error":"#VALUE!"}},null,"Purple","Purple",null,null,"Shelf - Wall"]
["W25.512","Wall 25.5\" x 12\"",{"v":254,"d":"$254.00"},3,null,null,{"$f":"C658*$G$1*'Order Form'!$S$18*(Color!$D$6+'Door Style'!$G$6+Species!$C$6+'Custom Finish'!$C$6)","v":{"$error":"#VALUE!"}},null,"SC/PC","01-",{"$f":"CONCAT!$D$8","v":""},null,1,{"$f":"J658&A658&K658","v":"01-W25.512"},"11-W25.512",1,"12-W25.512",{"$f":"Q658&K658","v":"12-W25.512"},1,{"$nulls":5},{"$f":"C658*1*(Color!$C$6+'Door Style'!$H$6)","v":{"$error":"#VALUE!"}},{"$f":"C658*$G$1*1*(Color!$D$6+'Door Style'!$G$6+Species!$C$6+'Custom Finish'!$C$6)","v":{"$error":"#VALUE!"}},null,"Black","Dark Gray",null,"1","Wall Cabinet - 12\" Wall"]
["W25.515","Wall 25.5\" x 15\"",{"v":270,"d":"$270.00"},3,null,null,{"$f":"C659*$G$1*'Order Form'!$S$18*(Color!$D$6+'Door Style'!$G$6+Species!$C$6+'Custom Finish'!$C$6)","v":{"$error":"#VALUE!"}},null,"SC/PC","01-",{"$f":"CONCAT!$D$8","v":""},null,1,{"$f":"J659&A659&K659","v":"01-W25.515"},"11-W25.515",1,"12-W25.515",{"$f":"Q659&K659","v":"12-W25.515"},1,{"$nulls":5},{"$f":"C659*1*(Color!$C$6+'Door Style'!$H$6)","v":{"$error":"#VALUE!"}},{"$f":"C659*$G$1*1*(Color!$D$6+'Door Style'!$G$6+Species!$C$6+'Custom Finish'!$C$6)","v":{"$error":"#VALUE!"}},null,"Black","Dark Gray",null,"1","Wall Cabinet - 15\" Wall"]
["W25.518","Wall 25.5\" x 18\"",{"v":285,"d":"$285.00"},3,null,null,{"$f":"C660*$G$1*'Order Form'!$S$18*(Color!$D$6+'Door Style'!$G$6+Species!$C$6+'Custom Finish'!$C$6)","v":{"$error":"#VALUE!"}},null,"SC/PC","01-",{"$f":"CONCAT!$D$8","v":""},null,1,{"$f":"J660&A660&K660","v":"01-W25.518"},"11-W25.518",1,"12-W25.518",{"$f":"Q660&K660","v":"12-W25.518"},1,{"$nulls":5},{"$f":"C660*1*(Color!$C$6+'Door Style'!$H$6)","v":{"$error":"#VALUE!"}},{"$f":"C660*$G$1*1*(Color!$D$6+'Door Style'!$G$6+Species!$C$6+'Custom Finish'!$C$6)","v":{"$error":"#VALUE!"}},null,"Black","Dark Gray",null,"1","Wall Cabinet - 18\" Wall"]
["W25.521","Wall 25.5\" x 21\"",{"v":300,"d":"$300.00"},3,null,null,{"$f":"C661*$G$1*'Order Form'!$S$18*(Color!$D$6+'Door Style'!$G$6+Species!$C$6+'Custom Finish'!$C$6)","v":{"$error":"#VALUE!"}},null,"SC/PC","01-",{"$f":"CONCAT!$D$8","v":""},null,1,{"$f":"J661&A661&K661","v":"01-W25.521"},"11-W25.521",1,"12-W25.521",{"$f":"Q661&K661","v":"12-W25.521"},1,{"$nulls":5},{"$f":"C661*1","v":{"v":300,"d":"$300.00"}},{"$f":"C661*1","v":{"v":300,"d":"$300.00"}},null,"Black","Dark Gray",null,"1","Wall Cabinet - 21\" Wall"]
["W25.524","Wall 25.5\" x 24\"",{"v":316,"d":"$316.00"},3,null,null,{"$f":"C662*$G$1*'Order Form'!$S$18*(Color!$D$6+'Door Style'!$G$6+Species!$C$6+'Custom Finish'!$C$6)","v":{"$error":"#VALUE!"}},null,"SC/PC","01-",{"$f":"CONCAT!$D$8","v":""},null,1,{"$f":"J662&A662&K662","v":"01-W25.524"},"11-W25.524",1,"12-W25.524",{"$f":"Q662&K662","v":"12-W25.524"},1,{"$nulls":5},{"$f":"C662*1*(Color!$C$6+'Door Style'!$H$6)","v":{"$error":"#VALUE!"}},{"$f":"C662*$G$1*1*(Color!$D$6+'Door Style'!$G$6+Species!$C$6+'Custom Finish'!$C$6)","v":{"$error":"#VALUE!"}},null,"Black","Dark Gray",null,"1","Wall Cabinet - 24\" Wall"]
["W25.527","Wall 25.5\" x 27\"",{"v":331,"d":"$331.00"},3,null,null,{"$f":"C663*$G$1*'Order Form'!$S$18*(Color!$D$6+'Door Style'!$G$6+Species!$C$6+'Custom Finish'!$C$6)","v":{"$error":"#VALUE!"}},null,"SC/PC","01-",{"$f":"CONCAT!$D$8","v":""},null,1,{"$f":"J663&A663&K663","v":"01-W25.527"},"11-W25.527",1,"12-W25.527",{"$f":"Q663&K663","v":"12-W25.527"},1,{"$nulls":5},{"$f":"C663*1*(Color!$C$6+'Door Style'!$H$6)","v":{"$error":"#VALUE!"}},{"$f":"C663*$G$1*1*(Color!$D$6+'Door Style'!$G$6+Species!$C$6+'Custom Finish'!$C$6)","v":{"$error":"#VALUE!"}},null,"Black","Dark Gray",null,"1","Wall Cabinet - 27\" Wall"]
["W25.530","Wall 25.5\" x 30\"",{"v":347,"d":"$347.00"},3,null,null,{"$f":"C664*$G$1*'Order Form'!$S$18*(Color!$D$6+'Door Style'!$G$6+Species!$C$6+'Custom Finish'!$C$6)","v":{"$error":"#VALUE!"}},null,"SC/PC","01-",{"$f":"CONCAT!$D$8","v":""},null,1,{"$f":"J664&A664&K664","v":"01-W25.530"},"11-W25.530",1,"12-W25.530",{"$f":"Q664&K664","v":"12-W25.530"},1,{"$nulls":5},{"$f":"C664*1*(Color!$C$6+'Door Style'!$H$6)","v":{"$error":"#VALUE!"}},{"$f":"C664*$G$1*1*(Color!$D$6+'Door Style'!$G$6+Species!$C$6+'Custom Finish'!$C$6)","v":{"$error":"#VALUE!"}},null,"Black","Dark Gray",null,"1","Wall Cabinet - 30\" Wall"]
["W25.536","Wall 25.5\" x 36\"",{"v":390,"d":"$390.00"},3,null,null,{"$f":"C665*$G$1*'Order Form'!$S$18*(Color!$D$6+'Door Style'!$G$6+Species!$C$6+'Custom Finish'!$C$6)","v":{"$error":"#VALUE!"}},null,"SC/PC","01-",{"$f":"CONCAT!$D$8","v":""},null,1,{"$f":"J665&A665&K665","v":"01-W25.536"},"11-W25.536",1,"12-W25.536",{"$f":"Q665&K665","v":"12-W25.536"},1,{"$nulls":5},{"$f":"C665*1*(Color!$C$6+'Door Style'!$H$6)","v":{"$error":"#VALUE!"}},{"$f":"C665*$G$1*1*(Color!$D$6+'Door Style'!$G$6+Species!$C$6+'Custom Finish'!$C$6)","v":{"$error":"#VALUE!"}},null,"Black","Dark Gray",null,"1","Wall Cabinet - 36\" Wall"]
["W25.542","Wall 25.5\" x 42\"",{"v":461,"d":"$461.00"},3,null,null,{"$f":"C666*$G$1*'Order Form'!$S$18*(Color!$D$6+'Door Style'!$G$6+Species!$C$6+'Custom Finish'!$C$6)","v":{"$error":"#VALUE!"}},null,"SC/PC","01-",{"$f":"CONCAT!$D$8","v":""},null,1,{"$f":"J666&A666&K666","v":"01-W25.542"},"11-W25.542",1,"12-W25.542",{"$f":"Q666&K666","v":"12-W25.542"},1,{"$nulls":5},{"$f":"C666*1*(Color!$C$6+'Door Style'!$H$6)","v":{"$error":"#VALUE!"}},{"$f":"C666*$G$1*1*(Color!$D$6+'Door Style'!$G$6+Species!$C$6+'Custom Finish'!$C$6)","v":{"$error":"#VALUE!"}},null,"Black","Dark Gray",null,"1","Wall Cabinet - 42\" Wall"]
["W25.5-SHELF","Wall Shelf For 25.5\"",{"v":27,"d":"$27.00"},2,null,{"$f":"C667*'Order Form'!$S$18","v":0},{"$f":"C667*'Order Form'!$S$18","v":0},null,"14-","14-","",null,0,{"$f":"J667&A667&K667","v":"14-W25.5-SHELF"},{"$nulls":3},{"$f":"Q667&K667","v":""},null,{"$f":"N667","v":"14-W25.5-SHELF"},1,{"$nulls":3},{"$f":"C667*1*(Color!$C$6+'Door Style'!$H$6)","v":{"$error":"#VALUE!"}},{"$f":"C667*$G$1*1*(Color!$D$6+'Door Style'!$G$6+Species!$C$6+'Custom Finish'!$C$6)","v":{"$error":"#VALUE!"}},null,"Purple","Purple",null,null,"Shelf - Wall"]
["W2712","Wall 27\" x 12\"",{"v":254,"d":"$254.00"},3,null,null,{"$f":"C668*$G$1*'Order Form'!$S$18*(Color!$D$6+'Door Style'!$G$6+Species!$C$6+'Custom Finish'!$C$6)","v":{"$error":"#VALUE!"}},null,"SC/PC","01-",{"$f":"CONCAT!$D$8","v":""},null,1,{"$f":"J668&A668&K668","v":"01-W2712"},"11-W2712",1,"12-W2712",{"$f":"Q668&K668","v":"12-W2712"},1,{"$nulls":5},{"$f":"C668*1*(Color!$C$6+'Door Style'!$H$6)","v":{"$error":"#VALUE!"}},{"$f":"C668*$G$1*1*(Color!$D$6+'Door Style'!$G$6+Species!$C$6+'Custom Finish'!$C$6)","v":{"$error":"#VALUE!"}},null,"Black","Dark Gray",null,"1","Wall Cabinet - 12\" Wall"]
["W2715","Wall 27\" x 15\"",{"v":270,"d":"$270.00"},3,null,null,{"$f":"C669*$G$1*'Order Form'!$S$18*(Color!$D$6+'Door Style'!$G$6+Species!$C$6+'Custom Finish'!$C$6)","v":{"$error":"#VALUE!"}},null,"SC/PC","01-",{"$f":"CONCAT!$D$8","v":""},null,1,{"$f":"J669&A669&K669","v":"01-W2715"},"11-W2715",1,"12-W2715",{"$f":"Q669&K669","v":"12-W2715"},1,{"$nulls":5},{"$f":"C669*1*(Color!$C$6+'Door Style'!$H$6)","v":{"$error":"#VALUE!"}},{"$f":"C669*$G$1*1*(Color!$D$6+'Door Style'!$G$6+Species!$C$6+'Custom Finish'!$C$6)","v":{"$error":"#VALUE!"}},null,"Black","Dark Gray",null,"1","Wall Cabinet - 15\" Wall"]
["W2718","Wall 27\" x 18\"",{"v":285,"d":"$285.00"},3,null,null,{"$f":"C670*$G$1*'Order Form'!$S$18*(Color!$D$6+'Door Style'!$G$6+Species!$C$6+'Custom Finish'!$C$6)","v":{"$error":"#VALUE!"}},null,"SC/PC","01-",{"$f":"CONCAT!$D$8","v":""},null,1,{"$f":"J670&A670&K670","v":"01-W2718"},"11-W2718",1,"12-W2718",{"$f":"Q670&K670","v":"12-W2718"},1,{"$nulls":5},{"$f":"C670*1*(Color!$C$6+'Door Style'!$H$6)","v":{"$error":"#VALUE!"}},{"$f":"C670*$G$1*1*(Color!$D$6+'Door Style'!$G$6+Species!$C$6+'Custom Finish'!$C$6)","v":{"$error":"#VALUE!"}},null,"Black","Dark Gray",null,"1","Wall Cabinet - 18\" Wall"]
["W2721","Wall 27\" x 21\"",{"v":300,"d":"$300.00"},3,null,null,{"$f":"C671*$G$1*'Order Form'!$S$18*(Color!$D$6+'Door Style'!$G$6+Species!$C$6+'Custom Finish'!$C$6)","v":{"$error":"#VALUE!"}},null,"SC/PC","01-",{"$f":"CONCAT!$D$8","v":""},null,1,{"$f":"J671&A671&K671","v":"01-W2721"},"11-W2721",1,"12-W2721",{"$f":"Q671&K671","v":"12-W2721"},1,{"$nulls":5},{"$f":"C671*1","v":{"v":300,"d":"$300.00"}},{"$f":"C671*1","v":{"v":300,"d":"$300.00"}},null,"Black","Dark Gray",null,"1","Wall Cabinet - 21\" Wall"]
["W2724","Wall 27\" x 24\"",{"v":316,"d":"$316.00"},3,null,null,{"$f":"C672*$G$1*'Order Form'!$S$18*(Color!$D$6+'Door Style'!$G$6+Species!$C$6+'Custom Finish'!$C$6)","v":{"$error":"#VALUE!"}},null,"SC/PC","01-",{"$f":"CONCAT!$D$8","v":""},null,1,{"$f":"J672&A672&K672","v":"01-W2724"},"11-W2724",1,"12-W2724",{"$f":"Q672&K672","v":"12-W2724"},1,{"$nulls":5},{"$f":"C672*1*(Color!$C$6+'Door Style'!$H$6)","v":{"$error":"#VALUE!"}},{"$f":"C672*$G$1*1*(Color!$D$6+'Door Style'!$G$6+Species!$C$6+'Custom Finish'!$C$6)","v":{"$error":"#VALUE!"}},null,"Black","Dark Gray",null,"1","Wall Cabinet - 24\" Wall"]
["W2727","Wall 27\" x 27\"",{"v":331,"d":"$331.00"},3,null,null,{"$f":"C673*$G$1*'Order Form'!$S$18*(Color!$D$6+'Door Style'!$G$6+Species!$C$6+'Custom Finish'!$C$6)","v":{"$error":"#VALUE!"}},null,"SC/PC","01-",{"$f":"CONCAT!$D$8","v":""},null,1,{"$f":"J673&A673&K673","v":"01-W2727"},"11-W2727",1,"12-W2727",{"$f":"Q673&K673","v":"12-W2727"},1,{"$nulls":5},{"$f":"C673*1*(Color!$C$6+'Door Style'!$H$6)","v":{"$error":"#VALUE!"}},{"$f":"C673*$G$1*1*(Color!$D$6+'Door Style'!$G$6+Species!$C$6+'Custom Finish'!$C$6)","v":{"$error":"#VALUE!"}},null,"Black","Dark Gray",null,"1","Wall Cabinet - 27\" Wall"]
["W2730","Wall 27\" x 30\"",{"v":344,"d":"$344.00"},2,"PB",{"$f":"C674*'Order Form'!$S$18*(Color!$C$6+'Door Style'!$H$6)","v":{"$error":"#VALUE!"}},{"$f":"C674*$G$1*'Order Form'!$S$18*(Color!$D$6+'Door Style'!$G$6+Species!$C$6+'Custom Finish'!$C$6)","v":{"$error":"#VALUE!"}},null,"01-","01-",{"$f":"CONCAT!$D$2","v":""},null,1,{"$f":"J674&A674&K674","v":"01-W2730"},"11-W2730",1,"12-W2730",{"$f":"Q674&K674","v":"12-W2730"},1,{"$nulls":5},{"$f":"C674*1*(Color!$C$6+'Door Style'!$H$6)","v":{"$error":"#VALUE!"}},{"$f":"C674*$G$1*1*(Color!$D$6+'Door Style'!$G$6+Species!$C$6+'Custom Finish'!$C$6)","v":{"$error":"#VALUE!"}},null,"Light Blue","Dark Gray",null,"1","Wall Cabinet - 30\" Wall"]
["W2736","Wall 27\" x 36\"",{"v":389,"d":"$389.00"},2,null,{"$f":"C675*'Order Form'!$S$18*(Color!$C$6+'Door Style'!$H$6)","v":{"$error":"#VALUE!"}},{"$f":"C675*$G$1*'Order Form'!$S$18*(Color!$D$6+'Door Style'!$G$6+Species!$C$6+'Custom Finish'!$C$6)","v":{"$error":"#VALUE!"}},null,"01-","01-",{"$f":"CONCAT!$D$2","v":""},null,1,{"$f":"J675&A675&K675","v":"01-W2736"},"11-W2736",1,"12-W2736",{"$f":"Q675&K675","v":"12-W2736"},1,{"$nulls":6},{"$f":"C675*$G$1*1*(Color!$D$6+'Door Style'!$G$6+Species!$C$6+'Custom Finish'!$C$6)","v":{"$error":"#VALUE!"}},null,"Light Blue","Dark Gray",null,"1","Wall Cabinet - 36\" Wall"]
["W2742","Wall 27\" x 42\"",{"v":459,"d":"$459.00"},2,null,{"$f":"C676*'Order Form'!$S$18*(Color!$C$6+'Door Style'!$H$6)","v":{"$error":"#VALUE!"}},{"$f":"C676*$G$1*'Order Form'!$S$18*(Color!$D$6+'Door Style'!$G$6+Species!$C$6+'Custom Finish'!$C$6)","v":{"$error":"#VALUE!"}},null,"01-","01-",{"$f":"CONCAT!$D$2","v":""},null,1,{"$f":"J676&A676&K676","v":"01-W2742"},"11-W2742",1,"12-W2742",{"$f":"Q676&K676","v":"12-W2742"},1,{"$nulls":6},{"$f":"C676*$G$1*1*(Color!$D$6+'Door Style'!$G$6+Species!$C$6+'Custom Finish'!$C$6)","v":{"$error":"#VALUE!"}},null,"Light Blue","Dark Gray",null,"1","Wall Cabinet - 42\" Wall"]
["W27-SHELF","Wall Shelf For 27\"",{"v":29,"d":"$29.00"},2,null,{"$f":"C677*'Order Form'!$S$18","v":0},{"$f":"C677*'Order Form'!$S$18","v":0},null,"14-","14-","",null,0,{"$f":"J677&A677&K677","v":"14-W27-SHELF"},{"$nulls":3},{"$f":"Q677&K677","v":""},null,{"$f":"N677","v":"14-W27-SHELF"},1,{"$nulls":4},{"$f":"C677*$G$1*1*(Color!$D$6+'Door Style'!$G$6+Species!$C$6+'Custom Finish'!$C$6)","v":{"$error":"#VALUE!"}},null,"Purple","Purple",null,null,"Shelf - Wall"]
["W3012","Wall 30\" x 12\"",{"v":180,"d":"$180.00"},2,"PB",{"$f":"C678*'Order Form'!$S$18*(Color!$C$6+'Door Style'!$H$6)","v":{"$error":"#VALUE!"}},{"$f":"C678*$G$1*'Order Form'!$S$18*(Color!$D$6+'Door Style'!$G$6+Species!$C$6+'Custom Finish'!$C$6)","v":{"$error":"#VALUE!"}},null,"01-","01-",{"$f":"CONCAT!$D$2","v":""},null,1,{"$f":"J678&A678&K678","v":"01-W3012"},"11-W3012",1,"12-W3012",{"$f":"Q678&K678","v":"12-W3012"},1,{"$nulls":5},{"$f":"C678*1*(Color!$C$6+'Door Style'!$H$6)","v":{"$error":"#VALUE!"}},{"$f":"C678*$G$1*1*(Color!$D$6+'Door Style'!$G$6+Species!$C$6+'Custom Finish'!$C$6)","v":{"$error":"#VALUE!"}},null,"Light Blue","Dark Gray",null,"1","Wall Cabinet - 12\" Wall"]
["W3015","Wall 30\" x 15\"",{"v":207,"d":"$207.00"},2,"PB",{"$f":"C679*'Order Form'!$S$18*(Color!$C$6+'Door Style'!$H$6)","v":{"$error":"#VALUE!"}},{"$f":"C679*$G$1*'Order Form'!$S$18*(Color!$D$6+'Door Style'!$G$6+Species!$C$6+'Custom Finish'!$C$6)","v":{"$error":"#VALUE!"}},null,"01-","01-",{"$f":"CONCAT!$D$2","v":""},null,1,{"$f":"J679&A679&K679","v":"01-W3015"},"11-W3015",1,"12-W3015",{"$f":"Q679&K679","v":"12-W3015"},1,{"$nulls":5},{"$f":"C679*1*(Color!$C$6+'Door Style'!$H$6)","v":{"$error":"#VALUE!"}},{"$f":"C679*$G$1*1*(Color!$D$6+'Door Style'!$G$6+Species!$C$6+'Custom Finish'!$C$6)","v":{"$error":"#VALUE!"}},null,"Light Blue","Dark Gray",null,"1","Wall Cabinet - 15\" Wall"]
["W3018","Wall 30\" x 18\"",{"v":233,"d":"$233.00"},2,"PB",{"$f":"C680*'Order Form'!$S$18*(Color!$C$6+'Door Style'!$H$6)","v":{"$error":"#VALUE!"}},{"$f":"C680*$G$1*'Order Form'!$S$18*(Color!$D$6+'Door Style'!$G$6+Species!$C$6+'Custom Finish'!$C$6)","v":{"$error":"#VALUE!"}},null,"01-","01-",{"$f":"CONCAT!$D$2","v":""},null,1,{"$f":"J680&A680&K680","v":"01-W3018"},"11-W3018",1,"12-W3018",{"$f":"Q680&K680","v":"12-W3018"},1,{"$nulls":5},{"$f":"C680*1*(Color!$C$6+'Door Style'!$H$6)","v":{"$error":"#VALUE!"}},{"$f":"C680*$G$1*1*(Color!$D$6+'Door Style'!$G$6+Species!$C$6+'Custom Finish'!$C$6)","v":{"$error":"#VALUE!"}},null,"Light Blue","Dark Gray",null,"1","Wall Cabinet - 18\" Wall"]
["W3021","Wall 30\" x 21\"",{"v":280,"d":"$280.00"},2,null,{"$f":"C681*'Order Form'!$S$18*(Color!$C$6+'Door Style'!$H$6)","v":{"$error":"#VALUE!"}},{"$f":"C681*$G$1*'Order Form'!$S$18*(Color!$D$6+'Door Style'!$G$6+Species!$C$6+'Custom Finish'!$C$6)","v":{"$error":"#VALUE!"}},null,"01-","01-",{"$f":"CONCAT!$D$2","v":""},null,1,{"$f":"J681&A681&K681","v":"01-W3021"},"11-W3021",1,"12-W3021",{"$f":"Q681&K681","v":"12-W3021"},1,{"$nulls":5},{"$f":"C681*1","v":{"v":280,"d":"$280.00"}},{"$f":"C681*1","v":{"v":280,"d":"$280.00"}},null,"Light Blue","Dark Gray",null,"1","Wall Cabinet - 21\" Wall"]
["W3024","Wall 30\" x 24\"",{"v":305,"d":"$305.00"},2,"PB",{"$f":"C682*'Order Form'!$S$18*(Color!$C$6+'Door Style'!$H$6)","v":{"$error":"#VALUE!"}},{"$f":"C682*$G$1*'Order Form'!$S$18*(Color!$D$6+'Door Style'!$G$6+Species!$C$6+'Custom Finish'!$C$6)","v":{"$error":"#VALUE!"}},null,"01-","01-",{"$f":"CONCAT!$D$2","v":""},null,1,{"$f":"J682&A682&K682","v":"01-W3024"},"11-W3024",1,"12-W3024",{"$f":"Q682&K682","v":"12-W3024"},1,{"$nulls":5},{"$f":"C682*1*(Color!$C$6+'Door Style'!$H$6)","v":{"$error":"#VALUE!"}},{"$f":"C682*$G$1*1*(Color!$D$6+'Door Style'!$G$6+Species!$C$6+'Custom Finish'!$C$6)","v":{"$error":"#VALUE!"}},null,"Light Blue","Dark Gray",null,"1","Wall Cabinet - 24\" Wall"]
["W3027","Wall 30\" x 27\"",{"v":346,"d":"$346.00"},2,null,{"$f":"C683*'Order Form'!$S$18*(Color!$C$6+'Door Style'!$H$6)","v":{"$error":"#VALUE!"}},{"$f":"C683*$G$1*'Order Form'!$S$18*(Color!$D$6+'Door Style'!$G$6+Species!$C$6+'Custom Finish'!$C$6)","v":{"$error":"#VALUE!"}},null,"01-","01-",{"$f":"CONCAT!$D$2","v":""},null,1,{"$f":"J683&A683&K683","v":"01-W3027"},"11-W3027",1,"12-W3027",{"$f":"Q683&K683","v":"12-W3027"},1,{"$nulls":5},{"$f":"C683*1*(Color!$C$6+'Door Style'!$H$6)","v":{"$error":"#VALUE!"}},{"$f":"C683*$G$1*1*(Color!$D$6+'Door Style'!$G$6+Species!$C$6+'Custom Finish'!$C$6)","v":{"$error":"#VALUE!"}},null,"Light Blue","Dark Gray",null,"1","Wall Cabinet - 27\" Wall"]
["W3030","Wall 30\" x 30\"",{"v":372,"d":"$372.00"},2,"PB",{"$f":"C684*'Order Form'!$S$18*(Color!$C$6+'Door Style'!$H$6)","v":{"$error":"#VALUE!"}},{"$f":"C684*$G$1*'Order Form'!$S$18*(Color!$D$6+'Door Style'!$G$6+Species!$C$6+'Custom Finish'!$C$6)","v":{"$error":"#VALUE!"}},null,"01-","01-",{"$f":"CONCAT!$D$2","v":""},null,1,{"$f":"J684&A684&K684","v":"01-W3030"},"11-W3030",1,"12-W3030",{"$f":"Q684&K684","v":"12-W3030"},1,{"$nulls":5},{"$f":"C684*1*(Color!$C$6+'Door Style'!$H$6)","v":{"$error":"#VALUE!"}},{"$f":"C684*$G$1*1*(Color!$D$6+'Door Style'!$G$6+Species!$C$6+'Custom Finish'!$C$6)","v":{"$error":"#VALUE!"}},null,"Light Blue","Dark Gray",null,"1","Wall Cabinet - 30\" Wall"]
["W3036","Wall 30\" x 36\"",{"v":422,"d":"$422.00"},2,null,{"$f":"C685*'Order Form'!$S$18*(Color!$C$6+'Door Style'!$H$6)","v":{"$error":"#VALUE!"}},{"$f":"C685*$G$1*'Order Form'!$S$18*(Color!$D$6+'Door Style'!$G$6+Species!$C$6+'Custom Finish'!$C$6)","v":{"$error":"#VALUE!"}},null,"01-","01-",{"$f":"CONCAT!$D$2","v":""},null,1,{"$f":"J685&A685&K685","v":"01-W3036"},"11-W3036",1,"12-W3036",{"$f":"Q685&K685","v":"12-W3036"},1,{"$nulls":5},{"$f":"C685*1*(Color!$C$6+'Door Style'!$H$6)","v":{"$error":"#VALUE!"}},{"$f":"C685*$G$1*1*(Color!$D$6+'Door Style'!$G$6+Species!$C$6+'Custom Finish'!$C$6)","v":{"$error":"#VALUE!"}},null,"Light Blue","Dark Gray",null,"1","Wall Cabinet - 36\" Wall"]
["W3042","Wall 30\" x 42\"",{"v":517,"d":"$517.00"},2,null,{"$f":"C686*'Order Form'!$S$18*(Color!$C$6+'Door Style'!$H$6)","v":{"$error":"#VALUE!"}},{"$f":"C686*$G$1*'Order Form'!$S$18*(Color!$D$6+'Door Style'!$G$6+Species!$C$6+'Custom Finish'!$C$6)","v":{"$error":"#VALUE!"}},null,"01-","01-",{"$f":"CONCAT!$D$2","v":""},null,1,{"$f":"J686&A686&K686","v":"01-W3042"},"11-W3042",1,"12-W3042",{"$f":"Q686&K686","v":"12-W3042"},1,{"$nulls":5},{"$f":"C686*1*(Color!$C$6+'Door Style'!$H$6)","v":{"$error":"#VALUE!"}},{"$f":"C686*$G$1*1*(Color!$D$6+'Door Style'!$G$6+Species!$C$6+'Custom Finish'!$C$6)","v":{"$error":"#VALUE!"}},null,"Light Blue","Dark Gray",null,"1","Wall Cabinet - 42\" Wall"]
["W30-SHELF","Wall Shelf For 30\"",{"v":32,"d":"$32.00"},2,null,{"$f":"C687*'Order Form'!$S$18","v":0},{"$f":"C687*'Order Form'!$S$18","v":0},null,"14-","14-","",null,0,{"$f":"J687&A687&K687","v":"14-W30-SHELF"},{"$nulls":3},{"$f":"Q687&K687","v":""},null,{"$f":"N687","v":"14-W30-SHELF"},1,{"$nulls":4},{"$f":"C687*$G$1*1*(Color!$D$6+'Door Style'!$G$6+Species!$C$6+'Custom Finish'!$C$6)","v":{"$error":"#VALUE!"}},null,"Purple","Purple",null,null,"Shelf - Wall"]
["W3312","Wall 33\" x 12\"",{"v":193,"d":"$193.00"},2,null,{"$f":"C688*'Order Form'!$S$18*(Color!$C$6+'Door Style'!$H$6)","v":{"$error":"#VALUE!"}},{"$f":"C688*$G$1*'Order Form'!$S$18*(Color!$D$6+'Door Style'!$G$6+Species!$C$6+'Custom Finish'!$C$6)","v":{"$error":"#VALUE!"}},null,"01-","01-",{"$f":"CONCAT!$D$2","v":""},null,1,{"$f":"J688&A688&K688","v":"01-W3312"},"11-W3312",1,"12-W3312",{"$f":"Q688&K688","v":"12-W3312"},1,{"$nulls":5},{"$f":"C688*1*(Color!$C$6+'Door Style'!$H$6)","v":{"$error":"#VALUE!"}},{"$f":"C688*$G$1*1*(Color!$D$6+'Door Style'!$G$6+Species!$C$6+'Custom Finish'!$C$6)","v":{"$error":"#VALUE!"}},null,"Light Blue","Dark Gray",null,"1","Wall Cabinet - 12\" Wall"]
["W3315","Wall 33\" x 15\"",{"v":227,"d":"$227.00"},2,"PB",{"$f":"C689*'Order Form'!$S$18*(Color!$C$6+'Door Style'!$H$6)","v":{"$error":"#VALUE!"}},{"$f":"C689*$G$1*'Order Form'!$S$18*(Color!$D$6+'Door Style'!$G$6+Species!$C$6+'Custom Finish'!$C$6)","v":{"$error":"#VALUE!"}},null,"01-","01-",{"$f":"CONCAT!$D$2","v":""},null,1,{"$f":"J689&A689&K689","v":"01-W3315"},"11-W3315",1,"12-W3315",{"$f":"Q689&K689","v":"12-W3315"},1,{"$nulls":5},{"$f":"C689*1*(Color!$C$6+'Door Style'!$H$6)","v":{"$error":"#VALUE!"}},{"$f":"C689*$G$1*1*(Color!$D$6+'Door Style'!$G$6+Species!$C$6+'Custom Finish'!$C$6)","v":{"$error":"#VALUE!"}},null,"Light Blue","Dark Gray",null,"1","Wall Cabinet - 15\" Wall"]
["W3318","Wall 33\" x 18\"",{"v":254,"d":"$254.00"},2,null,{"$f":"C690*'Order Form'!$S$18*(Color!$C$6+'Door Style'!$H$6)","v":{"$error":"#VALUE!"}},{"$f":"C690*$G$1*'Order Form'!$S$18*(Color!$D$6+'Door Style'!$G$6+Species!$C$6+'Custom Finish'!$C$6)","v":{"$error":"#VALUE!"}},null,"01-","01-",{"$f":"CONCAT!$D$2","v":""},null,1,{"$f":"J690&A690&K690","v":"01-W3318"},"11-W3318",1,"12-W3318",{"$f":"Q690&K690","v":"12-W3318"},1,{"$nulls":5},{"$f":"C690*1*(Color!$C$6+'Door Style'!$H$6)","v":{"$error":"#VALUE!"}},{"$f":"C690*$G$1*1*(Color!$D$6+'Door Style'!$G$6+Species!$C$6+'Custom Finish'!$C$6)","v":{"$error":"#VALUE!"}},null,"Light Blue","Dark Gray",null,"1","Wall Cabinet - 18\" Wall"]
["W3321","Wall 33\" x 21\" ",{"v":357,"d":"$357.00"},3,null,null,{"$f":"C691*$G$1*'Order Form'!$S$18*(Color!$D$6+'Door Style'!$G$6+Species!$C$6+'Custom Finish'!$C$6)","v":{"$error":"#VALUE!"}},null,"SC/PC","01-",{"$f":"CONCAT!$D$8","v":""},null,1,{"$f":"J691&A691&K691","v":"01-W3321"},"11-W3321",1,"12-W3321",{"$f":"Q691&K691","v":"12-W3321"},1,{"$nulls":5},{"$f":"C691*1","v":{"v":357,"d":"$357.00"}},{"$f":"C691*1","v":{"v":357,"d":"$357.00"}},null,"Black","Dark Gray",null,"1","Wall Cabinet - 21\" Wall"]
["W3324","Wall 33\" x 24\"",{"v":373,"d":"$373.00"},3,null,null,{"$f":"C692*$G$1*'Order Form'!$S$18*(Color!$D$6+'Door Style'!$G$6+Species!$C$6+'Custom Finish'!$C$6)","v":{"$error":"#VALUE!"}},null,"SC/PC","01-",{"$f":"CONCAT!$D$8","v":""},null,1,{"$f":"J692&A692&K692","v":"01-W3324"},"11-W3324",1,"12-W3324",{"$f":"Q692&K692","v":"12-W3324"},1,{"$nulls":5},{"$f":"C692*1*(Color!$C$6+'Door Style'!$H$6)","v":{"$error":"#VALUE!"}},{"$f":"C692*$G$1*1*(Color!$D$6+'Door Style'!$G$6+Species!$C$6+'Custom Finish'!$C$6)","v":{"$error":"#VALUE!"}},null,"Black","Dark Gray",null,"1","Wall Cabinet - 24\" Wall"]
["W3327","Wall 33\" x 27\"",{"v":388,"d":"$388.00"},3,null,null,{"$f":"C693*$G$1*'Order Form'!$S$18*(Color!$D$6+'Door Style'!$G$6+Species!$C$6+'Custom Finish'!$C$6)","v":{"$error":"#VALUE!"}},null,"SC/PC","01-",{"$f":"CONCAT!$D$8","v":""},null,1,{"$f":"J693&A693&K693","v":"01-W3327"},"11-W3327",1,"12-W3327",{"$f":"Q693&K693","v":"12-W3327"},1,{"$nulls":5},{"$f":"C693*1*(Color!$C$6+'Door Style'!$H$6)","v":{"$error":"#VALUE!"}},{"$f":"C693*$G$1*1*(Color!$D$6+'Door Style'!$G$6+Species!$C$6+'Custom Finish'!$C$6)","v":{"$error":"#VALUE!"}},null,"Black","Dark Gray",null,"1","Wall Cabinet - 27\" Wall"]
["W3330","Wall 33\" x 30\"",{"v":400,"d":"$400.00"},2,null,{"$f":"C694*'Order Form'!$S$18*(Color!$C$6+'Door Style'!$H$6)","v":{"$error":"#VALUE!"}},{"$f":"C694*$G$1*'Order Form'!$S$18*(Color!$D$6+'Door Style'!$G$6+Species!$C$6+'Custom Finish'!$C$6)","v":{"$error":"#VALUE!"}},null,"01-","01-",{"$f":"CONCAT!$D$2","v":""},null,1,{"$f":"J694&A694&K694","v":"01-W3330"},"11-W3330",1,"12-W3330",{"$f":"Q694&K694","v":"12-W3330"},1,{"$nulls":5},{"$f":"C694*1*(Color!$C$6+'Door Style'!$H$6)","v":{"$error":"#VALUE!"}},{"$f":"C694*$G$1*1*(Color!$D$6+'Door Style'!$G$6+Species!$C$6+'Custom Finish'!$C$6)","v":{"$error":"#VALUE!"}},null,"Light Blue","Dark Gray",null,"1","Wall Cabinet - 30\" Wall"]
["W3336","Wall 33\" x 36\"",{"v":453,"d":"$453.00"},2,null,{"$f":"C695*'Order Form'!$S$18*(Color!$C$6+'Door Style'!$H$6)","v":{"$error":"#VALUE!"}},{"$f":"C695*$G$1*'Order Form'!$S$18*(Color!$D$6+'Door Style'!$G$6+Species!$C$6+'Custom Finish'!$C$6)","v":{"$error":"#VALUE!"}},null,"01-","01-",{"$f":"CONCAT!$D$2","v":""},null,1,{"$f":"J695&A695&K695","v":"01-W3336"},"11-W3336",1,"12-W3336",{"$f":"Q695&K695","v":"12-W3336"},1,{"$nulls":5},{"$f":"C695*1*(Color!$C$6+'Door Style'!$H$6)","v":{"$error":"#VALUE!"}},{"$f":"C695*$G$1*1*(Color!$D$6+'Door Style'!$G$6+Species!$C$6+'Custom Finish'!$C$6)","v":{"$error":"#VALUE!"}},null,"Light Blue","Dark Gray",null,"1","Wall Cabinet - 36\" Wall"]
["W3342","Wall 33\" x 42\"",{"v":558,"d":"$558.00"},2,null,{"$f":"C696*'Order Form'!$S$18*(Color!$C$6+'Door Style'!$H$6)","v":{"$error":"#VALUE!"}},{"$f":"C696*$G$1*'Order Form'!$S$18*(Color!$D$6+'Door Style'!$G$6+Species!$C$6+'Custom Finish'!$C$6)","v":{"$error":"#VALUE!"}},null,"01-","01-",{"$f":"CONCAT!$D$2","v":""},null,1,{"$f":"J696&A696&K696","v":"01-W3342"},"11-W3342",1,"12-W3342",{"$f":"Q696&K696","v":"12-W3342"},1,{"$nulls":5},{"$f":"C696*1*(Color!$C$6+'Door Style'!$H$6)","v":{"$error":"#VALUE!"}},{"$f":"C696*$G$1*1*(Color!$D$6+'Door Style'!$G$6+Species!$C$6+'Custom Finish'!$C$6)","v":{"$error":"#VALUE!"}},null,"Light Blue","Dark Gray",null,"1","Wall Cabinet - 42\" Wall"]
["W33-SHELF","Wall Shelf For 33\"",{"v":35,"d":"$35.00"},2,null,{"$f":"C697*'Order Form'!$S$18","v":0},{"$f":"C697*'Order Form'!$S$18","v":0},null,"14-","14-","",null,0,{"$f":"J697&A697&K697","v":"14-W33-SHELF"},{"$nulls":3},{"$f":"Q697&K697","v":""},null,{"$f":"N697","v":"14-W33-SHELF"},1,{"$nulls":3},{"$f":"C697*1*(Color!$C$6+'Door Style'!$H$6)","v":{"$error":"#VALUE!"}},{"$f":"C697*$G$1*1*(Color!$D$6+'Door Style'!$G$6+Species!$C$6+'Custom Finish'!$C$6)","v":{"$error":"#VALUE!"}},null,"Purple","Purple",null,null,"Shelf - Wall"]
["W3612","Wall 36\" x 12\"",{"v":204,"d":"$204.00"},2,null,{"$f":"C698*'Order Form'!$S$18*(Color!$C$6+'Door Style'!$H$6)","v":{"$error":"#VALUE!"}},{"$f":"C698*$G$1*'Order Form'!$S$18*(Color!$D$6+'Door Style'!$G$6+Species!$C$6+'Custom Finish'!$C$6)","v":{"$error":"#VALUE!"}},null,"01-","01-",{"$f":"CONCAT!$D$2","v":""},null,1,{"$f":"J698&A698&K698","v":"01-W3612"},"11-W3612",1,"12-W3612",{"$f":"Q698&K698","v":"12-W3612"},1,{"$nulls":5},{"$f":"C698*1","v":{"v":204,"d":"$204.00"}},{"$f":"C698*1","v":{"v":204,"d":"$204.00"}},null,"Light Blue","Dark Gray",null,"1","Wall Cabinet - 12\" Wall"]
["W3615","Wall 36\" x 15\"",{"v":241,"d":"$241.00"},2,null,{"$f":"C699*'Order Form'!$S$18*(Color!$C$6+'Door Style'!$H$6)","v":{"$error":"#VALUE!"}},{"$f":"C699*$G$1*'Order Form'!$S$18*(Color!$D$6+'Door Style'!$G$6+Species!$C$6+'Custom Finish'!$C$6)","v":{"$error":"#VALUE!"}},null,"01-","01-",{"$f":"CONCAT!$D$2","v":""},null,1,{"$f":"J699&A699&K699","v":"01-W3615"},"11-W3615",1,"12-W3615",{"$f":"Q699&K699","v":"12-W3615"},1,{"$nulls":5},{"$f":"C699*1*(Color!$C$6+'Door Style'!$H$6)","v":{"$error":"#VALUE!"}},{"$f":"C699*$G$1*1*(Color!$D$6+'Door Style'!$G$6+Species!$C$6+'Custom Finish'!$C$6)","v":{"$error":"#VALUE!"}},null,"Light Blue","Dark Gray",null,"1","Wall Cabinet - 15\" Wall"]
["W3618","Wall 36\" x 18\"",{"v":272,"d":"$272.00"},2,null,{"$f":"C700*'Order Form'!$S$18*(Color!$C$6+'Door Style'!$H$6)","v":{"$error":"#VALUE!"}},{"$f":"C700*$G$1*'Order Form'!$S$18*(Color!$D$6+'Door Style'!$G$6+Species!$C$6+'Custom Finish'!$C$6)","v":{"$error":"#VALUE!"}},null,"01-","01-",{"$f":"CONCAT!$D$2","v":""},null,1,{"$f":"J700&A700&K700","v":"01-W3618"},"11-W3618",1,"12-W3618",{"$f":"Q700&K700","v":"12-W3618"},1,{"$nulls":5},{"$f":"C700*1*(Color!$C$6+'Door Style'!$H$6)","v":{"$error":"#VALUE!"}},{"$f":"C700*$G$1*1*(Color!$D$6+'Door Style'!$G$6+Species!$C$6+'Custom Finish'!$C$6)","v":{"$error":"#VALUE!"}},null,"Light Blue","Dark Gray",null,"1","Wall Cabinet - 18\" Wall"]
["W3621","Wall 36\" x 21\"",{"v":326,"d":"$326.00"},2,null,{"$f":"C701*'Order Form'!$S$18*(Color!$C$6+'Door Style'!$H$6)","v":{"$error":"#VALUE!"}},{"$f":"C701*$G$1*'Order Form'!$S$18*(Color!$D$6+'Door Style'!$G$6+Species!$C$6+'Custom Finish'!$C$6)","v":{"$error":"#VALUE!"}},null,"01-","01-",{"$f":"CONCAT!$D$2","v":""},null,1,{"$f":"J701&A701&K701","v":"01-W3621"},"11-W3621",1,"12-W3621",{"$f":"Q701&K701","v":"12-W3621"},1,{"$nulls":5},{"$f":"C701*1*(Color!$C$6+'Door Style'!$H$6)","v":{"$error":"#VALUE!"}},{"$f":"C701*$G$1*1*(Color!$D$6+'Door Style'!$G$6+Species!$C$6+'Custom Finish'!$C$6)","v":{"$error":"#VALUE!"}},null,"Light Blue","Dark Gray",null,"1","Wall Cabinet - 21\" Wall"]
["W3624","Wall 36\" x 24\"",{"v":349,"d":"$349.00"},2,null,{"$f":"C702*'Order Form'!$S$18*(Color!$C$6+'Door Style'!$H$6)","v":{"$error":"#VALUE!"}},{"$f":"C702*$G$1*'Order Form'!$S$18*(Color!$D$6+'Door Style'!$G$6+Species!$C$6+'Custom Finish'!$C$6)","v":{"$error":"#VALUE!"}},null,"01-","01-",{"$f":"CONCAT!$D$2","v":""},null,1,{"$f":"J702&A702&K702","v":"01-W3624"},"11-W3624",1,"12-W3624",{"$f":"Q702&K702","v":"12-W3624"},1,{"$nulls":5},{"$f":"C702","v":{"v":349,"d":"$349.00"}},{"$f":"C702","v":{"v":349,"d":"$349.00"}},null,"Light Blue","Dark Gray",null,"1","Wall Cabinet - 24\" Wall"]
["W3627","Wall 36\" x 27\"",{"v":419,"d":"$419.00"},3,null,null,{"$f":"C703*$G$1*'Order Form'!$S$18*(Color!$D$6+'Door Style'!$G$6+Species!$C$6+'Custom Finish'!$C$6)","v":{"$error":"#VALUE!"}},null,"SC/PC","01-",{"$f":"CONCAT!$D$8","v":""},null,1,{"$f":"J703&A703&K703","v":"01-W3627"},"11-W3627",1,"12-W3627",{"$f":"Q703&K703","v":"12-W3627"},1,{"$nulls":5},{"$f":"C703","v":{"v":419,"d":"$419.00"}},{"$f":"C703","v":{"v":419,"d":"$419.00"}},null,"Black","Dark Gray",null,"1","Wall Cabinet - 27\" Wall"]
["W3630","Wall 36\" x 30\"",{"v":427,"d":"$427.00"},2,"PB",{"$f":"C704*'Order Form'!$S$18*(Color!$C$6+'Door Style'!$H$6)","v":{"$error":"#VALUE!"}},{"$f":"C704*$G$1*'Order Form'!$S$18*(Color!$D$6+'Door Style'!$G$6+Species!$C$6+'Custom Finish'!$C$6)","v":{"$error":"#VALUE!"}},null,"01-","01-",{"$f":"CONCAT!$D$2","v":""},null,1,{"$f":"J704&A704&K704","v":"01-W3630"},"11-W3630",1,"12-W3630",{"$f":"Q704&K704","v":"12-W3630"},1,{"$nulls":5},{"$f":"C704","v":{"v":427,"d":"$427.00"}},{"$f":"C704","v":{"v":427,"d":"$427.00"}},null,"Light Blue","Dark Gray",null,"1","Wall Cabinet - 30\" Wall"]
["W3636","Wall 36\" x 36\"",{"v":487,"d":"$487.00"},2,null,{"$f":"C705*'Order Form'!$S$18*(Color!$C$6+'Door Style'!$H$6)","v":{"$error":"#VALUE!"}},{"$f":"C705*$G$1*'Order Form'!$S$18*(Color!$D$6+'Door Style'!$G$6+Species!$C$6+'Custom Finish'!$C$6)","v":{"$error":"#VALUE!"}},null,"01-","01-",{"$f":"CONCAT!$D$2","v":""},null,1,{"$f":"J705&A705&K705","v":"01-W3636"},"11-W3636",1,"12-W3636",{"$f":"Q705&K705","v":"12-W3636"},1,{"$nulls":5},{"$f":"C705","v":{"v":487,"d":"$487.00"}},{"$f":"C705","v":{"v":487,"d":"$487.00"}},null,"Light Blue","Dark Gray",null,"1","Wall Cabinet - 36\" Wall"]
["W3642","Wall 36\" x 42\"",{"v":596,"d":"$596.00"},2,null,{"$f":"C706*'Order Form'!$S$18*(Color!$C$6+'Door Style'!$H$6)","v":{"$error":"#VALUE!"}},{"$f":"C706*$G$1*'Order Form'!$S$18*(Color!$D$6+'Door Style'!$G$6+Species!$C$6+'Custom Finish'!$C$6)","v":{"$error":"#VALUE!"}},null,"01-","01-",{"$f":"CONCAT!$D$2","v":""},null,1,{"$f":"J706&A706&K706","v":"01-W3642"},"11-W3642",1,"12-W3642",{"$f":"Q706&K706","v":"12-W3642"},1,{"$nulls":5},{"$f":"C706","v":{"v":596,"d":"$596.00"}},{"$f":"C706","v":{"v":596,"d":"$596.00"}},null,"Light Blue","Dark Gray",null,"1","Wall Cabinet - 42\" Wall"]
["W36-SHELF","Wall Shelf For 36\"",{"v":38,"d":"$38.00"},2,null,{"$f":"C707*'Order Form'!$S$18","v":0},{"$f":"C707*'Order Form'!$S$18","v":0},null,"14-","14-","",null,0,{"$f":"J707&A707&K707","v":"14-W36-SHELF"},{"$nulls":3},{"$f":"Q707&K707","v":""},null,{"$f":"N707","v":"14-W36-SHELF"},1,{"$nulls":3},{"$f":"C707","v":{"v":38,"d":"$38.00"}},{"$f":"C707","v":{"v":38,"d":"$38.00"}},null,"Purple","Purple",null,null,"Shelf - Wall"]
["W3912","Wall 39\" x 12\"",{"v":252,"d":"$252.00"},2,null,{"$f":"C708*'Order Form'!$S$18*(Color!$C$6+'Door Style'!$H$6)","v":{"$error":"#VALUE!"}},{"$f":"C708*$G$1*'Order Form'!$S$18*(Color!$D$6+'Door Style'!$G$6+Species!$C$6+'Custom Finish'!$C$6)","v":{"$error":"#VALUE!"}},null,"01-","01-",{"$f":"CONCAT!$D$2","v":""},null,1,{"$f":"J708&A708&K708","v":"01-W3912"},"11-W3912",1,"12-W3912",{"$f":"Q708&K708","v":"12-W3912"},1,{"$nulls":5},{"$f":"(C708*Color!$G$6*1)","v":{"$error":"#VALUE!"}},{"$f":"C708*$G$2*1*(Color!$D$6+Species!$C$6)","v":{"$error":"#VALUE!"}},null,"Light Blue","Dark Gray",null,"1","Wall Cabinet - 12\" Wall"]
["W3915","Wall 39\" x 15\"",{"v":308,"d":"$308.00"},2,null,{"$f":"C709*'Order Form'!$S$18*(Color!$C$6+'Door Style'!$H$6)","v":{"$error":"#VALUE!"}},{"$f":"C709*$G$1*'Order Form'!$S$18*(Color!$D$6+'Door Style'!$G$6+Species!$C$6+'Custom Finish'!$C$6)","v":{"$error":"#VALUE!"}},null,"01-","01-",{"$f":"CONCAT!$D$2","v":""},null,1,{"$f":"J709&A709&K709","v":"01-W3915"},"11-W3915",1,"12-W3915",{"$f":"Q709&K709","v":"12-W3915"},1,{"$nulls":5},{"$f":"(C709*Color!$G$6*1)","v":{"$error":"#VALUE!"}},{"$f":"C709*$G$2*1*(Color!$D$6+Species!$C$6)","v":{"$error":"#VALUE!"}},null,"Light Blue","Dark Gray",null,"1","Wall Cabinet - 15\" Wall"]
["W3918","Wall 39\" x 18\"",{"v":350,"d":"$350.00"},2,null,{"$f":"C710*'Order Form'!$S$18*(Color!$C$6+'Door Style'!$H$6)","v":{"$error":"#VALUE!"}},{"$f":"C710*$G$1*'Order Form'!$S$18*(Color!$D$6+'Door Style'!$G$6+Species!$C$6+'Custom Finish'!$C$6)","v":{"$error":"#VALUE!"}},null,"01-","01-",{"$f":"CONCAT!$D$2","v":""},null,1,{"$f":"J710&A710&K710","v":"01-W3918"},"11-W3918",1,"12-W3918",{"$f":"Q710&K710","v":"12-W3918"},1,{"$nulls":5},{"$f":"(C710*Color!$G$6*1)","v":{"$error":"#VALUE!"}},{"$f":"C710*$G$2*1*(Color!$D$6+Species!$C$6)","v":{"$error":"#VALUE!"}},null,"Light Blue","Dark Gray",null,"1","Wall Cabinet - 18\" Wall"]
["W3930","Wall 39\" x 30\"",{"v":452,"d":"$452.00"},2,null,{"$f":"C711*'Order Form'!$S$18*(Color!$C$6+'Door Style'!$H$6)","v":{"$error":"#VALUE!"}},{"$f":"C711*$G$1*'Order Form'!$S$18*(Color!$D$6+'Door Style'!$G$6+Species!$C$6+'Custom Finish'!$C$6)","v":{"$error":"#VALUE!"}},null,"01-","01-",{"$f":"CONCAT!$D$2","v":""},null,1,{"$f":"J711&A711&K711","v":"01-W3930"},"11-W3930",1,"12-W3930",{"$f":"Q711&K711","v":"12-W3930"},1,{"$nulls":5},{"$f":"(C711*Color!$G$6*1)","v":{"$error":"#VALUE!"}},{"$f":"C711*$G$1*1*(Color!$D$6+'Door Style'!$G$6+Species!$C$6+'Custom Finish'!$C$6)","v":{"$error":"#VALUE!"}},null,"Light Blue","Dark Gray",null,"1","Wall Cabinet - 30\" Wall"]
["W3936","Wall 39\" x 36\"",{"v":518,"d":"$518.00"},2,null,{"$f":"C712*'Order Form'!$S$18*(Color!$C$6+'Door Style'!$H$6)","v":{"$error":"#VALUE!"}},{"$f":"C712*$G$1*'Order Form'!$S$18*(Color!$D$6+'Door Style'!$G$6+Species!$C$6+'Custom Finish'!$C$6)","v":{"$error":"#VALUE!"}},null,"01-","01-",{"$f":"CONCAT!$D$2","v":""},null,1,{"$f":"J712&A712&K712","v":"01-W3936"},"11-W3936",1,"12-W3936",{"$f":"Q712&K712","v":"12-W3936"},1,{"$nulls":5},{"$f":"(C712*Color!$G$6*1)","v":{"$error":"#VALUE!"}},{"$f":"C712*$G$1*1*(Color!$D$6+'Door Style'!$G$6+Species!$C$6+'Custom Finish'!$C$6)","v":{"$error":"#VALUE!"}},null,"Light Blue","Dark Gray",null,"1","Wall Cabinet - 36\" Wall"]
["W3942","Wall 39\" x 42\"",{"v":637,"d":"$637.00"},2,null,{"$f":"C713*'Order Form'!$S$18*(Color!$C$6+'Door Style'!$H$6)","v":{"$error":"#VALUE!"}},{"$f":"C713*$G$1*'Order Form'!$S$18*(Color!$D$6+'Door Style'!$G$6+Species!$C$6+'Custom Finish'!$C$6)","v":{"$error":"#VALUE!"}},null,"01-","01-",{"$f":"CONCAT!$D$2","v":""},null,1,{"$f":"J713&A713&K713","v":"01-W3942"},"11-W3942",1,"12-W3942",{"$f":"Q713&K713","v":"12-W3942"},1,{"$nulls":5},{"$f":"C713*1*(Color!$C$6+'Door Style'!$H$6)","v":{"$error":"#VALUE!"}},{"$f":"C713*$G$1*1*(Color!$D$6+'Door Style'!$G$6+Species!$C$6+'Custom Finish'!$C$6)","v":{"$error":"#VALUE!"}},null,"Light Blue","Dark Gray",null,"1","Wall Cabinet - 42\" Wall"]
["W9-SHELF","Wall Shelf For 9\"",{"v":10,"d":"$10.00"},2,null,{"$f":"C714*'Order Form'!$S$18","v":0},{"$f":"C714*'Order Form'!$S$18","v":0},null,"14-","14-","",null,0,{"$f":"J714&A714&K714","v":"14-W9-SHELF"},{"$nulls":3},{"$f":"Q714&K714","v":""},null,{"$f":"N714","v":"14-W9-SHELF"},1,{"$nulls":3},{"$f":"C714*1*(Color!$C$6+'Door Style'!$H$6)","v":{"$error":"#VALUE!"}},{"$f":"C714*$G$1*1*(Color!$D$6+'Door Style'!$G$6+Species!$C$6+'Custom Finish'!$C$6)","v":{"$error":"#VALUE!"}},null,"Purple","Purple",null,null,"Shelf - Wall"]
["WEZR2430","Wall Easy Reach 24\" x 30\"",{"v":480,"d":"$480.00"},2,"PB",{"$f":"C715*'Order Form'!$S$18*(Color!$C$6+'Door Style'!$H$6)","v":{"$error":"#VALUE!"}},{"$f":"C715*$G$1*'Order Form'!$S$18*(Color!$D$6+'Door Style'!$G$6+Species!$C$6+'Custom Finish'!$C$6)","v":{"$error":"#VALUE!"}},null,"01-","01-",{"$f":"CONCAT!$D$2","v":""},null,1,{"$f":"J715&A715&K715","v":"01-WEZR2430"},"11-WEZR2430",1,"12-WEZR2430",{"$f":"Q715&K715","v":"12-WEZR2430"},1,{"$nulls":5},{"$f":"C715*1*(Color!$C$6+'Door Style'!$H$6)","v":{"$error":"#VALUE!"}},{"$f":"C715*$G$1*1*(Color!$D$6+'Door Style'!$G$6+Species!$C$6+'Custom Finish'!$C$6)","v":{"$error":"#VALUE!"}},null,"Light Blue","Dark Gray",null,"1","Wall Cabinet - Corner - Easy Reach"]
["WEZR2436","Wall Easy Reach 24\" x 36\"",{"v":523,"d":"$523.00"},2,null,{"$f":"C716*'Order Form'!$S$18*(Color!$C$6+'Door Style'!$H$6)","v":{"$error":"#VALUE!"}},{"$f":"C716*$G$1*'Order Form'!$S$18*(Color!$D$6+'Door Style'!$G$6+Species!$C$6+'Custom Finish'!$C$6)","v":{"$error":"#VALUE!"}},null,"01-","01-",{"$f":"CONCAT!$D$2","v":""},null,1,{"$f":"J716&A716&K716","v":"01-WEZR2436"},"11-WEZR2436",1,"12-WEZR2436",{"$f":"Q716&K716","v":"12-WEZR2436"},1,{"$nulls":6},{"$f":"C716*$G$1*1*(Color!$D$6+'Door Style'!$G$6+Species!$C$6+'Custom Finish'!$C$6)","v":{"$error":"#VALUE!"}},null,"Light Blue","Dark Gray",null,"1","Wall Cabinet - Corner - Easy Reach"]
["WEZR2442","Wall Easy Reach 24\" x 42\"",{"v":627,"d":"$627.00"},2,null,{"$f":"C717*'Order Form'!$S$18*(Color!$C$6+'Door Style'!$H$6)","v":{"$error":"#VALUE!"}},{"$f":"C717*$G$1*'Order Form'!$S$18*(Color!$D$6+'Door Style'!$G$6+Species!$C$6+'Custom Finish'!$C$6)","v":{"$error":"#VALUE!"}},null,"01-","01-",{"$f":"CONCAT!$D$2","v":""},null,1,{"$f":"J717&A717&K717","v":"01-WEZR2442"},"11-WEZR2442",1,"12-WEZR2442",{"$f":"Q717&K717","v":"12-WEZR2442"},1,{"$nulls":5},{"$f":"C717*1","v":{"v":627,"d":"$627.00"}},{"$f":"C717*1","v":{"v":627,"d":"$627.00"}},null,"Light Blue","Dark Gray",null,"1","Wall Cabinet - Corner - Easy Reach"]
["WINDOW CLINGS","Window Cling",{"v":5,"d":"$5.00"},2,null,{"$f":"C718","v":5},{"$f":"C718","v":5},null,"/","/",null,null,0,{"$f":"J718&A718&K718","v":"/WINDOW CLINGS"},{"$nulls":3},{"$f":"Q718&K718","v":""},null,{"$f":"N718","v":"/WINDOW CLINGS"},1,{"$nulls":3},{"$f":"(C718*Color!$G$6*1)","v":{"$error":"#VALUE!"}},{"$f":"C718*$G$1*1*(Color!$D$6+Species!$C$6)","v":{"$error":"#VALUE!"}},null,"Tan","Tan","Dealer",null,"Dealer support item"]
["WINE BOTTLE-BRASS","Wine Bottle Organizer-Brass",{"v":18,"d":"$18.00"},2,null,{"$f":"C719","v":18},{"$f":"C719","v":18},null,"/","","",null,0,{"$f":"J719&A719&K719","v":"WINE BOTTLE-BRASS"},{"$nulls":3},{"$f":"Q719&K719","v":""},null,{"$f":"N719","v":"WINE BOTTLE-BRASS"},1,{"$nulls":3},{"$f":"(C719*Color!$G$6*1)","v":{"$error":"#VALUE!"}},{"$f":"C719*$G$1*1*(Color!$D$6+Species!$C$6)","v":{"$error":"#VALUE!"}},null,"Tan","Tan",null,null,"Accessory - Beverages"]
["WINE BOTTLE-BRONZE","Wine Bottle Organizer-Bronze",{"v":22,"d":"$22.00"},2,null,{"$f":"C720","v":22},{"$f":"C720","v":22},null,"/","","",null,0,{"$f":"J720&A720&K720","v":"WINE BOTTLE-BRONZE"},{"$nulls":3},{"$f":"Q720&K720","v":""},null,{"$f":"N720","v":"WINE BOTTLE-BRONZE"},1,{"$nulls":3},{"$f":"(C720*Color!$G$6*1)","v":{"$error":"#VALUE!"}},{"$f":"C720*$G$1*1*(Color!$D$6+Species!$C$6)","v":{"$error":"#VALUE!"}},null,"Tan","Tan",null,null,"Accessory - Beverages"]
["WINE BOTTLE-CHROME","Wine Bottle Organizer-Chrome",{"v":15,"d":"$15.00"},2,null,{"$f":"C721","v":15},{"$f":"C721","v":15},null,"/","","",null,0,{"$f":"J721&A721&K721","v":"WINE BOTTLE-CHROME"},{"$nulls":3},{"$f":"Q721&K721","v":""},null,{"$f":"N721","v":"WINE BOTTLE-CHROME"},1,{"$nulls":6},"Tan","Tan",null,null,"Accessory - Beverages"]
["WINE BOTTLE-NICKLE","Wine Bottle Organizer-Nickle",{"v":17,"d":"$17.00"},2,null,{"$f":"C722","v":17},{"$f":"C722","v":17},null,"/","","",null,0,{"$f":"J722&A722&K722","v":"WINE BOTTLE-NICKLE"},{"$nulls":3},{"$f":"Q722&K722","v":""},null,{"$f":"N722","v":"WINE BOTTLE-NICKLE"},1,{"$nulls":6},"Tan","Tan",null,null,"Accessory - Beverages"]
["WOOD TRAY DIVIDER","Wood Tray Divider",{"v":130,"d":"$130.00"},2,null,{"$f":"C723","v":130},{"$f":"C723","v":130},null,"/","","",null,0,{"$f":"J723&A723&K723","v":"WOOD TRAY DIVIDER"},{"$nulls":3},{"$f":"Q723&K723","v":""},null,{"$f":"N723","v":"WOOD TRAY DIVIDER"},1,{"$nulls":6},"Tan","Tan",null,null,"Accessory - Wall - Refrigerator/ Oven Cabinet"]
["WOS0630","Wall Open Shelf 6\" x 30\"",{"v":107,"d":"$107.00"},2,null,{"$f":"(C724*Color!$G$6*'Order Form'!$S$18)","v":{"$error":"#VALUE!"}},{"$f":"C724*$G$2*'Order Form'!$S$18*(Color!$D$6+Species!$C$6)","v":{"$error":"#VALUE!"}},null,"13-","13-",{"$f":"CONCAT!$D$3","v":""},null,1,{"$f":"J724&A724&K724","v":"13-WOS0630"},{"$nulls":3},{"$f":"Q724&K724","v":""},null,{"$f":"N724","v":"13-WOS0630"},1,{"$nulls":6},"Orange","Fuchsia",null,"1","Wall Cabinet - Open Shelf"]
["WOS0636","Wall Open Shelf 6\" x 36\"",{"v":133,"d":"$133.00"},2,null,{"$f":"(C725*Color!$G$6*'Order Form'!$S$18)","v":{"$error":"#VALUE!"}},{"$f":"C725*$G$2*'Order Form'!$S$18*(Color!$D$6+Species!$C$6)","v":{"$error":"#VALUE!"}},null,"13-","13-",{"$f":"CONCAT!$D$3","v":""},null,1,{"$f":"J725&A725&K725","v":"13-WOS0636"},{"$nulls":3},{"$f":"Q725&K725","v":""},null,{"$f":"N725","v":"13-WOS0636"},1,{"$nulls":6},"Orange","Fuchsia",null,"1","Wall Cabinet - Open Shelf"]
["WOS0642","Wall Open Shelf 6\" x 42\"",{"v":153,"d":"$153.00"},2,null,{"$f":"(C726*Color!$G$6*'Order Form'!$S$18)","v":{"$error":"#VALUE!"}},{"$f":"C726*$G$2*'Order Form'!$S$18*(Color!$D$6+Species!$C$6)","v":{"$error":"#VALUE!"}},null,"13-","13-",{"$f":"CONCAT!$D$3","v":""},null,1,{"$f":"J726&A726&K726","v":"13-WOS0642"},{"$nulls":3},{"$f":"Q726&K726","v":""},null,{"$f":"N726","v":"13-WOS0642"},1,{"$nulls":6},"Orange","Fuchsia",null,"1","Wall Cabinet - Open Shelf"]
["WR1530","Wine Rack Cabinet 15\" x 30\"",{"v":263,"d":"$263.00"},2,null,{"$f":"(C727*Color!$G$6*'Order Form'!$S$18)","v":{"$error":"#VALUE!"}},{"$f":"C727*$G$1*'Order Form'!$S$18*(Color!$D$6+'Door Style'!$G$6+Species!$C$6+'Custom Finish'!$C$6)","v":{"$error":"#VALUE!"}},null,"13-","01-",{"$f":"CONCAT!$D$3","v":""},null,1,{"$f":"J727&A727&K727","v":"01-WR1530"},"11-WR3015",1,"12-WR3015",{"$f":"Q727&K727","v":"12-WR3015"},1,{"$nulls":8},"Orange","Dark Gray",null,"1","Wall Cabinet - Wine Rack"]
["WR3015","Wine Rack Cabinet 30\" x 15\"",{"v":263,"d":"$263.00"},2,null,{"$f":"(C728*Color!$G$6*'Order Form'!$S$18)","v":{"$error":"#VALUE!"}},{"$f":"C728*$G$1*'Order Form'!$S$18*(Color!$D$6+'Door Style'!$G$6+Species!$C$6+'Custom Finish'!$C$6)","v":{"$error":"#VALUE!"}},null,"13-","01-",{"$f":"CONCAT!$D$3","v":""},null,1,{"$f":"J728&A728&K728","v":"01-WR3015"},"11-WR3015",1,"12-WR3015",{"$f":"Q728&K728","v":"12-WR3015"},1,{"$nulls":8},"Orange","Pink",null,"1","Wall Cabinet - Wine Rack"]
["WR3030","Wine Rack Cabinet 30\" x 30 \"",{"v":470,"d":"$470.00"},2,null,{"$f":"C729*'Order Form'!$S$18*(Color!$C$6+'Door Style'!$H$6)","v":{"$error":"#VALUE!"}},{"$f":"C729*$G$1*'Order Form'!$S$18*(Color!$D$6+'Door Style'!$G$6+Species!$C$6+'Custom Finish'!$C$6)","v":{"$error":"#VALUE!"}},null,"01-","01-",{"$f":"CONCAT!$D$2","v":""},null,1,{"$f":"J729&A729&K729","v":"01-WR3030"},"11-WR3030",1,"12-WR3015",{"$f":"Q729&K729","v":"12-WR3015"},1,{"$nulls":8},"Light Blue","Dark Gray",null,"1","Wall Cabinet - Wine Rack"]
["WR3036","Wine Rack Cabinet 30\" x 36\"",{"v":542,"d":"$542.00"},2,null,{"$f":"C730*'Order Form'!$S$18*(Color!$C$6+'Door Style'!$H$6)","v":{"$error":"#VALUE!"}},{"$f":"C730*$G$1*'Order Form'!$S$18*(Color!$D$6+'Door Style'!$G$6+Species!$C$6+'Custom Finish'!$C$6)","v":{"$error":"#VALUE!"}},null,"01-","01-",{"$f":"CONCAT!$D$2","v":""},null,1,{"$f":"J730&A730&K730","v":"01-WR3036"},"11-WR3036",1,"12-WR3015",{"$f":"Q730&K730","v":"12-WR3015"},1,{"$nulls":8},"Light Blue","Dark Gray",null,"1","Wall Cabinet - Wine Rack"]
["WR3042","Wine Rack Cabinet 30\" x 42\"",{"v":608,"d":"$608.00"},2,null,{"$f":"C731*'Order Form'!$S$18*(Color!$C$6+'Door Style'!$H$6)","v":{"$error":"#VALUE!"}},{"$f":"C731*$G$1*'Order Form'!$S$18*(Color!$D$6+'Door Style'!$G$6+Species!$C$6+'Custom Finish'!$C$6)","v":{"$error":"#VALUE!"}},null,"01-","01-",{"$f":"CONCAT!$D$2","v":""},null,1,{"$f":"J731&A731&K731","v":"01-WR3042"},"11-WR3042",1,"12-WR3015",{"$f":"Q731&K731","v":"12-WR3015"},1,{"$nulls":8},"Light Blue","Dark Gray",null,"1","Wall Cabinet - Wine Rack"]
["WRB15","Wine Rack Base 15\"",{"v":334,"d":"$334.00"},3,null,null,{"$f":"C732*$G$1*'Order Form'!$S$18*(Color!$D$6+'Door Style'!$G$6+Species!$C$6+'Custom Finish'!$C$6)","v":{"$error":"#VALUE!"}},null,"SC/PC","01-",{"$f":"CONCAT!$D$8","v":""},null,1,{"$f":"J732&A732&K732","v":"01-WRB15"},"11-WRB15",1,"12-WRB15",{"$f":"Q732&K732","v":"12-WRB15"},1,{"$nulls":8},"Black","Dark Gray",null,"1","Base Cabinet - Wine Rack"]
["WSHELF","Wall Shelf 8FT Length",{"v":89,"d":"$89.00"},2,null,{"$f":"C733*'Order Form'!$S$18","v":0},{"$f":"C733*'Order Form'!$S$18","v":0},null,"14-","13-","",null,0,{"$f":"J733&A733&K733","v":"13-WSHELF"},{"$nulls":3},{"$f":"Q733&K733","v":""},null,{"$f":"N733","v":"13-WSHELF"},1,{"$nulls":6},"Purple","Purple",null,null,"Shelf - Wall"]
["WSKIN30","Wall Skin 30\"",{"v":30,"d":"$30.00"},2,"PB",{"$f":"(C734*Color!$G$6*'Order Form'!$S$18)","v":{"$error":"#VALUE!"}},{"$f":"C734*$G$1*'Order Form'!$S$18*(Color!$D$6+Species!$C$6)","v":{"$error":"#VALUE!"}},null,"13-","13-",{"$f":"CONCAT!$D$3","v":""},null,0,{"$f":"J734&A734&K734","v":"13-WSKIN30"},{"$nulls":3},{"$f":"Q734&K734","v":""},null,{"$f":"N734","v":"13-WSKIN30"},1,{"$nulls":6},"Orange","Pink",null,null,"Skin - Wall"]
["WSKIN36","Wall Skin 36\"",{"v":36,"d":"$36.00"},2,null,{"$f":"(C735*Color!$G$6*'Order Form'!$S$18)","v":{"$error":"#VALUE!"}},{"$f":"C735*$G$1*'Order Form'!$S$18*(Color!$D$6+Species!$C$6)","v":{"$error":"#VALUE!"}},null,"13-","13-",{"$f":"CONCAT!$D$3","v":""},null,0,{"$f":"J735&A735&K735","v":"13-WSKIN36"},{"$nulls":3},{"$f":"Q735&K735","v":""},null,{"$f":"N735","v":"13-WSKIN36"},1,{"$nulls":6},"Orange","Pink",null,null,"Skin - Wall"]
["WSKIN42","Wall Skin 42\" ",{"v":42,"d":"$42.00"},2,null,{"$f":"(C736*Color!$G$6*'Order Form'!$S$18)","v":{"$error":"#VALUE!"}},{"$f":"C736*$G$1*'Order Form'!$S$18*(Color!$D$6+Species!$C$6)","v":{"$error":"#VALUE!"}},null,"13-","13-",{"$f":"CONCAT!$D$3","v":""},null,0,{"$f":"J736&A736&K736","v":"13-WSKIN42"},{"$nulls":3},{"$f":"Q736&K736","v":""},null,{"$f":"N736","v":"13-WSKIN42"},1,{"$nulls":6},"Orange","Pink",null,null,"Skin - Wall"]

{"sheet":"Accessories","index":6,"n_rows":78,"n_cols":7,"rows_kept":78,"merged":[[1,2,1,3],[1,4,1,6],[2,1,3,3],[2,4,2,6],[3,4,3,6],[61,3,61,4],[70,1,70,6],[71,1,72,6],[74,2,76,3],[75,4,76,6]]}
[]
[null,null,"Accessories",null,"Accessories below will be installed free of charge, provided that they are available from our suppliers prior to order ship date (excludes exterior mounted (EM) accessories). "]
[null,"The following is a list of the approved accessories that Founder's Choice offers. Add the Item Code listed in the left column on the Order Form. The quantity field must still be used to specify the number of accessories. ",null,null,"*Founder's Choice reserves the right to correct miscalculated accessory charges."]
[{"$nulls":4},"* We will provide, but not install, other accessories. Use ACCESSORY for this purpose, please make notes in the comment section, Part Number, Vendor, and add custom price."]
[null,"Enter in Sales Order Sheet","Cabinet Accessories",null,null,"Fits","Price"]
[null,null,"Sink Base Tip Out Tray - Stainless"]
[null,"TIP OUT TRAY SB24",null,"Tip-Out Tray Sink Base 24","Website","SB24",{"v":20,"d":"$20.00"}]
[null,"TIP OUT TRAY SB30",null,"Tip-Out Tray Sink Base 30","Website","SB30",{"v":24,"d":"$24.00"}]
[null,"TIP OUT TRAY SB33",null,"Tip-Out Tray Sink Base 33 Kit","Website","SB33",{"v":39,"d":"$39.00"}]
[null,"TIP OUT TRAY SB36",null,"Tip-Out Tray Sink Base 36 Kit","Website","SB36",{"v":45,"d":"$45.00"}]
[null,"TIP OUT TRAY SB39",null,"Tip-Out Tray Sink Base 39 Kit","Website","SB39",{"v":45,"d":"$45.00"}]
[null,null,"Recycle Centers"]
[null,"RECYCLE SINGLE-WOOD REV",null,"Single 35 QT can -w/ Wood System","Website","B15",{"v":250,"d":"$250.00"}]
[null,"RECYCLE CENTER-CHROME SALICE",null,"Two 35 QT cans -w/ Chrome System","Website","B18",{"v":250,"d":"$250.00"}]
[null,"RECYCLE CENTER-WOOD REV",null,"Two 35 QT cans -w/ Wood System","Website","B18",{"v":370,"d":"$370.00"}]
[null,"RECYCLE CENTER-FHB21",null,"Two 50 QT cans","Website","FHB21",{"v":415,"d":"$415.00"}]
[null,"COMPOST BIN-SINGLE",null,"Single Bin Compost","Website","B18",{"v":415,"d":"$415.00"}]
[null,"COMPOST BIN-DOUBLE",null,"Two Bin Compost","Website","FHB21",{"v":465,"d":"$465.00"}]
[null,null,"Cutting Boards"]
[null,"BREAD BOARD 16",null,"Bread Board 16 x 22","Website","B12-B18",{"v":90,"d":"$90.00"}]
[null,"BREAD BOARD 18",null,"Bread Board 18 x 22","Website","B21",{"v":105,"d":"$105.00"}]
[null,"BREAD BOARD 24",null,"Bread Board 24 x 22","Website","B24-B27",{"v":120,"d":"$120.00"}]
[null,"BUTCHER BLOCK",null,"Butcher Block ","Website","B15-B24",{"v":300,"d":"$300"}]
[null,null,"Tray Dividers"]
[null,"TRAY DIVIDER-REV",null,"Chrome Tray Divider 3\" U shape","Website","FHB09",{"v":35,"d":"$35.00"}]
[null,"WOOD TRAY DIVIDER",null,"Wood 4 Divider System","Website","RW, OC and similar",{"v":130,"d":"$130.00"}]
[null,null,"Filler Pull Outs (Includes panels for easy mounting and finished look, NEED to add appropriate filler to order)"]
[null,"FILLER PULLOUT (3)",null," 4.5\" filler pull out","Website","N/A",{"v":240,"d":"$240.00"}]
[null,"FILLER PULLOUT (6)",null," 7.5\" filler pull out","Website","N/A",{"v":280,"d":"$280.00"}]
[null,null,"Cabinet Pull Out"]
[null,"BASE PULLOUT (5)",null,"Base Pull Out 5","Website","FHB09",{"v":240,"d":"$240.00"}]
[null,"BASE PULLOUT (8)",null,"Base Pull Out 8","Website","FHB12",{"v":250,"d":"$250.00"}]
[null,"BASE PULLOUT (11)",null,"Base Pull Out 11","Website","FHB15",{"v":340,"d":"$340.00"}]
[null,"BASE PULLOUT (14)",null,"Base Pull Out 14","Website","FHB18",{"v":400,"d":"$400.00"}]
[null,null,"Blind Corner Base Pull Outs "]
[null,"BCB PULLOUT-HALF MOON45",null,"Blind Corner Half-Moon ","Website","BCB45",{"v":270,"d":"$270.00"}]
[null,"BCB PULLOUT-BEAN48",null,"Bean (Specify Finish)","Website","BCB48",{"v":525,"d":"$525.00"}]
[null,"FHBCB PULLOUT-PREMIERE42",null,"Premier Corner Pull Out","Website","FHBCB42",{"v":885,"d":"$885.00"}]
[null,"FHBCB PULLOUT-PREMIERE45",null,"Premier Corner Pull Out","Website","FHBCB45",{"v":930,"d":"$930.00"}]
[null,"FHBCB PULLOUT-OPTIMIZER45",null,"'Optimizer' ","Website","FHBCB45",{"v":625,"d":"$625.00"}]
[null,"FHBCB PULLOUT-OPTIMIZER48",null,"'Optimizer' ","Website","FHBCB48",{"v":655,"d":"$655.00"}]
[null,null,"Organizers"]
[null,"STEMWARE-BRASS",null,"Stemware Organizer-Brass","Website","EM",{"v":38,"d":"$38.00"}]
[null,"STEMWARE-CHROME",null,"Stemware Organizer-Chrome","Website","EM",{"v":32,"d":"$32.00"}]
[null,"STEMWARE-BRONZE",null,"Stemware Organizer-Bronze","Website","EM",{"v":42,"d":"$42.00"}]
[null,"STEMWARE-NICKLE",null,"Stemware Organizer-Satin Nickle","Website","EM",{"v":37,"d":"$37.00"}]
[null,"WINE BOTTLE-BRASS",null,"Wine Bottle Organizer-Brass","Website","EM",{"v":18,"d":"$18.00"}]
[null,"WINE BOTTLE-CHROME",null,"Wine Bottle Organizer-Chrome","Website","EM",{"v":15,"d":"$15.00"}]
[null,"WINE BOTTLE-BRONZE",null,"Wine Bottle Organizer-Bronze","Website","EM",{"v":22,"d":"$22.00"}]
[null,"WINE BOTTLE-NICKLE",null,"Wine Bottle Organizer-Satin Nickle","Website","EM",{"v":17,"d":"$17.00"}]
[null,null,"Drawer Organizers"]
[null,"NESTED CUTLERY DRAWER 15",null,"Nested Cutlery Drawer 15","Website","B15",{"v":200,"d":"$200.00"}]
[null,"NESTED CUTLERY DRAWER 18",null,"Nested Cutlery Drawer 18","Website","B18",{"v":215,"d":"$215.00"}]
[null,"NESTED CUTLERY DRAWER 21",null,"Nested Cutlery Drawer 21","Website","B21",{"v":230,"d":"$230.00"}]
[null,"NESTED CUTLERY DRAWER 24",null,"Nested Cutlery Drawer 24","Website","B24",{"v":240,"d":"$240.00"}]
[null,null,"Miscellaneous Accessories"]
[null,"MIXER LIFT",null,"Mixer Lift  (Includes plywood shelf)","Website","FHB18-FHB21",{"v":250,"d":"$250.00"}]
[null,"CUSTOM-FLOATING SHELF",null,"Floating Shelf - Please provide dimensions, species and color","Website"]
[null,"CUSTOM-HOOD",null,"Custom Hood - Please provide dimensions","Website"]
[null,"ADHESIVE200",null,"Company Approved Adhesive for Applying Skins","Website","All SKINS",{"v":15,"d":"$15.00"}]
[null,"BUILD UP STRIP",null,"3/4\" Plywood 1.5\" x 96\"","Website",null,{"v":11,"d":"$11.00"}]
[null,"ACCESSORY",null,"Use this item for accessories not listed"]
[{"$nulls":3},"* We will provide, but not install, other accessories."]
[null,null,"Paint and Stain"]
[null,"STAIN-5 GALLON",null,"Stain to Spray, Not Brush - 5 Gallons- 50% more if Custom Color","Website",null,{"v":320,"d":"$320.00"}]
[null,"STAIN-GALLON",null,"Stain to Spray, Not Brush - Gallon - 50% more if Custom Color","Website",null,{"v":80,"d":"$80.00"}]
[null,"STAIN-QUART",null,"Stain to Spray, Not Brush - Quart - 50% more if Custom Color","Website",null,{"v":20,"d":"$20.00"}]
[null,"PAINT-5 GALLON",null,"Paint to Spray, Not Brush - 5 Gallons- 50% more if Custom Color","Website",null,{"v":400,"d":"$400.00"}]
[null,"PAINT-GALLON",null,"Paint to Spray, Not Brush - Gallon - 50% more if Custom Color","Website",null,{"v":100,"d":"$100.00"}]
[null,"PAINT-QUART",null,"Paint to Spray, Not Brush - Quart - 50% more if Custom Color","Website",null,{"v":25,"d":"$25.00"}]
[null,"Glass Pane Inserts"]
[null,"Glass inserts will need to be purchased directly from a glass supplier in your area."]
[]
[null,"Other Hardware",null,null,"Definitive Hardware Collection"]
[null,null,"Use this item for other hardware that isn't in the Definitive Collection, Please enter in the note section: Vendor & Part Number, and add custom price",{"$nulls":3},"Website"]
[null,"PULL-NONSTOCK",null,null,"To order hardware, type the name exactly as it appears next to the piece on the Founder's Choice Definitive Collection hardware board. "]
[]
[null,{"$f":"'Order Form'!M129","v":"Revision Date: 7.16.2018"}]

{"sheet":"Modifications and Fees","index":7,"n_rows":61,"n_cols":8,"rows_kept":61,"merged":[[1,1,1,7],[2,1,2,7],[3,1,3,7],[4,1,4,7],[36,2,37,2],[36,4,37,6],[39,4,39,6],[40,4,40,6],[41,4,41,5],[45,1,51,2],[52,3,52,6],[53,1,54,2],[53,3,53,6],[54,3,54,6],[57,1,57,7],[58,1,59,2],[59,3,59,6]]}
[]
[]
[null,"Modifications and Fees"]
[null,"The following is a list of the approved modifications that Founder's Choice offers. Add the Item Code listed in the left column on the Order Form. The quantity field must still be used to specify the number of modifications. If the order type is CR, please make sure the cabinet with this modification has a Craftsman (CR) order type. This can be modified on the right hand column on the Order Form Sheet. If the column is blank this mod can be used for Select or Craftsman Order Types."]
[null,"EX: Increasing the depth of a 3 Drawer Bank Cabinet requires one Base Increase Depth, and three Base Drawer Box Size charges. "]
[]
[null,"Enter in Sales Order Sheet",null,"Cabinet Modification Charges",{"$nulls":3},"Price"]
[null,"Double click and highlight the text in these cells before copying","Order Form Type\n","Wall"]
[null,"MOD-W-ID",null,null,"Charge for Increase Depth - 24\" max depth ",null,null,{"v":75,"d":"$75"}]
[null,"MOD-W-DD",null,null,"Charge for Decrease Depth - Per Box ",null,null,{"v":25,"d":"$25"}]
[null,"MOD-W-STILE","CR",null,"Charge for Extended Wall Stile",null,null,{"v":50,"d":"$50"}]
[{"$nulls":3},"Base"]
[null,"MOD-B-DD",null,null,"Charge for Decrease Cabinet Depth",null,null,{"v":50,"d":"$50"}]
[null,"MOD-B-DB-SIZE",null,null,"Charge for Change in Drawer Box Size - Per Drawer",null,null,{"v":50,"d":"$50"}]
[null,"MOD-B-ID",null,null,"Charge for Increase Depth ",null,null,{"v":75,"d":"$75"}]
[null,"MOD-B-STILE","CR",null,"Charge for Extended Base Stile",null,null,{"v":50,"d":"$50"}]
[null,"MOD-NOTOE",null,null,"Charge for Toe Kick Removal Per Box",null,null,"No Charge "]
[null,"MOD-TOE",null,null,"Charge for Toe Kick Modification Per Box",null,null,{"v":50,"d":"$50"}]
[null,"MOD-B-RNG",null,null,"Charge for Modify to Range Base ",null,null,"No Charge "]
[{"$nulls":3},"Vanity"]
[null,"MOD-V-DD",null,null,"Charge for Decrease Depth - Per Box ",null,null,{"v":50,"d":"$50"}]
[null,"MOD-V-ID",null,null,"Charge for Increase Depth - 30\" Max Depth Vanity Cabinet",null,null,{"v":75,"d":"$75"}]
[null,"MOD-V-DB-SIZE",null,null,"Charge for Change in Drawer Box Size - Per Drawer",null,null,{"v":50,"d":"$50"}]
[null,"MOD-V-ROS",null,null,"Charge for Reduce Roll Out Shelf to Vanity Depth",null,null,{"v":25,"d":"$25"}]
[null,"MOD-V-STILE","CR",null,"Charge for Extended Vanity Stile",null,null,{"v":50,"d":"$50"}]
[null,"MOD-V-INV",null,null,"Charge for Modify a Vanity Base to a Vanity Sink Base Inverted",null,null,{"v":50,"d":"$50"}]
[{"$nulls":3},"Tall"]
[null,"MOD-T-DD",null,null,"Charge for Decrease Depth",null,null,{"v":75,"d":"$75"}]
[null,"MOD-T-ID",null,null,"Charge for Increase Depth",null,null,{"v":100,"d":"$100"}]
[null,"MOD-T-STILE","CR",null,"Charge for Extended Tall Stile",null,null,{"v":120,"d":"$120"}]
[{"$nulls":3},"Fees"]
[null,"RESTOCKING FEE","SEL",null,"Only on Select items, with written approval from Order Desk",null,null,"25% of Cabinet"]
[]
[null,"Enter in Sales Order Sheet",null,"Extra Assembly Labor Charges ",{"$nulls":3},"Price"]
[{"$nulls":3},"Other Modifications"]
[null,"MOD-FURNITURE BOTTOM","CR",null,"Charge for stretch the face of the cabinet towards the bottom to eliminate the toe kick",null,null,{"v":150,"d":"$150"}]
[null,"MOD-FURNITURE TOEKICK","CR",null,"Charge for make the face frame of the cabinet is extended to flush with the bottom of the cabinet",null,null,{"v":150,"d":"$150"}]
[]
[null,"MOD-LS TO SHELF","CR",null,"Charge for Switch Lazy Susan to a fixed shelf",null,null,{"v":50,"d":"$50"}]
[null,"MOD-SINGLE DOUBLE DRAWER","CR",null,"Change cabinet from double drawer to a single drawer.\n- Applies to cabinet widths 33\", 36\", 39\".",null,null,{"v":75,"d":"$75"}]
[null,"MOD-SINGLE DOUBLE DOOR","CR",null,"Change cabinet from a double door to a single door. \n- Applies to 24\" wide cabinets (No warping warranty).",null,null,{"v":75,"d":"$75"}]
[null,"MOD-NODOOR","CR",null,"20% Discount for No Doors on Craftsman Items only, per Cabinet",null,null,"20% off "]
[]
[{"$nulls":3},"Delivery Fee",{"$nulls":3},"Price"]
[{"$nulls":3},"Founder's Choice delivers to first threshold - Inside the front door or the garage. "]
[null,"Delivery fees are calculated using one way, road miles, using Google Maps and taking the shortest road distance. \n\nStarting location: \n6002 McKinley Ave E. \nTacoma, WA 98404",null,"TACOMA AREA - UP TO 7 ROAD MILES",{"$nulls":3},{"v":50,"d":"$50"}]
[{"$nulls":3},"UP TO 12 ROAD MILES",{"$nulls":3},{"v":75,"d":"$75"}]
[{"$nulls":3},"UP TO 18 ROAD MILES",{"$nulls":3},{"v":100,"d":"$100"}]
[{"$nulls":3},"UP TO 24 ROAD MILES",{"$nulls":3},{"v":125,"d":"$125"}]
[{"$nulls":3},"UP TO 30 ROAD MILES",{"$nulls":3},{"v":150,"d":"$150"}]
[{"$nulls":3},"UP TO 40 ROAD MILES",{"$nulls":3},{"v":200,"d":"$200"}]
[{"$nulls":3},"OVER 40 MILES: $200 + ($5 FOR EVERY ADDITIONAL MILE), Up to 120 miles"]
[{"$nulls":3},"Other Delivery charges: "]
[null,"Two Man Delivery:",null,"This applies to deliveries with Tall Cabinets (OC, LC, and UC), Sink Bases Diagonal (SBD), or orders with greater than 30 cabinets.",{"$nulls":3},"Multiply delivery fee by 1.5"]
[{"$nulls":3},"Ferries",{"$nulls":3},"Quote Required"]
[]
[{"$nulls":3},"Freight",{"$nulls":3},"Price"]
[null,"Founder's Choice estimates freight cost to western Washington or western Oregon at 10% of order cost, with a minimum fee of $200. "]
[{"$nulls":3},"Drop gate fee (for destinations without a loading dock)                   ",{"$nulls":3},"Add $300"]
[{"$nulls":3},"If outside of western Washington and Oregon, request a freight quote."]
[null,{"$f":"'Order Form'!M129","v":"Revision Date: 7.16.2018"}]

{"sheet":"Job Options","index":8,"n_rows":89,"n_cols":12,"rows_kept":89,"merged":[[1,1,5,9],[6,1,7,9],[8,1,12,3],[8,4,12,4],[8,5,12,5],[8,6,12,6],[8,7,12,7],[8,8,12,9],[8,11,8,12],[13,1,15,3],[13,4,15,9],[16,1,17,1],[16,2,17,3],[16,4,17,4],[16,5,17,5],[16,6,17,8],[16,9,17,9],[18,1,18,2],[18,8,18,9],[19,1,19,2],[19,8,19,9],[20,1,20,2],[20,8,20,9],[21,1,21,2],[21,8,21,9],[22,8,22,9],[23,8,23,9],[24,1,25,1],[24,2,25,3],[26,1,27,2],[26,3,27,3],[28,1,29,3],[28,4,29,5],[28,6,29,7],[28,8,29,9],[30,1,32,5],[30,6,32,9],[33,1,34,3],[33,4,34,5],[33,6,34,7],[33,8,34,9],[35,1,38,5],[35,6,38,9],[39,1,40,9],[41,1,42,3],[41,4,42,5],[41,6,42,9],[43,1,44,1],[43,2,44,3],[43,4,44,5],[43,6,44,9],[45,1,45,2],[45,6,45,7],[45,8,45,9],[46,1,46,2],[46,6,46,7],[46,8,46,9],[47,1,47,2],[47,8,47,9],[48,1,48,2],[48,8,48,9],[49,1,49,2],[49,8,49,9],[50,1,50,2],[50,8,50,9],[51,1,51,2],[51,6,51,7],[51,8,51,9],[52,1,52,2],[52,8,52,9],[53,1,53,2],[53,6,53,7],[53,8,53,9],[54,1,54,2],[54,8,54,9],[55,1,55,2],[55,8,55,9],[56,8,56,9],[57,1,58,1],[57,2,58,3],[57,8,57,9],[58,8,58,9],[59,1,59,2],[59,4,60,5],[59,8,59,9],[60,1,60,2],[60,8,60,9],[61,4,62,5],[62,6,63,9],[64,6,65,9],[66,11,66,12],[67,1,67,2],[67,8,67,9],[68,8,68,9],[69,1,70,5],[69,8,69,9],[70,8,70,9],[71,1,77,2],[71,3,77,5],[71,8,71,9],[74,6,75,9],[76,6,77,9],[78,3,78,5],[79,3,79,5],[79,8,79,9],[80,3,80,5],[81,1,82,9],[83,1,84,9],[85,1,86,9]]}
[]
[]
[]
[]
[]
[]
[null,"Select Finish Upgrades Layout"]
[]
[null,"Order Specifications for a Select Order – The \"Select\" Order Type and pricing will be produced with following selections:",null,null,"Species - \nWhite Birch","Door Style - \nGrandview or \nSelect Shaker","Custom Finish - None","Drawer Head -\n5 Piece","Color -\n Any option, this selection won't affect Order type, but it will affect lead times",null,null,"\n"]
[]
[]
[]
[]
[null,"In-Stock Colors\nare on the shelf and ready to go!",null,null,"FC colors\n are our standard offering that we feel can complement any home!"]
[]
[]
[null,"Stains","Add Percentage",null,"Stains","Add Percentage","Paints",null,null,"Add Percentage"]
[]
[]
[null,"   Raw",null,{"v":0,"d":"0%"},"   Merlot",{"v":0.1,"d":"10%"},"   Slate",null,{"v":0.2,"d":"20%"}]
[null,"   Wheat ",null,{"v":0,"d":"0%"},"   Ash",{"v":0.1,"d":"10%"},"   Linen",null,{"v":0.2,"d":"20%"}]
[null,"   Mocha",null,{"v":0,"d":"0%"},"   Java",{"v":0.1,"d":"10%"},"   Biscuit",null,{"v":0.2,"d":"20%"}]
[null,"   Espresso",null,{"v":0,"d":"0%"},"   Chestnut",{"v":0.1,"d":"10%"},"   Cranberry",null,{"v":0.2,"d":"20%"}]
[{"$nulls":4},"   Amber",{"v":0.1,"d":"10%"},"   Cappuccino",null,{"v":0.2,"d":"20%"}]
[null,"Paints","Add Percentage"]
[]
[null,"   Pearl",null,{"v":0.1,"d":"10%"}]
[]
[null,"Catalog Color",null,null,{"v":0.25,"d":"25%"},null,"Custom Color Match",null,{"v":0.35,"d":"35%"}]
[]
[null,"We offer that any customer can pick from a virtually unlimited variety of colors from our finish suppliers: Valspar and Sherwin Williams.",{"$nulls":4},"If you have a color that is unlike any other, we will custom match to your sample."]
[]
[]
[null,"Grandview Door Style",null,null,{"v":0.34,"d":"34%"},null,"Shaker",null,{"v":0,"d":"0%"}]
[]
[null,"We've had many requests to add a raised panel door into the Select line, the Grandview door with 5 pcs drawer fronts is now available at Select pricing until further notice. The lead time for this door will remain the same as Craftsman. ",{"$nulls":4},"Founder's Choice standard cabinet, this timeless look has 5 piece drawer styles"]
[]
[]
[]
[null,"Craftsman Upgrades Layout"]
[]
[null,"Color",null,null,"Wood Species",null,"Door Styles"]
[]
[null,"Stains","Add Percentage",null,"Add Percentage to Cabinet",null,"Add Percentage to Cabinet"]
[]
[]
[null,"   Wheat",null,{"v":0,"d":"0%"},"   Alder ",{"v":0.25,"d":"25%"},"   Raised Panel - Custom",null,{"v":0.3,"d":"30%"}]
[null,"   Merlot",null,{"v":0,"d":"0%"},"   Beech",{"v":0,"d":"0%"},"      Regent",null,{"v":0.25,"d":"25%"}]
[null,"   Mocha",null,{"v":0,"d":"0%"},"   Red Oak",{"v":0.10000000000000009,"d":"10%"},"      Grandview",null,{"v":0.25,"d":"25%"}]
[null,"   Ash",null,{"v":0,"d":"0%"},"   Maple",{"v":0.10000000000000009,"d":"10%"},"      McCormick",null,{"v":0.25,"d":"25%"}]
[null,"   Espresso",null,{"v":0,"d":"0%"},"   Paint Grade Maple",{"v":0.10000000000000009,"d":"10%"},"      Ruston",null,{"v":0.25,"d":"25%"}]
[null,"   Amber",null,{"v":0,"d":"0%"},"   Rustic Alder",{"v":0.35,"d":"35%"},"   Orchard (Beaded)",null,{"v":0.3,"d":"30%"}]
[null,"   Chestnut",null,{"v":0,"d":"0%"},"   Rustic Beech",{"v":0.10000000000000009,"d":"10%"},"   Bridgeport (Slab)",null,{"v":0.25,"d":"25%"}]
[null,"   Java",null,{"v":0,"d":"0%"},"   Cherry",{"v":0.19999999999999996,"d":"20%"},"   Recessed Panel - Custom",null,{"v":0.25,"d":"25%"}]
[null,"   Catalog Stain",null,{"v":0.05,"d":"5%"},"   Rustic Cherry",{"v":0.30000000000000004,"d":"30%"},"      Lexington",null,{"v":0,"d":"0%"}]
[null,"   Stain Match",null,{"v":0.15,"d":"15%"},"   White Birch",{"v":0.10000000000000009,"d":"10%"},"      Old Town",null,{"v":0,"d":"0%"}]
[{"$nulls":4},"   White Oak",{"v":0.19999999999999996,"d":"20%"},"      Whitman",null,{"v":0,"d":"0%"}]
[null,"Paints","Add Percentage",null,"   Rustic Hickory",{"v":0.2,"d":"20%"},"      Pioneer",null,{"v":0,"d":"0%"}]
[{"$nulls":6},"      Union",null,{"v":0,"d":"0%"}]
[{"$nulls":4},"Drawer Head",null,"      Pacific",null,{"v":0,"d":"0%"}]
[null,"   Slate",null,{"v":0,"d":"0%"},null,null,"      Proctor",null,{"v":0,"d":"0%"}]
[null,"   Linen",null,{"v":0,"d":"0%"},"Add Percentage to Cabinet"]
[null,"   Pearl",null,{"v":0,"d":"0%"},null,null,"Dual Tone and Finished Interior"]
[null,"   Cranberry",null,{"v":0,"d":"0%"}]
[null,"   Biscuit",null,{"v":0,"d":"0%"},"   Slab",{"v":0,"d":"0%"},"Add Percentage to Cabinet"]
[null,"   Cappuccino",null,{"v":0,"d":"0%"},"   Slab Top",{"v":0.03,"d":"3%"}]
[null,"   Paint Catalog",null,{"v":0.050000000000000044,"d":"5%"},"   5 PCS",{"v":0.05,"d":"5%"}]
[null,"   Paint Match",null,{"v":0.1499999999999999,"d":"15%"},"   5 PCS Top",{"v":0.03,"d":"3%"},"Dual Tone ",null,{"v":0.15,"d":"15%"}]
[{"$nulls":6},"Color Matched Interior",null,{"v":0.4,"d":"40%"}]
[null,"Prepped for Glass Doors --- Glass Priced Separate",{"$nulls":4},"Species and Color Match Interiors",null,{"v":0.6000000000000001,"d":"60%"}]
[{"$nulls":6},"Color Match and Dual Tone",null,{"v":0.45,"d":"45%"}]
[null,"Add Percentage to Cabinet",null,"We are able to offer the following sizes for cut for glass:\nCut for Glass - Framed: Single Door Cabinet 15-22.5\" \nCut for Glass - Framed: Double Door Cabinet 30-39\" \nCut for Glass - Divided: Cabinet Width Greater than 9\" \nCut for Glass - Clear: No restrictions",null,null,"Species Match and Dual Tone",null,{"v":0.65,"d":"65%"}]
[]
[]
[{"$nulls":6},"Custom Finish"]
[]
[{"$nulls":6},"Add Percentage to Cabinet"]
[]
[null,"Cut for Glass - Clear",null,{"v":0,"d":"0%"}]
[null,"Cut for Glass - Divided",null,{"v":0.35,"d":"35%"},null,null,"Glaze",null,{"v":0.2,"d":"20%"}]
[null,"Cut for Glass - Framed",null,{"v":0.4,"d":"40%"}]
[null,"Applied Skins "]
[]
[null,"Founder's Choice will apply skins for an extra charge.  For both Select and Craftsman, the price is added to the item price when the positioning is selected. "]
[]
[null,"Fee added per Skin"]
[]
[null,"   Base, Wall and Vanity Applied Skins",{"$nulls":3},{"v":15,"d":"$15"}]
[null,"   Tall Cabinet (Linen, Utility, Oven Cabinets)",{"$nulls":3},{"v":30,"d":"$30"}]

{"sheet":"Sage Upload","index":9,"n_rows":92,"n_cols":19,"rows_kept":92,"hidden":true}
["Customer #","Item Code","QTY","Comment","Unit Price","Item Type","Color","Species","Door Style","Drawer Head","Custom Finish","Order Form","Number of cabinets",{"$f":"SUM(N2:N92)-'Order Form'!D116-'Order Form'!N121","v":0},"Customer PO","Comment",null,"Factor","Multiplier"]
[{"$f":"UPPER(IF(AND('Order Form'!$O$4=\"\",B2=\"\"),\"\",IF(B2=\"\",\"\",'Order Form'!$O$4)))","v":""},{"$f":"UPPER(IFERROR(CONCATENATE(CONCAT!B12,CONCAT!C12)&(CONCAT!D12),\"\"))","v":""},{"$f":"IF(B2=\"\",\"\",'Order Form'!D24)","v":""},{"$f":"UPPER(IF('Order Form'!C24=\"\",\"\",'Order Form'!J24&'Order Form'!AM24&'Order Form'!AN24&'Order Form'!AO24))","v":""},{"$f":"IF('Order Form'!M24=0,IF('Order Form'!P24=0,\"\",'Order Form'!P24/'Order Form'!D24),'Order Form'!M24+('Order Form'!P24/'Order Form'!D24))","v":""},{"$f":"IF(B2=\"\",\"\",IF(LEFT(B2,1)=\"/\",5,1))","v":""},{"$f":"UPPER(IF(B2=\"\",\"\",CONCAT!$G$3))","v":""},{"$f":"UPPER(IF(B2=\"\",\"\",CONCAT!$G$4))","v":""},{"$f":"UPPER(IF(B2=\"\",\"\",CONCAT!$G$5))","v":""},{"$f":"UPPER(IF(B2=\"\",\"\",CONCAT!$G$6))","v":""},{"$f":"UPPER(IF(B2=\"\",\"\",CONCAT!$G$7))","v":""},{"$f":"UPPER(IF(B2=\"\",\"\",CONCAT!$G$2))","v":""},{"$f":"UPPER(IF(B2=\"\",\"\",CONCAT!$G$8))","v":""},{"$f":"IFERROR(C2*E2,\"\")","v":""},{"$f":"UPPER(IF(B2=\"\",\"\",'Order Form'!$K$4))","v":""},{"$f":"UPPER(IF(B2=\"\",\"\",(UPPER(IF(CONCAT!$G$2=\"SELECT\",\"SELECT \"&CONCAT!$G$3,CONCAT!$G$1&Species!$G$6&'Door Style'!$I$6&Color!$Q$6&'Drawer Head'!$H$6&'Custom Finish'!$G$6)))))","v":""},null,{"$f":"IF(B2=\"\",\"\",CONCAT!$J$2)","v":""},{"$f":"IF(B2=\"\",\"\",CONCAT!$J$3)","v":""}]
[{"$f":"UPPER(IF(AND('Order Form'!$O$4=\"\",B3=\"\"),\"\",IF(B3=\"\",\"\",'Order Form'!$O$4)))","v":""},{"$f":"UPPER(IF('Order Form'!D25=0,\"\",IFERROR(CONCATENATE(CONCAT!B13,CONCAT!C13)&(CONCAT!D13),\"\")))","v":"13-TOUCH UP"},{"$f":"IF('Order Form'!D25=0,\"\",'Order Form'!D25)","v":1},{"$f":"UPPER(IF('Order Form'!C25=\"\",\"\",'Order Form'!J25&'Order Form'!AM25&'Order Form'!AN25&'Order Form'!AO25))","v":""},{"$f":"IF(B3=\"\",\"\",IF('Order Form'!M25=0,IF('Order Form'!P25=0,\"\",'Order Form'!P25/'Order Form'!D25),'Order Form'!M25+('Order Form'!P25/'Order Form'!D25)))","v":""},1,{"$f":"UPPER(IF(B3=\"\",\"\",CONCAT!$G$3))","v":""},{"$f":"UPPER(IF(B3=\"\",\"\",CONCAT!$G$4))","v":""},{"$f":"UPPER(IF(B3=\"\",\"\",CONCAT!$G$5))","v":""},{"$f":"UPPER(IF(B3=\"\",\"\",CONCAT!$G$6))","v":""},{"$f":"UPPER(IF(B3=\"\",\"\",CONCAT!$G$7))","v":""},{"$f":"UPPER(IF(B3=\"\",\"\",CONCAT!$G$2))","v":"CRAFTSMAN"},{"$f":"UPPER(IF(B3=\"\",\"\",CONCAT!$G$8))","v":"0"},{"$f":"IFERROR(C3*E3,\"\")","v":""},{"$f":"UPPER(IF(B3=\"\",\"\",'Order Form'!$K$4))","v":""},{"$f":"UPPER(IF(B3=\"\",\"\",(UPPER(IF(CONCAT!$G$2=\"SELECT\",\"SELECT \"&CONCAT!$G$3,CONCAT!$G$1&Species!$G$6&'Door Style'!$I$6&Color!$Q$6&'Drawer Head'!$H$6&'Custom Finish'!$G$6)))))","v":"CR0000"},null,{"$f":"IF(B3=\"\",\"\",CONCAT!$J$2)","v":0},{"$f":"IF(B3=\"\",\"\",CONCAT!$J$3)","v":""}]
[{"$f":"UPPER(IF(AND('Order Form'!$O$4=\"\",B4=\"\"),\"\",IF(B4=\"\",\"\",'Order Form'!$O$4)))","v":""},{"$f":"UPPER(IFERROR(CONCATENATE(CONCAT!B14,CONCAT!C14)&(CONCAT!D14),\"\"))","v":""},{"$f":"IF(B4=\"\",\"\",'Order Form'!D26)","v":""},{"$f":"UPPER(IF('Order Form'!C26=\"\",\"\",'Order Form'!J26&'Order Form'!AM26&'Order Form'!AN26&'Order Form'!AO26))","v":""},{"$f":"IF('Order Form'!M26=0,IF('Order Form'!P26=0,\"\",'Order Form'!P26/'Order Form'!D26),'Order Form'!M26+('Order Form'!P26/'Order Form'!D26))","v":""},"",{"$f":"UPPER(IF(B4=\"\",\"\",CONCAT!$G$3))","v":""},{"$f":"UPPER(IF(B4=\"\",\"\",CONCAT!$G$4))","v":""},{"$f":"UPPER(IF(B4=\"\",\"\",CONCAT!$G$5))","v":""},{"$f":"UPPER(IF(B4=\"\",\"\",CONCAT!$G$6))","v":""},{"$f":"UPPER(IF(B4=\"\",\"\",CONCAT!$G$7))","v":""},{"$f":"UPPER(IF(B4=\"\",\"\",CONCAT!$G$2))","v":""},{"$f":"UPPER(IF(B4=\"\",\"\",CONCAT!$G$8))","v":""},"",{"$f":"UPPER(IF(B4=\"\",\"\",'Order Form'!$K$4))","v":""},{"$f":"UPPER(IF(B4=\"\",\"\",(UPPER(IF(CONCAT!$G$2=\"SELECT\",\"SELECT \"&CONCAT!$G$3,CONCAT!$G$1&Species!$G$6&'Door Style'!$I$6&Color!$Q$6&'Drawer Head'!$H$6&'Custom Finish'!$G$6)))))","v":""},null,{"$f":"IF(B4=\"\",\"\",CONCAT!$J$2)","v":""},{"$f":"IF(B4=\"\",\"\",CONCAT!$J$3)","v":""}]
[{"$f":"UPPER(IF(AND('Order Form'!$O$4=\"\",B5=\"\"),\"\",IF(B5=\"\",\"\",'Order Form'!$O$4)))","v":""},{"$f":"UPPER(IFERROR(CONCATENATE(CONCAT!B15,CONCAT!C15)&(CONCAT!D15),\"\"))","v":""},{"$f":"IF(B5=\"\",\"\",'Order Form'!D27)","v":""},{"$f":"UPPER(IF('Order Form'!C27=\"\",\"\",'Order Form'!J27&'Order Form'!AM27&'Order Form'!AN27&'Order Form'!AO27))","v":""},{"$f":"IF('Order Form'!M27=0,IF('Order Form'!P27=0,\"\",'Order Form'!P27/'Order Form'!D27),'Order Form'!M27+('Order Form'!P27/'Order Form'!D27))","v":""},"",{"$f":"UPPER(IF(B5=\"\",\"\",CONCAT!$G$3))","v":""},{"$f":"UPPER(IF(B5=\"\",\"\",CONCAT!$G$4))","v":""},{"$f":"UPPER(IF(B5=\"\",\"\",CONCAT!$G$5))","v":""},{"$f":"UPPER(IF(B5=\"\",\"\",CONCAT!$G$6))","v":""},{"$f":"UPPER(IF(B5=\"\",\"\",CONCAT!$G$7))","v":""},{"$f":"UPPER(IF(B5=\"\",\"\",CONCAT!$G$2))","v":""},{"$f":"UPPER(IF(B5=\"\",\"\",CONCAT!$G$8))","v":""},"",{"$f":"UPPER(IF(B5=\"\",\"\",'Order Form'!$K$4))","v":""},{"$f":"UPPER(IF(B5=\"\",\"\",(UPPER(IF(CONCAT!$G$2=\"SELECT\",\"SELECT \"&CONCAT!$G$3,CONCAT!$G$1&Species!$G$6&'Door Style'!$I$6&Color!$Q$6&'Drawer Head'!$H$6&'Custom Finish'!$G$6)))))","v":""},null,{"$f":"IF(B5=\"\",\"\",CONCAT!$J$2)","v":""},{"$f":"IF(B5=\"\",\"\",CONCAT!$J$3)","v":""}]
[{"$f":"UPPER(IF(AND('Order Form'!$O$4=\"\",B6=\"\"),\"\",IF(B6=\"\",\"\",'Order Form'!$O$4)))","v":""},{"$f":"UPPER(IFERROR(CONCATENATE(CONCAT!B16,CONCAT!C16)&(CONCAT!D16),\"\"))","v":""},{"$f":"IF(B6=\"\",\"\",'Order Form'!D28)","v":""},{"$f":"UPPER(IF('Order Form'!C28=\"\",\"\",'Order Form'!J28&'Order Form'!AM28&'Order Form'!AN28&'Order Form'!AO28))","v":""},{"$f":"IF('Order Form'!M28=0,IF('Order Form'!P28=0,\"\",'Order Form'!P28/'Order Form'!D28),'Order Form'!M28+('Order Form'!P28/'Order Form'!D28))","v":""},"",{"$f":"UPPER(IF(B6=\"\",\"\",CONCAT!$G$3))","v":""},{"$f":"UPPER(IF(B6=\"\",\"\",CONCAT!$G$4))","v":""},{"$f":"UPPER(IF(B6=\"\",\"\",CONCAT!$G$5))","v":""},{"$f":"UPPER(IF(B6=\"\",\"\",CONCAT!$G$6))","v":""},{"$f":"UPPER(IF(B6=\"\",\"\",CONCAT!$G$7))","v":""},{"$f":"UPPER(IF(B6=\"\",\"\",CONCAT!$G$2))","v":""},{"$f":"UPPER(IF(B6=\"\",\"\",CONCAT!$G$8))","v":""},"",{"$f":"UPPER(IF(B6=\"\",\"\",'Order Form'!$K$4))","v":""},{"$f":"UPPER(IF(B6=\"\",\"\",(UPPER(IF(CONCAT!$G$2=\"SELECT\",\"SELECT \"&CONCAT!$G$3,CONCAT!$G$1&Species!$G$6&'Door Style'!$I$6&Color!$Q$6&'Drawer Head'!$H$6&'Custom Finish'!$G$6)))))","v":""},null,{"$f":"IF(B6=\"\",\"\",CONCAT!$J$2)","v":""},{"$f":"IF(B6=\"\",\"\",CONCAT!$J$3)","v":""}]
[{"$f":"UPPER(IF(AND('Order Form'!$O$4=\"\",B7=\"\"),\"\",IF(B7=\"\",\"\",'Order Form'!$O$4)))","v":""},{"$f":"UPPER(IFERROR(CONCATENATE(CONCAT!B17,CONCAT!C17)&(CONCAT!D17),\"\"))","v":""},{"$f":"IF(B7=\"\",\"\",'Order Form'!D29)","v":""},{"$f":"UPPER(IF('Order Form'!C29=\"\",\"\",'Order Form'!J29&'Order Form'!AM29&'Order Form'!AN29&'Order Form'!AO29))","v":""},{"$f":"IF('Order Form'!M29=0,IF('Order Form'!P29=0,\"\",'Order Form'!P29/'Order Form'!D29),'Order Form'!M29+('Order Form'!P29/'Order Form'!D29))","v":""},"",{"$f":"UPPER(IF(B7=\"\",\"\",CONCAT!$G$3))","v":""},{"$f":"UPPER(IF(B7=\"\",\"\",CONCAT!$G$4))","v":""},{"$f":"UPPER(IF(B7=\"\",\"\",CONCAT!$G$5))","v":""},{"$f":"UPPER(IF(B7=\"\",\"\",CONCAT!$G$6))","v":""},{"$f":"UPPER(IF(B7=\"\",\"\",CONCAT!$G$7))","v":""},{"$f":"UPPER(IF(B7=\"\",\"\",CONCAT!$G$2))","v":""},{"$f":"UPPER(IF(B7=\"\",\"\",CONCAT!$G$8))","v":""},"",{"$f":"UPPER(IF(B7=\"\",\"\",'Order Form'!$K$4))","v":""},{"$f":"UPPER(IF(B7=\"\",\"\",(UPPER(IF(CONCAT!$G$2=\"SELECT\",\"SELECT \"&CONCAT!$G$3,CONCAT!$G$1&Species!$G$6&'Door Style'!$I$6&Color!$Q$6&'Drawer Head'!$H$6&'Custom Finish'!$G$6)))))","v":""},null,{"$f":"IF(B7=\"\",\"\",CONCAT!$J$2)","v":""},{"$f":"IF(B7=\"\",\"\",CONCAT!$J$3)","v":""}]
[{"$f":"UPPER(IF(AND('Order Form'!$O$4=\"\",B8=\"\"),\"\",IF(B8=\"\",\"\",'Order Form'!$O$4)))","v":""},{"$f":"UPPER(IFERROR(CONCATENATE(CONCAT!B18,CONCAT!C18)&(CONCAT!D18),\"\"))","v":""},{"$f":"IF(B8=\"\",\"\",'Order Form'!D30)","v":""},{"$f":"UPPER(IF('Order Form'!C30=\"\",\"\",'Order Form'!J30&'Order Form'!AM30&'Order Form'!AN30&'Order Form'!AO30))","v":""},{"$f":"IF('Order Form'!M30=0,IF('Order Form'!P30=0,\"\",'Order Form'!P30/'Order Form'!D30),'Order Form'!M30+('Order Form'!P30/'Order Form'!D30))","v":""},"",{"$f":"UPPER(IF(B8=\"\",\"\",CONCAT!$G$3))","v":""},{"$f":"UPPER(IF(B8=\"\",\"\",CONCAT!$G$4))","v":""},{"$f":"UPPER(IF(B8=\"\",\"\",CONCAT!$G$5))","v":""},{"$f":"UPPER(IF(B8=\"\",\"\",CONCAT!$G$6))","v":""},{"$f":"UPPER(IF(B8=\"\",\"\",CONCAT!$G$7))","v":""},{"$f":"UPPER(IF(B8=\"\",\"\",CONCAT!$G$2))","v":""},{"$f":"UPPER(IF(B8=\"\",\"\",CONCAT!$G$8))","v":""},"",{"$f":"UPPER(IF(B8=\"\",\"\",'Order Form'!$K$4))","v":""},{"$f":"UPPER(IF(B8=\"\",\"\",(UPPER(IF(CONCAT!$G$2=\"SELECT\",\"SELECT \"&CONCAT!$G$3,CONCAT!$G$1&Species!$G$6&'Door Style'!$I$6&Color!$Q$6&'Drawer Head'!$H$6&'Custom Finish'!$G$6)))))","v":""},null,{"$f":"IF(B8=\"\",\"\",CONCAT!$J$2)","v":""},{"$f":"IF(B8=\"\",\"\",CONCAT!$J$3)","v":""}]
[{"$f":"UPPER(IF(AND('Order Form'!$O$4=\"\",B9=\"\"),\"\",IF(B9=\"\",\"\",'Order Form'!$O$4)))","v":""},{"$f":"UPPER(IFERROR(CONCATENATE(CONCAT!B19,CONCAT!C19)&(CONCAT!D19),\"\"))","v":""},{"$f":"IF(B9=\"\",\"\",'Order Form'!D31)","v":""},{"$f":"UPPER(IF('Order Form'!C31=\"\",\"\",'Order Form'!J31&'Order Form'!AM31&'Order Form'!AN31&'Order Form'!AO31))","v":""},{"$f":"IF('Order Form'!M31=0,IF('Order Form'!P31=0,\"\",'Order Form'!P31/'Order Form'!D31),'Order Form'!M31+('Order Form'!P31/'Order Form'!D31))","v":""},"",{"$f":"UPPER(IF(B9=\"\",\"\",CONCAT!$G$3))","v":""},{"$f":"UPPER(IF(B9=\"\",\"\",CONCAT!$G$4))","v":""},{"$f":"UPPER(IF(B9=\"\",\"\",CONCAT!$G$5))","v":""},{"$f":"UPPER(IF(B9=\"\",\"\",CONCAT!$G$6))","v":""},{"$f":"UPPER(IF(B9=\"\",\"\",CONCAT!$G$7))","v":""},{"$f":"UPPER(IF(B9=\"\",\"\",CONCAT!$G$2))","v":""},{"$f":"UPPER(IF(B9=\"\",\"\",CONCAT!$G$8))","v":""},"",{"$f":"UPPER(IF(B9=\"\",\"\",'Order Form'!$K$4))","v":""},{"$f":"UPPER(IF(B9=\"\",\"\",(UPPER(IF(CONCAT!$G$2=\"SELECT\",\"SELECT \"&CONCAT!$G$3,CONCAT!$G$1&Species!$G$6&'Door Style'!$I$6&Color!$Q$6&'Drawer Head'!$H$6&'Custom Finish'!$G$6)))))","v":""},null,{"$f":"IF(B9=\"\",\"\",CONCAT!$J$2)","v":""},{"$f":"IF(B9=\"\",\"\",CONCAT!$J$3)","v":""}]
[{"$f":"UPPER(IF(AND('Order Form'!$O$4=\"\",B10=\"\"),\"\",IF(B10=\"\",\"\",'Order Form'!$O$4)))","v":""},{"$f":"UPPER(IFERROR(CONCATENATE(CONCAT!B20,CONCAT!C20)&(CONCAT!D20),\"\"))","v":""},{"$f":"IF(B10=\"\",\"\",'Order Form'!D32)","v":""},{"$f":"UPPER(IF('Order Form'!C32=\"\",\"\",'Order Form'!J32&'Order Form'!AM32&'Order Form'!AN32&'Order Form'!AO32))","v":""},{"$f":"IF('Order Form'!M32=0,IF('Order Form'!P32=0,\"\",'Order Form'!P32/'Order Form'!D32),'Order Form'!M32+('Order Form'!P32/'Order Form'!D32))","v":""},"",{"$f":"UPPER(IF(B10=\"\",\"\",CONCAT!$G$3))","v":""},{"$f":"UPPER(IF(B10=\"\",\"\",CONCAT!$G$4))","v":""},{"$f":"UPPER(IF(B10=\"\",\"\",CONCAT!$G$5))","v":""},{"$f":"UPPER(IF(B10=\"\",\"\",CONCAT!$G$6))","v":""},{"$f":"UPPER(IF(B10=\"\",\"\",CONCAT!$G$7))","v":""},{"$f":"UPPER(IF(B10=\"\",\"\",CONCAT!$G$2))","v":""},{"$f":"UPPER(IF(B10=\"\",\"\",CONCAT!$G$8))","v":""},"",{"$f":"UPPER(IF(B10=\"\",\"\",'Order Form'!$K$4))","v":""},{"$f":"UPPER(IF(B10=\"\",\"\",(UPPER(IF(CONCAT!$G$2=\"SELECT\",\"SELECT \"&CONCAT!$G$3,CONCAT!$G$1&Species!$G$6&'Door Style'!$I$6&Color!$Q$6&'Drawer Head'!$H$6&'Custom Finish'!$G$6)))))","v":""},null,{"$f":"IF(B10=\"\",\"\",CONCAT!$J$2)","v":""},{"$f":"IF(B10=\"\",\"\",CONCAT!$J$3)","v":""}]
[{"$f":"UPPER(IF(AND('Order Form'!$O$4=\"\",B11=\"\"),\"\",IF(B11=\"\",\"\",'Order Form'!$O$4)))","v":""},{"$f":"UPPER(IFERROR(CONCATENATE(CONCAT!B21,CONCAT!C21)&(CONCAT!D21),\"\"))","v":""},{"$f":"IF(B11=\"\",\"\",'Order Form'!D33)","v":""},{"$f":"UPPER(IF('Order Form'!C33=\"\",\"\",'Order Form'!J33&'Order Form'!AM33&'Order Form'!AN33&'Order Form'!AO33))","v":""},{"$f":"IF('Order Form'!M33=0,IF('Order Form'!P33=0,\"\",'Order Form'!P33/'Order Form'!D33),'Order Form'!M33+('Order Form'!P33/'Order Form'!D33))","v":""},"",{"$f":"UPPER(IF(B11=\"\",\"\",CONCAT!$G$3))","v":""},{"$f":"UPPER(IF(B11=\"\",\"\",CONCAT!$G$4))","v":""},{"$f":"UPPER(IF(B11=\"\",\"\",CONCAT!$G$5))","v":""},{"$f":"UPPER(IF(B11=\"\",\"\",CONCAT!$G$6))","v":""},{"$f":"UPPER(IF(B11=\"\",\"\",CONCAT!$G$7))","v":""},{"$f":"UPPER(IF(B11=\"\",\"\",CONCAT!$G$2))","v":""},{"$f":"UPPER(IF(B11=\"\",\"\",CONCAT!$G$8))","v":""},"",{"$f":"UPPER(IF(B11=\"\",\"\",'Order Form'!$K$4))","v":""},{"$f":"UPPER(IF(B11=\"\",\"\",(UPPER(IF(CONCAT!$G$2=\"SELECT\",\"SELECT \"&CONCAT!$G$3,CONCAT!$G$1&Species!$G$6&'Door Style'!$I$6&Color!$Q$6&'Drawer Head'!$H$6&'Custom Finish'!$G$6)))))","v":""},null,{"$f":"IF(B11=\"\",\"\",CONCAT!$J$2)","v":""},{"$f":"IF(B11=\"\",\"\",CONCAT!$J$3)","v":""}]
[{"$f":"UPPER(IF(AND('Order Form'!$O$4=\"\",B12=\"\"),\"\",IF(B12=\"\",\"\",'Order Form'!$O$4)))","v":""},{"$f":"UPPER(IFERROR(CONCATENATE(CONCAT!B22,CONCAT!C22)&(CONCAT!D22),\"\"))","v":""},{"$f":"IF(B12=\"\",\"\",'Order Form'!D34)","v":""},{"$f":"UPPER(IF('Order Form'!C34=\"\",\"\",'Order Form'!J34&'Order Form'!AM34&'Order Form'!AN34&'Order Form'!AO34))","v":""},{"$f":"IF('Order Form'!M34=0,IF('Order Form'!P34=0,\"\",'Order Form'!P34/'Order Form'!D34),'Order Form'!M34+('Order Form'!P34/'Order Form'!D34))","v":""},"",{"$f":"UPPER(IF(B12=\"\",\"\",CONCAT!$G$3))","v":""},{"$f":"UPPER(IF(B12=\"\",\"\",CONCAT!$G$4))","v":""},{"$f":"UPPER(IF(B12=\"\",\"\",CONCAT!$G$5))","v":""},{"$f":"UPPER(IF(B12=\"\",\"\",CONCAT!$G$6))","v":""},{"$f":"UPPER(IF(B12=\"\",\"\",CONCAT!$G$7))","v":""},{"$f":"UPPER(IF(B12=\"\",\"\",CONCAT!$G$2))","v":""},{"$f":"UPPER(IF(B12=\"\",\"\",CONCAT!$G$8))","v":""},"",{"$f":"UPPER(IF(B12=\"\",\"\",'Order Form'!$K$4))","v":""},{"$f":"UPPER(IF(B12=\"\",\"\",(UPPER(IF(CONCAT!$G$2=\"SELECT\",\"SELECT \"&CONCAT!$G$3,CONCAT!$G$1&Species!$G$6&'Door Style'!$I$6&Color!$Q$6&'Drawer Head'!$H$6&'Custom Finish'!$G$6)))))","v":""},null,{"$f":"IF(B12=\"\",\"\",CONCAT!$J$2)","v":""},{"$f":"IF(B12=\"\",\"\",CONCAT!$J$3)","v":""}]
[{"$f":"UPPER(IF(AND('Order Form'!$O$4=\"\",B13=\"\"),\"\",IF(B13=\"\",\"\",'Order Form'!$O$4)))","v":""},{"$f":"UPPER(IFERROR(CONCATENATE(CONCAT!B23,CONCAT!C23)&(CONCAT!D23),\"\"))","v":""},{"$f":"IF(B13=\"\",\"\",'Order Form'!D35)","v":""},{"$f":"UPPER(IF('Order Form'!C35=\"\",\"\",'Order Form'!J35&'Order Form'!AM35&'Order Form'!AN35&'Order Form'!AO35))","v":""},{"$f":"IF('Order Form'!M35=0,IF('Order Form'!P35=0,\"\",'Order Form'!P35/'Order Form'!D35),'Order Form'!M35+('Order Form'!P35/'Order Form'!D35))","v":""},"",{"$f":"UPPER(IF(B13=\"\",\"\",CONCAT!$G$3))","v":""},{"$f":"UPPER(IF(B13=\"\",\"\",CONCAT!$G$4))","v":""},{"$f":"UPPER(IF(B13=\"\",\"\",CONCAT!$G$5))","v":""},{"$f":"UPPER(IF(B13=\"\",\"\",CONCAT!$G$6))","v":""},{"$f":"UPPER(IF(B13=\"\",\"\",CONCAT!$G$7))","v":""},{"$f":"UPPER(IF(B13=\"\",\"\",CONCAT!$G$2))","v":""},{"$f":"UPPER(IF(B13=\"\",\"\",CONCAT!$G$8))","v":""},"",{"$f":"UPPER(IF(B13=\"\",\"\",'Order Form'!$K$4))","v":""},{"$f":"UPPER(IF(B13=\"\",\"\",(UPPER(IF(CONCAT!$G$2=\"SELECT\",\"SELECT \"&CONCAT!$G$3,CONCAT!$G$1&Species!$G$6&'Door Style'!$I$6&Color!$Q$6&'Drawer Head'!$H$6&'Custom Finish'!$G$6)))))","v":""},null,{"$f":"IF(B13=\"\",\"\",CONCAT!$J$2)","v":""},{"$f":"IF(B13=\"\",\"\",CONCAT!$J$3)","v":""}]
[{"$f":"UPPER(IF(AND('Order Form'!$O$4=\"\",B14=\"\"),\"\",IF(B14=\"\",\"\",'Order Form'!$O$4)))","v":""},{"$f":"UPPER(IFERROR(CONCATENATE(CONCAT!B24,CONCAT!C24)&(CONCAT!D24),\"\"))","v":""},{"$f":"IF(B14=\"\",\"\",'Order Form'!D36)","v":""},{"$f":"UPPER(IF('Order Form'!C36=\"\",\"\",'Order Form'!J36&'Order Form'!AM36&'Order Form'!AN36&'Order Form'!AO36))","v":""},{"$f":"IF('Order Form'!M36=0,IF('Order Form'!P36=0,\"\",'Order Form'!P36/'Order Form'!D36),'Order Form'!M36+('Order Form'!P36/'Order Form'!D36))","v":""},"",{"$f":"UPPER(IF(B14=\"\",\"\",CONCAT!$G$3))","v":""},{"$f":"UPPER(IF(B14=\"\",\"\",CONCAT!$G$4))","v":""},{"$f":"UPPER(IF(B14=\"\",\"\",CONCAT!$G$5))","v":""},{"$f":"UPPER(IF(B14=\"\",\"\",CONCAT!$G$6))","v":""},{"$f":"UPPER(IF(B14=\"\",\"\",CONCAT!$G$7))","v":""},{"$f":"UPPER(IF(B14=\"\",\"\",CONCAT!$G$2))","v":""},{"$f":"UPPER(IF(B14=\"\",\"\",CONCAT!$G$8))","v":""},"",{"$f":"UPPER(IF(B14=\"\",\"\",'Order Form'!$K$4))","v":""},{"$f":"UPPER(IF(B14=\"\",\"\",(UPPER(IF(CONCAT!$G$2=\"SELECT\",\"SELECT \"&CONCAT!$G$3,CONCAT!$G$1&Species!$G$6&'Door Style'!$I$6&Color!$Q$6&'Drawer Head'!$H$6&'Custom Finish'!$G$6)))))","v":""},null,{"$f":"IF(B14=\"\",\"\",CONCAT!$J$2)","v":""},{"$f":"IF(B14=\"\",\"\",CONCAT!$J$3)","v":""}]
[{"$f":"UPPER(IF(AND('Order Form'!$O$4=\"\",B15=\"\"),\"\",IF(B15=\"\",\"\",'Order Form'!$O$4)))","v":""},{"$f":"UPPER(IFERROR(CONCATENATE(CONCAT!B25,CONCAT!C25)&(CONCAT!D25),\"\"))","v":""},{"$f":"IF(B15=\"\",\"\",'Order Form'!D37)","v":""},{"$f":"UPPER(IF('Order Form'!C37=\"\",\"\",'Order Form'!J37&'Order Form'!AM37&'Order Form'!AN37&'Order Form'!AO37))","v":""},{"$f":"IF('Order Form'!M37=0,IF('Order Form'!P37=0,\"\",'Order Form'!P37/'Order Form'!D37),'Order Form'!M37+('Order Form'!P37/'Order Form'!D37))","v":""},"",{"$f":"UPPER(IF(B15=\"\",\"\",CONCAT!$G$3))","v":""},{"$f":"UPPER(IF(B15=\"\",\"\",CONCAT!$G$4))","v":""},{"$f":"UPPER(IF(B15=\"\",\"\",CONCAT!$G$5))","v":""},{"$f":"UPPER(IF(B15=\"\",\"\",CONCAT!$G$6))","v":""},{"$f":"UPPER(IF(B15=\"\",\"\",CONCAT!$G$7))","v":""},{"$f":"UPPER(IF(B15=\"\",\"\",CONCAT!$G$2))","v":""},{"$f":"UPPER(IF(B15=\"\",\"\",CONCAT!$G$8))","v":""},"",{"$f":"UPPER(IF(B15=\"\",\"\",'Order Form'!$K$4))","v":""},{"$f":"UPPER(IF(B15=\"\",\"\",(UPPER(IF(CONCAT!$G$2=\"SELECT\",\"SELECT \"&CONCAT!$G$3,CONCAT!$G$1&Species!$G$6&'Door Style'!$I$6&Color!$Q$6&'Drawer Head'!$H$6&'Custom Finish'!$G$6)))))","v":""},null,{"$f":"IF(B15=\"\",\"\",CONCAT!$J$2)","v":""},{"$f":"IF(B15=\"\",\"\",CONCAT!$J$3)","v":""}]
[{"$f":"UPPER(IF(AND('Order Form'!$O$4=\"\",B16=\"\"),\"\",IF(B16=\"\",\"\",'Order Form'!$O$4)))","v":""},{"$f":"UPPER(IFERROR(CONCATENATE(CONCAT!B26,CONCAT!C26)&(CONCAT!D26),\"\"))","v":""},{"$f":"IF(B16=\"\",\"\",'Order Form'!D38)","v":""},{"$f":"UPPER(IF('Order Form'!C38=\"\",\"\",'Order Form'!J38&'Order Form'!AM38&'Order Form'!AN38&'Order Form'!AO38))","v":""},{"$f":"IF('Order Form'!M38=0,IF('Order Form'!P38=0,\"\",'Order Form'!P38/'Order Form'!D38),'Order Form'!M38+('Order Form'!P38/'Order Form'!D38))","v":""},"",{"$f":"UPPER(IF(B16=\"\",\"\",CONCAT!$G$3))","v":""},{"$f":"UPPER(IF(B16=\"\",\"\",CONCAT!$G$4))","v":""},{"$f":"UPPER(IF(B16=\"\",\"\",CONCAT!$G$5))","v":""},{"$f":"UPPER(IF(B16=\"\",\"\",CONCAT!$G$6))","v":""},{"$f":"UPPER(IF(B16=\"\",\"\",CONCAT!$G$7))","v":""},{"$f":"UPPER(IF(B16=\"\",\"\",CONCAT!$G$2))","v":""},{"$f":"UPPER(IF(B16=\"\",\"\",CONCAT!$G$8))","v":""},"",{"$f":"UPPER(IF(B16=\"\",\"\",'Order Form'!$K$4))","v":""},{"$f":"UPPER(IF(B16=\"\",\"\",(UPPER(IF(CONCAT!$G$2=\"SELECT\",\"SELECT \"&CONCAT!$G$3,CONCAT!$G$1&Species!$G$6&'Door Style'!$I$6&Color!$Q$6&'Drawer Head'!$H$6&'Custom Finish'!$G$6)))))","v":""},null,{"$f":"IF(B16=\"\",\"\",CONCAT!$J$2)","v":""},{"$f":"IF(B16=\"\",\"\",CONCAT!$J$3)","v":""}]
[{"$f":"UPPER(IF(AND('Order Form'!$O$4=\"\",B17=\"\"),\"\",IF(B17=\"\",\"\",'Order Form'!$O$4)))","v":""},{"$f":"UPPER(IFERROR(CONCATENATE(CONCAT!B27,CONCAT!C27)&(CONCAT!D27),\"\"))","v":""},{"$f":"IF(B17=\"\",\"\",'Order Form'!D39)","v":""},{"$f":"UPPER(IF('Order Form'!C39=\"\",\"\",'Order Form'!J39&'Order Form'!AM39&'Order Form'!AN39&'Order Form'!AO39))","v":""},{"$f":"IF('Order Form'!M39=0,IF('Order Form'!P39=0,\"\",'Order Form'!P39/'Order Form'!D39),'Order Form'!M39+('Order Form'!P39/'Order Form'!D39))","v":""},"",{"$f":"UPPER(IF(B17=\"\",\"\",CONCAT!$G$3))","v":""},{"$f":"UPPER(IF(B17=\"\",\"\",CONCAT!$G$4))","v":""},{"$f":"UPPER(IF(B17=\"\",\"\",CONCAT!$G$5))","v":""},{"$f":"UPPER(IF(B17=\"\",\"\",CONCAT!$G$6))","v":""},{"$f":"UPPER(IF(B17=\"\",\"\",CONCAT!$G$7))","v":""},{"$f":"UPPER(IF(B17=\"\",\"\",CONCAT!$G$2))","v":""},{"$f":"UPPER(IF(B17=\"\",\"\",CONCAT!$G$8))","v":""},"",{"$f":"UPPER(IF(B17=\"\",\"\",'Order Form'!$K$4))","v":""},{"$f":"UPPER(IF(B17=\"\",\"\",(UPPER(IF(CONCAT!$G$2=\"SELECT\",\"SELECT \"&CONCAT!$G$3,CONCAT!$G$1&Species!$G$6&'Door Style'!$I$6&Color!$Q$6&'Drawer Head'!$H$6&'Custom Finish'!$G$6)))))","v":""},null,{"$f":"IF(B17=\"\",\"\",CONCAT!$J$2)","v":""},{"$f":"IF(B17=\"\",\"\",CONCAT!$J$3)","v":""}]
[{"$f":"UPPER(IF(AND('Order Form'!$O$4=\"\",B18=\"\"),\"\",IF(B18=\"\",\"\",'Order Form'!$O$4)))","v":""},{"$f":"UPPER(IFERROR(CONCATENATE(CONCAT!B28,CONCAT!C28)&(CONCAT!D28),\"\"))","v":""},{"$f":"IF(B18=\"\",\"\",'Order Form'!D40)","v":""},{"$f":"UPPER(IF('Order Form'!C40=\"\",\"\",'Order Form'!J40&'Order Form'!AM40&'Order Form'!AN40&'Order Form'!AO40))","v":""},{"$f":"IF('Order Form'!M40=0,IF('Order Form'!P40=0,\"\",'Order Form'!P40/'Order Form'!D40),'Order Form'!M40+('Order Form'!P40/'Order Form'!D40))","v":""},"",{"$f":"UPPER(IF(B18=\"\",\"\",CONCAT!$G$3))","v":""},{"$f":"UPPER(IF(B18=\"\",\"\",CONCAT!$G$4))","v":""},{"$f":"UPPER(IF(B18=\"\",\"\",CONCAT!$G$5))","v":""},{"$f":"UPPER(IF(B18=\"\",\"\",CONCAT!$G$6))","v":""},{"$f":"UPPER(IF(B18=\"\",\"\",CONCAT!$G$7))","v":""},{"$f":"UPPER(IF(B18=\"\",\"\",CONCAT!$G$2))","v":""},{"$f":"UPPER(IF(B18=\"\",\"\",CONCAT!$G$8))","v":""},"",{"$f":"UPPER(IF(B18=\"\",\"\",'Order Form'!$K$4))","v":""},{"$f":"UPPER(IF(B18=\"\",\"\",(UPPER(IF(CONCAT!$G$2=\"SELECT\",\"SELECT \"&CONCAT!$G$3,CONCAT!$G$1&Species!$G$6&'Door Style'!$I$6&Color!$Q$6&'Drawer Head'!$H$6&'Custom Finish'!$G$6)))))","v":""},null,{"$f":"IF(B18=\"\",\"\",CONCAT!$J$2)","v":""},{"$f":"IF(B18=\"\",\"\",CONCAT!$J$3)","v":""}]
[{"$f":"UPPER(IF(AND('Order Form'!$O$4=\"\",B19=\"\"),\"\",IF(B19=\"\",\"\",'Order Form'!$O$4)))","v":""},{"$f":"UPPER(IFERROR(CONCATENATE(CONCAT!B29,CONCAT!C29)&(CONCAT!D29),\"\"))","v":""},{"$f":"IF(B19=\"\",\"\",'Order Form'!D41)","v":""},{"$f":"UPPER(IF('Order Form'!C41=\"\",\"\",'Order Form'!J41&'Order Form'!AM41&'Order Form'!AN41&'Order Form'!AO41))","v":""},{"$f":"IF('Order Form'!M41=0,IF('Order Form'!P41=0,\"\",'Order Form'!P41/'Order Form'!D41),'Order Form'!M41+('Order Form'!P41/'Order Form'!D41))","v":""},"",{"$f":"UPPER(IF(B19=\"\",\"\",CONCAT!$G$3))","v":""},{"$f":"UPPER(IF(B19=\"\",\"\",CONCAT!$G$4))","v":""},{"$f":"UPPER(IF(B19=\"\",\"\",CONCAT!$G$5))","v":""},{"$f":"UPPER(IF(B19=\"\",\"\",CONCAT!$G$6))","v":""},{"$f":"UPPER(IF(B19=\"\",\"\",CONCAT!$G$7))","v":""},{"$f":"UPPER(IF(B19=\"\",\"\",CONCAT!$G$2))","v":""},{"$f":"UPPER(IF(B19=\"\",\"\",CONCAT!$G$8))","v":""},"",{"$f":"UPPER(IF(B19=\"\",\"\",'Order Form'!$K$4))","v":""},{"$f":"UPPER(IF(B19=\"\",\"\",(UPPER(IF(CONCAT!$G$2=\"SELECT\",\"SELECT \"&CONCAT!$G$3,CONCAT!$G$1&Species!$G$6&'Door Style'!$I$6&Color!$Q$6&'Drawer Head'!$H$6&'Custom Finish'!$G$6)))))","v":""},null,{"$f":"IF(B19=\"\",\"\",CONCAT!$J$2)","v":""},{"$f":"IF(B19=\"\",\"\",CONCAT!$J$3)","v":""}]
[{"$f":"UPPER(IF(AND('Order Form'!$O$4=\"\",B20=\"\"),\"\",IF(B20=\"\",\"\",'Order Form'!$O$4)))","v":""},{"$f":"UPPER(IFERROR(CONCATENATE(CONCAT!B30,CONCAT!C30)&(CONCAT!D30),\"\"))","v":""},{"$f":"IF(B20=\"\",\"\",'Order Form'!D42)","v":""},{"$f":"UPPER(IF('Order Form'!C42=\"\",\"\",'Order Form'!J42&'Order Form'!AM42&'Order Form'!AN42&'Order Form'!AO42))","v":""},{"$f":"IF('Order Form'!M42=0,IF('Order Form'!P42=0,\"\",'Order Form'!P42/'Order Form'!D42),'Order Form'!M42+('Order Form'!P42/'Order Form'!D42))","v":""},"",{"$f":"UPPER(IF(B20=\"\",\"\",CONCAT!$G$3))","v":""},{"$f":"UPPER(IF(B20=\"\",\"\",CONCAT!$G$4))","v":""},{"$f":"UPPER(IF(B20=\"\",\"\",CONCAT!$G$5))","v":""},{"$f":"UPPER(IF(B20=\"\",\"\",CONCAT!$G$6))","v":""},{"$f":"UPPER(IF(B20=\"\",\"\",CONCAT!$G$7))","v":""},{"$f":"UPPER(IF(B20=\"\",\"\",CONCAT!$G$2))","v":""},{"$f":"UPPER(IF(B20=\"\",\"\",CONCAT!$G$8))","v":""},"",{"$f":"UPPER(IF(B20=\"\",\"\",'Order Form'!$K$4))","v":""},{"$f":"UPPER(IF(B20=\"\",\"\",(UPPER(IF(CONCAT!$G$2=\"SELECT\",\"SELECT \"&CONCAT!$G$3,CONCAT!$G$1&Species!$G$6&'Door Style'!$I$6&Color!$Q$6&'Drawer Head'!$H$6&'Custom Finish'!$G$6)))))","v":""},null,{"$f":"IF(B20=\"\",\"\",CONCAT!$J$2)","v":""},{"$f":"IF(B20=\"\",\"\",CONCAT!$J$3)","v":""}]
[{"$f":"UPPER(IF(AND('Order Form'!$O$4=\"\",B21=\"\"),\"\",IF(B21=\"\",\"\",'Order Form'!$O$4)))","v":""},{"$f":"UPPER(IFERROR(CONCATENATE(CONCAT!B31,CONCAT!C31)&(CONCAT!D31),\"\"))","v":""},{"$f":"IF(B21=\"\",\"\",'Order Form'!D43)","v":""},{"$f":"UPPER(IF('Order Form'!C43=\"\",\"\",'Order Form'!J43&'Order Form'!AM43&'Order Form'!AN43&'Order Form'!AO43))","v":""},{"$f":"IF('Order Form'!M43=0,IF('Order Form'!P43=0,\"\",'Order Form'!P43/'Order Form'!D43),'Order Form'!M43+('Order Form'!P43/'Order Form'!D43))","v":""},"",{"$f":"UPPER(IF(B21=\"\",\"\",CONCAT!$G$3))","v":""},{"$f":"UPPER(IF(B21=\"\",\"\",CONCAT!$G$4))","v":""},{"$f":"UPPER(IF(B21=\"\",\"\",CONCAT!$G$5))","v":""},{"$f":"UPPER(IF(B21=\"\",\"\",CONCAT!$G$6))","v":""},{"$f":"UPPER(IF(B21=\"\",\"\",CONCAT!$G$7))","v":""},{"$f":"UPPER(IF(B21=\"\",\"\",CONCAT!$G$2))","v":""},{"$f":"UPPER(IF(B21=\"\",\"\",CONCAT!$G$8))","v":""},"",{"$f":"UPPER(IF(B21=\"\",\"\",'Order Form'!$K$4))","v":""},{"$f":"UPPER(IF(B21=\"\",\"\",(UPPER(IF(CONCAT!$G$2=\"SELECT\",\"SELECT \"&CONCAT!$G$3,CONCAT!$G$1&Species!$G$6&'Door Style'!$I$6&Color!$Q$6&'Drawer Head'!$H$6&'Custom Finish'!$G$6)))))","v":""},null,{"$f":"IF(B21=\"\",\"\",CONCAT!$J$2)","v":""},{"$f":"IF(B21=\"\",\"\",CONCAT!$J$3)","v":""}]
[{"$f":"UPPER(IF(AND('Order Form'!$O$4=\"\",B22=\"\"),\"\",IF(B22=\"\",\"\",'Order Form'!$O$4)))","v":""},{"$f":"UPPER(IFERROR(CONCATENATE(CONCAT!B32,CONCAT!C32)&(CONCAT!D32),\"\"))","v":""},{"$f":"IF(B22=\"\",\"\",'Order Form'!D44)","v":""},{"$f":"UPPER(IF('Order Form'!C44=\"\",\"\",'Order Form'!J44&'Order Form'!AM44&'Order Form'!AN44&'Order Form'!AO44))","v":""},{"$f":"IF('Order Form'!M44=0,IF('Order Form'!P44=0,\"\",'Order Form'!P44/'Order Form'!D44),'Order Form'!M44+('Order Form'!P44/'Order Form'!D44))","v":""},"",{"$f":"UPPER(IF(B22=\"\",\"\",CONCAT!$G$3))","v":""},{"$f":"UPPER(IF(B22=\"\",\"\",CONCAT!$G$4))","v":""},{"$f":"UPPER(IF(B22=\"\",\"\",CONCAT!$G$5))","v":""},{"$f":"UPPER(IF(B22=\"\",\"\",CONCAT!$G$6))","v":""},{"$f":"UPPER(IF(B22=\"\",\"\",CONCAT!$G$7))","v":""},{"$f":"UPPER(IF(B22=\"\",\"\",CONCAT!$G$2))","v":""},{"$f":"UPPER(IF(B22=\"\",\"\",CONCAT!$G$8))","v":""},"",{"$f":"UPPER(IF(B22=\"\",\"\",'Order Form'!$K$4))","v":""},{"$f":"UPPER(IF(B22=\"\",\"\",(UPPER(IF(CONCAT!$G$2=\"SELECT\",\"SELECT \"&CONCAT!$G$3,CONCAT!$G$1&Species!$G$6&'Door Style'!$I$6&Color!$Q$6&'Drawer Head'!$H$6&'Custom Finish'!$G$6)))))","v":""},null,{"$f":"IF(B22=\"\",\"\",CONCAT!$J$2)","v":""},{"$f":"IF(B22=\"\",\"\",CONCAT!$J$3)","v":""}]
[{"$f":"UPPER(IF(AND('Order Form'!$O$4=\"\",B23=\"\"),\"\",IF(B23=\"\",\"\",'Order Form'!$O$4)))","v":""},{"$f":"UPPER(IFERROR(CONCATENATE(CONCAT!B33,CONCAT!C33)&(CONCAT!D33),\"\"))","v":""},{"$f":"IF(B23=\"\",\"\",'Order Form'!D45)","v":""},{"$f":"UPPER(IF('Order Form'!C45=\"\",\"\",'Order Form'!J45&'Order Form'!AM45&'Order Form'!AN45&'Order Form'!AO45))","v":""},{"$f":"IF('Order Form'!M45=0,IF('Order Form'!P45=0,\"\",'Order Form'!P45/'Order Form'!D45),'Order Form'!M45+('Order Form'!P45/'Order Form'!D45))","v":""},"",{"$f":"UPPER(IF(B23=\"\",\"\",CONCAT!$G$3))","v":""},{"$f":"UPPER(IF(B23=\"\",\"\",CONCAT!$G$4))","v":""},{"$f":"UPPER(IF(B23=\"\",\"\",CONCAT!$G$5))","v":""},{"$f":"UPPER(IF(B23=\"\",\"\",CONCAT!$G$6))","v":""},{"$f":"UPPER(IF(B23=\"\",\"\",CONCAT!$G$7))","v":""},{"$f":"UPPER(IF(B23=\"\",\"\",CONCAT!$G$2))","v":""},{"$f":"UPPER(IF(B23=\"\",\"\",CONCAT!$G$8))","v":""},"",{"$f":"UPPER(IF(B23=\"\",\"\",'Order Form'!$K$4))","v":""},{"$f":"UPPER(IF(B23=\"\",\"\",(UPPER(IF(CONCAT!$G$2=\"SELECT\",\"SELECT \"&CONCAT!$G$3,CONCAT!$G$1&Species!$G$6&'Door Style'!$I$6&Color!$Q$6&'Drawer Head'!$H$6&'Custom Finish'!$G$6)))))","v":""},null,{"$f":"IF(B23=\"\",\"\",CONCAT!$J$2)","v":""},{"$f":"IF(B23=\"\",\"\",CONCAT!$J$3)","v":""}]
[{"$f":"UPPER(IF(AND('Order Form'!$O$4=\"\",B24=\"\"),\"\",IF(B24=\"\",\"\",'Order Form'!$O$4)))","v":""},{"$f":"UPPER(IFERROR(CONCATENATE(CONCAT!B34,CONCAT!C34)&(CONCAT!D34),\"\"))","v":""},{"$f":"IF(B24=\"\",\"\",'Order Form'!D46)","v":""},{"$f":"UPPER(IF('Order Form'!C46=\"\",\"\",'Order Form'!J46&'Order Form'!AM46&'Order Form'!AN46&'Order Form'!AO46))","v":""},{"$f":"IF('Order Form'!M46=0,IF('Order Form'!P46=0,\"\",'Order Form'!P46/'Order Form'!D46),'Order Form'!M46+('Order Form'!P46/'Order Form'!D46))","v":""},"",{"$f":"UPPER(IF(B24=\"\",\"\",CONCAT!$G$3))","v":""},{"$f":"UPPER(IF(B24=\"\",\"\",CONCAT!$G$4))","v":""},{"$f":"UPPER(IF(B24=\"\",\"\",CONCAT!$G$5))","v":""},{"$f":"UPPER(IF(B24=\"\",\"\",CONCAT!$G$6))","v":""},{"$f":"UPPER(IF(B24=\"\",\"\",CONCAT!$G$7))","v":""},{"$f":"UPPER(IF(B24=\"\",\"\",CONCAT!$G$2))","v":""},{"$f":"UPPER(IF(B24=\"\",\"\",CONCAT!$G$8))","v":""},"",{"$f":"UPPER(IF(B24=\"\",\"\",'Order Form'!$K$4))","v":""},{"$f":"UPPER(IF(B24=\"\",\"\",(UPPER(IF(CONCAT!$G$2=\"SELECT\",\"SELECT \"&CONCAT!$G$3,CONCAT!$G$1&Species!$G$6&'Door Style'!$I$6&Color!$Q$6&'Drawer Head'!$H$6&'Custom Finish'!$G$6)))))","v":""},null,{"$f":"IF(B24=\"\",\"\",CONCAT!$J$2)","v":""},{"$f":"IF(B24=\"\",\"\",CONCAT!$J$3)","v":""}]
[{"$f":"UPPER(IF(AND('Order Form'!$O$4=\"\",B25=\"\"),\"\",IF(B25=\"\",\"\",'Order Form'!$O$4)))","v":""},{"$f":"UPPER(IFERROR(CONCATENATE(CONCAT!B35,CONCAT!C35)&(CONCAT!D35),\"\"))","v":""},{"$f":"IF(B25=\"\",\"\",'Order Form'!D47)","v":""},{"$f":"UPPER(IF('Order Form'!C47=\"\",\"\",'Order Form'!J47&'Order Form'!AM47&'Order Form'!AN47&'Order Form'!AO47))","v":""},{"$f":"IF('Order Form'!M47=0,IF('Order Form'!P47=0,\"\",'Order Form'!P47/'Order Form'!D47),'Order Form'!M47+('Order Form'!P47/'Order Form'!D47))","v":""},"",{"$f":"UPPER(IF(B25=\"\",\"\",CONCAT!$G$3))","v":""},{"$f":"UPPER(IF(B25=\"\",\"\",CONCAT!$G$4))","v":""},{"$f":"UPPER(IF(B25=\"\",\"\",CONCAT!$G$5))","v":""},{"$f":"UPPER(IF(B25=\"\",\"\",CONCAT!$G$6))","v":""},{"$f":"UPPER(IF(B25=\"\",\"\",CONCAT!$G$7))","v":""},{"$f":"UPPER(IF(B25=\"\",\"\",CONCAT!$G$2))","v":""},{"$f":"UPPER(IF(B25=\"\",\"\",CONCAT!$G$8))","v":""},"",{"$f":"UPPER(IF(B25=\"\",\"\",'Order Form'!$K$4))","v":""},{"$f":"UPPER(IF(B25=\"\",\"\",(UPPER(IF(CONCAT!$G$2=\"SELECT\",\"SELECT \"&CONCAT!$G$3,CONCAT!$G$1&Species!$G$6&'Door Style'!$I$6&Color!$Q$6&'Drawer Head'!$H$6&'Custom Finish'!$G$6)))))","v":""},null,{"$f":"IF(B25=\"\",\"\",CONCAT!$J$2)","v":""},{"$f":"IF(B25=\"\",\"\",CONCAT!$J$3)","v":""}]
[{"$f":"UPPER(IF(AND('Order Form'!$O$4=\"\",B26=\"\"),\"\",IF(B26=\"\",\"\",'Order Form'!$O$4)))","v":""},{"$f":"UPPER(IFERROR(CONCATENATE(CONCAT!B36,CONCAT!C36)&(CONCAT!D36),\"\"))","v":""},{"$f":"IF(B26=\"\",\"\",'Order Form'!D48)","v":""},{"$f":"UPPER(IF('Order Form'!C48=\"\",\"\",'Order Form'!J48&'Order Form'!AM48&'Order Form'!AN48&'Order Form'!AO48))","v":""},{"$f":"IF('Order Form'!M48=0,IF('Order Form'!P48=0,\"\",'Order Form'!P48/'Order Form'!D48),'Order Form'!M48+('Order Form'!P48/'Order Form'!D48))","v":""},"",{"$f":"UPPER(IF(B26=\"\",\"\",CONCAT!$G$3))","v":""},{"$f":"UPPER(IF(B26=\"\",\"\",CONCAT!$G$4))","v":""},{"$f":"UPPER(IF(B26=\"\",\"\",CONCAT!$G$5))","v":""},{"$f":"UPPER(IF(B26=\"\",\"\",CONCAT!$G$6))","v":""},{"$f":"UPPER(IF(B26=\"\",\"\",CONCAT!$G$7))","v":""},{"$f":"UPPER(IF(B26=\"\",\"\",CONCAT!$G$2))","v":""},{"$f":"UPPER(IF(B26=\"\",\"\",CONCAT!$G$8))","v":""},"",{"$f":"UPPER(IF(B26=\"\",\"\",'Order Form'!$K$4))","v":""},{"$f":"UPPER(IF(B26=\"\",\"\",(UPPER(IF(CONCAT!$G$2=\"SELECT\",\"SELECT \"&CONCAT!$G$3,CONCAT!$G$1&Species!$G$6&'Door Style'!$I$6&Color!$Q$6&'Drawer Head'!$H$6&'Custom Finish'!$G$6)))))","v":""},null,{"$f":"IF(B26=\"\",\"\",CONCAT!$J$2)","v":""},{"$f":"IF(B26=\"\",\"\",CONCAT!$J$3)","v":""}]
[{"$f":"UPPER(IF(AND('Order Form'!$O$4=\"\",B27=\"\"),\"\",IF(B27=\"\",\"\",'Order Form'!$O$4)))","v":""},{"$f":"UPPER(IFERROR(CONCATENATE(CONCAT!B37,CONCAT!C37)&(CONCAT!D37),\"\"))","v":""},{"$f":"IF(B27=\"\",\"\",'Order Form'!D49)","v":""},{"$f":"UPPER(IF('Order Form'!C49=\"\",\"\",'Order Form'!J49&'Order Form'!AM49&'Order Form'!AN49&'Order Form'!AO49))","v":""},{"$f":"IF('Order Form'!M49=0,IF('Order Form'!P49=0,\"\",'Order Form'!P49/'Order Form'!D49),'Order Form'!M49+('Order Form'!P49/'Order Form'!D49))","v":""},"",{"$f":"UPPER(IF(B27=\"\",\"\",CONCAT!$G$3))","v":""},{"$f":"UPPER(IF(B27=\"\",\"\",CONCAT!$G$4))","v":""},{"$f":"UPPER(IF(B27=\"\",\"\",CONCAT!$G$5))","v":""},{"$f":"UPPER(IF(B27=\"\",\"\",CONCAT!$G$6))","v":""},{"$f":"UPPER(IF(B27=\"\",\"\",CONCAT!$G$7))","v":""},{"$f":"UPPER(IF(B27=\"\",\"\",CONCAT!$G$2))","v":""},{"$f":"UPPER(IF(B27=\"\",\"\",CONCAT!$G$8))","v":""},"",{"$f":"UPPER(IF(B27=\"\",\"\",'Order Form'!$K$4))","v":""},{"$f":"UPPER(IF(B27=\"\",\"\",(UPPER(IF(CONCAT!$G$2=\"SELECT\",\"SELECT \"&CONCAT!$G$3,CONCAT!$G$1&Species!$G$6&'Door Style'!$I$6&Color!$Q$6&'Drawer Head'!$H$6&'Custom Finish'!$G$6)))))","v":""},null,{"$f":"IF(B27=\"\",\"\",CONCAT!$J$2)","v":""},{"$f":"IF(B27=\"\",\"\",CONCAT!$J$3)","v":""}]
[{"$f":"UPPER(IF(AND('Order Form'!$O$4=\"\",B28=\"\"),\"\",IF(B28=\"\",\"\",'Order Form'!$O$4)))","v":""},{"$f":"UPPER(IFERROR(CONCATENATE(CONCAT!B38,CONCAT!C38)&(CONCAT!D38),\"\"))","v":""},{"$f":"IF(B28=\"\",\"\",'Order Form'!D50)","v":""},{"$f":"UPPER(IF('Order Form'!C50=\"\",\"\",'Order Form'!J50&'Order Form'!AM50&'Order Form'!AN50&'Order Form'!AO50))","v":""},{"$f":"IF('Order Form'!M50=0,IF('Order Form'!P50=0,\"\",'Order Form'!P50/'Order Form'!D50),'Order Form'!M50+('Order Form'!P50/'Order Form'!D50))","v":""},"",{"$f":"UPPER(IF(B28=\"\",\"\",CONCAT!$G$3))","v":""},{"$f":"UPPER(IF(B28=\"\",\"\",CONCAT!$G$4))","v":""},{"$f":"UPPER(IF(B28=\"\",\"\",CONCAT!$G$5))","v":""},{"$f":"UPPER(IF(B28=\"\",\"\",CONCAT!$G$6))","v":""},{"$f":"UPPER(IF(B28=\"\",\"\",CONCAT!$G$7))","v":""},{"$f":"UPPER(IF(B28=\"\",\"\",CONCAT!$G$2))","v":""},{"$f":"UPPER(IF(B28=\"\",\"\",CONCAT!$G$8))","v":""},"",{"$f":"UPPER(IF(B28=\"\",\"\",'Order Form'!$K$4))","v":""},{"$f":"UPPER(IF(B28=\"\",\"\",(UPPER(IF(CONCAT!$G$2=\"SELECT\",\"SELECT \"&CONCAT!$G$3,CONCAT!$G$1&Species!$G$6&'Door Style'!$I$6&Color!$Q$6&'Drawer Head'!$H$6&'Custom Finish'!$G$6)))))","v":""},null,{"$f":"IF(B28=\"\",\"\",CONCAT!$J$2)","v":""},{"$f":"IF(B28=\"\",\"\",CONCAT!$J$3)","v":""}]
[{"$f":"UPPER(IF(AND('Order Form'!$O$4=\"\",B29=\"\"),\"\",IF(B29=\"\",\"\",'Order Form'!$O$4)))","v":""},{"$f":"UPPER(IFERROR(CONCATENATE(CONCAT!B39,CONCAT!C39)&(CONCAT!D39),\"\"))","v":""},{"$f":"IF(B29=\"\",\"\",'Order Form'!D51)","v":""},{"$f":"UPPER(IF('Order Form'!C51=\"\",\"\",'Order Form'!J51&'Order Form'!AM51&'Order Form'!AN51&'Order Form'!AO51))","v":""},{"$f":"IF('Order Form'!M51=0,IF('Order Form'!P51=0,\"\",'Order Form'!P51/'Order Form'!D51),'Order Form'!M51+('Order Form'!P51/'Order Form'!D51))","v":""},"",{"$f":"UPPER(IF(B29=\"\",\"\",CONCAT!$G$3))","v":""},{"$f":"UPPER(IF(B29=\"\",\"\",CONCAT!$G$4))","v":""},{"$f":"UPPER(IF(B29=\"\",\"\",CONCAT!$G$5))","v":""},{"$f":"UPPER(IF(B29=\"\",\"\",CONCAT!$G$6))","v":""},{"$f":"UPPER(IF(B29=\"\",\"\",CONCAT!$G$7))","v":""},{"$f":"UPPER(IF(B29=\"\",\"\",CONCAT!$G$2))","v":""},{"$f":"UPPER(IF(B29=\"\",\"\",CONCAT!$G$8))","v":""},"",{"$f":"UPPER(IF(B29=\"\",\"\",'Order Form'!$K$4))","v":""},{"$f":"UPPER(IF(B29=\"\",\"\",(UPPER(IF(CONCAT!$G$2=\"SELECT\",\"SELECT \"&CONCAT!$G$3,CONCAT!$G$1&Species!$G$6&'Door Style'!$I$6&Color!$Q$6&'Drawer Head'!$H$6&'Custom Finish'!$G$6)))))","v":""},null,{"$f":"IF(B29=\"\",\"\",CONCAT!$J$2)","v":""},{"$f":"IF(B29=\"\",\"\",CONCAT!$J$3)","v":""}]
[{"$f":"UPPER(IF(AND('Order Form'!$O$4=\"\",B30=\"\"),\"\",IF(B30=\"\",\"\",'Order Form'!$O$4)))","v":""},{"$f":"UPPER(IFERROR(CONCATENATE(CONCAT!B40,CONCAT!C40)&(CONCAT!D40),\"\"))","v":""},{"$f":"IF(B30=\"\",\"\",'Order Form'!D52)","v":""},{"$f":"UPPER(IF('Order Form'!C52=\"\",\"\",'Order Form'!J52&'Order Form'!AM52&'Order Form'!AN52&'Order Form'!AO52))","v":""},{"$f":"IF('Order Form'!M52=0,IF('Order Form'!P52=0,\"\",'Order Form'!P52/'Order Form'!D52),'Order Form'!M52+('Order Form'!P52/'Order Form'!D52))","v":""},"",{"$f":"UPPER(IF(B30=\"\",\"\",CONCAT!$G$3))","v":""},{"$f":"UPPER(IF(B30=\"\",\"\",CONCAT!$G$4))","v":""},{"$f":"UPPER(IF(B30=\"\",\"\",CONCAT!$G$5))","v":""},{"$f":"UPPER(IF(B30=\"\",\"\",CONCAT!$G$6))","v":""},{"$f":"UPPER(IF(B30=\"\",\"\",CONCAT!$G$7))","v":""},{"$f":"UPPER(IF(B30=\"\",\"\",CONCAT!$G$2))","v":""},{"$f":"UPPER(IF(B30=\"\",\"\",CONCAT!$G$8))","v":""},"",{"$f":"UPPER(IF(B30=\"\",\"\",'Order Form'!$K$4))","v":""},{"$f":"UPPER(IF(B30=\"\",\"\",(UPPER(IF(CONCAT!$G$2=\"SELECT\",\"SELECT \"&CONCAT!$G$3,CONCAT!$G$1&Species!$G$6&'Door Style'!$I$6&Color!$Q$6&'Drawer Head'!$H$6&'Custom Finish'!$G$6)))))","v":""},null,{"$f":"IF(B30=\"\",\"\",CONCAT!$J$2)","v":""},{"$f":"IF(B30=\"\",\"\",CONCAT!$J$3)","v":""}]
[{"$f":"UPPER(IF(AND('Order Form'!$O$4=\"\",B31=\"\"),\"\",IF(B31=\"\",\"\",'Order Form'!$O$4)))","v":""},{"$f":"UPPER(IFERROR(CONCATENATE(CONCAT!B41,CONCAT!C41)&(CONCAT!D41),\"\"))","v":""},{"$f":"IF(B31=\"\",\"\",'Order Form'!D53)","v":""},{"$f":"UPPER(IF('Order Form'!C53=\"\",\"\",'Order Form'!J53&'Order Form'!AM53&'Order Form'!AN53&'Order Form'!AO53))","v":""},{"$f":"IF('Order Form'!M53=0,IF('Order Form'!P53=0,\"\",'Order Form'!P53/'Order Form'!D53),'Order Form'!M53+('Order Form'!P53/'Order Form'!D53))","v":""},"",{"$f":"UPPER(IF(B31=\"\",\"\",CONCAT!$G$3))","v":""},{"$f":"UPPER(IF(B31=\"\",\"\",CONCAT!$G$4))","v":""},{"$f":"UPPER(IF(B31=\"\",\"\",CONCAT!$G$5))","v":""},{"$f":"UPPER(IF(B31=\"\",\"\",CONCAT!$G$6))","v":""},{"$f":"UPPER(IF(B31=\"\",\"\",CONCAT!$G$7))","v":""},{"$f":"UPPER(IF(B31=\"\",\"\",CONCAT!$G$2))","v":""},{"$f":"UPPER(IF(B31=\"\",\"\",CONCAT!$G$8))","v":""},"",{"$f":"UPPER(IF(B31=\"\",\"\",'Order Form'!$K$4))","v":""},{"$f":"UPPER(IF(B31=\"\",\"\",(UPPER(IF(CONCAT!$G$2=\"SELECT\",\"SELECT \"&CONCAT!$G$3,CONCAT!$G$1&Species!$G$6&'Door Style'!$I$6&Color!$Q$6&'Drawer Head'!$H$6&'Custom Finish'!$G$6)))))","v":""},null,{"$f":"IF(B31=\"\",\"\",CONCAT!$J$2)","v":""},{"$f":"IF(B31=\"\",\"\",CONCAT!$J$3)","v":""}]
[{"$f":"UPPER(IF(AND('Order Form'!$O$4=\"\",B32=\"\"),\"\",IF(B32=\"\",\"\",'Order Form'!$O$4)))","v":""},{"$f":"UPPER(IFERROR(CONCATENATE(CONCAT!B42,CONCAT!C42)&(CONCAT!D42),\"\"))","v":""},{"$f":"IF(B32=\"\",\"\",'Order Form'!D54)","v":""},{"$f":"UPPER(IF('Order Form'!C54=\"\",\"\",'Order Form'!J54&'Order Form'!AM54&'Order Form'!AN54&'Order Form'!AO54))","v":""},{"$f":"IF('Order Form'!M54=0,IF('Order Form'!P54=0,\"\",'Order Form'!P54/'Order Form'!D54),'Order Form'!M54+('Order Form'!P54/'Order Form'!D54))","v":""},"",{"$f":"UPPER(IF(B32=\"\",\"\",CONCAT!$G$3))","v":""},{"$f":"UPPER(IF(B32=\"\",\"\",CONCAT!$G$4))","v":""},{"$f":"UPPER(IF(B32=\"\",\"\",CONCAT!$G$5))","v":""},{"$f":"UPPER(IF(B32=\"\",\"\",CONCAT!$G$6))","v":""},{"$f":"UPPER(IF(B32=\"\",\"\",CONCAT!$G$7))","v":""},{"$f":"UPPER(IF(B32=\"\",\"\",CONCAT!$G$2))","v":""},{"$f":"UPPER(IF(B32=\"\",\"\",CONCAT!$G$8))","v":""},"",{"$f":"UPPER(IF(B32=\"\",\"\",'Order Form'!$K$4))","v":""},{"$f":"UPPER(IF(B32=\"\",\"\",(UPPER(IF(CONCAT!$G$2=\"SELECT\",\"SELECT \"&CONCAT!$G$3,CONCAT!$G$1&Species!$G$6&'Door Style'!$I$6&Color!$Q$6&'Drawer Head'!$H$6&'Custom Finish'!$G$6)))))","v":""},null,{"$f":"IF(B32=\"\",\"\",CONCAT!$J$2)","v":""},{"$f":"IF(B32=\"\",\"\",CONCAT!$J$3)","v":""}]
[{"$f":"UPPER(IF(AND('Order Form'!$O$4=\"\",B33=\"\"),\"\",IF(B33=\"\",\"\",'Order Form'!$O$4)))","v":""},{"$f":"UPPER(IFERROR(CONCATENATE(CONCAT!B43,CONCAT!C43)&(CONCAT!D43),\"\"))","v":""},{"$f":"IF(B33=\"\",\"\",'Order Form'!D55)","v":""},{"$f":"UPPER(IF('Order Form'!C55=\"\",\"\",'Order Form'!J55&'Order Form'!AM55&'Order Form'!AN55&'Order Form'!AO55))","v":""},{"$f":"IF('Order Form'!M55=0,IF('Order Form'!P55=0,\"\",'Order Form'!P55/'Order Form'!D55),'Order Form'!M55+('Order Form'!P55/'Order Form'!D55))","v":""},"",{"$f":"UPPER(IF(B33=\"\",\"\",CONCAT!$G$3))","v":""},{"$f":"UPPER(IF(B33=\"\",\"\",CONCAT!$G$4))","v":""},{"$f":"UPPER(IF(B33=\"\",\"\",CONCAT!$G$5))","v":""},{"$f":"UPPER(IF(B33=\"\",\"\",CONCAT!$G$6))","v":""},{"$f":"UPPER(IF(B33=\"\",\"\",CONCAT!$G$7))","v":""},{"$f":"UPPER(IF(B33=\"\",\"\",CONCAT!$G$2))","v":""},{"$f":"UPPER(IF(B33=\"\",\"\",CONCAT!$G$8))","v":""},"",{"$f":"UPPER(IF(B33=\"\",\"\",'Order Form'!$K$4))","v":""},{"$f":"UPPER(IF(B33=\"\",\"\",(UPPER(IF(CONCAT!$G$2=\"SELECT\",\"SELECT \"&CONCAT!$G$3,CONCAT!$G$1&Species!$G$6&'Door Style'!$I$6&Color!$Q$6&'Drawer Head'!$H$6&'Custom Finish'!$G$6)))))","v":""},null,{"$f":"IF(B33=\"\",\"\",CONCAT!$J$2)","v":""},{"$f":"IF(B33=\"\",\"\",CONCAT!$J$3)","v":""}]
[{"$f":"UPPER(IF(AND('Order Form'!$O$4=\"\",B34=\"\"),\"\",IF(B34=\"\",\"\",'Order Form'!$O$4)))","v":""},{"$f":"UPPER(IFERROR(CONCATENATE(CONCAT!B44,CONCAT!C44)&(CONCAT!D44),\"\"))","v":""},{"$f":"IF(B34=\"\",\"\",'Order Form'!D56)","v":""},{"$f":"UPPER(IF('Order Form'!C56=\"\",\"\",'Order Form'!J56&'Order Form'!AM56&'Order Form'!AN56&'Order Form'!AO56))","v":""},{"$f":"IF('Order Form'!M56=0,IF('Order Form'!P56=0,\"\",'Order Form'!P56/'Order Form'!D56),'Order Form'!M56+('Order Form'!P56/'Order Form'!D56))","v":""},{"$f":"IF(B34=\"\",\"\",IF(LEFT(B34,1)=\"/\",5,1))","v":""},{"$f":"UPPER(IF(B34=\"\",\"\",CONCAT!$G$3))","v":""},{"$f":"UPPER(IF(B34=\"\",\"\",CONCAT!$G$4))","v":""},{"$f":"UPPER(IF(B34=\"\",\"\",CONCAT!$G$5))","v":""},{"$f":"UPPER(IF(B34=\"\",\"\",CONCAT!$G$6))","v":""},{"$f":"UPPER(IF(B34=\"\",\"\",CONCAT!$G$7))","v":""},{"$f":"UPPER(IF(B34=\"\",\"\",CONCAT!$G$2))","v":""},{"$f":"UPPER(IF(B34=\"\",\"\",CONCAT!$G$8))","v":""},"",{"$f":"UPPER(IF(B34=\"\",\"\",'Order Form'!$K$4))","v":""},{"$f":"UPPER(IF(B34=\"\",\"\",(UPPER(IF(CONCAT!$G$2=\"SELECT\",\"SELECT \"&CONCAT!$G$3,CONCAT!$G$1&Species!$G$6&'Door Style'!$I$6&Color!$Q$6&'Drawer Head'!$H$6&'Custom Finish'!$G$6)))))","v":""},null,{"$f":"IF(B34=\"\",\"\",CONCAT!$J$2)","v":""},{"$f":"IF(B34=\"\",\"\",CONCAT!$J$3)","v":""}]
[{"$f":"UPPER(IF(AND('Order Form'!$O$4=\"\",B35=\"\"),\"\",IF(B35=\"\",\"\",'Order Form'!$O$4)))","v":""},{"$f":"UPPER(IFERROR(CONCATENATE(CONCAT!B45,CONCAT!C45)&(CONCAT!D45),\"\"))","v":""},{"$f":"IF(B35=\"\",\"\",'Order Form'!D57)","v":""},{"$f":"UPPER(IF('Order Form'!C57=\"\",\"\",'Order Form'!J57&'Order Form'!AM57&'Order Form'!AN57&'Order Form'!AO57))","v":""},{"$f":"IF('Order Form'!M57=0,IF('Order Form'!P57=0,\"\",'Order Form'!P57/'Order Form'!D57),'Order Form'!M57+('Order Form'!P57/'Order Form'!D57))","v":""},"",{"$f":"UPPER(IF(B35=\"\",\"\",CONCAT!$G$3))","v":""},{"$f":"UPPER(IF(B35=\"\",\"\",CONCAT!$G$4))","v":""},{"$f":"UPPER(IF(B35=\"\",\"\",CONCAT!$G$5))","v":""},{"$f":"UPPER(IF(B35=\"\",\"\",CONCAT!$G$6))","v":""},{"$f":"UPPER(IF(B35=\"\",\"\",CONCAT!$G$7))","v":""},{"$f":"UPPER(IF(B35=\"\",\"\",CONCAT!$G$2))","v":""},{"$f":"UPPER(IF(B35=\"\",\"\",CONCAT!$G$8))","v":""},"",{"$f":"UPPER(IF(B35=\"\",\"\",'Order Form'!$K$4))","v":""},{"$f":"UPPER(IF(B35=\"\",\"\",(UPPER(IF(CONCAT!$G$2=\"SELECT\",\"SELECT \"&CONCAT!$G$3,CONCAT!$G$1&Species!$G$6&'Door Style'!$I$6&Color!$Q$6&'Drawer Head'!$H$6&'Custom Finish'!$G$6)))))","v":""},null,{"$f":"IF(B35=\"\",\"\",CONCAT!$J$2)","v":""},{"$f":"IF(B35=\"\",\"\",CONCAT!$J$3)","v":""}]
[{"$f":"UPPER(IF(AND('Order Form'!$O$4=\"\",B36=\"\"),\"\",IF(B36=\"\",\"\",'Order Form'!$O$4)))","v":""},{"$f":"UPPER(IFERROR(CONCATENATE(CONCAT!B46,CONCAT!C46)&(CONCAT!D46),\"\"))","v":""},{"$f":"IF(B36=\"\",\"\",'Order Form'!D58)","v":""},{"$f":"UPPER(IF('Order Form'!C58=\"\",\"\",'Order Form'!J58&'Order Form'!AM58&'Order Form'!AN58&'Order Form'!AO58))","v":""},{"$f":"IF('Order Form'!M58=0,IF('Order Form'!P58=0,\"\",'Order Form'!P58/'Order Form'!D58),'Order Form'!M58+('Order Form'!P58/'Order Form'!D58))","v":""},"",{"$f":"UPPER(IF(B36=\"\",\"\",CONCAT!$G$3))","v":""},{"$f":"UPPER(IF(B36=\"\",\"\",CONCAT!$G$4))","v":""},{"$f":"UPPER(IF(B36=\"\",\"\",CONCAT!$G$5))","v":""},{"$f":"UPPER(IF(B36=\"\",\"\",CONCAT!$G$6))","v":""},{"$f":"UPPER(IF(B36=\"\",\"\",CONCAT!$G$7))","v":""},{"$f":"UPPER(IF(B36=\"\",\"\",CONCAT!$G$2))","v":""},{"$f":"UPPER(IF(B36=\"\",\"\",CONCAT!$G$8))","v":""},"",{"$f":"UPPER(IF(B36=\"\",\"\",'Order Form'!$K$4))","v":""},{"$f":"UPPER(IF(B36=\"\",\"\",(UPPER(IF(CONCAT!$G$2=\"SELECT\",\"SELECT \"&CONCAT!$G$3,CONCAT!$G$1&Species!$G$6&'Door Style'!$I$6&Color!$Q$6&'Drawer Head'!$H$6&'Custom Finish'!$G$6)))))","v":""},null,{"$f":"IF(B36=\"\",\"\",CONCAT!$J$2)","v":""},{"$f":"IF(B36=\"\",\"\",CONCAT!$J$3)","v":""}]
[{"$f":"UPPER(IF(AND('Order Form'!$O$4=\"\",B37=\"\"),\"\",IF(B37=\"\",\"\",'Order Form'!$O$4)))","v":""},{"$f":"UPPER(IFERROR(CONCATENATE(CONCAT!B47,CONCAT!C47)&(CONCAT!D47),\"\"))","v":""},{"$f":"IF(B37=\"\",\"\",'Order Form'!D59)","v":""},{"$f":"UPPER(IF('Order Form'!C59=\"\",\"\",'Order Form'!J59&'Order Form'!AM59&'Order Form'!AN59&'Order Form'!AO59))","v":""},{"$f":"IF('Order Form'!M59=0,IF('Order Form'!P59=0,\"\",'Order Form'!P59/'Order Form'!D59),'Order Form'!M59+('Order Form'!P59/'Order Form'!D59))","v":""},"",{"$f":"UPPER(IF(B37=\"\",\"\",CONCAT!$G$3))","v":""},{"$f":"UPPER(IF(B37=\"\",\"\",CONCAT!$G$4))","v":""},{"$f":"UPPER(IF(B37=\"\",\"\",CONCAT!$G$5))","v":""},{"$f":"UPPER(IF(B37=\"\",\"\",CONCAT!$G$6))","v":""},{"$f":"UPPER(IF(B37=\"\",\"\",CONCAT!$G$7))","v":""},{"$f":"UPPER(IF(B37=\"\",\"\",CONCAT!$G$2))","v":""},{"$f":"UPPER(IF(B37=\"\",\"\",CONCAT!$G$8))","v":""},"",{"$f":"UPPER(IF(B37=\"\",\"\",'Order Form'!$K$4))","v":""},{"$f":"UPPER(IF(B37=\"\",\"\",(UPPER(IF(CONCAT!$G$2=\"SELECT\",\"SELECT \"&CONCAT!$G$3,CONCAT!$G$1&Species!$G$6&'Door Style'!$I$6&Color!$Q$6&'Drawer Head'!$H$6&'Custom Finish'!$G$6)))))","v":""},null,{"$f":"IF(B37=\"\",\"\",CONCAT!$J$2)","v":""},{"$f":"IF(B37=\"\",\"\",CONCAT!$J$3)","v":""}]
[{"$f":"UPPER(IF(AND('Order Form'!$O$4=\"\",B38=\"\"),\"\",IF(B38=\"\",\"\",'Order Form'!$O$4)))","v":""},{"$f":"UPPER(IFERROR(CONCATENATE(CONCAT!B48,CONCAT!C48)&(CONCAT!D48),\"\"))","v":""},{"$f":"IF(B38=\"\",\"\",'Order Form'!D60)","v":""},{"$f":"UPPER(IF('Order Form'!C60=\"\",\"\",'Order Form'!J60&'Order Form'!AM60&'Order Form'!AN60&'Order Form'!AO60))","v":""},{"$f":"IF('Order Form'!M60=0,IF('Order Form'!P60=0,\"\",'Order Form'!P60/'Order Form'!D60),'Order Form'!M60+('Order Form'!P60/'Order Form'!D60))","v":""},"",{"$f":"UPPER(IF(B38=\"\",\"\",CONCAT!$G$3))","v":""},{"$f":"UPPER(IF(B38=\"\",\"\",CONCAT!$G$4))","v":""},{"$f":"UPPER(IF(B38=\"\",\"\",CONCAT!$G$5))","v":""},{"$f":"UPPER(IF(B38=\"\",\"\",CONCAT!$G$6))","v":""},{"$f":"UPPER(IF(B38=\"\",\"\",CONCAT!$G$7))","v":""},{"$f":"UPPER(IF(B38=\"\",\"\",CONCAT!$G$2))","v":""},{"$f":"UPPER(IF(B38=\"\",\"\",CONCAT!$G$8))","v":""},"",{"$f":"UPPER(IF(B38=\"\",\"\",'Order Form'!$K$4))","v":""},{"$f":"UPPER(IF(B38=\"\",\"\",(UPPER(IF(CONCAT!$G$2=\"SELECT\",\"SELECT \"&CONCAT!$G$3,CONCAT!$G$1&Species!$G$6&'Door Style'!$I$6&Color!$Q$6&'Drawer Head'!$H$6&'Custom Finish'!$G$6)))))","v":""},null,{"$f":"IF(B38=\"\",\"\",CONCAT!$J$2)","v":""},{"$f":"IF(B38=\"\",\"\",CONCAT!$J$3)","v":""}]
[{"$f":"UPPER(IF(AND('Order Form'!$O$4=\"\",B39=\"\"),\"\",IF(B39=\"\",\"\",'Order Form'!$O$4)))","v":""},{"$f":"UPPER(IFERROR(CONCATENATE(CONCAT!B49,CONCAT!C49)&(CONCAT!D49),\"\"))","v":""},{"$f":"IF(B39=\"\",\"\",'Order Form'!D61)","v":""},{"$f":"UPPER(IF('Order Form'!C61=\"\",\"\",'Order Form'!J61&'Order Form'!AM61&'Order Form'!AN61&'Order Form'!AO61))","v":""},{"$f":"IF('Order Form'!M61=0,IF('Order Form'!P61=0,\"\",'Order Form'!P61/'Order Form'!D61),'Order Form'!M61+('Order Form'!P61/'Order Form'!D61))","v":""},"",{"$f":"UPPER(IF(B39=\"\",\"\",CONCAT!$G$3))","v":""},{"$f":"UPPER(IF(B39=\"\",\"\",CONCAT!$G$4))","v":""},{"$f":"UPPER(IF(B39=\"\",\"\",CONCAT!$G$5))","v":""},{"$f":"UPPER(IF(B39=\"\",\"\",CONCAT!$G$6))","v":""},{"$f":"UPPER(IF(B39=\"\",\"\",CONCAT!$G$7))","v":""},{"$f":"UPPER(IF(B39=\"\",\"\",CONCAT!$G$2))","v":""},{"$f":"UPPER(IF(B39=\"\",\"\",CONCAT!$G$8))","v":""},"",{"$f":"UPPER(IF(B39=\"\",\"\",'Order Form'!$K$4))","v":""},{"$f":"UPPER(IF(B39=\"\",\"\",(UPPER(IF(CONCAT!$G$2=\"SELECT\",\"SELECT \"&CONCAT!$G$3,CONCAT!$G$1&Species!$G$6&'Door Style'!$I$6&Color!$Q$6&'Drawer Head'!$H$6&'Custom Finish'!$G$6)))))","v":""},null,{"$f":"IF(B39=\"\",\"\",CONCAT!$J$2)","v":""},{"$f":"IF(B39=\"\",\"\",CONCAT!$J$3)","v":""}]
[{"$f":"UPPER(IF(AND('Order Form'!$O$4=\"\",B40=\"\"),\"\",IF(B40=\"\",\"\",'Order Form'!$O$4)))","v":""},{"$f":"UPPER(IFERROR(CONCATENATE(CONCAT!B50,CONCAT!C50)&(CONCAT!D50),\"\"))","v":""},{"$f":"IF(B40=\"\",\"\",'Order Form'!D62)","v":""},{"$f":"UPPER(IF('Order Form'!C62=\"\",\"\",'Order Form'!J62&'Order Form'!AM62&'Order Form'!AN62&'Order Form'!AO62))","v":""},{"$f":"IF('Order Form'!M62=0,IF('Order Form'!P62=0,\"\",'Order Form'!P62/'Order Form'!D62),'Order Form'!M62+('Order Form'!P62/'Order Form'!D62))","v":""},"",{"$f":"UPPER(IF(B40=\"\",\"\",CONCAT!$G$3))","v":""},{"$f":"UPPER(IF(B40=\"\",\"\",CONCAT!$G$4))","v":""},{"$f":"UPPER(IF(B40=\"\",\"\",CONCAT!$G$5))","v":""},{"$f":"UPPER(IF(B40=\"\",\"\",CONCAT!$G$6))","v":""},{"$f":"UPPER(IF(B40=\"\",\"\",CONCAT!$G$7))","v":""},{"$f":"UPPER(IF(B40=\"\",\"\",CONCAT!$G$2))","v":""},{"$f":"UPPER(IF(B40=\"\",\"\",CONCAT!$G$8))","v":""},"",{"$f":"UPPER(IF(B40=\"\",\"\",'Order Form'!$K$4))","v":""},{"$f":"UPPER(IF(B40=\"\",\"\",(UPPER(IF(CONCAT!$G$2=\"SELECT\",\"SELECT \"&CONCAT!$G$3,CONCAT!$G$1&Species!$G$6&'Door Style'!$I$6&Color!$Q$6&'Drawer Head'!$H$6&'Custom Finish'!$G$6)))))","v":""},null,{"$f":"IF(B40=\"\",\"\",CONCAT!$J$2)","v":""},{"$f":"IF(B40=\"\",\"\",CONCAT!$J$3)","v":""}]
[{"$f":"UPPER(IF(AND('Order Form'!$O$4=\"\",B41=\"\"),\"\",IF(B41=\"\",\"\",'Order Form'!$O$4)))","v":""},{"$f":"UPPER(IFERROR(CONCATENATE(CONCAT!B51,CONCAT!C51)&(CONCAT!D51),\"\"))","v":""},{"$f":"IF(B41=\"\",\"\",'Order Form'!D63)","v":""},{"$f":"UPPER(IF('Order Form'!C63=\"\",\"\",'Order Form'!J63&'Order Form'!AM63&'Order Form'!AN63&'Order Form'!AO63))","v":""},{"$f":"IF('Order Form'!M63=0,IF('Order Form'!P63=0,\"\",'Order Form'!P63/'Order Form'!D63),'Order Form'!M63+('Order Form'!P63/'Order Form'!D63))","v":""},"",{"$f":"UPPER(IF(B41=\"\",\"\",CONCAT!$G$3))","v":""},{"$f":"UPPER(IF(B41=\"\",\"\",CONCAT!$G$4))","v":""},{"$f":"UPPER(IF(B41=\"\",\"\",CONCAT!$G$5))","v":""},{"$f":"UPPER(IF(B41=\"\",\"\",CONCAT!$G$6))","v":""},{"$f":"UPPER(IF(B41=\"\",\"\",CONCAT!$G$7))","v":""},{"$f":"UPPER(IF(B41=\"\",\"\",CONCAT!$G$2))","v":""},{"$f":"UPPER(IF(B41=\"\",\"\",CONCAT!$G$8))","v":""},"",{"$f":"UPPER(IF(B41=\"\",\"\",'Order Form'!$K$4))","v":""},{"$f":"UPPER(IF(B41=\"\",\"\",(UPPER(IF(CONCAT!$G$2=\"SELECT\",\"SELECT \"&CONCAT!$G$3,CONCAT!$G$1&Species!$G$6&'Door Style'!$I$6&Color!$Q$6&'Drawer Head'!$H$6&'Custom Finish'!$G$6)))))","v":""},null,{"$f":"IF(B41=\"\",\"\",CONCAT!$J$2)","v":""},{"$f":"IF(B41=\"\",\"\",CONCAT!$J$3)","v":""}]
[{"$f":"UPPER(IF(AND('Order Form'!$O$4=\"\",B42=\"\"),\"\",IF(B42=\"\",\"\",'Order Form'!$O$4)))","v":""},{"$f":"UPPER(IFERROR(CONCATENATE(CONCAT!B52,CONCAT!C52)&(CONCAT!D52),\"\"))","v":""},{"$f":"IF(B42=\"\",\"\",'Order Form'!D64)","v":""},{"$f":"UPPER(IF('Order Form'!C64=\"\",\"\",'Order Form'!J64&'Order Form'!AM64&'Order Form'!AN64&'Order Form'!AO64))","v":""},{"$f":"IF('Order Form'!M64=0,IF('Order Form'!P64=0,\"\",'Order Form'!P64/'Order Form'!D64),'Order Form'!M64+('Order Form'!P64/'Order Form'!D64))","v":""},"",{"$f":"UPPER(IF(B42=\"\",\"\",CONCAT!$G$3))","v":""},{"$f":"UPPER(IF(B42=\"\",\"\",CONCAT!$G$4))","v":""},{"$f":"UPPER(IF(B42=\"\",\"\",CONCAT!$G$5))","v":""},{"$f":"UPPER(IF(B42=\"\",\"\",CONCAT!$G$6))","v":""},{"$f":"UPPER(IF(B42=\"\",\"\",CONCAT!$G$7))","v":""},{"$f":"UPPER(IF(B42=\"\",\"\",CONCAT!$G$2))","v":""},{"$f":"UPPER(IF(B42=\"\",\"\",CONCAT!$G$8))","v":""},"",{"$f":"UPPER(IF(B42=\"\",\"\",'Order Form'!$K$4))","v":""},{"$f":"UPPER(IF(B42=\"\",\"\",(UPPER(IF(CONCAT!$G$2=\"SELECT\",\"SELECT \"&CONCAT!$G$3,CONCAT!$G$1&Species!$G$6&'Door Style'!$I$6&Color!$Q$6&'Drawer Head'!$H$6&'Custom Finish'!$G$6)))))","v":""},null,{"$f":"IF(B42=\"\",\"\",CONCAT!$J$2)","v":""},{"$f":"IF(B42=\"\",\"\",CONCAT!$J$3)","v":""}]
[{"$f":"UPPER(IF(AND('Order Form'!$O$4=\"\",B43=\"\"),\"\",IF(B43=\"\",\"\",'Order Form'!$O$4)))","v":""},{"$f":"UPPER(IFERROR(CONCATENATE(CONCAT!B53,CONCAT!C53)&(CONCAT!D53),\"\"))","v":""},{"$f":"IF(B43=\"\",\"\",'Order Form'!D65)","v":""},{"$f":"UPPER(IF('Order Form'!C65=\"\",\"\",'Order Form'!J65&'Order Form'!AM65&'Order Form'!AN65&'Order Form'!AO65))","v":""},{"$f":"IF('Order Form'!M65=0,IF('Order Form'!P65=0,\"\",'Order Form'!P65/'Order Form'!D65),'Order Form'!M65+('Order Form'!P65/'Order Form'!D65))","v":""},"",{"$f":"UPPER(IF(B43=\"\",\"\",CONCAT!$G$3))","v":""},{"$f":"UPPER(IF(B43=\"\",\"\",CONCAT!$G$4))","v":""},{"$f":"UPPER(IF(B43=\"\",\"\",CONCAT!$G$5))","v":""},{"$f":"UPPER(IF(B43=\"\",\"\",CONCAT!$G$6))","v":""},{"$f":"UPPER(IF(B43=\"\",\"\",CONCAT!$G$7))","v":""},{"$f":"UPPER(IF(B43=\"\",\"\",CONCAT!$G$2))","v":""},{"$f":"UPPER(IF(B43=\"\",\"\",CONCAT!$G$8))","v":""},"",{"$f":"UPPER(IF(B43=\"\",\"\",'Order Form'!$K$4))","v":""},{"$f":"UPPER(IF(B43=\"\",\"\",(UPPER(IF(CONCAT!$G$2=\"SELECT\",\"SELECT \"&CONCAT!$G$3,CONCAT!$G$1&Species!$G$6&'Door Style'!$I$6&Color!$Q$6&'Drawer Head'!$H$6&'Custom Finish'!$G$6)))))","v":""},null,{"$f":"IF(B43=\"\",\"\",CONCAT!$J$2)","v":""},{"$f":"IF(B43=\"\",\"\",CONCAT!$J$3)","v":""}]
[{"$f":"UPPER(IF(AND('Order Form'!$O$4=\"\",B44=\"\"),\"\",IF(B44=\"\",\"\",'Order Form'!$O$4)))","v":""},{"$f":"UPPER(IFERROR(CONCATENATE(CONCAT!B54,CONCAT!C54)&(CONCAT!D54),\"\"))","v":""},{"$f":"IF(B44=\"\",\"\",'Order Form'!D66)","v":""},{"$f":"UPPER(IF('Order Form'!C66=\"\",\"\",'Order Form'!J66&'Order Form'!AM66&'Order Form'!AN66&'Order Form'!AO66))","v":""},{"$f":"IF('Order Form'!M66=0,IF('Order Form'!P66=0,\"\",'Order Form'!P66/'Order Form'!D66),'Order Form'!M66+('Order Form'!P66/'Order Form'!D66))","v":""},"",{"$f":"UPPER(IF(B44=\"\",\"\",CONCAT!$G$3))","v":""},{"$f":"UPPER(IF(B44=\"\",\"\",CONCAT!$G$4))","v":""},{"$f":"UPPER(IF(B44=\"\",\"\",CONCAT!$G$5))","v":""},{"$f":"UPPER(IF(B44=\"\",\"\",CONCAT!$G$6))","v":""},{"$f":"UPPER(IF(B44=\"\",\"\",CONCAT!$G$7))","v":""},{"$f":"UPPER(IF(B44=\"\",\"\",CONCAT!$G$2))","v":""},{"$f":"UPPER(IF(B44=\"\",\"\",CONCAT!$G$8))","v":""},"",{"$f":"UPPER(IF(B44=\"\",\"\",'Order Form'!$K$4))","v":""},{"$f":"UPPER(IF(B44=\"\",\"\",(UPPER(IF(CONCAT!$G$2=\"SELECT\",\"SELECT \"&CONCAT!$G$3,CONCAT!$G$1&Species!$G$6&'Door Style'!$I$6&Color!$Q$6&'Drawer Head'!$H$6&'Custom Finish'!$G$6)))))","v":""},null,{"$f":"IF(B44=\"\",\"\",CONCAT!$J$2)","v":""},{"$f":"IF(B44=\"\",\"\",CONCAT!$J$3)","v":""}]
[{"$f":"UPPER(IF(AND('Order Form'!$O$4=\"\",B45=\"\"),\"\",IF(B45=\"\",\"\",'Order Form'!$O$4)))","v":""},{"$f":"UPPER(IFERROR(CONCATENATE(CONCAT!B55,CONCAT!C55)&(CONCAT!D55),\"\"))","v":""},{"$f":"IF(B45=\"\",\"\",'Order Form'!D67)","v":""},{"$f":"UPPER(IF('Order Form'!C67=\"\",\"\",'Order Form'!J67&'Order Form'!AM67&'Order Form'!AN67&'Order Form'!AO67))","v":""},{"$f":"IF('Order Form'!M67=0,IF('Order Form'!P67=0,\"\",'Order Form'!P67/'Order Form'!D67),'Order Form'!M67+('Order Form'!P67/'Order Form'!D67))","v":""},"",{"$f":"UPPER(IF(B45=\"\",\"\",CONCAT!$G$3))","v":""},{"$f":"UPPER(IF(B45=\"\",\"\",CONCAT!$G$4))","v":""},{"$f":"UPPER(IF(B45=\"\",\"\",CONCAT!$G$5))","v":""},{"$f":"UPPER(IF(B45=\"\",\"\",CONCAT!$G$6))","v":""},{"$f":"UPPER(IF(B45=\"\",\"\",CONCAT!$G$7))","v":""},{"$f":"UPPER(IF(B45=\"\",\"\",CONCAT!$G$2))","v":""},{"$f":"UPPER(IF(B45=\"\",\"\",CONCAT!$G$8))","v":""},"",{"$f":"UPPER(IF(B45=\"\",\"\",'Order Form'!$K$4))","v":""},{"$f":"UPPER(IF(B45=\"\",\"\",(UPPER(IF(CONCAT!$G$2=\"SELECT\",\"SELECT \"&CONCAT!$G$3,CONCAT!$G$1&Species!$G$6&'Door Style'!$I$6&Color!$Q$6&'Drawer Head'!$H$6&'Custom Finish'!$G$6)))))","v":""},null,{"$f":"IF(B45=\"\",\"\",CONCAT!$J$2)","v":""},{"$f":"IF(B45=\"\",\"\",CONCAT!$J$3)","v":""}]
[{"$f":"UPPER(IF(AND('Order Form'!$O$4=\"\",B46=\"\"),\"\",IF(B46=\"\",\"\",'Order Form'!$O$4)))","v":""},{"$f":"UPPER(IFERROR(CONCATENATE(CONCAT!B56,CONCAT!C56)&(CONCAT!D56),\"\"))","v":""},{"$f":"IF(B46=\"\",\"\",'Order Form'!D68)","v":""},{"$f":"UPPER(IF('Order Form'!C68=\"\",\"\",'Order Form'!J68&'Order Form'!AM68&'Order Form'!AN68&'Order Form'!AO68))","v":""},{"$f":"IF('Order Form'!M68=0,IF('Order Form'!P68=0,\"\",'Order Form'!P68/'Order Form'!D68),'Order Form'!M68+('Order Form'!P68/'Order Form'!D68))","v":""},"",{"$f":"UPPER(IF(B46=\"\",\"\",CONCAT!$G$3))","v":""},{"$f":"UPPER(IF(B46=\"\",\"\",CONCAT!$G$4))","v":""},{"$f":"UPPER(IF(B46=\"\",\"\",CONCAT!$G$5))","v":""},{"$f":"UPPER(IF(B46=\"\",\"\",CONCAT!$G$6))","v":""},{"$f":"UPPER(IF(B46=\"\",\"\",CONCAT!$G$7))","v":""},{"$f":"UPPER(IF(B46=\"\",\"\",CONCAT!$G$2))","v":""},{"$f":"UPPER(IF(B46=\"\",\"\",CONCAT!$G$8))","v":""},"",{"$f":"UPPER(IF(B46=\"\",\"\",'Order Form'!$K$4))","v":""},{"$f":"UPPER(IF(B46=\"\",\"\",(UPPER(IF(CONCAT!$G$2=\"SELECT\",\"SELECT \"&CONCAT!$G$3,CONCAT!$G$1&Species!$G$6&'Door Style'!$I$6&Color!$Q$6&'Drawer Head'!$H$6&'Custom Finish'!$G$6)))))","v":""},null,{"$f":"IF(B46=\"\",\"\",CONCAT!$J$2)","v":""},{"$f":"IF(B46=\"\",\"\",CONCAT!$J$3)","v":""}]
[{"$f":"UPPER(IF(AND('Order Form'!$O$4=\"\",B47=\"\"),\"\",IF(B47=\"\",\"\",'Order Form'!$O$4)))","v":""},{"$f":"UPPER(IFERROR(CONCATENATE(CONCAT!B57,CONCAT!C57)&(CONCAT!D57),\"\"))","v":""},{"$f":"IF(B47=\"\",\"\",'Order Form'!D69)","v":""},{"$f":"UPPER(IF('Order Form'!C69=\"\",\"\",'Order Form'!J69&'Order Form'!AM69&'Order Form'!AN69&'Order Form'!AO69))","v":""},{"$f":"IF('Order Form'!M69=0,IF('Order Form'!P69=0,\"\",'Order Form'!P69/'Order Form'!D69),'Order Form'!M69+('Order Form'!P69/'Order Form'!D69))","v":""},"",{"$f":"UPPER(IF(B47=\"\",\"\",CONCAT!$G$3))","v":""},{"$f":"UPPER(IF(B47=\"\",\"\",CONCAT!$G$4))","v":""},{"$f":"UPPER(IF(B47=\"\",\"\",CONCAT!$G$5))","v":""},{"$f":"UPPER(IF(B47=\"\",\"\",CONCAT!$G$6))","v":""},{"$f":"UPPER(IF(B47=\"\",\"\",CONCAT!$G$7))","v":""},{"$f":"UPPER(IF(B47=\"\",\"\",CONCAT!$G$2))","v":""},{"$f":"UPPER(IF(B47=\"\",\"\",CONCAT!$G$8))","v":""},"",{"$f":"UPPER(IF(B47=\"\",\"\",'Order Form'!$K$4))","v":""},{"$f":"UPPER(IF(B47=\"\",\"\",(UPPER(IF(CONCAT!$G$2=\"SELECT\",\"SELECT \"&CONCAT!$G$3,CONCAT!$G$1&Species!$G$6&'Door Style'!$I$6&Color!$Q$6&'Drawer Head'!$H$6&'Custom Finish'!$G$6)))))","v":""},null,{"$f":"IF(B47=\"\",\"\",CONCAT!$J$2)","v":""},{"$f":"IF(B47=\"\",\"\",CONCAT!$J$3)","v":""}]
[{"$f":"UPPER(IF(AND('Order Form'!$O$4=\"\",B48=\"\"),\"\",IF(B48=\"\",\"\",'Order Form'!$O$4)))","v":""},{"$f":"UPPER(IFERROR(CONCATENATE(CONCAT!B58,CONCAT!C58)&(CONCAT!D58),\"\"))","v":""},{"$f":"IF(B48=\"\",\"\",'Order Form'!D70)","v":""},{"$f":"UPPER(IF('Order Form'!C70=\"\",\"\",'Order Form'!J70&'Order Form'!AM70&'Order Form'!AN70&'Order Form'!AO70))","v":""},{"$f":"IF('Order Form'!M70=0,IF('Order Form'!P70=0,\"\",'Order Form'!P70/'Order Form'!D70),'Order Form'!M70+('Order Form'!P70/'Order Form'!D70))","v":""},"",{"$f":"UPPER(IF(B48=\"\",\"\",CONCAT!$G$3))","v":""},{"$f":"UPPER(IF(B48=\"\",\"\",CONCAT!$G$4))","v":""},{"$f":"UPPER(IF(B48=\"\",\"\",CONCAT!$G$5))","v":""},{"$f":"UPPER(IF(B48=\"\",\"\",CONCAT!$G$6))","v":""},{"$f":"UPPER(IF(B48=\"\",\"\",CONCAT!$G$7))","v":""},{"$f":"UPPER(IF(B48=\"\",\"\",CONCAT!$G$2))","v":""},{"$f":"UPPER(IF(B48=\"\",\"\",CONCAT!$G$8))","v":""},"",{"$f":"UPPER(IF(B48=\"\",\"\",'Order Form'!$K$4))","v":""},{"$f":"UPPER(IF(B48=\"\",\"\",(UPPER(IF(CONCAT!$G$2=\"SELECT\",\"SELECT \"&CONCAT!$G$3,CONCAT!$G$1&Species!$G$6&'Door Style'!$I$6&Color!$Q$6&'Drawer Head'!$H$6&'Custom Finish'!$G$6)))))","v":""},null,{"$f":"IF(B48=\"\",\"\",CONCAT!$J$2)","v":""},{"$f":"IF(B48=\"\",\"\",CONCAT!$J$3)","v":""}]
[{"$f":"UPPER(IF(AND('Order Form'!$O$4=\"\",B49=\"\"),\"\",IF(B49=\"\",\"\",'Order Form'!$O$4)))","v":""},{"$f":"UPPER(IFERROR(CONCATENATE(CONCAT!B59,CONCAT!C59)&(CONCAT!D59),\"\"))","v":""},{"$f":"IF(B49=\"\",\"\",'Order Form'!D71)","v":""},{"$f":"UPPER(IF('Order Form'!C71=\"\",\"\",'Order Form'!J71&'Order Form'!AM71&'Order Form'!AN71&'Order Form'!AO71))","v":""},{"$f":"IF('Order Form'!M71=0,IF('Order Form'!P71=0,\"\",'Order Form'!P71/'Order Form'!D71),'Order Form'!M71+('Order Form'!P71/'Order Form'!D71))","v":""},"",{"$f":"UPPER(IF(B49=\"\",\"\",CONCAT!$G$3))","v":""},{"$f":"UPPER(IF(B49=\"\",\"\",CONCAT!$G$4))","v":""},{"$f":"UPPER(IF(B49=\"\",\"\",CONCAT!$G$5))","v":""},{"$f":"UPPER(IF(B49=\"\",\"\",CONCAT!$G$6))","v":""},{"$f":"UPPER(IF(B49=\"\",\"\",CONCAT!$G$7))","v":""},{"$f":"UPPER(IF(B49=\"\",\"\",CONCAT!$G$2))","v":""},{"$f":"UPPER(IF(B49=\"\",\"\",CONCAT!$G$8))","v":""},"",{"$f":"UPPER(IF(B49=\"\",\"\",'Order Form'!$K$4))","v":""},{"$f":"UPPER(IF(B49=\"\",\"\",(UPPER(IF(CONCAT!$G$2=\"SELECT\",\"SELECT \"&CONCAT!$G$3,CONCAT!$G$1&Species!$G$6&'Door Style'!$I$6&Color!$Q$6&'Drawer Head'!$H$6&'Custom Finish'!$G$6)))))","v":""},null,{"$f":"IF(B49=\"\",\"\",CONCAT!$J$2)","v":""},{"$f":"IF(B49=\"\",\"\",CONCAT!$J$3)","v":""}]
[{"$f":"UPPER(IF(AND('Order Form'!$O$4=\"\",B50=\"\"),\"\",IF(B50=\"\",\"\",'Order Form'!$O$4)))","v":""},{"$f":"UPPER(IFERROR(CONCATENATE(CONCAT!B60,CONCAT!C60)&(CONCAT!D60),\"\"))","v":""},{"$f":"IF(B50=\"\",\"\",'Order Form'!D72)","v":""},{"$f":"UPPER(IF('Order Form'!C72=\"\",\"\",'Order Form'!J72&'Order Form'!AM72&'Order Form'!AN72&'Order Form'!AO72))","v":""},{"$f":"IF('Order Form'!M72=0,IF('Order Form'!P72=0,\"\",'Order Form'!P72/'Order Form'!D72),'Order Form'!M72+('Order Form'!P72/'Order Form'!D72))","v":""},"",{"$f":"UPPER(IF(B50=\"\",\"\",CONCAT!$G$3))","v":""},{"$f":"UPPER(IF(B50=\"\",\"\",CONCAT!$G$4))","v":""},{"$f":"UPPER(IF(B50=\"\",\"\",CONCAT!$G$5))","v":""},{"$f":"UPPER(IF(B50=\"\",\"\",CONCAT!$G$6))","v":""},{"$f":"UPPER(IF(B50=\"\",\"\",CONCAT!$G$7))","v":""},{"$f":"UPPER(IF(B50=\"\",\"\",CONCAT!$G$2))","v":""},{"$f":"UPPER(IF(B50=\"\",\"\",CONCAT!$G$8))","v":""},"",{"$f":"UPPER(IF(B50=\"\",\"\",'Order Form'!$K$4))","v":""},{"$f":"UPPER(IF(B50=\"\",\"\",(UPPER(IF(CONCAT!$G$2=\"SELECT\",\"SELECT \"&CONCAT!$G$3,CONCAT!$G$1&Species!$G$6&'Door Style'!$I$6&Color!$Q$6&'Drawer Head'!$H$6&'Custom Finish'!$G$6)))))","v":""},null,{"$f":"IF(B50=\"\",\"\",CONCAT!$J$2)","v":""},{"$f":"IF(B50=\"\",\"\",CONCAT!$J$3)","v":""}]
[{"$f":"UPPER(IF(AND('Order Form'!$O$4=\"\",B51=\"\"),\"\",IF(B51=\"\",\"\",'Order Form'!$O$4)))","v":""},{"$f":"UPPER(IFERROR(CONCATENATE(CONCAT!B61,CONCAT!C61)&(CONCAT!D61),\"\"))","v":""},{"$f":"IF(B51=\"\",\"\",'Order Form'!D73)","v":""},{"$f":"UPPER(IF('Order Form'!C73=\"\",\"\",'Order Form'!J73&'Order Form'!AM73&'Order Form'!AN73&'Order Form'!AO73))","v":""},{"$f":"IF('Order Form'!M73=0,IF('Order Form'!P73=0,\"\",'Order Form'!P73/'Order Form'!D73),'Order Form'!M73+('Order Form'!P73/'Order Form'!D73))","v":""},"",{"$f":"UPPER(IF(B51=\"\",\"\",CONCAT!$G$3))","v":""},{"$f":"UPPER(IF(B51=\"\",\"\",CONCAT!$G$4))","v":""},{"$f":"UPPER(IF(B51=\"\",\"\",CONCAT!$G$5))","v":""},{"$f":"UPPER(IF(B51=\"\",\"\",CONCAT!$G$6))","v":""},{"$f":"UPPER(IF(B51=\"\",\"\",CONCAT!$G$7))","v":""},{"$f":"UPPER(IF(B51=\"\",\"\",CONCAT!$G$2))","v":""},{"$f":"UPPER(IF(B51=\"\",\"\",CONCAT!$G$8))","v":""},"",{"$f":"UPPER(IF(B51=\"\",\"\",'Order Form'!$K$4))","v":""},{"$f":"UPPER(IF(B51=\"\",\"\",(UPPER(IF(CONCAT!$G$2=\"SELECT\",\"SELECT \"&CONCAT!$G$3,CONCAT!$G$1&Species!$G$6&'Door Style'!$I$6&Color!$Q$6&'Drawer Head'!$H$6&'Custom Finish'!$G$6)))))","v":""},null,{"$f":"IF(B51=\"\",\"\",CONCAT!$J$2)","v":""},{"$f":"IF(B51=\"\",\"\",CONCAT!$J$3)","v":""}]
[{"$f":"UPPER(IF(AND('Order Form'!$O$4=\"\",B52=\"\"),\"\",IF(B52=\"\",\"\",'Order Form'!$O$4)))","v":""},{"$f":"UPPER(IFERROR(CONCATENATE(CONCAT!B62,CONCAT!C62)&(CONCAT!D62),\"\"))","v":""},{"$f":"IF(B52=\"\",\"\",'Order Form'!D74)","v":""},{"$f":"UPPER(IF('Order Form'!C74=\"\",\"\",'Order Form'!J74&'Order Form'!AM74&'Order Form'!AN74&'Order Form'!AO74))","v":""},{"$f":"IF('Order Form'!M74=0,IF('Order Form'!P74=0,\"\",'Order Form'!P74/'Order Form'!D74),'Order Form'!M74+('Order Form'!P74/'Order Form'!D74))","v":""},"",{"$f":"UPPER(IF(B52=\"\",\"\",CONCAT!$G$3))","v":""},{"$f":"UPPER(IF(B52=\"\",\"\",CONCAT!$G$4))","v":""},{"$f":"UPPER(IF(B52=\"\",\"\",CONCAT!$G$5))","v":""},{"$f":"UPPER(IF(B52=\"\",\"\",CONCAT!$G$6))","v":""},{"$f":"UPPER(IF(B52=\"\",\"\",CONCAT!$G$7))","v":""},{"$f":"UPPER(IF(B52=\"\",\"\",CONCAT!$G$2))","v":""},{"$f":"UPPER(IF(B52=\"\",\"\",CONCAT!$G$8))","v":""},"",{"$f":"UPPER(IF(B52=\"\",\"\",'Order Form'!$K$4))","v":""},{"$f":"UPPER(IF(B52=\"\",\"\",(UPPER(IF(CONCAT!$G$2=\"SELECT\",\"SELECT \"&CONCAT!$G$3,CONCAT!$G$1&Species!$G$6&'Door Style'!$I$6&Color!$Q$6&'Drawer Head'!$H$6&'Custom Finish'!$G$6)))))","v":""},null,{"$f":"IF(B52=\"\",\"\",CONCAT!$J$2)","v":""},{"$f":"IF(B52=\"\",\"\",CONCAT!$J$3)","v":""}]
[{"$f":"UPPER(IF(AND('Order Form'!$O$4=\"\",B53=\"\"),\"\",IF(B53=\"\",\"\",'Order Form'!$O$4)))","v":""},{"$f":"UPPER(IFERROR(CONCATENATE(CONCAT!B63,CONCAT!C63)&(CONCAT!D63),\"\"))","v":""},{"$f":"IF(B53=\"\",\"\",'Order Form'!D75)","v":""},{"$f":"UPPER(IF('Order Form'!C75=\"\",\"\",'Order Form'!J75&'Order Form'!AM75&'Order Form'!AN75&'Order Form'!AO75))","v":""},{"$f":"IF('Order Form'!M75=0,IF('Order Form'!P75=0,\"\",'Order Form'!P75/'Order Form'!D75),'Order Form'!M75+('Order Form'!P75/'Order Form'!D75))","v":""},"",{"$f":"UPPER(IF(B53=\"\",\"\",CONCAT!$G$3))","v":""},{"$f":"UPPER(IF(B53=\"\",\"\",CONCAT!$G$4))","v":""},{"$f":"UPPER(IF(B53=\"\",\"\",CONCAT!$G$5))","v":""},{"$f":"UPPER(IF(B53=\"\",\"\",CONCAT!$G$6))","v":""},{"$f":"UPPER(IF(B53=\"\",\"\",CONCAT!$G$7))","v":""},{"$f":"UPPER(IF(B53=\"\",\"\",CONCAT!$G$2))","v":""},{"$f":"UPPER(IF(B53=\"\",\"\",CONCAT!$G$8))","v":""},"",{"$f":"UPPER(IF(B53=\"\",\"\",'Order Form'!$K$4))","v":""},{"$f":"UPPER(IF(B53=\"\",\"\",(UPPER(IF(CONCAT!$G$2=\"SELECT\",\"SELECT \"&CONCAT!$G$3,CONCAT!$G$1&Species!$G$6&'Door Style'!$I$6&Color!$Q$6&'Drawer Head'!$H$6&'Custom Finish'!$G$6)))))","v":""},null,{"$f":"IF(B53=\"\",\"\",CONCAT!$J$2)","v":""},{"$f":"IF(B53=\"\",\"\",CONCAT!$J$3)","v":""}]
[{"$f":"UPPER(IF(AND('Order Form'!$O$4=\"\",B54=\"\"),\"\",IF(B54=\"\",\"\",'Order Form'!$O$4)))","v":""},{"$f":"UPPER(IFERROR(CONCATENATE(CONCAT!B64,CONCAT!C64)&(CONCAT!D64),\"\"))","v":""},{"$f":"IF(B54=\"\",\"\",'Order Form'!D76)","v":""},{"$f":"UPPER(IF('Order Form'!C76=\"\",\"\",'Order Form'!J76&'Order Form'!AM76&'Order Form'!AN76&'Order Form'!AO76))","v":""},{"$f":"IF('Order Form'!M76=0,IF('Order Form'!P76=0,\"\",'Order Form'!P76/'Order Form'!D76),'Order Form'!M76+('Order Form'!P76/'Order Form'!D76))","v":""},"",{"$f":"UPPER(IF(B54=\"\",\"\",CONCAT!$G$3))","v":""},{"$f":"UPPER(IF(B54=\"\",\"\",CONCAT!$G$4))","v":""},{"$f":"UPPER(IF(B54=\"\",\"\",CONCAT!$G$5))","v":""},{"$f":"UPPER(IF(B54=\"\",\"\",CONCAT!$G$6))","v":""},{"$f":"UPPER(IF(B54=\"\",\"\",CONCAT!$G$7))","v":""},{"$f":"UPPER(IF(B54=\"\",\"\",CONCAT!$G$2))","v":""},{"$f":"UPPER(IF(B54=\"\",\"\",CONCAT!$G$8))","v":""},"",{"$f":"UPPER(IF(B54=\"\",\"\",'Order Form'!$K$4))","v":""},{"$f":"UPPER(IF(B54=\"\",\"\",(UPPER(IF(CONCAT!$G$2=\"SELECT\",\"SELECT \"&CONCAT!$G$3,CONCAT!$G$1&Species!$G$6&'Door Style'!$I$6&Color!$Q$6&'Drawer Head'!$H$6&'Custom Finish'!$G$6)))))","v":""},null,{"$f":"IF(B54=\"\",\"\",CONCAT!$J$2)","v":""},{"$f":"IF(B54=\"\",\"\",CONCAT!$J$3)","v":""}]
[{"$f":"UPPER(IF(AND('Order Form'!$O$4=\"\",B55=\"\"),\"\",IF(B55=\"\",\"\",'Order Form'!$O$4)))","v":""},{"$f":"UPPER(IFERROR(CONCATENATE(CONCAT!B65,CONCAT!C65)&(CONCAT!D65),\"\"))","v":""},{"$f":"IF(B55=\"\",\"\",'Order Form'!D77)","v":""},{"$f":"UPPER(IF('Order Form'!C77=\"\",\"\",'Order Form'!J77&'Order Form'!AM77&'Order Form'!AN77&'Order Form'!AO77))","v":""},{"$f":"IF('Order Form'!M77=0,IF('Order Form'!P77=0,\"\",'Order Form'!P77/'Order Form'!D77),'Order Form'!M77+('Order Form'!P77/'Order Form'!D77))","v":""},"",{"$f":"UPPER(IF(B55=\"\",\"\",CONCAT!$G$3))","v":""},{"$f":"UPPER(IF(B55=\"\",\"\",CONCAT!$G$4))","v":""},{"$f":"UPPER(IF(B55=\"\",\"\",CONCAT!$G$5))","v":""},{"$f":"UPPER(IF(B55=\"\",\"\",CONCAT!$G$6))","v":""},{"$f":"UPPER(IF(B55=\"\",\"\",CONCAT!$G$7))","v":""},{"$f":"UPPER(IF(B55=\"\",\"\",CONCAT!$G$2))","v":""},{"$f":"UPPER(IF(B55=\"\",\"\",CONCAT!$G$8))","v":""},"",{"$f":"UPPER(IF(B55=\"\",\"\",'Order Form'!$K$4))","v":""},{"$f":"UPPER(IF(B55=\"\",\"\",(UPPER(IF(CONCAT!$G$2=\"SELECT\",\"SELECT \"&CONCAT!$G$3,CONCAT!$G$1&Species!$G$6&'Door Style'!$I$6&Color!$Q$6&'Drawer Head'!$H$6&'Custom Finish'!$G$6)))))","v":""},null,{"$f":"IF(B55=\"\",\"\",CONCAT!$J$2)","v":""},{"$f":"IF(B55=\"\",\"\",CONCAT!$J$3)","v":""}]
[{"$f":"UPPER(IF(AND('Order Form'!$O$4=\"\",B56=\"\"),\"\",IF(B56=\"\",\"\",'Order Form'!$O$4)))","v":""},{"$f":"UPPER(IFERROR(CONCATENATE(CONCAT!B66,CONCAT!C66)&(CONCAT!D66),\"\"))","v":""},{"$f":"IF(B56=\"\",\"\",'Order Form'!D78)","v":""},{"$f":"UPPER(IF('Order Form'!C78=\"\",\"\",'Order Form'!J78&'Order Form'!AM78&'Order Form'!AN78&'Order Form'!AO78))","v":""},{"$f":"IF('Order Form'!M78=0,IF('Order Form'!P78=0,\"\",'Order Form'!P78/'Order Form'!D78),'Order Form'!M78+('Order Form'!P78/'Order Form'!D78))","v":""},"",{"$f":"UPPER(IF(B56=\"\",\"\",CONCAT!$G$3))","v":""},{"$f":"UPPER(IF(B56=\"\",\"\",CONCAT!$G$4))","v":""},{"$f":"UPPER(IF(B56=\"\",\"\",CONCAT!$G$5))","v":""},{"$f":"UPPER(IF(B56=\"\",\"\",CONCAT!$G$6))","v":""},{"$f":"UPPER(IF(B56=\"\",\"\",CONCAT!$G$7))","v":""},{"$f":"UPPER(IF(B56=\"\",\"\",CONCAT!$G$2))","v":""},{"$f":"UPPER(IF(B56=\"\",\"\",CONCAT!$G$8))","v":""},"",{"$f":"UPPER(IF(B56=\"\",\"\",'Order Form'!$K$4))","v":""},{"$f":"UPPER(IF(B56=\"\",\"\",(UPPER(IF(CONCAT!$G$2=\"SELECT\",\"SELECT \"&CONCAT!$G$3,CONCAT!$G$1&Species!$G$6&'Door Style'!$I$6&Color!$Q$6&'Drawer Head'!$H$6&'Custom Finish'!$G$6)))))","v":""},null,{"$f":"IF(B56=\"\",\"\",CONCAT!$J$2)","v":""},{"$f":"IF(B56=\"\",\"\",CONCAT!$J$3)","v":""}]
[{"$f":"UPPER(IF(AND('Order Form'!$O$4=\"\",B57=\"\"),\"\",IF(B57=\"\",\"\",'Order Form'!$O$4)))","v":""},{"$f":"UPPER(IFERROR(CONCATENATE(CONCAT!B67,CONCAT!C67)&(CONCAT!D67),\"\"))","v":""},{"$f":"IF(B57=\"\",\"\",'Order Form'!D79)","v":""},{"$f":"UPPER(IF('Order Form'!C79=\"\",\"\",'Order Form'!J79&'Order Form'!AM79&'Order Form'!AN79&'Order Form'!AO79))","v":""},{"$f":"IF('Order Form'!M79=0,IF('Order Form'!P79=0,\"\",'Order Form'!P79/'Order Form'!D79),'Order Form'!M79+('Order Form'!P79/'Order Form'!D79))","v":""},"",{"$f":"UPPER(IF(B57=\"\",\"\",CONCAT!$G$3))","v":""},{"$f":"UPPER(IF(B57=\"\",\"\",CONCAT!$G$4))","v":""},{"$f":"UPPER(IF(B57=\"\",\"\",CONCAT!$G$5))","v":""},{"$f":"UPPER(IF(B57=\"\",\"\",CONCAT!$G$6))","v":""},{"$f":"UPPER(IF(B57=\"\",\"\",CONCAT!$G$7))","v":""},{"$f":"UPPER(IF(B57=\"\",\"\",CONCAT!$G$2))","v":""},{"$f":"UPPER(IF(B57=\"\",\"\",CONCAT!$G$8))","v":""},"",{"$f":"UPPER(IF(B57=\"\",\"\",'Order Form'!$K$4))","v":""},{"$f":"UPPER(IF(B57=\"\",\"\",(UPPER(IF(CONCAT!$G$2=\"SELECT\",\"SELECT \"&CONCAT!$G$3,CONCAT!$G$1&Species!$G$6&'Door Style'!$I$6&Color!$Q$6&'Drawer Head'!$H$6&'Custom Finish'!$G$6)))))","v":""},null,{"$f":"IF(B57=\"\",\"\",CONCAT!$J$2)","v":""},{"$f":"IF(B57=\"\",\"\",CONCAT!$J$3)","v":""}]
[{"$f":"UPPER(IF(AND('Order Form'!$O$4=\"\",B58=\"\"),\"\",IF(B58=\"\",\"\",'Order Form'!$O$4)))","v":""},{"$f":"UPPER(IFERROR(CONCATENATE(CONCAT!B68,CONCAT!C68)&(CONCAT!D68),\"\"))","v":""},{"$f":"IF(B58=\"\",\"\",'Order Form'!D80)","v":""},{"$f":"UPPER(IF('Order Form'!C80=\"\",\"\",'Order Form'!J80&'Order Form'!AM80&'Order Form'!AN80&'Order Form'!AO80))","v":""},{"$f":"IF('Order Form'!M80=0,IF('Order Form'!P80=0,\"\",'Order Form'!P80/'Order Form'!D80),'Order Form'!M80+('Order Form'!P80/'Order Form'!D80))","v":""},"",{"$f":"UPPER(IF(B58=\"\",\"\",CONCAT!$G$3))","v":""},{"$f":"UPPER(IF(B58=\"\",\"\",CONCAT!$G$4))","v":""},{"$f":"UPPER(IF(B58=\"\",\"\",CONCAT!$G$5))","v":""},{"$f":"UPPER(IF(B58=\"\",\"\",CONCAT!$G$6))","v":""},{"$f":"UPPER(IF(B58=\"\",\"\",CONCAT!$G$7))","v":""},{"$f":"UPPER(IF(B58=\"\",\"\",CONCAT!$G$2))","v":""},{"$f":"UPPER(IF(B58=\"\",\"\",CONCAT!$G$8))","v":""},"",{"$f":"UPPER(IF(B58=\"\",\"\",'Order Form'!$K$4))","v":""},{"$f":"UPPER(IF(B58=\"\",\"\",(UPPER(IF(CONCAT!$G$2=\"SELECT\",\"SELECT \"&CONCAT!$G$3,CONCAT!$G$1&Species!$G$6&'Door Style'!$I$6&Color!$Q$6&'Drawer Head'!$H$6&'Custom Finish'!$G$6)))))","v":""},null,{"$f":"IF(B58=\"\",\"\",CONCAT!$J$2)","v":""},{"$f":"IF(B58=\"\",\"\",CONCAT!$J$3)","v":""}]
[{"$f":"UPPER(IF(AND('Order Form'!$O$4=\"\",B59=\"\"),\"\",IF(B59=\"\",\"\",'Order Form'!$O$4)))","v":""},{"$f":"UPPER(IFERROR(CONCATENATE(CONCAT!B69,CONCAT!C69)&(CONCAT!D69),\"\"))","v":""},{"$f":"IF(B59=\"\",\"\",'Order Form'!D81)","v":""},{"$f":"UPPER(IF('Order Form'!C81=\"\",\"\",'Order Form'!J81&'Order Form'!AM81&'Order Form'!AN81&'Order Form'!AO81))","v":""},{"$f":"IF('Order Form'!M81=0,IF('Order Form'!P81=0,\"\",'Order Form'!P81/'Order Form'!D81),'Order Form'!M81+('Order Form'!P81/'Order Form'!D81))","v":""},"",{"$f":"UPPER(IF(B59=\"\",\"\",CONCAT!$G$3))","v":""},{"$f":"UPPER(IF(B59=\"\",\"\",CONCAT!$G$4))","v":""},{"$f":"UPPER(IF(B59=\"\",\"\",CONCAT!$G$5))","v":""},{"$f":"UPPER(IF(B59=\"\",\"\",CONCAT!$G$6))","v":""},{"$f":"UPPER(IF(B59=\"\",\"\",CONCAT!$G$7))","v":""},{"$f":"UPPER(IF(B59=\"\",\"\",CONCAT!$G$2))","v":""},{"$f":"UPPER(IF(B59=\"\",\"\",CONCAT!$G$8))","v":""},"",{"$f":"UPPER(IF(B59=\"\",\"\",'Order Form'!$K$4))","v":""},{"$f":"UPPER(IF(B59=\"\",\"\",(UPPER(IF(CONCAT!$G$2=\"SELECT\",\"SELECT \"&CONCAT!$G$3,CONCAT!$G$1&Species!$G$6&'Door Style'!$I$6&Color!$Q$6&'Drawer Head'!$H$6&'Custom Finish'!$G$6)))))","v":""},null,{"$f":"IF(B59=\"\",\"\",CONCAT!$J$2)","v":""},{"$f":"IF(B59=\"\",\"\",CONCAT!$J$3)","v":""}]
[{"$f":"UPPER(IF(AND('Order Form'!$O$4=\"\",B60=\"\"),\"\",IF(B60=\"\",\"\",'Order Form'!$O$4)))","v":""},{"$f":"UPPER(IFERROR(CONCATENATE(CONCAT!B70,CONCAT!C70)&(CONCAT!D70),\"\"))","v":""},{"$f":"IF(B60=\"\",\"\",'Order Form'!D82)","v":""},{"$f":"UPPER(IF('Order Form'!C82=\"\",\"\",'Order Form'!J82&'Order Form'!AM82&'Order Form'!AN82&'Order Form'!AO82))","v":""},{"$f":"IF('Order Form'!M82=0,IF('Order Form'!P82=0,\"\",'Order Form'!P82/'Order Form'!D82),'Order Form'!M82+('Order Form'!P82/'Order Form'!D82))","v":""},"",{"$f":"UPPER(IF(B60=\"\",\"\",CONCAT!$G$3))","v":""},{"$f":"UPPER(IF(B60=\"\",\"\",CONCAT!$G$4))","v":""},{"$f":"UPPER(IF(B60=\"\",\"\",CONCAT!$G$5))","v":""},{"$f":"UPPER(IF(B60=\"\",\"\",CONCAT!$G$6))","v":""},{"$f":"UPPER(IF(B60=\"\",\"\",CONCAT!$G$7))","v":""},{"$f":"UPPER(IF(B60=\"\",\"\",CONCAT!$G$2))","v":""},{"$f":"UPPER(IF(B60=\"\",\"\",CONCAT!$G$8))","v":""},"",{"$f":"UPPER(IF(B60=\"\",\"\",'Order Form'!$K$4))","v":""},{"$f":"UPPER(IF(B60=\"\",\"\",(UPPER(IF(CONCAT!$G$2=\"SELECT\",\"SELECT \"&CONCAT!$G$3,CONCAT!$G$1&Species!$G$6&'Door Style'!$I$6&Color!$Q$6&'Drawer Head'!$H$6&'Custom Finish'!$G$6)))))","v":""},null,{"$f":"IF(B60=\"\",\"\",CONCAT!$J$2)","v":""},{"$f":"IF(B60=\"\",\"\",CONCAT!$J$3)","v":""}]
[{"$f":"UPPER(IF(AND('Order Form'!$O$4=\"\",B61=\"\"),\"\",IF(B61=\"\",\"\",'Order Form'!$O$4)))","v":""},{"$f":"UPPER(IFERROR(CONCATENATE(CONCAT!B71,CONCAT!C71)&(CONCAT!D71),\"\"))","v":""},{"$f":"IF(B61=\"\",\"\",'Order Form'!D83)","v":""},{"$f":"UPPER(IF('Order Form'!C83=\"\",\"\",'Order Form'!J83&'Order Form'!AM83&'Order Form'!AN83&'Order Form'!AO83))","v":""},{"$f":"IF('Order Form'!M83=0,IF('Order Form'!P83=0,\"\",'Order Form'!P83/'Order Form'!D83),'Order Form'!M83+('Order Form'!P83/'Order Form'!D83))","v":""},"",{"$f":"UPPER(IF(B61=\"\",\"\",CONCAT!$G$3))","v":""},{"$f":"UPPER(IF(B61=\"\",\"\",CONCAT!$G$4))","v":""},{"$f":"UPPER(IF(B61=\"\",\"\",CONCAT!$G$5))","v":""},{"$f":"UPPER(IF(B61=\"\",\"\",CONCAT!$G$6))","v":""},{"$f":"UPPER(IF(B61=\"\",\"\",CONCAT!$G$7))","v":""},{"$f":"UPPER(IF(B61=\"\",\"\",CONCAT!$G$2))","v":""},{"$f":"UPPER(IF(B61=\"\",\"\",CONCAT!$G$8))","v":""},"",{"$f":"UPPER(IF(B61=\"\",\"\",'Order Form'!$K$4))","v":""},{"$f":"UPPER(IF(B61=\"\",\"\",(UPPER(IF(CONCAT!$G$2=\"SELECT\",\"SELECT \"&CONCAT!$G$3,CONCAT!$G$1&Species!$G$6&'Door Style'!$I$6&Color!$Q$6&'Drawer Head'!$H$6&'Custom Finish'!$G$6)))))","v":""},null,{"$f":"IF(B61=\"\",\"\",CONCAT!$J$2)","v":""},{"$f":"IF(B61=\"\",\"\",CONCAT!$J$3)","v":""}]
[{"$f":"UPPER(IF(AND('Order Form'!$O$4=\"\",B62=\"\"),\"\",IF(B62=\"\",\"\",'Order Form'!$O$4)))","v":""},{"$f":"UPPER(IFERROR(CONCATENATE(CONCAT!B72,CONCAT!C72)&(CONCAT!D72),\"\"))","v":""},{"$f":"IF(B62=\"\",\"\",'Order Form'!D84)","v":""},{"$f":"UPPER(IF('Order Form'!C84=\"\",\"\",'Order Form'!J84&'Order Form'!AM84&'Order Form'!AN84&'Order Form'!AO84))","v":""},{"$f":"IF('Order Form'!M84=0,IF('Order Form'!P84=0,\"\",'Order Form'!P84/'Order Form'!D84),'Order Form'!M84+('Order Form'!P84/'Order Form'!D84))","v":""},"",{"$f":"UPPER(IF(B62=\"\",\"\",CONCAT!$G$3))","v":""},{"$f":"UPPER(IF(B62=\"\",\"\",CONCAT!$G$4))","v":""},{"$f":"UPPER(IF(B62=\"\",\"\",CONCAT!$G$5))","v":""},{"$f":"UPPER(IF(B62=\"\",\"\",CONCAT!$G$6))","v":""},{"$f":"UPPER(IF(B62=\"\",\"\",CONCAT!$G$7))","v":""},{"$f":"UPPER(IF(B62=\"\",\"\",CONCAT!$G$2))","v":""},{"$f":"UPPER(IF(B62=\"\",\"\",CONCAT!$G$8))","v":""},"",{"$f":"UPPER(IF(B62=\"\",\"\",'Order Form'!$K$4))","v":""},{"$f":"UPPER(IF(B62=\"\",\"\",(UPPER(IF(CONCAT!$G$2=\"SELECT\",\"SELECT \"&CONCAT!$G$3,CONCAT!$G$1&Species!$G$6&'Door Style'!$I$6&Color!$Q$6&'Drawer Head'!$H$6&'Custom Finish'!$G$6)))))","v":""},null,{"$f":"IF(B62=\"\",\"\",CONCAT!$J$2)","v":""},{"$f":"IF(B62=\"\",\"\",CONCAT!$J$3)","v":""}]
[{"$f":"UPPER(IF(AND('Order Form'!$O$4=\"\",B63=\"\"),\"\",IF(B63=\"\",\"\",'Order Form'!$O$4)))","v":""},{"$f":"UPPER(IFERROR(CONCATENATE(CONCAT!B73,CONCAT!C73)&(CONCAT!D73),\"\"))","v":""},{"$f":"IF(B63=\"\",\"\",'Order Form'!D85)","v":""},{"$f":"UPPER(IF('Order Form'!C85=\"\",\"\",'Order Form'!J85&'Order Form'!AM85&'Order Form'!AN85&'Order Form'!AO85))","v":""},{"$f":"IF('Order Form'!M85=0,IF('Order Form'!P85=0,\"\",'Order Form'!P85/'Order Form'!D85),'Order Form'!M85+('Order Form'!P85/'Order Form'!D85))","v":""},"",{"$f":"UPPER(IF(B63=\"\",\"\",CONCAT!$G$3))","v":""},{"$f":"UPPER(IF(B63=\"\",\"\",CONCAT!$G$4))","v":""},{"$f":"UPPER(IF(B63=\"\",\"\",CONCAT!$G$5))","v":""},{"$f":"UPPER(IF(B63=\"\",\"\",CONCAT!$G$6))","v":""},{"$f":"UPPER(IF(B63=\"\",\"\",CONCAT!$G$7))","v":""},{"$f":"UPPER(IF(B63=\"\",\"\",CONCAT!$G$2))","v":""},{"$f":"UPPER(IF(B63=\"\",\"\",CONCAT!$G$8))","v":""},"",{"$f":"UPPER(IF(B63=\"\",\"\",'Order Form'!$K$4))","v":""},{"$f":"UPPER(IF(B63=\"\",\"\",(UPPER(IF(CONCAT!$G$2=\"SELECT\",\"SELECT \"&CONCAT!$G$3,CONCAT!$G$1&Species!$G$6&'Door Style'!$I$6&Color!$Q$6&'Drawer Head'!$H$6&'Custom Finish'!$G$6)))))","v":""},null,{"$f":"IF(B63=\"\",\"\",CONCAT!$J$2)","v":""},{"$f":"IF(B63=\"\",\"\",CONCAT!$J$3)","v":""}]
[{"$f":"UPPER(IF(AND('Order Form'!$O$4=\"\",B64=\"\"),\"\",IF(B64=\"\",\"\",'Order Form'!$O$4)))","v":""},{"$f":"UPPER(IFERROR(CONCATENATE(CONCAT!B74,CONCAT!C74)&(CONCAT!D74),\"\"))","v":""},{"$f":"IF(B64=\"\",\"\",'Order Form'!D86)","v":""},{"$f":"UPPER(IF('Order Form'!C86=\"\",\"\",'Order Form'!J86&'Order Form'!AM86&'Order Form'!AN86&'Order Form'!AO86))","v":""},{"$f":"IF('Order Form'!M86=0,IF('Order Form'!P86=0,\"\",'Order Form'!P86/'Order Form'!D86),'Order Form'!M86+('Order Form'!P86/'Order Form'!D86))","v":""},"",{"$f":"UPPER(IF(B64=\"\",\"\",CONCAT!$G$3))","v":""},{"$f":"UPPER(IF(B64=\"\",\"\",CONCAT!$G$4))","v":""},{"$f":"UPPER(IF(B64=\"\",\"\",CONCAT!$G$5))","v":""},{"$f":"UPPER(IF(B64=\"\",\"\",CONCAT!$G$6))","v":""},{"$f":"UPPER(IF(B64=\"\",\"\",CONCAT!$G$7))","v":""},{"$f":"UPPER(IF(B64=\"\",\"\",CONCAT!$G$2))","v":""},{"$f":"UPPER(IF(B64=\"\",\"\",CONCAT!$G$8))","v":""},"",{"$f":"UPPER(IF(B64=\"\",\"\",'Order Form'!$K$4))","v":""},{"$f":"UPPER(IF(B64=\"\",\"\",(UPPER(IF(CONCAT!$G$2=\"SELECT\",\"SELECT \"&CONCAT!$G$3,CONCAT!$G$1&Species!$G$6&'Door Style'!$I$6&Color!$Q$6&'Drawer Head'!$H$6&'Custom Finish'!$G$6)))))","v":""},null,{"$f":"IF(B64=\"\",\"\",CONCAT!$J$2)","v":""},{"$f":"IF(B64=\"\",\"\",CONCAT!$J$3)","v":""}]
[{"$f":"UPPER(IF(AND('Order Form'!$O$4=\"\",B65=\"\"),\"\",IF(B65=\"\",\"\",'Order Form'!$O$4)))","v":""},{"$f":"UPPER(IFERROR(CONCATENATE(CONCAT!B75,CONCAT!C75)&(CONCAT!D75),\"\"))","v":""},{"$f":"IF(B65=\"\",\"\",'Order Form'!D87)","v":""},{"$f":"UPPER(IF('Order Form'!C87=\"\",\"\",'Order Form'!J87&'Order Form'!AM87&'Order Form'!AN87&'Order Form'!AO87))","v":""},{"$f":"IF('Order Form'!M87=0,IF('Order Form'!P87=0,\"\",'Order Form'!P87/'Order Form'!D87),'Order Form'!M87+('Order Form'!P87/'Order Form'!D87))","v":""},"",{"$f":"UPPER(IF(B65=\"\",\"\",CONCAT!$G$3))","v":""},{"$f":"UPPER(IF(B65=\"\",\"\",CONCAT!$G$4))","v":""},{"$f":"UPPER(IF(B65=\"\",\"\",CONCAT!$G$5))","v":""},{"$f":"UPPER(IF(B65=\"\",\"\",CONCAT!$G$6))","v":""},{"$f":"UPPER(IF(B65=\"\",\"\",CONCAT!$G$7))","v":""},{"$f":"UPPER(IF(B65=\"\",\"\",CONCAT!$G$2))","v":""},{"$f":"UPPER(IF(B65=\"\",\"\",CONCAT!$G$8))","v":""},"",{"$f":"UPPER(IF(B65=\"\",\"\",'Order Form'!$K$4))","v":""},{"$f":"UPPER(IF(B65=\"\",\"\",(UPPER(IF(CONCAT!$G$2=\"SELECT\",\"SELECT \"&CONCAT!$G$3,CONCAT!$G$1&Species!$G$6&'Door Style'!$I$6&Color!$Q$6&'Drawer Head'!$H$6&'Custom Finish'!$G$6)))))","v":""},null,{"$f":"IF(B65=\"\",\"\",CONCAT!$J$2)","v":""},{"$f":"IF(B65=\"\",\"\",CONCAT!$J$3)","v":""}]
[{"$f":"UPPER(IF(AND('Order Form'!$O$4=\"\",B66=\"\"),\"\",IF(B66=\"\",\"\",'Order Form'!$O$4)))","v":""},{"$f":"UPPER(IFERROR(CONCATENATE(CONCAT!B76,CONCAT!C76)&(CONCAT!D76),\"\"))","v":""},{"$f":"IF(B66=\"\",\"\",'Order Form'!D88)","v":""},{"$f":"UPPER(IF('Order Form'!C88=\"\",\"\",'Order Form'!J88&'Order Form'!AM88&'Order Form'!AN88&'Order Form'!AO88))","v":""},{"$f":"IF('Order Form'!M88=0,IF('Order Form'!P88=0,\"\",'Order Form'!P88/'Order Form'!D88),'Order Form'!M88+('Order Form'!P88/'Order Form'!D88))","v":""},{"$f":"IF(B66=\"\",\"\",IF(LEFT(B66,1)=\"/\",5,1))","v":""},{"$f":"UPPER(IF(B66=\"\",\"\",CONCAT!$G$3))","v":""},{"$f":"UPPER(IF(B66=\"\",\"\",CONCAT!$G$4))","v":""},{"$f":"UPPER(IF(B66=\"\",\"\",CONCAT!$G$5))","v":""},{"$f":"UPPER(IF(B66=\"\",\"\",CONCAT!$G$6))","v":""},{"$f":"UPPER(IF(B66=\"\",\"\",CONCAT!$G$7))","v":""},{"$f":"UPPER(IF(B66=\"\",\"\",CONCAT!$G$2))","v":""},{"$f":"UPPER(IF(B66=\"\",\"\",CONCAT!$G$8))","v":""},"",{"$f":"UPPER(IF(B66=\"\",\"\",'Order Form'!$K$4))","v":""},{"$f":"UPPER(IF(B66=\"\",\"\",(UPPER(IF(CONCAT!$G$2=\"SELECT\",\"SELECT \"&CONCAT!$G$3,CONCAT!$G$1&Species!$G$6&'Door Style'!$I$6&Color!$Q$6&'Drawer Head'!$H$6&'Custom Finish'!$G$6)))))","v":""},null,{"$f":"IF(B66=\"\",\"\",CONCAT!$J$2)","v":""},{"$f":"IF(B66=\"\",\"\",CONCAT!$J$3)","v":""}]
[{"$f":"UPPER(IF(AND('Order Form'!$O$4=\"\",B67=\"\"),\"\",IF(B67=\"\",\"\",'Order Form'!$O$4)))","v":""},{"$f":"UPPER(IFERROR(CONCATENATE(CONCAT!B77,CONCAT!C77)&(CONCAT!D77),\"\"))","v":""},{"$f":"IF(B67=\"\",\"\",'Order Form'!D89)","v":""},{"$f":"UPPER(IF('Order Form'!C89=\"\",\"\",'Order Form'!J89&'Order Form'!AM89&'Order Form'!AN89&'Order Form'!AO89))","v":""},{"$f":"IF('Order Form'!M89=0,IF('Order Form'!P89=0,\"\",'Order Form'!P89/'Order Form'!D89),'Order Form'!M89+('Order Form'!P89/'Order Form'!D89))","v":""},"",{"$f":"UPPER(IF(B67=\"\",\"\",CONCAT!$G$3))","v":""},{"$f":"UPPER(IF(B67=\"\",\"\",CONCAT!$G$4))","v":""},{"$f":"UPPER(IF(B67=\"\",\"\",CONCAT!$G$5))","v":""},{"$f":"UPPER(IF(B67=\"\",\"\",CONCAT!$G$6))","v":""},{"$f":"UPPER(IF(B67=\"\",\"\",CONCAT!$G$7))","v":""},{"$f":"UPPER(IF(B67=\"\",\"\",CONCAT!$G$2))","v":""},{"$f":"UPPER(IF(B67=\"\",\"\",CONCAT!$G$8))","v":""},{"$f":"IFERROR(C67*E67,\"\")","v":""},{"$f":"UPPER(IF(B67=\"\",\"\",'Order Form'!$K$4))","v":""},{"$f":"UPPER(IF(B67=\"\",\"\",(UPPER(IF(CONCAT!$G$2=\"SELECT\",\"SELECT \"&CONCAT!$G$3,CONCAT!$G$1&Species!$G$6&'Door Style'!$I$6&Color!$Q$6&'Drawer Head'!$H$6&'Custom Finish'!$G$6)))))","v":""},null,{"$f":"IF(B67=\"\",\"\",CONCAT!$J$2)","v":""},{"$f":"IF(B67=\"\",\"\",CONCAT!$J$3)","v":""}]
[{"$f":"UPPER(IF(AND('Order Form'!$O$4=\"\",B68=\"\"),\"\",IF(B68=\"\",\"\",'Order Form'!$O$4)))","v":""},{"$f":"UPPER(IFERROR(CONCATENATE(CONCAT!B78,CONCAT!C78)&(CONCAT!D78),\"\"))","v":""},{"$f":"IF(B68=\"\",\"\",'Order Form'!D90)","v":""},{"$f":"UPPER(IF('Order Form'!C90=\"\",\"\",'Order Form'!J90&'Order Form'!AM90&'Order Form'!AN90&'Order Form'!AO90))","v":""},{"$f":"IF('Order Form'!M90=0,IF('Order Form'!P90=0,\"\",'Order Form'!P90/'Order Form'!D90),'Order Form'!M90+('Order Form'!P90/'Order Form'!D90))","v":""},"",{"$f":"UPPER(IF(B68=\"\",\"\",CONCAT!$G$3))","v":""},{"$f":"UPPER(IF(B68=\"\",\"\",CONCAT!$G$4))","v":""},{"$f":"UPPER(IF(B68=\"\",\"\",CONCAT!$G$5))","v":""},{"$f":"UPPER(IF(B68=\"\",\"\",CONCAT!$G$6))","v":""},{"$f":"UPPER(IF(B68=\"\",\"\",CONCAT!$G$7))","v":""},{"$f":"UPPER(IF(B68=\"\",\"\",CONCAT!$G$2))","v":""},{"$f":"UPPER(IF(B68=\"\",\"\",CONCAT!$G$8))","v":""},"",{"$f":"UPPER(IF(B68=\"\",\"\",'Order Form'!$K$4))","v":""},{"$f":"UPPER(IF(B68=\"\",\"\",(UPPER(IF(CONCAT!$G$2=\"SELECT\",\"SELECT \"&CONCAT!$G$3,CONCAT!$G$1&Species!$G$6&'Door Style'!$I$6&Color!$Q$6&'Drawer Head'!$H$6&'Custom Finish'!$G$6)))))","v":""},null,{"$f":"IF(B68=\"\",\"\",CONCAT!$J$2)","v":""},{"$f":"IF(B68=\"\",\"\",CONCAT!$J$3)","v":""}]
[{"$f":"UPPER(IF(AND('Order Form'!$O$4=\"\",B69=\"\"),\"\",IF(B69=\"\",\"\",'Order Form'!$O$4)))","v":""},{"$f":"UPPER(IFERROR(CONCATENATE(CONCAT!B79,CONCAT!C79)&(CONCAT!D79),\"\"))","v":""},{"$f":"IF(B69=\"\",\"\",'Order Form'!D91)","v":""},{"$f":"UPPER(IF('Order Form'!C91=\"\",\"\",'Order Form'!J91&'Order Form'!AM91&'Order Form'!AN91&'Order Form'!AO91))","v":""},{"$f":"IF('Order Form'!M91=0,IF('Order Form'!P91=0,\"\",'Order Form'!P91/'Order Form'!D91),'Order Form'!M91+('Order Form'!P91/'Order Form'!D91))","v":""},"",{"$f":"UPPER(IF(B69=\"\",\"\",CONCAT!$G$3))","v":""},{"$f":"UPPER(IF(B69=\"\",\"\",CONCAT!$G$4))","v":""},{"$f":"UPPER(IF(B69=\"\",\"\",CONCAT!$G$5))","v":""},{"$f":"UPPER(IF(B69=\"\",\"\",CONCAT!$G$6))","v":""},{"$f":"UPPER(IF(B69=\"\",\"\",CONCAT!$G$7))","v":""},{"$f":"UPPER(IF(B69=\"\",\"\",CONCAT!$G$2))","v":""},{"$f":"UPPER(IF(B69=\"\",\"\",CONCAT!$G$8))","v":""},"",{"$f":"UPPER(IF(B69=\"\",\"\",'Order Form'!$K$4))","v":""},{"$f":"UPPER(IF(B69=\"\",\"\",(UPPER(IF(CONCAT!$G$2=\"SELECT\",\"SELECT \"&CONCAT!$G$3,CONCAT!$G$1&Species!$G$6&'Door Style'!$I$6&Color!$Q$6&'Drawer Head'!$H$6&'Custom Finish'!$G$6)))))","v":""},null,{"$f":"IF(B69=\"\",\"\",CONCAT!$J$2)","v":""},{"$f":"IF(B69=\"\",\"\",CONCAT!$J$3)","v":""}]
[{"$f":"UPPER(IF(AND('Order Form'!$O$4=\"\",B70=\"\"),\"\",IF(B70=\"\",\"\",'Order Form'!$O$4)))","v":""},{"$f":"UPPER(IFERROR(CONCATENATE(CONCAT!B80,CONCAT!C80)&(CONCAT!D80),\"\"))","v":""},{"$f":"IF(B70=\"\",\"\",'Order Form'!D92)","v":""},{"$f":"UPPER(IF('Order Form'!C92=\"\",\"\",'Order Form'!J92&'Order Form'!AM92&'Order Form'!AN92&'Order Form'!AO92))","v":""},{"$f":"IF('Order Form'!M92=0,IF('Order Form'!P92=0,\"\",'Order Form'!P92/'Order Form'!D92),'Order Form'!M92+('Order Form'!P92/'Order Form'!D92))","v":""},"",{"$f":"UPPER(IF(B70=\"\",\"\",CONCAT!$G$3))","v":""},{"$f":"UPPER(IF(B70=\"\",\"\",CONCAT!$G$4))","v":""},{"$f":"UPPER(IF(B70=\"\",\"\",CONCAT!$G$5))","v":""},{"$f":"UPPER(IF(B70=\"\",\"\",CONCAT!$G$6))","v":""},{"$f":"UPPER(IF(B70=\"\",\"\",CONCAT!$G$7))","v":""},{"$f":"UPPER(IF(B70=\"\",\"\",CONCAT!$G$2))","v":""},{"$f":"UPPER(IF(B70=\"\",\"\",CONCAT!$G$8))","v":""},"",{"$f":"UPPER(IF(B70=\"\",\"\",'Order Form'!$K$4))","v":""},{"$f":"UPPER(IF(B70=\"\",\"\",(UPPER(IF(CONCAT!$G$2=\"SELECT\",\"SELECT \"&CONCAT!$G$3,CONCAT!$G$1&Species!$G$6&'Door Style'!$I$6&Color!$Q$6&'Drawer Head'!$H$6&'Custom Finish'!$G$6)))))","v":""},null,{"$f":"IF(B70=\"\",\"\",CONCAT!$J$2)","v":""},{"$f":"IF(B70=\"\",\"\",CONCAT!$J$3)","v":""}]
[{"$f":"UPPER(IF(AND('Order Form'!$O$4=\"\",B71=\"\"),\"\",IF(B71=\"\",\"\",'Order Form'!$O$4)))","v":""},{"$f":"UPPER(IFERROR(CONCATENATE(CONCAT!B81,CONCAT!C81)&(CONCAT!D81),\"\"))","v":""},{"$f":"IF(B71=\"\",\"\",'Order Form'!D93)","v":""},{"$f":"UPPER(IF('Order Form'!C93=\"\",\"\",'Order Form'!J93&'Order Form'!AM93&'Order Form'!AN93&'Order Form'!AO93))","v":""},{"$f":"IF('Order Form'!M93=0,IF('Order Form'!P93=0,\"\",'Order Form'!P93/'Order Form'!D93),'Order Form'!M93+('Order Form'!P93/'Order Form'!D93))","v":""},"",{"$f":"UPPER(IF(B71=\"\",\"\",CONCAT!$G$3))","v":""},{"$f":"UPPER(IF(B71=\"\",\"\",CONCAT!$G$4))","v":""},{"$f":"UPPER(IF(B71=\"\",\"\",CONCAT!$G$5))","v":""},{"$f":"UPPER(IF(B71=\"\",\"\",CONCAT!$G$6))","v":""},{"$f":"UPPER(IF(B71=\"\",\"\",CONCAT!$G$7))","v":""},{"$f":"UPPER(IF(B71=\"\",\"\",CONCAT!$G$2))","v":""},{"$f":"UPPER(IF(B71=\"\",\"\",CONCAT!$G$8))","v":""},"",{"$f":"UPPER(IF(B71=\"\",\"\",'Order Form'!$K$4))","v":""},{"$f":"UPPER(IF(B71=\"\",\"\",(UPPER(IF(CONCAT!$G$2=\"SELECT\",\"SELECT \"&CONCAT!$G$3,CONCAT!$G$1&Species!$G$6&'Door Style'!$I$6&Color!$Q$6&'Drawer Head'!$H$6&'Custom Finish'!$G$6)))))","v":""},null,{"$f":"IF(B71=\"\",\"\",CONCAT!$J$2)","v":""},{"$f":"IF(B71=\"\",\"\",CONCAT!$J$3)","v":""}]
[{"$f":"UPPER(IF(AND('Order Form'!$O$4=\"\",B72=\"\"),\"\",IF(B72=\"\",\"\",'Order Form'!$O$4)))","v":""},{"$f":"UPPER(IFERROR(CONCATENATE(CONCAT!B82,CONCAT!C82)&(CONCAT!D82),\"\"))","v":""},{"$f":"IF(B72=\"\",\"\",'Order Form'!D94)","v":""},{"$f":"UPPER(IF('Order Form'!C94=\"\",\"\",'Order Form'!J94&'Order Form'!AM94&'Order Form'!AN94&'Order Form'!AO94))","v":""},{"$f":"IF('Order Form'!M94=0,IF('Order Form'!P94=0,\"\",'Order Form'!P94/'Order Form'!D94),'Order Form'!M94+('Order Form'!P94/'Order Form'!D94))","v":""},"",{"$f":"UPPER(IF(B72=\"\",\"\",CONCAT!$G$3))","v":""},{"$f":"UPPER(IF(B72=\"\",\"\",CONCAT!$G$4))","v":""},{"$f":"UPPER(IF(B72=\"\",\"\",CONCAT!$G$5))","v":""},{"$f":"UPPER(IF(B72=\"\",\"\",CONCAT!$G$6))","v":""},{"$f":"UPPER(IF(B72=\"\",\"\",CONCAT!$G$7))","v":""},{"$f":"UPPER(IF(B72=\"\",\"\",CONCAT!$G$2))","v":""},{"$f":"UPPER(IF(B72=\"\",\"\",CONCAT!$G$8))","v":""},"",{"$f":"UPPER(IF(B72=\"\",\"\",'Order Form'!$K$4))","v":""},{"$f":"UPPER(IF(B72=\"\",\"\",(UPPER(IF(CONCAT!$G$2=\"SELECT\",\"SELECT \"&CONCAT!$G$3,CONCAT!$G$1&Species!$G$6&'Door Style'!$I$6&Color!$Q$6&'Drawer Head'!$H$6&'Custom Finish'!$G$6)))))","v":""},null,{"$f":"IF(B72=\"\",\"\",CONCAT!$J$2)","v":""},{"$f":"IF(B72=\"\",\"\",CONCAT!$J$3)","v":""}]
[{"$f":"UPPER(IF(AND('Order Form'!$O$4=\"\",B73=\"\"),\"\",IF(B73=\"\",\"\",'Order Form'!$O$4)))","v":""},{"$f":"UPPER(IFERROR(CONCATENATE(CONCAT!B83,CONCAT!C83)&(CONCAT!D83),\"\"))","v":""},{"$f":"IF(B73=\"\",\"\",'Order Form'!D95)","v":""},{"$f":"UPPER(IF('Order Form'!C95=\"\",\"\",'Order Form'!J95&'Order Form'!AM95&'Order Form'!AN95&'Order Form'!AO95))","v":""},{"$f":"IF('Order Form'!M95=0,IF('Order Form'!P95=0,\"\",'Order Form'!P95/'Order Form'!D95),'Order Form'!M95+('Order Form'!P95/'Order Form'!D95))","v":""},"",{"$f":"UPPER(IF(B73=\"\",\"\",CONCAT!$G$3))","v":""},{"$f":"UPPER(IF(B73=\"\",\"\",CONCAT!$G$4))","v":""},{"$f":"UPPER(IF(B73=\"\",\"\",CONCAT!$G$5))","v":""},{"$f":"UPPER(IF(B73=\"\",\"\",CONCAT!$G$6))","v":""},{"$f":"UPPER(IF(B73=\"\",\"\",CONCAT!$G$7))","v":""},{"$f":"UPPER(IF(B73=\"\",\"\",CONCAT!$G$2))","v":""},{"$f":"UPPER(IF(B73=\"\",\"\",CONCAT!$G$8))","v":""},"",{"$f":"UPPER(IF(B73=\"\",\"\",'Order Form'!$K$4))","v":""},{"$f":"UPPER(IF(B73=\"\",\"\",(UPPER(IF(CONCAT!$G$2=\"SELECT\",\"SELECT \"&CONCAT!$G$3,CONCAT!$G$1&Species!$G$6&'Door Style'!$I$6&Color!$Q$6&'Drawer Head'!$H$6&'Custom Finish'!$G$6)))))","v":""},null,{"$f":"IF(B73=\"\",\"\",CONCAT!$J$2)","v":""},{"$f":"IF(B73=\"\",\"\",CONCAT!$J$3)","v":""}]
[{"$f":"UPPER(IF(AND('Order Form'!$O$4=\"\",B74=\"\"),\"\",IF(B74=\"\",\"\",'Order Form'!$O$4)))","v":""},{"$f":"UPPER(IFERROR(CONCATENATE(CONCAT!B84,CONCAT!C84)&(CONCAT!D84),\"\"))","v":""},{"$f":"IF(B74=\"\",\"\",'Order Form'!D96)","v":""},{"$f":"UPPER(IF('Order Form'!C96=\"\",\"\",'Order Form'!J96&'Order Form'!AM96&'Order Form'!AN96&'Order Form'!AO96))","v":""},{"$f":"IF('Order Form'!M96=0,IF('Order Form'!P96=0,\"\",'Order Form'!P96/'Order Form'!D96),'Order Form'!M96+('Order Form'!P96/'Order Form'!D96))","v":""},"",{"$f":"UPPER(IF(B74=\"\",\"\",CONCAT!$G$3))","v":""},{"$f":"UPPER(IF(B74=\"\",\"\",CONCAT!$G$4))","v":""},{"$f":"UPPER(IF(B74=\"\",\"\",CONCAT!$G$5))","v":""},{"$f":"UPPER(IF(B74=\"\",\"\",CONCAT!$G$6))","v":""},{"$f":"UPPER(IF(B74=\"\",\"\",CONCAT!$G$7))","v":""},{"$f":"UPPER(IF(B74=\"\",\"\",CONCAT!$G$2))","v":""},{"$f":"UPPER(IF(B74=\"\",\"\",CONCAT!$G$8))","v":""},"",{"$f":"UPPER(IF(B74=\"\",\"\",'Order Form'!$K$4))","v":""},{"$f":"UPPER(IF(B74=\"\",\"\",(UPPER(IF(CONCAT!$G$2=\"SELECT\",\"SELECT \"&CONCAT!$G$3,CONCAT!$G$1&Species!$G$6&'Door Style'!$I$6&Color!$Q$6&'Drawer Head'!$H$6&'Custom Finish'!$G$6)))))","v":""},null,{"$f":"IF(B74=\"\",\"\",CONCAT!$J$2)","v":""},{"$f":"IF(B74=\"\",\"\",CONCAT!$J$3)","v":""}]
[{"$f":"UPPER(IF(AND('Order Form'!$O$4=\"\",B75=\"\"),\"\",IF(B75=\"\",\"\",'Order Form'!$O$4)))","v":""},{"$f":"UPPER(IFERROR(CONCATENATE(CONCAT!B85,CONCAT!C85)&(CONCAT!D85),\"\"))","v":""},{"$f":"IF(B75=\"\",\"\",'Order Form'!D97)","v":""},{"$f":"UPPER(IF('Order Form'!C97=\"\",\"\",'Order Form'!J97&'Order Form'!AM97&'Order Form'!AN97&'Order Form'!AO97))","v":""},{"$f":"IF('Order Form'!M97=0,IF('Order Form'!P97=0,\"\",'Order Form'!P97/'Order Form'!D97),'Order Form'!M97+('Order Form'!P97/'Order Form'!D97))","v":""},"",{"$f":"UPPER(IF(B75=\"\",\"\",CONCAT!$G$3))","v":""},{"$f":"UPPER(IF(B75=\"\",\"\",CONCAT!$G$4))","v":""},{"$f":"UPPER(IF(B75=\"\",\"\",CONCAT!$G$5))","v":""},{"$f":"UPPER(IF(B75=\"\",\"\",CONCAT!$G$6))","v":""},{"$f":"UPPER(IF(B75=\"\",\"\",CONCAT!$G$7))","v":""},{"$f":"UPPER(IF(B75=\"\",\"\",CONCAT!$G$2))","v":""},{"$f":"UPPER(IF(B75=\"\",\"\",CONCAT!$G$8))","v":""},"",{"$f":"UPPER(IF(B75=\"\",\"\",'Order Form'!$K$4))","v":""},{"$f":"UPPER(IF(B75=\"\",\"\",(UPPER(IF(CONCAT!$G$2=\"SELECT\",\"SELECT \"&CONCAT!$G$3,CONCAT!$G$1&Species!$G$6&'Door Style'!$I$6&Color!$Q$6&'Drawer Head'!$H$6&'Custom Finish'!$G$6)))))","v":""},null,{"$f":"IF(B75=\"\",\"\",CONCAT!$J$2)","v":""},{"$f":"IF(B75=\"\",\"\",CONCAT!$J$3)","v":""}]
[{"$f":"UPPER(IF(AND('Order Form'!$O$4=\"\",B76=\"\"),\"\",IF(B76=\"\",\"\",'Order Form'!$O$4)))","v":""},{"$f":"UPPER(IFERROR(CONCATENATE(CONCAT!B86,CONCAT!C86)&(CONCAT!D86),\"\"))","v":""},{"$f":"IF(B76=\"\",\"\",'Order Form'!D98)","v":""},{"$f":"UPPER(IF('Order Form'!C98=\"\",\"\",'Order Form'!J98&'Order Form'!AM98&'Order Form'!AN98&'Order Form'!AO98))","v":""},{"$f":"IF('Order Form'!M98=0,IF('Order Form'!P98=0,\"\",'Order Form'!P98/'Order Form'!D98),'Order Form'!M98+('Order Form'!P98/'Order Form'!D98))","v":""},"",{"$f":"UPPER(IF(B76=\"\",\"\",CONCAT!$G$3))","v":""},{"$f":"UPPER(IF(B76=\"\",\"\",CONCAT!$G$4))","v":""},{"$f":"UPPER(IF(B76=\"\",\"\",CONCAT!$G$5))","v":""},{"$f":"UPPER(IF(B76=\"\",\"\",CONCAT!$G$6))","v":""},{"$f":"UPPER(IF(B76=\"\",\"\",CONCAT!$G$7))","v":""},{"$f":"UPPER(IF(B76=\"\",\"\",CONCAT!$G$2))","v":""},{"$f":"UPPER(IF(B76=\"\",\"\",CONCAT!$G$8))","v":""},"",{"$f":"UPPER(IF(B76=\"\",\"\",'Order Form'!$K$4))","v":""},{"$f":"UPPER(IF(B76=\"\",\"\",(UPPER(IF(CONCAT!$G$2=\"SELECT\",\"SELECT \"&CONCAT!$G$3,CONCAT!$G$1&Species!$G$6&'Door Style'!$I$6&Color!$Q$6&'Drawer Head'!$H$6&'Custom Finish'!$G$6)))))","v":""},null,{"$f":"IF(B76=\"\",\"\",CONCAT!$J$2)","v":""},{"$f":"IF(B76=\"\",\"\",CONCAT!$J$3)","v":""}]
[{"$f":"UPPER(IF(AND('Order Form'!$O$4=\"\",B77=\"\"),\"\",IF(B77=\"\",\"\",'Order Form'!$O$4)))","v":""},{"$f":"UPPER(IFERROR(CONCATENATE(CONCAT!B87,CONCAT!C87)&(CONCAT!D87),\"\"))","v":""},{"$f":"IF(B77=\"\",\"\",'Order Form'!D99)","v":""},{"$f":"UPPER(IF('Order Form'!C99=\"\",\"\",'Order Form'!J99&'Order Form'!AM99&'Order Form'!AN99&'Order Form'!AO99))","v":""},{"$f":"IF('Order Form'!M99=0,IF('Order Form'!P99=0,\"\",'Order Form'!P99/'Order Form'!D99),'Order Form'!M99+('Order Form'!P99/'Order Form'!D99))","v":""},"",{"$f":"UPPER(IF(B77=\"\",\"\",CONCAT!$G$3))","v":""},{"$f":"UPPER(IF(B77=\"\",\"\",CONCAT!$G$4))","v":""},{"$f":"UPPER(IF(B77=\"\",\"\",CONCAT!$G$5))","v":""},{"$f":"UPPER(IF(B77=\"\",\"\",CONCAT!$G$6))","v":""},{"$f":"UPPER(IF(B77=\"\",\"\",CONCAT!$G$7))","v":""},{"$f":"UPPER(IF(B77=\"\",\"\",CONCAT!$G$2))","v":""},{"$f":"UPPER(IF(B77=\"\",\"\",CONCAT!$G$8))","v":""},"",{"$f":"UPPER(IF(B77=\"\",\"\",'Order Form'!$K$4))","v":""},{"$f":"UPPER(IF(B77=\"\",\"\",(UPPER(IF(CONCAT!$G$2=\"SELECT\",\"SELECT \"&CONCAT!$G$3,CONCAT!$G$1&Species!$G$6&'Door Style'!$I$6&Color!$Q$6&'Drawer Head'!$H$6&'Custom Finish'!$G$6)))))","v":""},null,{"$f":"IF(B77=\"\",\"\",CONCAT!$J$2)","v":""},{"$f":"IF(B77=\"\",\"\",CONCAT!$J$3)","v":""}]
[{"$f":"UPPER(IF(AND('Order Form'!$O$4=\"\",B78=\"\"),\"\",IF(B78=\"\",\"\",'Order Form'!$O$4)))","v":""},{"$f":"UPPER(IFERROR(CONCATENATE(CONCAT!B88,CONCAT!C88)&(CONCAT!D88),\"\"))","v":""},{"$f":"IF(B78=\"\",\"\",'Order Form'!D100)","v":""},{"$f":"UPPER(IF('Order Form'!C100=\"\",\"\",'Order Form'!J100&'Order Form'!AM100&'Order Form'!AN100&'Order Form'!AO100))","v":""},{"$f":"IF('Order Form'!M100=0,IF('Order Form'!P100=0,\"\",'Order Form'!P100/'Order Form'!D100),'Order Form'!M100+('Order Form'!P100/'Order Form'!D100))","v":""},"",{"$f":"UPPER(IF(B78=\"\",\"\",CONCAT!$G$3))","v":""},{"$f":"UPPER(IF(B78=\"\",\"\",CONCAT!$G$4))","v":""},{"$f":"UPPER(IF(B78=\"\",\"\",CONCAT!$G$5))","v":""},{"$f":"UPPER(IF(B78=\"\",\"\",CONCAT!$G$6))","v":""},{"$f":"UPPER(IF(B78=\"\",\"\",CONCAT!$G$7))","v":""},{"$f":"UPPER(IF(B78=\"\",\"\",CONCAT!$G$2))","v":""},{"$f":"UPPER(IF(B78=\"\",\"\",CONCAT!$G$8))","v":""},"",{"$f":"UPPER(IF(B78=\"\",\"\",'Order Form'!$K$4))","v":""},{"$f":"UPPER(IF(B78=\"\",\"\",(UPPER(IF(CONCAT!$G$2=\"SELECT\",\"SELECT \"&CONCAT!$G$3,CONCAT!$G$1&Species!$G$6&'Door Style'!$I$6&Color!$Q$6&'Drawer Head'!$H$6&'Custom Finish'!$G$6)))))","v":""},null,{"$f":"IF(B78=\"\",\"\",CONCAT!$J$2)","v":""},{"$f":"IF(B78=\"\",\"\",CONCAT!$J$3)","v":""}]
[{"$f":"UPPER(IF(AND('Order Form'!$O$4=\"\",B79=\"\"),\"\",IF(B79=\"\",\"\",'Order Form'!$O$4)))","v":""},{"$f":"UPPER(IFERROR(CONCATENATE(CONCAT!B89,CONCAT!C89)&(CONCAT!D89),\"\"))","v":""},{"$f":"IF(B79=\"\",\"\",'Order Form'!D101)","v":""},{"$f":"UPPER(IF('Order Form'!C101=\"\",\"\",'Order Form'!J101&'Order Form'!AM101&'Order Form'!AN101&'Order Form'!AO101))","v":""},{"$f":"IF('Order Form'!M101=0,IF('Order Form'!P101=0,\"\",'Order Form'!P101/'Order Form'!D101),'Order Form'!M101+('Order Form'!P101/'Order Form'!D101))","v":""},"",{"$f":"UPPER(IF(B79=\"\",\"\",CONCAT!$G$3))","v":""},{"$f":"UPPER(IF(B79=\"\",\"\",CONCAT!$G$4))","v":""},{"$f":"UPPER(IF(B79=\"\",\"\",CONCAT!$G$5))","v":""},{"$f":"UPPER(IF(B79=\"\",\"\",CONCAT!$G$6))","v":""},{"$f":"UPPER(IF(B79=\"\",\"\",CONCAT!$G$7))","v":""},{"$f":"UPPER(IF(B79=\"\",\"\",CONCAT!$G$2))","v":""},{"$f":"UPPER(IF(B79=\"\",\"\",CONCAT!$G$8))","v":""},"",{"$f":"UPPER(IF(B79=\"\",\"\",'Order Form'!$K$4))","v":""},{"$f":"UPPER(IF(B79=\"\",\"\",(UPPER(IF(CONCAT!$G$2=\"SELECT\",\"SELECT \"&CONCAT!$G$3,CONCAT!$G$1&Species!$G$6&'Door Style'!$I$6&Color!$Q$6&'Drawer Head'!$H$6&'Custom Finish'!$G$6)))))","v":""},null,{"$f":"IF(B79=\"\",\"\",CONCAT!$J$2)","v":""},{"$f":"IF(B79=\"\",\"\",CONCAT!$J$3)","v":""}]
[{"$f":"UPPER(IF(AND('Order Form'!$O$4=\"\",B80=\"\"),\"\",IF(B80=\"\",\"\",'Order Form'!$O$4)))","v":""},{"$f":"UPPER(IFERROR(CONCATENATE(CONCAT!B90,CONCAT!C90)&(CONCAT!D90),\"\"))","v":""},{"$f":"IF(B80=\"\",\"\",'Order Form'!D102)","v":""},{"$f":"UPPER(IF('Order Form'!C102=\"\",\"\",'Order Form'!J102&'Order Form'!AM102&'Order Form'!AN102&'Order Form'!AO102))","v":""},{"$f":"IF('Order Form'!M102=0,IF('Order Form'!P102=0,\"\",'Order Form'!P102/'Order Form'!D102),'Order Form'!M102+('Order Form'!P102/'Order Form'!D102))","v":""},"",{"$f":"UPPER(IF(B80=\"\",\"\",CONCAT!$G$3))","v":""},{"$f":"UPPER(IF(B80=\"\",\"\",CONCAT!$G$4))","v":""},{"$f":"UPPER(IF(B80=\"\",\"\",CONCAT!$G$5))","v":""},{"$f":"UPPER(IF(B80=\"\",\"\",CONCAT!$G$6))","v":""},{"$f":"UPPER(IF(B80=\"\",\"\",CONCAT!$G$7))","v":""},{"$f":"UPPER(IF(B80=\"\",\"\",CONCAT!$G$2))","v":""},{"$f":"UPPER(IF(B80=\"\",\"\",CONCAT!$G$8))","v":""},"",{"$f":"UPPER(IF(B80=\"\",\"\",'Order Form'!$K$4))","v":""},{"$f":"UPPER(IF(B80=\"\",\"\",(UPPER(IF(CONCAT!$G$2=\"SELECT\",\"SELECT \"&CONCAT!$G$3,CONCAT!$G$1&Species!$G$6&'Door Style'!$I$6&Color!$Q$6&'Drawer Head'!$H$6&'Custom Finish'!$G$6)))))","v":""},null,{"$f":"IF(B80=\"\",\"\",CONCAT!$J$2)","v":""},{"$f":"IF(B80=\"\",\"\",CONCAT!$J$3)","v":""}]
[{"$f":"UPPER(IF(AND('Order Form'!$O$4=\"\",B81=\"\"),\"\",IF(B81=\"\",\"\",'Order Form'!$O$4)))","v":""},{"$f":"UPPER(IFERROR(CONCATENATE(CONCAT!B91,CONCAT!C91)&(CONCAT!D91),\"\"))","v":""},{"$f":"IF(B81=\"\",\"\",'Order Form'!D103)","v":""},{"$f":"UPPER(IF('Order Form'!C103=\"\",\"\",'Order Form'!J103&'Order Form'!AM103&'Order Form'!AN103&'Order Form'!AO103))","v":""},{"$f":"IF('Order Form'!M103=0,IF('Order Form'!P103=0,\"\",'Order Form'!P103/'Order Form'!D103),'Order Form'!M103+('Order Form'!P103/'Order Form'!D103))","v":""},"",{"$f":"UPPER(IF(B81=\"\",\"\",CONCAT!$G$3))","v":""},{"$f":"UPPER(IF(B81=\"\",\"\",CONCAT!$G$4))","v":""},{"$f":"UPPER(IF(B81=\"\",\"\",CONCAT!$G$5))","v":""},{"$f":"UPPER(IF(B81=\"\",\"\",CONCAT!$G$6))","v":""},{"$f":"UPPER(IF(B81=\"\",\"\",CONCAT!$G$7))","v":""},{"$f":"UPPER(IF(B81=\"\",\"\",CONCAT!$G$2))","v":""},{"$f":"UPPER(IF(B81=\"\",\"\",CONCAT!$G$8))","v":""},"",{"$f":"UPPER(IF(B81=\"\",\"\",'Order Form'!$K$4))","v":""},{"$f":"UPPER(IF(B81=\"\",\"\",(UPPER(IF(CONCAT!$G$2=\"SELECT\",\"SELECT \"&CONCAT!$G$3,CONCAT!$G$1&Species!$G$6&'Door Style'!$I$6&Color!$Q$6&'Drawer Head'!$H$6&'Custom Finish'!$G$6)))))","v":""},null,{"$f":"IF(B81=\"\",\"\",CONCAT!$J$2)","v":""},{"$f":"IF(B81=\"\",\"\",CONCAT!$J$3)","v":""}]
[{"$f":"UPPER(IF(AND('Order Form'!$O$4=\"\",B82=\"\"),\"\",IF(B82=\"\",\"\",'Order Form'!$O$4)))","v":""},{"$f":"UPPER(IFERROR(CONCATENATE(CONCAT!B92,CONCAT!C92)&(CONCAT!D92),\"\"))","v":""},{"$f":"IF(B82=\"\",\"\",'Order Form'!D104)","v":""},{"$f":"UPPER(IF('Order Form'!C104=\"\",\"\",'Order Form'!J104&'Order Form'!AM104&'Order Form'!AN104&'Order Form'!AO104))","v":""},{"$f":"IF('Order Form'!M104=0,IF('Order Form'!P104=0,\"\",'Order Form'!P104/'Order Form'!D104),'Order Form'!M104+('Order Form'!P104/'Order Form'!D104))","v":""},"",{"$f":"UPPER(IF(B82=\"\",\"\",CONCAT!$G$3))","v":""},{"$f":"UPPER(IF(B82=\"\",\"\",CONCAT!$G$4))","v":""},{"$f":"UPPER(IF(B82=\"\",\"\",CONCAT!$G$5))","v":""},{"$f":"UPPER(IF(B82=\"\",\"\",CONCAT!$G$6))","v":""},{"$f":"UPPER(IF(B82=\"\",\"\",CONCAT!$G$7))","v":""},{"$f":"UPPER(IF(B82=\"\",\"\",CONCAT!$G$2))","v":""},{"$f":"UPPER(IF(B82=\"\",\"\",CONCAT!$G$8))","v":""},"",{"$f":"UPPER(IF(B82=\"\",\"\",'Order Form'!$K$4))","v":""},{"$f":"UPPER(IF(B82=\"\",\"\",(UPPER(IF(CONCAT!$G$2=\"SELECT\",\"SELECT \"&CONCAT!$G$3,CONCAT!$G$1&Species!$G$6&'Door Style'!$I$6&Color!$Q$6&'Drawer Head'!$H$6&'Custom Finish'!$G$6)))))","v":""},null,{"$f":"IF(B82=\"\",\"\",CONCAT!$J$2)","v":""},{"$f":"IF(B82=\"\",\"\",CONCAT!$J$3)","v":""}]
[{"$f":"UPPER(IF(AND('Order Form'!$O$4=\"\",B83=\"\"),\"\",IF(B83=\"\",\"\",'Order Form'!$O$4)))","v":""},{"$f":"UPPER(IFERROR(CONCATENATE(CONCAT!B93,CONCAT!C93)&(CONCAT!D93),\"\"))","v":""},{"$f":"IF(B83=\"\",\"\",'Order Form'!D105)","v":""},{"$f":"UPPER(IF('Order Form'!C105=\"\",\"\",'Order Form'!J105&'Order Form'!AM105&'Order Form'!AN105&'Order Form'!AO105))","v":""},{"$f":"IF('Order Form'!M105=0,IF('Order Form'!P105=0,\"\",'Order Form'!P105/'Order Form'!D105),'Order Form'!M105+('Order Form'!P105/'Order Form'!D105))","v":""},"",{"$f":"UPPER(IF(B83=\"\",\"\",CONCAT!$G$3))","v":""},{"$f":"UPPER(IF(B83=\"\",\"\",CONCAT!$G$4))","v":""},{"$f":"UPPER(IF(B83=\"\",\"\",CONCAT!$G$5))","v":""},{"$f":"UPPER(IF(B83=\"\",\"\",CONCAT!$G$6))","v":""},{"$f":"UPPER(IF(B83=\"\",\"\",CONCAT!$G$7))","v":""},{"$f":"UPPER(IF(B83=\"\",\"\",CONCAT!$G$2))","v":""},{"$f":"UPPER(IF(B83=\"\",\"\",CONCAT!$G$8))","v":""},"",{"$f":"UPPER(IF(B83=\"\",\"\",'Order Form'!$K$4))","v":""},{"$f":"UPPER(IF(B83=\"\",\"\",(UPPER(IF(CONCAT!$G$2=\"SELECT\",\"SELECT \"&CONCAT!$G$3,CONCAT!$G$1&Species!$G$6&'Door Style'!$I$6&Color!$Q$6&'Drawer Head'!$H$6&'Custom Finish'!$G$6)))))","v":""},null,{"$f":"IF(B83=\"\",\"\",CONCAT!$J$2)","v":""},{"$f":"IF(B83=\"\",\"\",CONCAT!$J$3)","v":""}]
[{"$f":"UPPER(IF(AND('Order Form'!$O$4=\"\",B84=\"\"),\"\",IF(B84=\"\",\"\",'Order Form'!$O$4)))","v":""},{"$f":"UPPER(IFERROR(CONCATENATE(CONCAT!B94,CONCAT!C94)&(CONCAT!D94),\"\"))","v":""},{"$f":"IF(B84=\"\",\"\",'Order Form'!D106)","v":""},{"$f":"UPPER(IF('Order Form'!C106=\"\",\"\",'Order Form'!J106&'Order Form'!AM106&'Order Form'!AN106&'Order Form'!AO106))","v":""},{"$f":"IF('Order Form'!M106=0,IF('Order Form'!P106=0,\"\",'Order Form'!P106/'Order Form'!D106),'Order Form'!M106+('Order Form'!P106/'Order Form'!D106))","v":""},"",{"$f":"UPPER(IF(B84=\"\",\"\",CONCAT!$G$3))","v":""},{"$f":"UPPER(IF(B84=\"\",\"\",CONCAT!$G$4))","v":""},{"$f":"UPPER(IF(B84=\"\",\"\",CONCAT!$G$5))","v":""},{"$f":"UPPER(IF(B84=\"\",\"\",CONCAT!$G$6))","v":""},{"$f":"UPPER(IF(B84=\"\",\"\",CONCAT!$G$7))","v":""},{"$f":"UPPER(IF(B84=\"\",\"\",CONCAT!$G$2))","v":""},{"$f":"UPPER(IF(B84=\"\",\"\",CONCAT!$G$8))","v":""},"",{"$f":"UPPER(IF(B84=\"\",\"\",'Order Form'!$K$4))","v":""},{"$f":"UPPER(IF(B84=\"\",\"\",(UPPER(IF(CONCAT!$G$2=\"SELECT\",\"SELECT \"&CONCAT!$G$3,CONCAT!$G$1&Species!$G$6&'Door Style'!$I$6&Color!$Q$6&'Drawer Head'!$H$6&'Custom Finish'!$G$6)))))","v":""},null,{"$f":"IF(B84=\"\",\"\",CONCAT!$J$2)","v":""},{"$f":"IF(B84=\"\",\"\",CONCAT!$J$3)","v":""}]
[{"$f":"UPPER(IF(AND('Order Form'!$O$4=\"\",B85=\"\"),\"\",IF(B85=\"\",\"\",'Order Form'!$O$4)))","v":""},{"$f":"UPPER(IFERROR(CONCATENATE(CONCAT!B95,CONCAT!C95)&(CONCAT!D95),\"\"))","v":""},{"$f":"IF(B85=\"\",\"\",'Order Form'!D107)","v":""},{"$f":"UPPER(IF('Order Form'!C107=\"\",\"\",'Order Form'!J107&'Order Form'!AM107&'Order Form'!AN107&'Order Form'!AO107))","v":""},{"$f":"IF('Order Form'!M107=0,IF('Order Form'!P107=0,\"\",'Order Form'!P107/'Order Form'!D107),'Order Form'!M107+('Order Form'!P107/'Order Form'!D107))","v":""},"",{"$f":"UPPER(IF(B85=\"\",\"\",CONCAT!$G$3))","v":""},{"$f":"UPPER(IF(B85=\"\",\"\",CONCAT!$G$4))","v":""},{"$f":"UPPER(IF(B85=\"\",\"\",CONCAT!$G$5))","v":""},{"$f":"UPPER(IF(B85=\"\",\"\",CONCAT!$G$6))","v":""},{"$f":"UPPER(IF(B85=\"\",\"\",CONCAT!$G$7))","v":""},{"$f":"UPPER(IF(B85=\"\",\"\",CONCAT!$G$2))","v":""},{"$f":"UPPER(IF(B85=\"\",\"\",CONCAT!$G$8))","v":""},"",{"$f":"UPPER(IF(B85=\"\",\"\",'Order Form'!$K$4))","v":""},{"$f":"UPPER(IF(B85=\"\",\"\",(UPPER(IF(CONCAT!$G$2=\"SELECT\",\"SELECT \"&CONCAT!$G$3,CONCAT!$G$1&Species!$G$6&'Door Style'!$I$6&Color!$Q$6&'Drawer Head'!$H$6&'Custom Finish'!$G$6)))))","v":""},null,{"$f":"IF(B85=\"\",\"\",CONCAT!$J$2)","v":""},{"$f":"IF(B85=\"\",\"\",CONCAT!$J$3)","v":""}]
[{"$f":"UPPER(IF(AND('Order Form'!$O$4=\"\",B86=\"\"),\"\",IF(B86=\"\",\"\",'Order Form'!$O$4)))","v":""},{"$f":"UPPER(IFERROR(CONCATENATE(CONCAT!B96,CONCAT!C96)&(CONCAT!D96),\"\"))","v":""},{"$f":"IF(B86=\"\",\"\",'Order Form'!D108)","v":""},{"$f":"UPPER(IF('Order Form'!C108=\"\",\"\",'Order Form'!J108&'Order Form'!AM108&'Order Form'!AN108&'Order Form'!AO108))","v":""},{"$f":"IF('Order Form'!M108=0,IF('Order Form'!P108=0,\"\",'Order Form'!P108/'Order Form'!D108),'Order Form'!M108+('Order Form'!P108/'Order Form'!D108))","v":""},"",{"$f":"UPPER(IF(B86=\"\",\"\",CONCAT!$G$3))","v":""},{"$f":"UPPER(IF(B86=\"\",\"\",CONCAT!$G$4))","v":""},{"$f":"UPPER(IF(B86=\"\",\"\",CONCAT!$G$5))","v":""},{"$f":"UPPER(IF(B86=\"\",\"\",CONCAT!$G$6))","v":""},{"$f":"UPPER(IF(B86=\"\",\"\",CONCAT!$G$7))","v":""},{"$f":"UPPER(IF(B86=\"\",\"\",CONCAT!$G$2))","v":""},{"$f":"UPPER(IF(B86=\"\",\"\",CONCAT!$G$8))","v":""},"",{"$f":"UPPER(IF(B86=\"\",\"\",'Order Form'!$K$4))","v":""},{"$f":"UPPER(IF(B86=\"\",\"\",(UPPER(IF(CONCAT!$G$2=\"SELECT\",\"SELECT \"&CONCAT!$G$3,CONCAT!$G$1&Species!$G$6&'Door Style'!$I$6&Color!$Q$6&'Drawer Head'!$H$6&'Custom Finish'!$G$6)))))","v":""},null,{"$f":"IF(B86=\"\",\"\",CONCAT!$J$2)","v":""},{"$f":"IF(B86=\"\",\"\",CONCAT!$J$3)","v":""}]
[{"$f":"UPPER(IF(AND('Order Form'!$O$4=\"\",B87=\"\"),\"\",IF(B87=\"\",\"\",'Order Form'!$O$4)))","v":""},{"$f":"UPPER(IFERROR(CONCATENATE(CONCAT!B97,CONCAT!C97)&(CONCAT!D97),\"\"))","v":""},{"$f":"IF(B87=\"\",\"\",'Order Form'!D109)","v":""},{"$f":"UPPER(IF('Order Form'!C109=\"\",\"\",'Order Form'!J109&'Order Form'!AM109&'Order Form'!AN109&'Order Form'!AO109))","v":""},{"$f":"IF('Order Form'!M109=0,IF('Order Form'!P109=0,\"\",'Order Form'!P109/'Order Form'!D109),'Order Form'!M109+('Order Form'!P109/'Order Form'!D109))","v":""},"",{"$f":"UPPER(IF(B87=\"\",\"\",CONCAT!$G$3))","v":""},{"$f":"UPPER(IF(B87=\"\",\"\",CONCAT!$G$4))","v":""},{"$f":"UPPER(IF(B87=\"\",\"\",CONCAT!$G$5))","v":""},{"$f":"UPPER(IF(B87=\"\",\"\",CONCAT!$G$6))","v":""},{"$f":"UPPER(IF(B87=\"\",\"\",CONCAT!$G$7))","v":""},{"$f":"UPPER(IF(B87=\"\",\"\",CONCAT!$G$2))","v":""},{"$f":"UPPER(IF(B87=\"\",\"\",CONCAT!$G$8))","v":""},"",{"$f":"UPPER(IF(B87=\"\",\"\",'Order Form'!$K$4))","v":""},{"$f":"UPPER(IF(B87=\"\",\"\",(UPPER(IF(CONCAT!$G$2=\"SELECT\",\"SELECT \"&CONCAT!$G$3,CONCAT!$G$1&Species!$G$6&'Door Style'!$I$6&Color!$Q$6&'Drawer Head'!$H$6&'Custom Finish'!$G$6)))))","v":""},null,{"$f":"IF(B87=\"\",\"\",CONCAT!$J$2)","v":""},{"$f":"IF(B87=\"\",\"\",CONCAT!$J$3)","v":""}]
[{"$f":"UPPER(IF(AND('Order Form'!$O$4=\"\",B88=\"\"),\"\",IF(B88=\"\",\"\",'Order Form'!$O$4)))","v":""},{"$f":"UPPER(IFERROR(CONCATENATE(CONCAT!B98,CONCAT!C98)&(CONCAT!D98),\"\"))","v":""},{"$f":"IF(B88=\"\",\"\",'Order Form'!D110)","v":""},{"$f":"UPPER(IF('Order Form'!C110=\"\",\"\",'Order Form'!J110&'Order Form'!AM110&'Order Form'!AN110&'Order Form'!AO110))","v":""},{"$f":"IF('Order Form'!M110=0,IF('Order Form'!P110=0,\"\",'Order Form'!P110/'Order Form'!D110),'Order Form'!M110+('Order Form'!P110/'Order Form'!D110))","v":""},"",{"$f":"UPPER(IF(B88=\"\",\"\",CONCAT!$G$3))","v":""},{"$f":"UPPER(IF(B88=\"\",\"\",CONCAT!$G$4))","v":""},{"$f":"UPPER(IF(B88=\"\",\"\",CONCAT!$G$5))","v":""},{"$f":"UPPER(IF(B88=\"\",\"\",CONCAT!$G$6))","v":""},{"$f":"UPPER(IF(B88=\"\",\"\",CONCAT!$G$7))","v":""},{"$f":"UPPER(IF(B88=\"\",\"\",CONCAT!$G$2))","v":""},{"$f":"UPPER(IF(B88=\"\",\"\",CONCAT!$G$8))","v":""},"",{"$f":"UPPER(IF(B88=\"\",\"\",'Order Form'!$K$4))","v":""},{"$f":"UPPER(IF(B88=\"\",\"\",(UPPER(IF(CONCAT!$G$2=\"SELECT\",\"SELECT \"&CONCAT!$G$3,CONCAT!$G$1&Species!$G$6&'Door Style'!$I$6&Color!$Q$6&'Drawer Head'!$H$6&'Custom Finish'!$G$6)))))","v":""},null,{"$f":"IF(B88=\"\",\"\",CONCAT!$J$2)","v":""},{"$f":"IF(B88=\"\",\"\",CONCAT!$J$3)","v":""}]
[{"$f":"UPPER(IF(AND('Order Form'!$O$4=\"\",B89=\"\"),\"\",IF(B89=\"\",\"\",'Order Form'!$O$4)))","v":""},{"$f":"UPPER(IFERROR(CONCATENATE(CONCAT!B99,CONCAT!C99)&(CONCAT!D99),\"\"))","v":""},{"$f":"IF(B89=\"\",\"\",'Order Form'!D111)","v":""},{"$f":"UPPER(IF('Order Form'!C111=\"\",\"\",'Order Form'!J111&'Order Form'!AM111&'Order Form'!AN111&'Order Form'!AO111))","v":""},{"$f":"IF('Order Form'!M111=0,IF('Order Form'!P111=0,\"\",'Order Form'!P111/'Order Form'!D111),'Order Form'!M111+('Order Form'!P111/'Order Form'!D111))","v":""},"",{"$f":"UPPER(IF(B89=\"\",\"\",CONCAT!$G$3))","v":""},{"$f":"UPPER(IF(B89=\"\",\"\",CONCAT!$G$4))","v":""},{"$f":"UPPER(IF(B89=\"\",\"\",CONCAT!$G$5))","v":""},{"$f":"UPPER(IF(B89=\"\",\"\",CONCAT!$G$6))","v":""},{"$f":"UPPER(IF(B89=\"\",\"\",CONCAT!$G$7))","v":""},{"$f":"UPPER(IF(B89=\"\",\"\",CONCAT!$G$2))","v":""},{"$f":"UPPER(IF(B89=\"\",\"\",CONCAT!$G$8))","v":""},"",{"$f":"UPPER(IF(B89=\"\",\"\",'Order Form'!$K$4))","v":""},{"$f":"UPPER(IF(B89=\"\",\"\",(UPPER(IF(CONCAT!$G$2=\"SELECT\",\"SELECT \"&CONCAT!$G$3,CONCAT!$G$1&Species!$G$6&'Door Style'!$I$6&Color!$Q$6&'Drawer Head'!$H$6&'Custom Finish'!$G$6)))))","v":""},null,{"$f":"IF(B89=\"\",\"\",CONCAT!$J$2)","v":""},{"$f":"IF(B89=\"\",\"\",CONCAT!$J$3)","v":""}]
[{"$f":"UPPER(IF(AND('Order Form'!$O$4=\"\",B90=\"\"),\"\",IF(B90=\"\",\"\",'Order Form'!$O$4)))","v":""},{"$f":"UPPER(IFERROR(CONCATENATE(CONCAT!B100,CONCAT!C100)&(CONCAT!D100),\"\"))","v":""},{"$f":"IF(B90=\"\",\"\",'Order Form'!D112)","v":""},{"$f":"UPPER(IF('Order Form'!C112=\"\",\"\",'Order Form'!J112&'Order Form'!AM112&'Order Form'!AN112&'Order Form'!AO112))","v":""},{"$f":"IF('Order Form'!M112=0,IF('Order Form'!P112=0,\"\",'Order Form'!P112/'Order Form'!D112),'Order Form'!M112+('Order Form'!P112/'Order Form'!D112))","v":""},"",{"$f":"UPPER(IF(B90=\"\",\"\",CONCAT!$G$3))","v":""},{"$f":"UPPER(IF(B90=\"\",\"\",CONCAT!$G$4))","v":""},{"$f":"UPPER(IF(B90=\"\",\"\",CONCAT!$G$5))","v":""},{"$f":"UPPER(IF(B90=\"\",\"\",CONCAT!$G$6))","v":""},{"$f":"UPPER(IF(B90=\"\",\"\",CONCAT!$G$7))","v":""},{"$f":"UPPER(IF(B90=\"\",\"\",CONCAT!$G$2))","v":""},{"$f":"UPPER(IF(B90=\"\",\"\",CONCAT!$G$8))","v":""},"",{"$f":"UPPER(IF(B90=\"\",\"\",'Order Form'!$K$4))","v":""},{"$f":"UPPER(IF(B90=\"\",\"\",(UPPER(IF(CONCAT!$G$2=\"SELECT\",\"SELECT \"&CONCAT!$G$3,CONCAT!$G$1&Species!$G$6&'Door Style'!$I$6&Color!$Q$6&'Drawer Head'!$H$6&'Custom Finish'!$G$6)))))","v":""},null,{"$f":"IF(B90=\"\",\"\",CONCAT!$J$2)","v":""},{"$f":"IF(B90=\"\",\"\",CONCAT!$J$3)","v":""}]
[{"$f":"UPPER(IF(AND('Order Form'!$O$4=\"\",B91=\"\"),\"\",IF(B91=\"\",\"\",'Order Form'!$O$4)))","v":""},{"$f":"UPPER(IFERROR(CONCATENATE(CONCAT!B101,CONCAT!C101)&(CONCAT!D101),\"\"))","v":""},{"$f":"IF(B91=\"\",\"\",'Order Form'!D113)","v":""},{"$f":"UPPER(IF('Order Form'!C113=\"\",\"\",'Order Form'!J113&'Order Form'!AM113&'Order Form'!AN113&'Order Form'!AO113))","v":""},{"$f":"IF('Order Form'!M113=0,IF('Order Form'!P113=0,\"\",'Order Form'!P113/'Order Form'!D113),'Order Form'!M113+('Order Form'!P113/'Order Form'!D113))","v":""},"",{"$f":"UPPER(IF(B91=\"\",\"\",CONCAT!$G$3))","v":""},{"$f":"UPPER(IF(B91=\"\",\"\",CONCAT!$G$4))","v":""},{"$f":"UPPER(IF(B91=\"\",\"\",CONCAT!$G$5))","v":""},{"$f":"UPPER(IF(B91=\"\",\"\",CONCAT!$G$6))","v":""},{"$f":"UPPER(IF(B91=\"\",\"\",CONCAT!$G$7))","v":""},{"$f":"UPPER(IF(B91=\"\",\"\",CONCAT!$G$2))","v":""},{"$f":"UPPER(IF(B91=\"\",\"\",CONCAT!$G$8))","v":""},"",{"$f":"UPPER(IF(B91=\"\",\"\",'Order Form'!$K$4))","v":""},{"$f":"UPPER(IF(B91=\"\",\"\",(UPPER(IF(CONCAT!$G$2=\"SELECT\",\"SELECT \"&CONCAT!$G$3,CONCAT!$G$1&Species!$G$6&'Door Style'!$I$6&Color!$Q$6&'Drawer Head'!$H$6&'Custom Finish'!$G$6)))))","v":""},null,{"$f":"IF(B91=\"\",\"\",CONCAT!$J$2)","v":""},{"$f":"IF(B91=\"\",\"\",CONCAT!$J$3)","v":""}]
[{"$f":"UPPER(IF(AND('Order Form'!$O$4=\"\",B92=\"\"),\"\",IF(B92=\"\",\"\",'Order Form'!$O$4)))","v":""},{"$f":"UPPER(IFERROR(CONCATENATE(CONCAT!B102,CONCAT!C102)&(CONCAT!D102),\"\"))","v":""},{"$f":"IF(B92=\"\",\"\",'Order Form'!D114)","v":""},{"$f":"UPPER(IF('Order Form'!C114=\"\",\"\",'Order Form'!J114&'Order Form'!AM114&'Order Form'!AN114&'Order Form'!AO114))","v":""},{"$f":"IF('Order Form'!M114=0,IF('Order Form'!P114=0,\"\",'Order Form'!P114/'Order Form'!D114),'Order Form'!M114+('Order Form'!P114/'Order Form'!D114))","v":""},"",{"$f":"UPPER(IF(B92=\"\",\"\",CONCAT!$G$3))","v":""},{"$f":"UPPER(IF(B92=\"\",\"\",CONCAT!$G$4))","v":""},{"$f":"UPPER(IF(B92=\"\",\"\",CONCAT!$G$5))","v":""},{"$f":"UPPER(IF(B92=\"\",\"\",CONCAT!$G$6))","v":""},{"$f":"UPPER(IF(B92=\"\",\"\",CONCAT!$G$7))","v":""},{"$f":"UPPER(IF(B92=\"\",\"\",CONCAT!$G$2))","v":""},{"$f":"UPPER(IF(B92=\"\",\"\",CONCAT!$G$8))","v":""},"",{"$f":"UPPER(IF(B92=\"\",\"\",'Order Form'!$K$4))","v":""},{"$f":"UPPER(IF(B92=\"\",\"\",(UPPER(IF(CONCAT!$G$2=\"SELECT\",\"SELECT \"&CONCAT!$G$3,CONCAT!$G$1&Species!$G$6&'Door Style'!$I$6&Color!$Q$6&'Drawer Head'!$H$6&'Custom Finish'!$G$6)))))","v":""},null,{"$f":"IF(B92=\"\",\"\",CONCAT!$J$2)","v":""},{"$f":"IF(B92=\"\",\"\",CONCAT!$J$3)","v":""}]

{"sheet":"New Customer Upload","index":10,"n_rows":2,"n_cols":9,"rows_kept":2,"hidden":true}
["Customer Name","Address Line 1","City","State","Zip","Telephone","Email","Sales Rep","Price Level"]
[{"$f":"IF('Order Form'!K2=\"\",\"\",'Order Form'!K2)","v":""},{"$f":"IF($A$2=\"\",\"\",'Order Form'!D9)","v":""},{"$f":"IF($A$2=\"\",\"\",'Order Form'!D10)","v":""},{"$f":"IF($A$2=\"\",\"\",'Order Form'!D10)","v":""},{"$f":"IF($A$2=\"\",\"\",'Order Form'!D12)","v":""},{"$f":"IF('Order Form'!K5=\"\",\"\",'Order Form'!K5)","v":""},{"$f":"IF('Order Form'!K6=\"\",\"\",'Order Form'!K6)","v":""},{"$f":"IF('Order Form'!O3=\"\",\"\",'Order Form'!O3)","v":""},{"$f":"IFERROR(VLOOKUP(CONCAT!J2,CONCAT!N3:O16,2,FALSE),\"\")","v":""}]

{"sheet":"Dealer Support Items","index":11,"n_rows":22,"n_cols":6,"rows_kept":22,"merged":[[1,1,3,5],[4,1,4,5],[5,2,5,3],[6,2,6,3],[7,1,8,1],[7,2,7,3],[7,4,8,4],[14,2,14,3],[15,2,15,3],[16,2,16,3],[19,2,19,3],[21,2,21,3]]}
[]
[]
[]
[]
[null,"Dealer Support Materials"]
[null,"Dealer Support Item","Description",null,"Price","Example"]
[null,"FCC SALES CENTER","Designed to be used as an in-showroom sales tool to introduce the features and benefits of Founder's Choice Cabinetry. Care was taken to ensure that all  of the door styles, finished and species could be displayed. Any door may be ordered in any combination. Each door sample will be properly labeled with Door Style, Species, Color and Finish for ease of reference.",null,{"v":2495,"d":"$2,495.00"}]
[null,"CRAFTSMAN DOOR SET","Dealer Craftsman Doors Includes- 2 Bags for easy traveling and storage, 14 doors with a variety of door styles, colors and species",null,{"v":1000,"d":"$1,000.00"}]
[null,null,"-Orchard/PG Maple/Cranberry\n-Lexington/PG Maple/Cappuccino\n-Union/PG Maple/Linen\n-Pacific/PG Maple/Pearl\n-Proctor/Maple/Chestnut\n-Whitman/Beech/Java\n-Pioneer/Beech/Mocha","-Bridgeport/Birch/Espresso\n-Regent/PG Maple/Biscuit\n-Ruston/Alder/Amber\n-Grandview/Rustic Cherry/Natural\n-Grandview/Rustic Alder/Natural\n-Grandview/Rustic Beech/Natural\n-McCormick/Red Oak/Ash"]
[null,"SELECT DOOR SET","Dealer Select Door includes- 5 shaker style doors in Colors and Bag for easy travel and storage.","-Shaker/Birch/Wheat\n-Shaker/Birch/Mocha\n-Shaker/Birch/Pearl\n-Shaker/Birch/Espresso\n-Shaker/Birch/Slate",{"v":250,"d":"$250.00"}]
[null,"KNOB PULL-V1","Founder's Choice Definitive Hardware Collection Display board. ","A selection of 16 Knobs and Pulls that will complement any kitchen well",{"v":50,"d":"$50.00"}]
[null,"CROWN RING","Founder's Choice Crown options","-CROWN1            -CROWNA\n-CROWN2             -CROWNB\n-CROWNS             -CROWNC    \n                                 -CROWND",{"v":10,"d":"$10.00"}]
[null,"SAMPLE CHIPS 4 X 6","Single Sample Chip","-Mocha       -Wheat              -Chestnut\n-Amber        -Java                   -Espresso         \n-Merlot        -Ash                    -Biscuit    \n-Pearl           -Linen                 -Cranberry     \n-Slate           -Cappuccino       ",{"v":1,"d":"$1.00"}]
[null,"SAMPLE CHIPS 4 X 6 Set","Includes 5 of each of the 14 colorways","-Mocha       -Wheat              -Chestnut\n-Amber        -Java                   -Espresso         \n-Merlot        -Ash                    -Biscuit    \n-Pearl           -Linen                 -Cranberry     \n-Slate           -Cappuccino       ",{"v":50,"d":"$50.00"}]
[null,"SAMPLE DOOR","12\" x 16\" Sample door to match order specifications",null,{"v":50,"d":"$50.00"}]
[null,"DEALER BOOK","This book helps explain each of the items Founder's Choice sells, along with information about how to fill out orders. Dealers should have one dealer book per designer. Additional copies are available for $25 each.",null,0]
[null,"DEALER PLACARD","Tent Style \"Authorized Dealer\" sign",null,{"v":20,"d":"$20.00"}]
[null,"KITCHEN PLANNING GUIDE","Provided to dealers per each copy","Use this tool to help customers partner with you on their kitchen design.",{"v":2.5,"d":"$2.50"}]
[null,"NEW PROJECT WORKSHEET","New Project Work Sheets (50 Pack)","Use as a notes template for a design consultation, or send it home with a customer",{"v":5,"d":"$5.00"}]
[null,"VANITY POSTER BOARD","Use this poster as a visual aid when discussing vanities. Sized at 24\" x 36\" and ready to mount to your wall.",null,{"v":25,"d":"$25.00"}]
[null,"WINDOW CLINGS","Window Cling for advertising you are an authorized Founder's Choice Dealer.",null,{"v":5,"d":"$5.00"}]
[null,"DEALER SUPPORT MATERIAL","Please use this item code only after instruction to do so. The only intention is future compatibility.",null,0]

{"sheet":"Color","index":12,"n_rows":139,"n_cols":17,"rows_kept":139,"hidden":true,"merged":[[1,0,1,1]]}
[]
["Calculations"]
["Finish Selected",1]
[null,null,2,3,4,5,6,7,8,9,10,11,12,13,14,15]
[null,null,"Select Pricing","Craftsman Pricing","01- and 12- Piece","13 Piece","13- Factor","Touch up kit","Touch up Kit Price","Touch Up Kit","Outputs for Proposal","Outputs for Upload","Custom","Order From","Delivery Weeks","Paint/Stain Mark up","For Comment"]
[null,null,{"$f":"VLOOKUP($B$3,$B7:$N$261,C4,FALSE)","v":""},{"$f":"VLOOKUP($B$3,$B7:$N$261,D4,FALSE)","v":0},{"$f":"VLOOKUP($B$3,$B7:$N$261,E4,FALSE)","v":""},{"$f":"VLOOKUP($B$3,$B7:$N$261,F4,FALSE)","v":""},{"$f":"VLOOKUP($B$3,$B7:$N$261,G4,FALSE)","v":""},{"$f":"VLOOKUP($B$3,$B7:$N$261,H4,FALSE)","v":""},{"$f":"VLOOKUP($B$3,$B7:$N$261,I4,FALSE)","v":0},{"$f":"VLOOKUP($B$3,$B7:$N$261,J4,FALSE)","v":""},{"$f":"VLOOKUP($B$3,$B7:$N$261,K4,FALSE)","v":""},{"$f":"VLOOKUP($B$3,$B7:$N$261,L4,FALSE)","v":""},{"$f":"VLOOKUP($B$3,$B7:$N$261,M4,FALSE)","v":""},{"$f":"VLOOKUP($B$3,$B7:$N$261,N4,FALSE)","v":0},{"$f":"VLOOKUP($B$3,$B7:$O$261,O4,FALSE)","v":0},{"$f":"VLOOKUP($B$3,$B7:$P$261,P4,FALSE)","v":0},{"$f":"VLOOKUP(B3,B7:Q27,16,FALSE)","v":0}]
["Please Select a Color (more info on the Job Options tab)",1,"",null,"","","","",0,"","","","",0,0,0]
["Raw",2,{"$f":"IF('Door Style'!$B$3=4,D8,1)","v":1},1,{"$f":"IF(CONCAT!$G$5=\"Grandview\",Color!M8,\"-R1\")","v":"-R1"},"-R",1," NOT NEEDED",0,"Raw",", Unfinished ","Raw","-SC",1,3,0,"/RAW"]
["Mocha",3,{"$f":"IF('Door Style'!$B$3=4,D9,1)","v":1},1,{"$f":"IF(CONCAT!$G$5=\"Grandview\",Color!M9,\"-M1\")","v":"-M1"},"-M",1,"-M",12," Mocha",", Mocha Stain ","Mocha","-SC",1,3,1,"/MOCHA"]
["Wheat",4,{"$f":"IF('Door Style'!$B$3=4,D10,1)","v":1},1,{"$f":"IF(CONCAT!$G$5=\"Grandview\",Color!M10,\"-W1\")","v":"-W1"},"-W",1,"-W",12," Wheat",", Wheat Stain ","Wheat","-SC",1,3,1,"/WHEAT"]
["Amber",5,{"$f":"IF('Door Style'!$B$3=4,D11,1.1)","v":1.1},1,{"$f":"IF(CONCAT!$G$5=\"Grandview\",Color!M11,\"-S1\")","v":"-S1"},"-S",1.1,"-AB",14.4," Stain",", Amber Stain ","Amber","-SC",2,4,1,"/AMBER"]
["Java",6,{"$f":"IF('Door Style'!$B$3=4,D12,1.1)","v":1.1},1,{"$f":"IF(CONCAT!$G$5=\"Grandview\",Color!M12,\"-S1\")","v":"-S1"},"-S",1.1,"-J",14.4," Stain",", Java Stain ","Java","-SC",2,4,1,"/JAVA"]
["Chestnut",7,{"$f":"IF('Door Style'!$B$3=4,D13,1.1)","v":1.1},1,{"$f":"IF(CONCAT!$G$5=\"Grandview\",Color!M13,\"-S1\")","v":"-S1"},"-S",1.1,"-CN",14.4," Stain",", Chestnut Stain ","Chestnut","-SC",2,4,1,"/CHSTNT"]
["Natural",8,{"$f":"IF('Door Style'!$B$3=4,D14,1.1)","v":1.1},1,{"$f":"IF(CONCAT!$G$5=\"Grandview\",Color!M14,\"-S1\")","v":"-S1"},"-S",1.1," NOT NEEDED",0," Stain",", Natural Stain ","Natural","-SC",2,3,1,"/NAT"]
["Merlot",9,{"$f":"IF('Door Style'!$B$3=4,D15,1.1)","v":1.1},1,{"$f":"IF(CONCAT!$G$5=\"Grandview\",Color!M15,\"-S1\")","v":"-S1"},"-S",1.1,"-MR",14.4," Stain",", Merlot Stain ","Merlot","-SC",2,4,1,"/MERL"]
["Ash",10,{"$f":"IF('Door Style'!$B$3=4,D16,1.1)","v":1.1},1,{"$f":"IF(CONCAT!$G$5=\"Grandview\",Color!M16,\"-S1\")","v":"-S1"},"-S",1.1,"-A",14.4," Stain",", Ash Stain ","Ash","-SC",2,4,1,"/ASH"]
["Espresso",11,{"$f":"IF('Door Style'!$B$3=4,D17,1)","v":1},1,{"$f":"IF(CONCAT!$G$5=\"Grandview\",Color!M17,\"-E1\")","v":"-E1"},"-E",1,"-E",12,"Espresso",", Espresso Stain ","Espresso","-SC",1,3,1,"/ESP"]
["Stain Catalog",12,{"$f":"IF('Door Style'!$B$3=4,D18,1.25)","v":1.25},1.05,{"$f":"IF(CONCAT!$G$5=\"Grandview\",Color!M18,\"-S1\")","v":"-S1"},"-S",1.25," CUSTOM",15," Stain",", Catalog Stain ","Stn Catlg","-SC",2,4,1.5,"/SCTLG"]
["Stain Match",13,{"$f":"IF('Door Style'!$B$3=4,1.1,1.35)","v":1.35},1.15,{"$f":"IF(CONCAT!$G$5=\"Grandview\",Color!M19,\"-S1\")","v":"-S1"},"-S",1.35," CUSTOM",16.2," Stain",", Stain Match ","Stn Match","-SC",2,4,1.5,"/SMTCH"]
["Pearl",14,{"$f":"IF('Door Style'!$B$3=4,D20,1.1)","v":1.1},1,{"$f":"IF(CONCAT!$G$5=\"Grandview\",Color!M20,\"-WP1\")","v":"-WP1"},"-WP",1.1,"-WP",14.4," White Pearl",", Pearl Paint ","Pearl","-PC",1,3,1,"/PEARL"]
["Linen",15,{"$f":"IF('Door Style'!$B$3=4,D21,1.2)","v":1.2},1,{"$f":"IF(CONCAT!$G$5=\"Grandview\",Color!M21,\"-P1\")","v":"-P1"},"-P",1.2,"-L",14.4," Paint",", Linen Paint ","Linen","-PC",2,4,1,"/LINEN"]
["Biscuit",16,{"$f":"IF('Door Style'!$B$3=4,D22,1.2)","v":1.2},1,{"$f":"IF(CONCAT!$G$5=\"Grandview\",Color!M22,\"-P1\")","v":"-P1"},"-P",1.2,"-B",14.4," Paint",", Biscuit Paint ","Biscuit","-PC",2,4,1,"/BISC"]
["Slate",17,{"$f":"IF('Door Style'!$B$3=4,D23,1.2)","v":1.2},1,{"$f":"IF(CONCAT!$G$5=\"Grandview\",Color!M23,\"-P1\")","v":"-P1"},"-P",1.2,"-SL",14.4," Paint",", Slate Paint ","Slate","-PC",2,4,1,"/SLATE"]
["Cappuccino",18,{"$f":"IF('Door Style'!$B$3=4,D24,1.2)","v":1.2},1,{"$f":"IF(CONCAT!$G$5=\"Grandview\",Color!M24,\"-P1\")","v":"-P1"},"-P",1.2,"-C",14.4," Paint",", Cappuccino Paint ","Cappuccino","-PC",2,4,1,"/CAP"]
["Cranberry",19,{"$f":"IF('Door Style'!$B$3=4,D25,1.2)","v":1.2},1,{"$f":"IF(CONCAT!$G$5=\"Grandview\",Color!M25,\"-P1\")","v":"-P1"},"-P",1.2,"-CR",14.4," Paint",", Cranberry Paint ","Cranberry","-PC",2,4,1,"/CRAN"]
["Paint Catalog",20,{"$f":"IF('Door Style'!$B$3=4,D26,1.25)","v":1.25},1.05,{"$f":"IF(CONCAT!$G$5=\"Grandview\",Color!M26,\"-P1\")","v":"-P1"},"-P",1.25," CUSTOM",15," Paint",", Paint Match ","Pnt Catlg","-PC",2,4,1.5,"/PCTLG"]
["Paint Match",21,{"$f":"IF('Door Style'!$B$3=4,1.1,1.35)","v":1.35},1.15,{"$f":"IF(CONCAT!$G$5=\"Grandview\",Color!M27,\"-P1\")","v":"-P1"},"-P",1.35," CUSTOM",16.2," Paint",", Catalog Paint ","Pnt Match","-PC",2,4,1.5,"/PMTCH"]
{"$rows_empty":111}
[null,null,{"$f":"IF(OR(Color!$B$3=1,$B$3=8,$B$3=1,$B$3=1),0,1)","v":0}]

{"sheet":"Species","index":13,"n_rows":21,"n_cols":7,"rows_kept":21,"hidden":true,"merged":[[1,0,1,1]]}
[]
["Calculations"]
["Species Selected",1]
[]
[null,null,"Factoring","Upload Name","Outputs for Proposal","Order Type","Comment"]
[null,null,{"$f":"VLOOKUP(B3,B7:C200,2,FALSE)","v":""},{"$f":"VLOOKUP(B3,B7:D200,3,FALSE)","v":""},{"$f":"VLOOKUP(B3,B7:E21,4,FALSE)","v":""},{"$f":"VLOOKUP(B3,B7:F200,5,FALSE)","v":0},{"$f":"VLOOKUP(B3,B7:G21,6,FALSE)","v":0}]
["Please Select a Wood Species",1,"","","",0]
["Alder",2,0.25,"Alder",{"$f":"\", \"&A8","v":", Alder"},3,"/ALD"]
["Beech",3,0,"Beech",{"$f":"\", \"&A9","v":", Beech"},3,"/BEE"]
["Red Oak",4,0.1,"Red Oak",", Red Oak",3,"/ROAK"]
["Maple",5,0.1,"Maple",", Maple",3,"/MAP"]
["Paint Grade Maple",6,0.1,"PG Maple",", Paint Grade Maple",3,"/PGM"]
["Rustic Alder",7,0.35,"Rstc Alder",", Rustic Alder",3,"/R ALD"]
["Rustic Beech",8,0.1,"Rstc Beech",", Rustic Beech",3,"/R BEE"]
["Cherry",9,0.2,"Cherry",", Cherry",3,"/CHRY"]
["Rustic Cherry",10,0.3,"Rstc Cherry",", Rustic Cherry",3,"/RCHRY"]
["White Birch",11,0.1,"WhiteBirch",", White Birch",1,"/WB"]
["White Oak",12,0.2,"White Oak",", White Oak",3,"/WOAK"]
["Rustic Hickory",13,0.2,"Rstc Hckry",", Rustic Hickory",3,"/RHICK"]
["Walnut",14,0.3,"Walnut",", Walnut",3,"/WAL"]
["Pecan",15,0.2,"Pecan",", Pecan",3,"/PEC"]

{"sheet":"Door Style","index":14,"n_rows":23,"n_cols":9,"rows_kept":23,"hidden":true,"merged":[[1,0,1,1]]}
[]
["Calculations"]
["Door Style Selected",1]
[]
[null,null,"Cost","Upload Name","Outputs for Proposal","Order Type","Factor bump Craftsman","Select Bump","Comment"]
[null,null,{"$f":"VLOOKUP(B3,B7:C230,2,FALSE)","v":""},{"$f":"VLOOKUP(B3,B7:D230,3,FALSE)","v":""},{"$f":"VLOOKUP(B3,B7:E23,4,FALSE)","v":""},{"$f":"VLOOKUP(B3,B7:F230,5,FALSE)","v":0},{"$f":"VLOOKUP(B3,B7:G2400,6,FALSE)","v":0},{"$f":"VLOOKUP(B3,B7:H2400,7,FALSE)","v":0},{"$f":"VLOOKUP(B3,B7:I23,8,FALSE)","v":0}]
["Please Select a Door Style",1,"","","",0]
["Raised Panel - Custom",2,40,"RsdPanCust","RsdPanCust",3,0.3,null,"/RSD C"]
["   Regent",3,20,"Regent","Regent",3,0.25,null,"/REG"]
["   Grandview",4,20,"Grandview","Grandview",2,0.25,0.34,"/GV"]
["   McCormick",5,20,"McCormick","McCormick",3,0.25,null,"/MC"]
["   Ruston",6,20,"Ruston","Ruston",3,0.25,null,"/RUST"]
["Orchard (Beaded)",7,40,"Orchard","Orchard",3,0.3,null,"/ORCH"]
["Bridgeport (Slab)",8,20,"Bridgeport","Bridgeport",3,0.25,null,"/BRPT"]
["Recessed Panel - Custom",9,20,"RecPanCust","RecPanCust",3,0.25,null,"/REC C"]
["   Lexington",10,0,"Lexington","Lexington",3,null,null,"/LEX"]
["   Old Town",11,0,"Old Town","Old Town",3,null,null,"/OLDT"]
["   Whitman",12,0,"Whitman","Whitman",3,null,null,"/WHIT"]
["   Pioneer",13,0,"Pioneer","Pioneer",3,null,null,"/PION"]
["   Union",14,0,"Union","Union",3,null,null,"/UNION"]
["   Pacific",15,0,"Pacific","Pacific",3,null,null,"/PAC"]
["   Proctor",16,0,"Proctor","Proctor",3,null,null,"/PROCT"]
["Select Shaker",17,0,"Shaker","Shaker",1,null,null,"/SHKR"]

{"sheet":"Drawer Head","index":15,"n_rows":11,"n_cols":8,"rows_kept":11,"hidden":true,"merged":[[1,0,1,1]]}
[]
["Calculations"]
["Drawer Head Selected",1]
[]
[null,null,"Cost","Upload Name","Add percentage to Cabinet","Proposal Name","Select","Comment"]
[null,null,{"$f":"VLOOKUP(B3,B7:C218,2,FALSE)","v":""},{"$f":"VLOOKUP(B3,B7:D218,3,FALSE)","v":""},{"$f":"VLOOKUP(B3,B7:G101,4,FALSE)","v":0},{"$f":"VLOOKUP(B3,B7:F101,5,FALSE)","v":""},{"$f":"VLOOKUP(B3,B7:G218,6,FALSE)","v":0},{"$f":"VLOOKUP(B3,B7:H11,7,FALSE)","v":""}]
["Please Select a Drawer Head ",1,"","",0,"",0,""]
["Slab",2,null,"Slab",0,{"$f":"\", \"&A8","v":", Slab"},3,"/SLB"]
["Slab Top Row Only",3,null,"Slab Top",0.03,", Slab Top Row Only",3,"/SLB T"]
["5 Piece",4,null,"5 PCS",0.05,{"$f":"\", \"&A10","v":", 5 Piece"},1,"/5PC"]
["5 Piece Top Row Only",5,null,"5 PCS Top",0.03,{"$f":"\", \"&A11","v":", 5 Piece Top Row Only"},3,"/5PC T"]

{"sheet":"Custom Finish","index":16,"n_rows":9,"n_cols":7,"rows_kept":9,"hidden":true,"merged":[[1,0,1,1]]}
[]
["Calculations"]
["Custom Finish Selected",1]
[]
[null,null,"Price","Upload","Proposal ","Select","Comment"]
[null,null,{"$f":"VLOOKUP(B3,B7:F90,2,FALSE)","v":""},{"$f":"VLOOKUP(B3,B7:F90,3,FALSE)","v":""},{"$f":"VLOOKUP(B3,B7:E9,4,FALSE)","v":""},{"$f":"VLOOKUP(B3,B7:F90,5,FALSE)","v":0},{"$f":"VLOOKUP(B3,B7:G9,6,FALSE)","v":0}]
["Please Select Custom Finish",1,"","","",0]
["None",2,0,"N/A","",1,""]
["Glaze",3,0.2,"Glaze",", Glaze ",3,"/GLZ"]

{"sheet":"Misc Dropdowns","index":17,"n_rows":47,"n_cols":14,"rows_kept":47,"hidden":true,"merged":[[0,2,2,2],[1,0,1,1],[1,9,1,10],[1,12,1,13],[6,9,6,10]]}
[null,null,"Be extremely careful when editing this sheet, most formulas are run from this page"]
["Calculations",{"$nulls":8},"Calculations",null,null,"Tax Rate"]
["Shipping Method Selected:",1,{"$nulls":7},"Same as Ship to?",false,null,"If Less than .01 or reseller ",{"$f":"IF(OR('Order Form'!D13>0.02,'Order Form'!D13=\"Reseller\",'Order Form'!D13=\"OOS\",'Order Form'!D13=\"Out of State\",'Order Form'!D13=\"NONTAX\"),\"OK\",\"Error\")","v":"Error"}]
[]
[null,null,"Upload"]
[null,null,{"$f":"VLOOKUP(B3,B7:C182,2,FALSE)","v":""}]
["Please Select Ship Method",1,"",{"$nulls":6},"Calculations:"]
["Delivery by Founder's Choice",2,"DELIVERY",{"$nulls":6}," Proposal Tab",{"$f":"'Door Style'!E6&Species!E6&Color!K6&'Drawer Head'!F6&'Custom Finish'!E6&L11&L22","v":""}]
["Will Call at McKinley Ave E",3,"WILL CALL"]
["Freight - Common Carrier",4,"COMMON CARRIER",{"$nulls":7},"Cut for Glass options","Proposal Tab","Factor Increase","Name for Comments"]
["Freight - AML",5,"AML",{"$nulls":8},{"$f":"CONCATENATE(L12,L13,L14,L15,L16)","v":""}]
["Freight - NW Shippers",6,"NWSHIPPER",{"$nulls":6},"CFG-Clear",{"$f":"COUNTIF('Order Form'!$E$24:$E$114,'Misc Dropdowns'!J12)","v":0},{"$f":"IF(K12>0,\", Cut for Glass - Clear\",\"\")","v":""},0,"CUT FOR GLASS"]
["Freight - Samson Tug",7,"SAMSON TUG",{"$nulls":6},"CFG-Divided",{"$f":"COUNTIF('Order Form'!$E$24:$E$114,'Misc Dropdowns'!J13)","v":0},{"$f":"IF(K13>0,\", Cut for Glass - Divided\",\"\")","v":""},0.35,"FRENCH LIGHT 4"]
["Freight - Span Alaska",8,"SPAN",{"$nulls":6},"CFG-Framed",{"$f":"COUNTIF('Order Form'!$E$24:$E$114,'Misc Dropdowns'!J14)","v":0},{"$f":"IF(K14>0,\", Cut for Glass - Framed \",\"\")","v":""},0.4,"FRENCH LIGHT 6"]
["Parcel - Fedex",9,"FEDEX"]
["Parcel - UPS",10,"UPS"]
["Parcel - USPS",11,"USPS"]
["Freight - Oak Harbor",12,"OAK"]
["Drop Ship -Capitol Blvd",13,"DROP SHIP"]
["Drop Ship - Andresen Rd",14,"DROP SHIP"]
[{"$nulls":10},"Count of Custom Finish","Proposal Tab","Factor Increase","Name for Comments"]
[{"$nulls":11},{"$f":"CONCATENATE(L23,L24,L25,L26,L27)","v":""}]
[{"$nulls":9},"SMI",{"$f":"COUNTIF('Order Form'!$F$24:$F$114,'Misc Dropdowns'!J23)","v":0},{"$f":"IF(K23>0,\", Species Matched Interior\",\"\")","v":""},0.6,"SPECIES MATCH INTERIOR"]
[{"$nulls":9},"CMI",{"$f":"COUNTIF('Order Form'!$F$24:$F$114,'Misc Dropdowns'!J24)","v":0},{"$f":"IF(K24>0,\", Color Matched Interior\",\"\")","v":""},0.4,"COLOR MATCH INTERIOR"]
["Order Type By Item","Qty of each order type","Order Type by Item",{"$nulls":6},"Dual Tone",{"$f":"COUNTIF('Order Form'!$F$24:$F$114,'Misc Dropdowns'!J25)","v":0},{"$f":"IF(K25>0,\", Duel Tone\",\"\")","v":""},0.15,"DUAL TONE"]
[null,null,{"$f":"C27&C28&C29","v":"1"},{"$nulls":6},"CMI and DT",{"$f":"COUNTIF('Order Form'!$F$24:$F$114,'Misc Dropdowns'!J26)","v":0},{"$f":"IF(K26>0,\",Color Match Interior and Duel Tone\",\"\")","v":""},0.45]
["PB",{"$f":"COUNTIF('Order Form'!H:H,'Misc Dropdowns'!A27)","v":0},{"$f":"IF(SUM(B28:B29)=0,1,\"\")","v":1},{"$nulls":6},"SMI and DT",{"$f":"COUNTIF('Order Form'!$F$24:$F$114,'Misc Dropdowns'!J27)","v":0},{"$f":"IF(K27>0,\",Species Match Interior Duel Tone\",\"\")","v":""},0.65]
["SEL",{"$f":"COUNTIF('Order Form'!H:H,'Misc Dropdowns'!A28)","v":0},{"$f":"IF(C27=C29=\"\",2,\"\")","v":""}]
["CR",{"$f":"COUNTIF('Order Form'!H:H,'Misc Dropdowns'!A29)","v":0},{"$f":"IF(B29>0,3,\"\")","v":""}]
[]
[]
[]
[" Order Type by SO UDFS","Selections","Order Form Number By SO UDFS"]
[null,null,{"$f":"MIN(C36:C40)","v":0},"Min",{"$nulls":5},"Order Form Completely filled out?",null,{"$f":"IF(SUM(K35:K45)=0,\"Welcome to the Order Form Sheet\",IF(K46=0,\"Please Enter: \"&L35&L36&L37&L38&L39&L40&L41&L43&L44&L42,\"Thank you for providing complete order information.\"))","v":"Welcome to the Order Form Sheet"}]
[null,null,{"$f":"MAX(C36:C40)","v":0},"Max",{"$nulls":5},"Factor",{"$f":"IF(ISERROR(CONCAT!O1),0,1)","v":0},{"$f":"IF(K35=0,\"- Approved Factor\",\"\")","v":"- Approved Factor"}]
["Color",{"$f":"Color!L6","v":""},{"$f":"Color!N6","v":0},{"$nulls":6},"Contact Info",{"$f":"IF(OR(ISBLANK('Order Form'!K2),ISBLANK('Order Form'!K3),ISBLANK('Order Form'!K4),ISBLANK('Order Form'!K5),ISBLANK('Order Form'!K6)),0,1)","v":0},{"$f":"IF(K36=0,\" - Contact Information\",\"\")","v":" - Contact Information"}]
["Wood Species",{"$f":"Species!D6","v":""},{"$f":"Species!F6","v":0},{"$nulls":6},"Ship to Method",{"$f":"IF('Misc Dropdowns'!B3=1,0,1)","v":0},{"$f":"IF(K37=0,\" - Ship to Method\",\"\")","v":" - Ship to Method"}]
["Door Style",{"$f":"'Door Style'!D6","v":""},{"$f":"'Door Style'!F6","v":0},{"$nulls":6},"Ship to Address",{"$f":"IF(OR(B3=3,B3=13,B3=14,AND(K3=TRUE,K45+K44>0)),1,IF(OR(B3=3,ISBLANK('Order Form'!M8),ISBLANK('Order Form'!M9),ISBLANK('Order Form'!M10),ISBLANK('Order Form'!M11),ISBLANK('Order Form'!M12)),0,1))","v":0},{"$f":"IF(K38=0,\" - Ship to Address\",\"\")","v":" - Ship to Address"}]
["Drawer Heads",{"$f":"'Drawer Head'!D6","v":""},{"$f":"'Drawer Head'!G6","v":0},{"$nulls":6},"Tax Rate",{"$f":"IF('Order Form'!D13=\"\",0,1)","v":0},{"$f":"IF(K39=0,\" - Tax Rate\",\"\")","v":" - Tax Rate"}]
["Custom Finish",{"$f":"'Custom Finish'!D6","v":""},{"$f":"'Custom Finish'!F6","v":0},{"$nulls":6},"Delivery Cost",{"$f":"IF(AND(AND(B3<>3,B3<>13,B3<>14),'Order Form'!M13=\"\"),0,1)","v":0},{"$f":"IF(K40=0,\" - Delivery Cost\",\"\")","v":" - Delivery Cost"}]
[{"$nulls":9},"Order Specifications",{"$f":"IF('Order Form'!C21=\"\",0,1)","v":0},{"$f":"IF(K41=0,\" - Order Specifications\",\"\")","v":" - Order Specifications"}]
[{"$nulls":9},"Override w/ Cr Price",{"$f":"IF(K41=0,0,IF('Order Form'!AS22='Order Form'!AT22,1,0))","v":0},{"$f":"IF(K42=0,\" - Craftsman Price Override Totals don’t Match\",\"\")","v":" - Craftsman Price Override Totals don’t Match"}]
[{"$nulls":9},"Contractor Info",{"$f":"IF('Order Form'!S18=\"\",0,IF(OR('Order Form'!S18<0.49,'Order Form'!S18>0.6),1,IF(AND('Order Form'!S18>0.49,'Order Form'!S18<0.6,OR('Order Form'!D122=\"\",'Order Form'!D123=\"\")),0,1)))","v":0},{"$f":"IF(K43=0,\" - Contractor Information\",\"\")","v":" - Contractor Information"}]
["Order Numbering ","Order Type","Lead Times",{"$nulls":6},"Customer Number",{"$f":"IF('Order Form'!O4=\"\",0,1)","v":0},{"$f":"IF(AND(K38=0,K3=FALSE,K44+K45=0),\" - Bill to Info or Customer Number\",IF(AND(K38=1,K44+K45=0),\" - Bill to Info or Customer Number\",IF(AND(K38=0,K3=TRUE,K44+K45=0),\" - Bill to Info or Customer Number\",\"\")))","v":" - Bill to Info or Customer Number"}]
[1,"Pre Built","PreBuilt Order: Lead Time After Approved Order: Approximately 7 Business Days",{"$nulls":6},"Bill to Address",{"$f":"IF(OR(ISBLANK('Order Form'!D8),ISBLANK('Order Form'!D9),ISBLANK('Order Form'!D10),ISBLANK('Order Form'!D11),ISBLANK('Order Form'!D12)),0,1)","v":0}]
[2,"SEL",{"$f":"\"Select Order: Lead Time After Approved Order Approximately: \"&Color!O6&\" Weeks\"","v":"Select Order: Lead Time After Approved Order Approximately: 0 Weeks"},{"$nulls":6},"Total:",{"$f":"IF(AND(K35+K41+K39+K42+K36+K43+K37+K40+K38=9,K44+K45>0),1,0)","v":0}]
[3,"CR","Craftsman Order: Lead Time After Approved Order Approximately: 5 Weeks"]

{"sheet":"CONCAT","index":18,"n_rows":102,"n_cols":16,"rows_kept":102,"hidden":true}
[null,"Order Desk:","Prefix","Select Suffix","Craftsman Suffix","Job Options Upload",{"$f":"IF(G2=\"SELECT\",\"SEL\",\"CR\")","v":"CR"},{"$nulls":6},"Price Level",{"$f":"VLOOKUP('Order Form'!S18,CONCAT!N2:O336,2,FALSE)","v":{"$error":"#N/A"}},{"$f":"VLOOKUP(O1,O2:P556,2,FALSE)","v":{"$error":"#N/A"}}]
[null,"For Cabinets","01-",{"$f":"Color!E6","v":""},{"$f":"Color!$M$6","v":""},"Order Type",{"$f":"IF(AND(G4=\"WhiteBirch\",G5=\"Shaker\",G6=\"5 PCS\",G7=\"N/A\"),\"SELECT\",\"CRAFTSMAN\")","v":"CRAFTSMAN"},null,"Factor",{"$f":"'Order Form'!S18","v":0},{"$nulls":3},0.28,"A","Showroom Displays"]
[null,"For Accessories","13-",{"$f":"Color!F6","v":""},{"$f":"Color!$M$6","v":""},"Color",{"$f":"Color!L6","v":""},null,"Multiplier",{"$f":"Color!C6","v":""},{"$nulls":3},0.32,"B","Container"]
[null,"For touch up kits","13-",{"$f":"Color!H6","v":""},{"$f":"Color!H6","v":""},"Wood Species",{"$f":"Species!D6","v":""},{"$nulls":6},0.35,"C","Container"]
[null,"For Parts","14-","","","Door Style",{"$f":"'Door Style'!D6","v":""},{"$nulls":6},0.39,"D","Container"]
[null,"For Mods","/","","","Drawer Heads",{"$f":"'Drawer Head'!D6","v":""},{"$nulls":6},{"v":0.4,"d":"0.40"},"E","Dealer"]
[null,"Accessories with no color","","","","Custom Finish",{"$f":"'Custom Finish'!D6","v":""},{"$nulls":6},0.42,7,"Dealer"]
[null,"SC/PC","SC/PC",{"$f":"Color!M6","v":""},{"$f":"Color!$M$6","v":""},"Cabinet Count",{"$f":"SUM(K12:K102)","v":0},{"$nulls":6},0.43,8,"Dealer"]
[null,"For Craftsman Items that need color ","PROJECT",{"$f":"Color!E6","v":""},{"$f":"IF(G2=\"Select\",Color!E6,E2)","v":""},{"$nulls":8},0.45,"F","Dealer"]
[{"$nulls":13},0.48,0,"Dealer"]
["Order Form","Prefix","ProductNumberBase","color code","ProductQuantity",{"$nulls":4},"Check is cabinet","* Qty",null,null,{"v":0.5,"d":"0.50"},"G","Contractor"]
[{"$f":"'Order Form'!H24","v":""},{"$f":"VLOOKUP(C12,Items!A:J,10,FALSE)","v":{"$error":"#N/A"}},{"$f":"'Order Form'!C24","v":""},{"$f":"IF(A12=\"SEL\",VLOOKUP(VLOOKUP(C12,Items!A:I,9,FALSE),$C$2:$D$9,2,FALSE),IF(A12=\"CR\",VLOOKUP(VLOOKUP(C12,Items!A:I,9,FALSE),$C$2:$E$9,3,FALSE),\"\"))","v":""},{"$f":"'Order Form'!D24","v":0},{"$nulls":4},{"$f":"VLOOKUP(C12,Items!A:M,13,FALSE)","v":{"$error":"#N/A"}},{"$f":"IFERROR(J12*E12,0)","v":0},null,null,0.51,"H","Contractor"]
[{"$f":"'Order Form'!H25","v":""},{"$f":"VLOOKUP(C13,Items!A:J,10,FALSE)","v":"13-"},{"$f":"'Order Form'!C25","v":"TOUCH UP"},{"$f":"IF(A13=\"SEL\",VLOOKUP(VLOOKUP(C13,Items!A:I,9,FALSE),$C$4:$D$9,2,FALSE),IF(A13=\"CR\",VLOOKUP(VLOOKUP(C13,Items!A:I,9,FALSE),$C$4:$E$9,3,FALSE),\"\"))","v":""},{"$f":"'Order Form'!D25","v":1},{"$nulls":4},{"$f":"VLOOKUP(C13,Items!A:M,13,FALSE)","v":0},0,null,null,0.52,"I","Contractor"]
[{"$f":"'Order Form'!H26","v":""},{"$f":"VLOOKUP(C14,Items!A:J,10,FALSE)","v":{"$error":"#N/A"}},{"$f":"'Order Form'!C26","v":0},{"$f":"IF(A14=\"SEL\",VLOOKUP(VLOOKUP(C14,Items!A:I,9,FALSE),$C$2:$D$9,2,FALSE),IF(A14=\"CR\",VLOOKUP(VLOOKUP(C14,Items!A:I,9,FALSE),$C$2:$E$9,3,FALSE),\"\"))","v":""},{"$f":"'Order Form'!D26","v":0},{"$nulls":4},{"$f":"VLOOKUP(C14,Items!A:M,13,FALSE)","v":{"$error":"#N/A"}},0,null,null,0.53,"J","Contractor"]
[{"$f":"'Order Form'!H27","v":""},{"$f":"VLOOKUP(C15,Items!A:J,10,FALSE)","v":{"$error":"#N/A"}},{"$f":"'Order Form'!C27","v":0},{"$f":"IF(A15=\"SEL\",VLOOKUP(VLOOKUP(C15,Items!A:I,9,FALSE),$C$2:$D$9,2,FALSE),IF(A15=\"CR\",VLOOKUP(VLOOKUP(C15,Items!A:I,9,FALSE),$C$2:$E$9,3,FALSE),\"\"))","v":""},{"$f":"'Order Form'!D27","v":0},{"$nulls":4},{"$f":"VLOOKUP(C15,Items!A:M,13,FALSE)","v":{"$error":"#N/A"}},0,null,null,0.54,"K","Contractor"]
[{"$f":"'Order Form'!H28","v":""},{"$f":"VLOOKUP(C16,Items!A:J,10,FALSE)","v":{"$error":"#N/A"}},{"$f":"'Order Form'!C28","v":0},{"$f":"IF(A16=\"SEL\",VLOOKUP(VLOOKUP(C16,Items!A:I,9,FALSE),$C$2:$D$9,2,FALSE),IF(A16=\"CR\",VLOOKUP(VLOOKUP(C16,Items!A:I,9,FALSE),$C$2:$E$9,3,FALSE),\"\"))","v":""},{"$f":"'Order Form'!D28","v":0},{"$nulls":4},{"$f":"VLOOKUP(C16,Items!A:M,13,FALSE)","v":{"$error":"#N/A"}},0,null,null,0.55,"L","Contractor"]
[{"$f":"'Order Form'!H29","v":""},{"$f":"VLOOKUP(C17,Items!A:J,10,FALSE)","v":{"$error":"#N/A"}},{"$f":"'Order Form'!C29","v":0},{"$f":"IF(A17=\"SEL\",VLOOKUP(VLOOKUP(C17,Items!A:I,9,FALSE),$C$2:$D$9,2,FALSE),IF(A17=\"CR\",VLOOKUP(VLOOKUP(C17,Items!A:I,9,FALSE),$C$2:$E$9,3,FALSE),\"\"))","v":""},{"$f":"'Order Form'!D29","v":0},{"$nulls":4},{"$f":"VLOOKUP(C17,Items!A:M,13,FALSE)","v":{"$error":"#N/A"}},0,null,null,0.56,"M","Contractor"]
[{"$f":"'Order Form'!H30","v":""},{"$f":"VLOOKUP(C18,Items!A:J,10,FALSE)","v":{"$error":"#N/A"}},{"$f":"'Order Form'!C30","v":0},{"$f":"IF(A18=\"SEL\",VLOOKUP(VLOOKUP(C18,Items!A:I,9,FALSE),$C$2:$D$9,2,FALSE),IF(A18=\"CR\",VLOOKUP(VLOOKUP(C18,Items!A:I,9,FALSE),$C$2:$E$9,3,FALSE),\"\"))","v":""},{"$f":"'Order Form'!D30","v":0},{"$nulls":4},{"$f":"VLOOKUP(C18,Items!A:M,13,FALSE)","v":{"$error":"#N/A"}},0,null,null,0.57,"N","Contractor"]
[{"$f":"'Order Form'!H31","v":""},{"$f":"VLOOKUP(C19,Items!A:J,10,FALSE)","v":{"$error":"#N/A"}},{"$f":"'Order Form'!C31","v":0},{"$f":"IF(A19=\"SEL\",VLOOKUP(VLOOKUP(C19,Items!A:I,9,FALSE),$C$2:$D$9,2,FALSE),IF(A19=\"CR\",VLOOKUP(VLOOKUP(C19,Items!A:I,9,FALSE),$C$2:$E$9,3,FALSE),\"\"))","v":""},{"$f":"'Order Form'!D31","v":0},{"$nulls":4},{"$f":"VLOOKUP(C19,Items!A:M,13,FALSE)","v":{"$error":"#N/A"}},0,null,null,0.58,"O","Contractor"]
[{"$f":"'Order Form'!H32","v":""},{"$f":"VLOOKUP(C20,Items!A:J,10,FALSE)","v":{"$error":"#N/A"}},{"$f":"'Order Form'!C32","v":0},{"$f":"IF(A20=\"SEL\",VLOOKUP(VLOOKUP(C20,Items!A:I,9,FALSE),$C$2:$D$9,2,FALSE),IF(A20=\"CR\",VLOOKUP(VLOOKUP(C20,Items!A:I,9,FALSE),$C$2:$E$9,3,FALSE),\"\"))","v":""},{"$f":"'Order Form'!D32","v":0},{"$nulls":4},{"$f":"VLOOKUP(C20,Items!A:M,13,FALSE)","v":{"$error":"#N/A"}},0,null,null,0.59,"P","Contractor"]
[{"$f":"'Order Form'!H33","v":""},{"$f":"VLOOKUP(C21,Items!A:J,10,FALSE)","v":{"$error":"#N/A"}},{"$f":"'Order Form'!C33","v":0},{"$f":"IF(A21=\"SEL\",VLOOKUP(VLOOKUP(C21,Items!A:I,9,FALSE),$C$2:$D$9,2,FALSE),IF(A21=\"CR\",VLOOKUP(VLOOKUP(C21,Items!A:I,9,FALSE),$C$2:$E$9,3,FALSE),\"\"))","v":""},{"$f":"'Order Form'!D33","v":0},{"$nulls":4},{"$f":"VLOOKUP(C21,Items!A:M,13,FALSE)","v":{"$error":"#N/A"}},0,null,null,{"v":0.6,"d":"0.60"},"Q","Factory Showroom"]
[{"$f":"'Order Form'!H34","v":""},{"$f":"VLOOKUP(C22,Items!A:J,10,FALSE)","v":{"$error":"#N/A"}},{"$f":"'Order Form'!C34","v":0},{"$f":"IF(A22=\"SEL\",VLOOKUP(VLOOKUP(C22,Items!A:I,9,FALSE),$C$2:$D$9,2,FALSE),IF(A22=\"CR\",VLOOKUP(VLOOKUP(C22,Items!A:I,9,FALSE),$C$2:$E$9,3,FALSE),\"\"))","v":""},{"$f":"'Order Form'!D34","v":0},{"$nulls":4},{"$f":"VLOOKUP(C22,Items!A:M,13,FALSE)","v":{"$error":"#N/A"}},0,null,null,0.61,"R","Factory Showroom"]
[{"$f":"'Order Form'!H35","v":""},{"$f":"VLOOKUP(C23,Items!A:J,10,FALSE)","v":{"$error":"#N/A"}},{"$f":"'Order Form'!C35","v":0},{"$f":"IF(A23=\"SEL\",VLOOKUP(VLOOKUP(C23,Items!A:I,9,FALSE),$C$2:$D$9,2,FALSE),IF(A23=\"CR\",VLOOKUP(VLOOKUP(C23,Items!A:I,9,FALSE),$C$2:$E$9,3,FALSE),\"\"))","v":""},{"$f":"'Order Form'!D35","v":0},{"$nulls":4},{"$f":"VLOOKUP(C23,Items!A:M,13,FALSE)","v":{"$error":"#N/A"}},0,null,null,0.62,"S","Factory Showroom"]
[{"$f":"'Order Form'!H36","v":""},{"$f":"VLOOKUP(C24,Items!A:J,10,FALSE)","v":{"$error":"#N/A"}},{"$f":"'Order Form'!C36","v":0},{"$f":"IF(A24=\"SEL\",VLOOKUP(VLOOKUP(C24,Items!A:I,9,FALSE),$C$2:$D$9,2,FALSE),IF(A24=\"CR\",VLOOKUP(VLOOKUP(C24,Items!A:I,9,FALSE),$C$2:$E$9,3,FALSE),\"\"))","v":""},{"$f":"'Order Form'!D36","v":0},{"$nulls":4},{"$f":"VLOOKUP(C24,Items!A:M,13,FALSE)","v":{"$error":"#N/A"}},0,null,null,0.63,"T","Factory Showroom"]
[{"$f":"'Order Form'!H37","v":""},{"$f":"VLOOKUP(C25,Items!A:J,10,FALSE)","v":{"$error":"#N/A"}},{"$f":"'Order Form'!C37","v":0},{"$f":"IF(A25=\"SEL\",VLOOKUP(VLOOKUP(C25,Items!A:I,9,FALSE),$C$2:$D$9,2,FALSE),IF(A25=\"CR\",VLOOKUP(VLOOKUP(C25,Items!A:I,9,FALSE),$C$2:$E$9,3,FALSE),\"\"))","v":""},{"$f":"'Order Form'!D37","v":0},{"$nulls":4},{"$f":"VLOOKUP(C25,Items!A:M,13,FALSE)","v":{"$error":"#N/A"}},0,null,null,0.64,"U","Factory Showroom"]
[{"$f":"'Order Form'!H38","v":""},{"$f":"VLOOKUP(C26,Items!A:J,10,FALSE)","v":{"$error":"#N/A"}},{"$f":"'Order Form'!C38","v":0},{"$f":"IF(A26=\"SEL\",VLOOKUP(VLOOKUP(C26,Items!A:I,9,FALSE),$C$2:$D$9,2,FALSE),IF(A26=\"CR\",VLOOKUP(VLOOKUP(C26,Items!A:I,9,FALSE),$C$2:$E$9,3,FALSE),\"\"))","v":""},{"$f":"'Order Form'!D38","v":0},{"$nulls":4},{"$f":"VLOOKUP(C26,Items!A:M,13,FALSE)","v":{"$error":"#N/A"}},0,null,null,0.65,"V","Factory Showroom"]
[{"$f":"'Order Form'!H39","v":""},{"$f":"VLOOKUP(C27,Items!A:J,10,FALSE)","v":{"$error":"#N/A"}},{"$f":"'Order Form'!C39","v":0},{"$f":"IF(A27=\"SEL\",VLOOKUP(VLOOKUP(C27,Items!A:I,9,FALSE),$C$2:$D$9,2,FALSE),IF(A27=\"CR\",VLOOKUP(VLOOKUP(C27,Items!A:I,9,FALSE),$C$2:$E$9,3,FALSE),\"\"))","v":""},{"$f":"'Order Form'!D39","v":0},{"$nulls":4},{"$f":"VLOOKUP(C27,Items!A:M,13,FALSE)","v":{"$error":"#N/A"}},0,null,null,0.66,"W","Factory Showroom"]
[{"$f":"'Order Form'!H40","v":""},{"$f":"VLOOKUP(C28,Items!A:J,10,FALSE)","v":{"$error":"#N/A"}},{"$f":"'Order Form'!C40","v":0},{"$f":"IF(A28=\"SEL\",VLOOKUP(VLOOKUP(C28,Items!A:I,9,FALSE),$C$2:$D$9,2,FALSE),IF(A28=\"CR\",VLOOKUP(VLOOKUP(C28,Items!A:I,9,FALSE),$C$2:$E$9,3,FALSE),\"\"))","v":""},{"$f":"'Order Form'!D40","v":0},{"$nulls":4},{"$f":"VLOOKUP(C28,Items!A:M,13,FALSE)","v":{"$error":"#N/A"}},0,null,null,0.67,"X","Factory Showroom"]
[{"$f":"'Order Form'!H41","v":""},{"$f":"VLOOKUP(C29,Items!A:J,10,FALSE)","v":{"$error":"#N/A"}},{"$f":"'Order Form'!C41","v":0},{"$f":"IF(A29=\"SEL\",VLOOKUP(VLOOKUP(C29,Items!A:I,9,FALSE),$C$2:$D$9,2,FALSE),IF(A29=\"CR\",VLOOKUP(VLOOKUP(C29,Items!A:I,9,FALSE),$C$2:$E$9,3,FALSE),\"\"))","v":""},{"$f":"'Order Form'!D41","v":0},{"$nulls":4},{"$f":"VLOOKUP(C29,Items!A:M,13,FALSE)","v":{"$error":"#N/A"}},0,null,null,0.68,"Y","Factory Showroom"]
[{"$f":"'Order Form'!H42","v":""},{"$f":"VLOOKUP(C30,Items!A:J,10,FALSE)","v":{"$error":"#N/A"}},{"$f":"'Order Form'!C42","v":0},{"$f":"IF(A30=\"SEL\",VLOOKUP(VLOOKUP(C30,Items!A:I,9,FALSE),$C$2:$D$9,2,FALSE),IF(A30=\"CR\",VLOOKUP(VLOOKUP(C30,Items!A:I,9,FALSE),$C$2:$E$9,3,FALSE),\"\"))","v":""},{"$f":"'Order Form'!D42","v":0},{"$nulls":4},{"$f":"VLOOKUP(C30,Items!A:M,13,FALSE)","v":{"$error":"#N/A"}},0,null,null,0.69,"Z","Factory Showroom"]
[{"$f":"'Order Form'!H43","v":""},{"$f":"VLOOKUP(C31,Items!A:J,10,FALSE)","v":{"$error":"#N/A"}},{"$f":"'Order Form'!C43","v":0},{"$f":"IF(A31=\"SEL\",VLOOKUP(VLOOKUP(C31,Items!A:I,9,FALSE),$C$2:$D$9,2,FALSE),IF(A31=\"CR\",VLOOKUP(VLOOKUP(C31,Items!A:I,9,FALSE),$C$2:$E$9,3,FALSE),\"\"))","v":""},{"$f":"'Order Form'!D43","v":0},{"$nulls":4},{"$f":"VLOOKUP(C31,Items!A:M,13,FALSE)","v":{"$error":"#N/A"}},0,null,null,{"v":0.7,"d":"0.70"},1,"Factory Showroom"]
[{"$f":"'Order Form'!H44","v":""},{"$f":"VLOOKUP(C32,Items!A:J,10,FALSE)","v":{"$error":"#N/A"}},{"$f":"'Order Form'!C44","v":0},{"$f":"IF(A32=\"SEL\",VLOOKUP(VLOOKUP(C32,Items!A:I,9,FALSE),$C$2:$D$9,2,FALSE),IF(A32=\"CR\",VLOOKUP(VLOOKUP(C32,Items!A:I,9,FALSE),$C$2:$E$9,3,FALSE),\"\"))","v":""},{"$f":"'Order Form'!D44","v":0},{"$nulls":4},{"$f":"VLOOKUP(C32,Items!A:M,13,FALSE)","v":{"$error":"#N/A"}},0,null,null,0.72,2,"Factory Showroom"]
[{"$f":"'Order Form'!H45","v":""},{"$f":"VLOOKUP(C33,Items!A:J,10,FALSE)","v":{"$error":"#N/A"}},{"$f":"'Order Form'!C45","v":0},{"$f":"IF(A33=\"SEL\",VLOOKUP(VLOOKUP(C33,Items!A:I,9,FALSE),$C$2:$D$9,2,FALSE),IF(A33=\"CR\",VLOOKUP(VLOOKUP(C33,Items!A:I,9,FALSE),$C$2:$E$9,3,FALSE),\"\"))","v":""},{"$f":"'Order Form'!D45","v":0},{"$nulls":4},{"$f":"VLOOKUP(C33,Items!A:M,13,FALSE)","v":{"$error":"#N/A"}},0,null,null,0.74,3,"Factory Showroom"]
[{"$f":"'Order Form'!H46","v":""},{"$f":"VLOOKUP(C34,Items!A:J,10,FALSE)","v":{"$error":"#N/A"}},{"$f":"'Order Form'!C46","v":0},{"$f":"IF(A34=\"SEL\",VLOOKUP(VLOOKUP(C34,Items!A:I,9,FALSE),$C$2:$D$9,2,FALSE),IF(A34=\"CR\",VLOOKUP(VLOOKUP(C34,Items!A:I,9,FALSE),$C$2:$E$9,3,FALSE),\"\"))","v":""},{"$f":"'Order Form'!D46","v":0},{"$nulls":4},{"$f":"VLOOKUP(C34,Items!A:M,13,FALSE)","v":{"$error":"#N/A"}},0,null,null,0.76,4,"Factory Showroom"]
[{"$f":"'Order Form'!H47","v":""},{"$f":"VLOOKUP(C35,Items!A:J,10,FALSE)","v":{"$error":"#N/A"}},{"$f":"'Order Form'!C47","v":0},{"$f":"IF(A35=\"SEL\",VLOOKUP(VLOOKUP(C35,Items!A:I,9,FALSE),$C$2:$D$9,2,FALSE),IF(A35=\"CR\",VLOOKUP(VLOOKUP(C35,Items!A:I,9,FALSE),$C$2:$E$9,3,FALSE),\"\"))","v":""},{"$f":"'Order Form'!D47","v":0},{"$nulls":4},{"$f":"VLOOKUP(C35,Items!A:M,13,FALSE)","v":{"$error":"#N/A"}},0,null,null,0.78,5,"Factory Showroom"]
[{"$f":"'Order Form'!H48","v":""},{"$f":"VLOOKUP(C36,Items!A:J,10,FALSE)","v":{"$error":"#N/A"}},{"$f":"'Order Form'!C48","v":0},{"$f":"IF(A36=\"SEL\",VLOOKUP(VLOOKUP(C36,Items!A:I,9,FALSE),$C$2:$D$9,2,FALSE),IF(A36=\"CR\",VLOOKUP(VLOOKUP(C36,Items!A:I,9,FALSE),$C$2:$E$9,3,FALSE),\"\"))","v":""},{"$f":"'Order Form'!D48","v":0},{"$nulls":4},{"$f":"VLOOKUP(C36,Items!A:M,13,FALSE)","v":{"$error":"#N/A"}},0,null,null,{"v":0.8,"d":"0.80"},6,"Factory Showroom"]
[{"$f":"'Order Form'!H49","v":""},{"$f":"VLOOKUP(C37,Items!A:J,10,FALSE)","v":{"$error":"#N/A"}},{"$f":"'Order Form'!C49","v":0},{"$f":"IF(A37=\"SEL\",VLOOKUP(VLOOKUP(C37,Items!A:I,9,FALSE),$C$2:$D$9,2,FALSE),IF(A37=\"CR\",VLOOKUP(VLOOKUP(C37,Items!A:I,9,FALSE),$C$2:$E$9,3,FALSE),\"\"))","v":""},{"$f":"'Order Form'!D49","v":0},{"$nulls":4},{"$f":"VLOOKUP(C37,Items!A:M,13,FALSE)","v":{"$error":"#N/A"}},0,null,null,{"v":1,"d":"1.00"},9,"Factory Showroom"]
[{"$f":"'Order Form'!H50","v":""},{"$f":"VLOOKUP(C38,Items!A:J,10,FALSE)","v":{"$error":"#N/A"}},{"$f":"'Order Form'!C50","v":0},{"$f":"IF(A38=\"SEL\",VLOOKUP(VLOOKUP(C38,Items!A:I,9,FALSE),$C$2:$D$9,2,FALSE),IF(A38=\"CR\",VLOOKUP(VLOOKUP(C38,Items!A:I,9,FALSE),$C$2:$E$9,3,FALSE),\"\"))","v":""},{"$f":"'Order Form'!D50","v":0},{"$nulls":4},{"$f":"VLOOKUP(C38,Items!A:M,13,FALSE)","v":{"$error":"#N/A"}},0]
[{"$f":"'Order Form'!H51","v":""},{"$f":"VLOOKUP(C39,Items!A:J,10,FALSE)","v":{"$error":"#N/A"}},{"$f":"'Order Form'!C51","v":0},{"$f":"IF(A39=\"SEL\",VLOOKUP(VLOOKUP(C39,Items!A:I,9,FALSE),$C$2:$D$9,2,FALSE),IF(A39=\"CR\",VLOOKUP(VLOOKUP(C39,Items!A:I,9,FALSE),$C$2:$E$9,3,FALSE),\"\"))","v":""},{"$f":"'Order Form'!D51","v":0},{"$nulls":4},{"$f":"VLOOKUP(C39,Items!A:M,13,FALSE)","v":{"$error":"#N/A"}},0]
[{"$f":"'Order Form'!H52","v":""},{"$f":"VLOOKUP(C40,Items!A:J,10,FALSE)","v":{"$error":"#N/A"}},{"$f":"'Order Form'!C52","v":0},{"$f":"IF(A40=\"SEL\",VLOOKUP(VLOOKUP(C40,Items!A:I,9,FALSE),$C$2:$D$9,2,FALSE),IF(A40=\"CR\",VLOOKUP(VLOOKUP(C40,Items!A:I,9,FALSE),$C$2:$E$9,3,FALSE),\"\"))","v":""},{"$f":"'Order Form'!D52","v":0},{"$nulls":4},{"$f":"VLOOKUP(C40,Items!A:M,13,FALSE)","v":{"$error":"#N/A"}},0]
[{"$f":"'Order Form'!H53","v":""},{"$f":"VLOOKUP(C41,Items!A:J,10,FALSE)","v":{"$error":"#N/A"}},{"$f":"'Order Form'!C53","v":0},{"$f":"IF(A41=\"SEL\",VLOOKUP(VLOOKUP(C41,Items!A:I,9,FALSE),$C$2:$D$9,2,FALSE),IF(A41=\"CR\",VLOOKUP(VLOOKUP(C41,Items!A:I,9,FALSE),$C$2:$E$9,3,FALSE),\"\"))","v":""},{"$f":"'Order Form'!D53","v":0},{"$nulls":4},{"$f":"VLOOKUP(C41,Items!A:M,13,FALSE)","v":{"$error":"#N/A"}},0]
[{"$f":"'Order Form'!H54","v":""},{"$f":"VLOOKUP(C42,Items!A:J,10,FALSE)","v":{"$error":"#N/A"}},{"$f":"'Order Form'!C54","v":0},{"$f":"IF(A42=\"SEL\",VLOOKUP(VLOOKUP(C42,Items!A:I,9,FALSE),$C$2:$D$9,2,FALSE),IF(A42=\"CR\",VLOOKUP(VLOOKUP(C42,Items!A:I,9,FALSE),$C$2:$E$9,3,FALSE),\"\"))","v":""},{"$f":"'Order Form'!D54","v":0},{"$nulls":4},{"$f":"VLOOKUP(C42,Items!A:M,13,FALSE)","v":{"$error":"#N/A"}},0]
[{"$f":"'Order Form'!H55","v":""},{"$f":"VLOOKUP(C43,Items!A:J,10,FALSE)","v":{"$error":"#N/A"}},{"$f":"'Order Form'!C55","v":0},{"$f":"IF(A43=\"SEL\",VLOOKUP(VLOOKUP(C43,Items!A:I,9,FALSE),$C$2:$D$9,2,FALSE),IF(A43=\"CR\",VLOOKUP(VLOOKUP(C43,Items!A:I,9,FALSE),$C$2:$E$9,3,FALSE),\"\"))","v":""},{"$f":"'Order Form'!D55","v":0},{"$nulls":4},{"$f":"VLOOKUP(C43,Items!A:M,13,FALSE)","v":{"$error":"#N/A"}},0]
[{"$f":"'Order Form'!H56","v":""},{"$f":"VLOOKUP(C44,Items!A:J,10,FALSE)","v":{"$error":"#N/A"}},{"$f":"'Order Form'!C56","v":0},{"$f":"IF(A44=\"SEL\",VLOOKUP(VLOOKUP(C44,Items!A:I,9,FALSE),$C$2:$D$9,2,FALSE),IF(A44=\"CR\",VLOOKUP(VLOOKUP(C44,Items!A:I,9,FALSE),$C$2:$E$9,3,FALSE),\"\"))","v":""},{"$f":"'Order Form'!D56","v":0},{"$nulls":4},{"$f":"VLOOKUP(C44,Items!A:M,13,FALSE)","v":{"$error":"#N/A"}},{"$f":"IFERROR(J44*E44,0)","v":0}]
[{"$f":"'Order Form'!H57","v":""},{"$f":"VLOOKUP(C45,Items!A:J,10,FALSE)","v":{"$error":"#N/A"}},{"$f":"'Order Form'!C57","v":0},{"$f":"IF(A45=\"SEL\",VLOOKUP(VLOOKUP(C45,Items!A:I,9,FALSE),$C$2:$D$9,2,FALSE),IF(A45=\"CR\",VLOOKUP(VLOOKUP(C45,Items!A:I,9,FALSE),$C$2:$E$9,3,FALSE),\"\"))","v":""},{"$f":"'Order Form'!D57","v":0},{"$nulls":4},{"$f":"VLOOKUP(C45,Items!A:M,13,FALSE)","v":{"$error":"#N/A"}},0]
[{"$f":"'Order Form'!H58","v":""},{"$f":"VLOOKUP(C46,Items!A:J,10,FALSE)","v":{"$error":"#N/A"}},{"$f":"'Order Form'!C58","v":0},{"$f":"IF(A46=\"SEL\",VLOOKUP(VLOOKUP(C46,Items!A:I,9,FALSE),$C$2:$D$9,2,FALSE),IF(A46=\"CR\",VLOOKUP(VLOOKUP(C46,Items!A:I,9,FALSE),$C$2:$E$9,3,FALSE),\"\"))","v":""},{"$f":"'Order Form'!D58","v":0},{"$nulls":4},{"$f":"VLOOKUP(C46,Items!A:M,13,FALSE)","v":{"$error":"#N/A"}},0]
[{"$f":"'Order Form'!H59","v":""},{"$f":"VLOOKUP(C47,Items!A:J,10,FALSE)","v":{"$error":"#N/A"}},{"$f":"'Order Form'!C59","v":0},{"$f":"IF(A47=\"SEL\",VLOOKUP(VLOOKUP(C47,Items!A:I,9,FALSE),$C$2:$D$9,2,FALSE),IF(A47=\"CR\",VLOOKUP(VLOOKUP(C47,Items!A:I,9,FALSE),$C$2:$E$9,3,FALSE),\"\"))","v":""},{"$f":"'Order Form'!D59","v":0},{"$nulls":4},{"$f":"VLOOKUP(C47,Items!A:M,13,FALSE)","v":{"$error":"#N/A"}},0]
[{"$f":"'Order Form'!H60","v":""},{"$f":"VLOOKUP(C48,Items!A:J,10,FALSE)","v":{"$error":"#N/A"}},{"$f":"'Order Form'!C60","v":0},{"$f":"IF(A48=\"SEL\",VLOOKUP(VLOOKUP(C48,Items!A:I,9,FALSE),$C$2:$D$9,2,FALSE),IF(A48=\"CR\",VLOOKUP(VLOOKUP(C48,Items!A:I,9,FALSE),$C$2:$E$9,3,FALSE),\"\"))","v":""},{"$f":"'Order Form'!D60","v":0},{"$nulls":4},{"$f":"VLOOKUP(C48,Items!A:M,13,FALSE)","v":{"$error":"#N/A"}},0]
[{"$f":"'Order Form'!H61","v":""},{"$f":"VLOOKUP(C49,Items!A:J,10,FALSE)","v":{"$error":"#N/A"}},{"$f":"'Order Form'!C61","v":0},{"$f":"IF(A49=\"SEL\",VLOOKUP(VLOOKUP(C49,Items!A:I,9,FALSE),$C$2:$D$9,2,FALSE),IF(A49=\"CR\",VLOOKUP(VLOOKUP(C49,Items!A:I,9,FALSE),$C$2:$E$9,3,FALSE),\"\"))","v":""},{"$f":"'Order Form'!D61","v":0},{"$nulls":4},{"$f":"VLOOKUP(C49,Items!A:M,13,FALSE)","v":{"$error":"#N/A"}},0]
[{"$f":"'Order Form'!H62","v":""},{"$f":"VLOOKUP(C50,Items!A:J,10,FALSE)","v":{"$error":"#N/A"}},{"$f":"'Order Form'!C62","v":0},{"$f":"IF(A50=\"SEL\",VLOOKUP(VLOOKUP(C50,Items!A:I,9,FALSE),$C$2:$D$9,2,FALSE),IF(A50=\"CR\",VLOOKUP(VLOOKUP(C50,Items!A:I,9,FALSE),$C$2:$E$9,3,FALSE),\"\"))","v":""},{"$f":"'Order Form'!D62","v":0},{"$nulls":4},{"$f":"VLOOKUP(C50,Items!A:M,13,FALSE)","v":{"$error":"#N/A"}},0]
[{"$f":"'Order Form'!H63","v":""},{"$f":"VLOOKUP(C51,Items!A:J,10,FALSE)","v":{"$error":"#N/A"}},{"$f":"'Order Form'!C63","v":0},{"$f":"IF(A51=\"SEL\",VLOOKUP(VLOOKUP(C51,Items!A:I,9,FALSE),$C$2:$D$9,2,FALSE),IF(A51=\"CR\",VLOOKUP(VLOOKUP(C51,Items!A:I,9,FALSE),$C$2:$E$9,3,FALSE),\"\"))","v":""},{"$f":"'Order Form'!D63","v":0},{"$nulls":4},{"$f":"VLOOKUP(C51,Items!A:M,13,FALSE)","v":{"$error":"#N/A"}},0]
[{"$f":"'Order Form'!H64","v":""},{"$f":"VLOOKUP(C52,Items!A:J,10,FALSE)","v":{"$error":"#N/A"}},{"$f":"'Order Form'!C64","v":0},{"$f":"IF(A52=\"SEL\",VLOOKUP(VLOOKUP(C52,Items!A:I,9,FALSE),$C$2:$D$9,2,FALSE),IF(A52=\"CR\",VLOOKUP(VLOOKUP(C52,Items!A:I,9,FALSE),$C$2:$E$9,3,FALSE),\"\"))","v":""},{"$f":"'Order Form'!D64","v":0},{"$nulls":4},{"$f":"VLOOKUP(C52,Items!A:M,13,FALSE)","v":{"$error":"#N/A"}},0]
[{"$f":"'Order Form'!H65","v":""},{"$f":"VLOOKUP(C53,Items!A:J,10,FALSE)","v":{"$error":"#N/A"}},{"$f":"'Order Form'!C65","v":0},{"$f":"IF(A53=\"SEL\",VLOOKUP(VLOOKUP(C53,Items!A:I,9,FALSE),$C$2:$D$9,2,FALSE),IF(A53=\"CR\",VLOOKUP(VLOOKUP(C53,Items!A:I,9,FALSE),$C$2:$E$9,3,FALSE),\"\"))","v":""},{"$f":"'Order Form'!D65","v":0},{"$nulls":4},{"$f":"VLOOKUP(C53,Items!A:M,13,FALSE)","v":{"$error":"#N/A"}},0]
[{"$f":"'Order Form'!H66","v":""},{"$f":"VLOOKUP(C54,Items!A:J,10,FALSE)","v":{"$error":"#N/A"}},{"$f":"'Order Form'!C66","v":0},{"$f":"IF(A54=\"SEL\",VLOOKUP(VLOOKUP(C54,Items!A:I,9,FALSE),$C$2:$D$9,2,FALSE),IF(A54=\"CR\",VLOOKUP(VLOOKUP(C54,Items!A:I,9,FALSE),$C$2:$E$9,3,FALSE),\"\"))","v":""},{"$f":"'Order Form'!D66","v":0},{"$nulls":4},{"$f":"VLOOKUP(C54,Items!A:M,13,FALSE)","v":{"$error":"#N/A"}},0]
[{"$f":"'Order Form'!H67","v":""},{"$f":"VLOOKUP(C55,Items!A:J,10,FALSE)","v":{"$error":"#N/A"}},{"$f":"'Order Form'!C67","v":0},{"$f":"IF(A55=\"SEL\",VLOOKUP(VLOOKUP(C55,Items!A:I,9,FALSE),$C$2:$D$9,2,FALSE),IF(A55=\"CR\",VLOOKUP(VLOOKUP(C55,Items!A:I,9,FALSE),$C$2:$E$9,3,FALSE),\"\"))","v":""},{"$f":"'Order Form'!D67","v":0},{"$nulls":4},{"$f":"VLOOKUP(C55,Items!A:M,13,FALSE)","v":{"$error":"#N/A"}},0]
[{"$f":"'Order Form'!H68","v":""},{"$f":"VLOOKUP(C56,Items!A:J,10,FALSE)","v":{"$error":"#N/A"}},{"$f":"'Order Form'!C68","v":0},{"$f":"IF(A56=\"SEL\",VLOOKUP(VLOOKUP(C56,Items!A:I,9,FALSE),$C$2:$D$9,2,FALSE),IF(A56=\"CR\",VLOOKUP(VLOOKUP(C56,Items!A:I,9,FALSE),$C$2:$E$9,3,FALSE),\"\"))","v":""},{"$f":"'Order Form'!D68","v":0},{"$nulls":4},{"$f":"VLOOKUP(C56,Items!A:M,13,FALSE)","v":{"$error":"#N/A"}},0]
[{"$f":"'Order Form'!H69","v":""},{"$f":"VLOOKUP(C57,Items!A:J,10,FALSE)","v":{"$error":"#N/A"}},{"$f":"'Order Form'!C69","v":0},{"$f":"IF(A57=\"SEL\",VLOOKUP(VLOOKUP(C57,Items!A:I,9,FALSE),$C$2:$D$9,2,FALSE),IF(A57=\"CR\",VLOOKUP(VLOOKUP(C57,Items!A:I,9,FALSE),$C$2:$E$9,3,FALSE),\"\"))","v":""},{"$f":"'Order Form'!D69","v":0},{"$nulls":4},{"$f":"VLOOKUP(C57,Items!A:M,13,FALSE)","v":{"$error":"#N/A"}},0]
[{"$f":"'Order Form'!H70","v":""},{"$f":"VLOOKUP(C58,Items!A:J,10,FALSE)","v":{"$error":"#N/A"}},{"$f":"'Order Form'!C70","v":0},{"$f":"IF(A58=\"SEL\",VLOOKUP(VLOOKUP(C58,Items!A:I,9,FALSE),$C$2:$D$9,2,FALSE),IF(A58=\"CR\",VLOOKUP(VLOOKUP(C58,Items!A:I,9,FALSE),$C$2:$E$9,3,FALSE),\"\"))","v":""},{"$f":"'Order Form'!D70","v":0},{"$nulls":4},{"$f":"VLOOKUP(C58,Items!A:M,13,FALSE)","v":{"$error":"#N/A"}},0]
[{"$f":"'Order Form'!H71","v":""},{"$f":"VLOOKUP(C59,Items!A:J,10,FALSE)","v":{"$error":"#N/A"}},{"$f":"'Order Form'!C71","v":0},{"$f":"IF(A59=\"SEL\",VLOOKUP(VLOOKUP(C59,Items!A:I,9,FALSE),$C$2:$D$9,2,FALSE),IF(A59=\"CR\",VLOOKUP(VLOOKUP(C59,Items!A:I,9,FALSE),$C$2:$E$9,3,FALSE),\"\"))","v":""},{"$f":"'Order Form'!D71","v":0},{"$nulls":4},{"$f":"VLOOKUP(C59,Items!A:M,13,FALSE)","v":{"$error":"#N/A"}},0]
[{"$f":"'Order Form'!H72","v":""},{"$f":"VLOOKUP(C60,Items!A:J,10,FALSE)","v":{"$error":"#N/A"}},{"$f":"'Order Form'!C72","v":0},{"$f":"IF(A60=\"SEL\",VLOOKUP(VLOOKUP(C60,Items!A:I,9,FALSE),$C$2:$D$9,2,FALSE),IF(A60=\"CR\",VLOOKUP(VLOOKUP(C60,Items!A:I,9,FALSE),$C$2:$E$9,3,FALSE),\"\"))","v":""},{"$f":"'Order Form'!D72","v":0},{"$nulls":4},{"$f":"VLOOKUP(C60,Items!A:M,13,FALSE)","v":{"$error":"#N/A"}},0]
[{"$f":"'Order Form'!H73","v":""},{"$f":"VLOOKUP(C61,Items!A:J,10,FALSE)","v":{"$error":"#N/A"}},{"$f":"'Order Form'!C73","v":0},{"$f":"IF(A61=\"SEL\",VLOOKUP(VLOOKUP(C61,Items!A:I,9,FALSE),$C$2:$D$9,2,FALSE),IF(A61=\"CR\",VLOOKUP(VLOOKUP(C61,Items!A:I,9,FALSE),$C$2:$E$9,3,FALSE),\"\"))","v":""},{"$f":"'Order Form'!D73","v":0},{"$nulls":4},{"$f":"VLOOKUP(C61,Items!A:M,13,FALSE)","v":{"$error":"#N/A"}},0]
[{"$f":"'Order Form'!H74","v":""},{"$f":"VLOOKUP(C62,Items!A:J,10,FALSE)","v":{"$error":"#N/A"}},{"$f":"'Order Form'!C74","v":0},{"$f":"IF(A62=\"SEL\",VLOOKUP(VLOOKUP(C62,Items!A:I,9,FALSE),$C$2:$D$9,2,FALSE),IF(A62=\"CR\",VLOOKUP(VLOOKUP(C62,Items!A:I,9,FALSE),$C$2:$E$9,3,FALSE),\"\"))","v":""},{"$f":"'Order Form'!D74","v":0},{"$nulls":4},{"$f":"VLOOKUP(C62,Items!A:M,13,FALSE)","v":{"$error":"#N/A"}},0]
[{"$f":"'Order Form'!H75","v":""},{"$f":"VLOOKUP(C63,Items!A:J,10,FALSE)","v":{"$error":"#N/A"}},{"$f":"'Order Form'!C75","v":0},{"$f":"IF(A63=\"SEL\",VLOOKUP(VLOOKUP(C63,Items!A:I,9,FALSE),$C$2:$D$9,2,FALSE),IF(A63=\"CR\",VLOOKUP(VLOOKUP(C63,Items!A:I,9,FALSE),$C$2:$E$9,3,FALSE),\"\"))","v":""},{"$f":"'Order Form'!D75","v":0},{"$nulls":4},{"$f":"VLOOKUP(C63,Items!A:M,13,FALSE)","v":{"$error":"#N/A"}},0]
[{"$f":"'Order Form'!H76","v":""},{"$f":"VLOOKUP(C64,Items!A:J,10,FALSE)","v":{"$error":"#N/A"}},{"$f":"'Order Form'!C76","v":0},{"$f":"IF(A64=\"SEL\",VLOOKUP(VLOOKUP(C64,Items!A:I,9,FALSE),$C$2:$D$9,2,FALSE),IF(A64=\"CR\",VLOOKUP(VLOOKUP(C64,Items!A:I,9,FALSE),$C$2:$E$9,3,FALSE),\"\"))","v":""},{"$f":"'Order Form'!D76","v":0},{"$nulls":4},{"$f":"VLOOKUP(C64,Items!A:M,13,FALSE)","v":{"$error":"#N/A"}},0]
[{"$f":"'Order Form'!H77","v":""},{"$f":"VLOOKUP(C65,Items!A:J,10,FALSE)","v":{"$error":"#N/A"}},{"$f":"'Order Form'!C77","v":0},{"$f":"IF(A65=\"SEL\",VLOOKUP(VLOOKUP(C65,Items!A:I,9,FALSE),$C$2:$D$9,2,FALSE),IF(A65=\"CR\",VLOOKUP(VLOOKUP(C65,Items!A:I,9,FALSE),$C$2:$E$9,3,FALSE),\"\"))","v":""},{"$f":"'Order Form'!D77","v":0},{"$nulls":4},{"$f":"VLOOKUP(C65,Items!A:M,13,FALSE)","v":{"$error":"#N/A"}},0]
[{"$f":"'Order Form'!H78","v":""},{"$f":"VLOOKUP(C66,Items!A:J,10,FALSE)","v":{"$error":"#N/A"}},{"$f":"'Order Form'!C78","v":0},{"$f":"IF(A66=\"SEL\",VLOOKUP(VLOOKUP(C66,Items!A:I,9,FALSE),$C$2:$D$9,2,FALSE),IF(A66=\"CR\",VLOOKUP(VLOOKUP(C66,Items!A:I,9,FALSE),$C$2:$E$9,3,FALSE),\"\"))","v":""},{"$f":"'Order Form'!D78","v":0},{"$nulls":4},{"$f":"VLOOKUP(C66,Items!A:M,13,FALSE)","v":{"$error":"#N/A"}},0]
[{"$f":"'Order Form'!H79","v":""},{"$f":"VLOOKUP(C67,Items!A:J,10,FALSE)","v":{"$error":"#N/A"}},{"$f":"'Order Form'!C79","v":0},{"$f":"IF(A67=\"SEL\",VLOOKUP(VLOOKUP(C67,Items!A:I,9,FALSE),$C$2:$D$9,2,FALSE),IF(A67=\"CR\",VLOOKUP(VLOOKUP(C67,Items!A:I,9,FALSE),$C$2:$E$9,3,FALSE),\"\"))","v":""},{"$f":"'Order Form'!D79","v":0},{"$nulls":4},{"$f":"VLOOKUP(C67,Items!A:M,13,FALSE)","v":{"$error":"#N/A"}},0]
[{"$f":"'Order Form'!H80","v":""},{"$f":"VLOOKUP(C68,Items!A:J,10,FALSE)","v":{"$error":"#N/A"}},{"$f":"'Order Form'!C80","v":0},{"$f":"IF(A68=\"SEL\",VLOOKUP(VLOOKUP(C68,Items!A:I,9,FALSE),$C$2:$D$9,2,FALSE),IF(A68=\"CR\",VLOOKUP(VLOOKUP(C68,Items!A:I,9,FALSE),$C$2:$E$9,3,FALSE),\"\"))","v":""},{"$f":"'Order Form'!D80","v":0},{"$nulls":4},{"$f":"VLOOKUP(C68,Items!A:M,13,FALSE)","v":{"$error":"#N/A"}},0]
[{"$f":"'Order Form'!H81","v":""},{"$f":"VLOOKUP(C69,Items!A:J,10,FALSE)","v":{"$error":"#N/A"}},{"$f":"'Order Form'!C81","v":0},{"$f":"IF(A69=\"SEL\",VLOOKUP(VLOOKUP(C69,Items!A:I,9,FALSE),$C$2:$D$9,2,FALSE),IF(A69=\"CR\",VLOOKUP(VLOOKUP(C69,Items!A:I,9,FALSE),$C$2:$E$9,3,FALSE),\"\"))","v":""},{"$f":"'Order Form'!D81","v":0},{"$nulls":4},{"$f":"VLOOKUP(C69,Items!A:M,13,FALSE)","v":{"$error":"#N/A"}},0]
[{"$f":"'Order Form'!H82","v":""},{"$f":"VLOOKUP(C70,Items!A:J,10,FALSE)","v":{"$error":"#N/A"}},{"$f":"'Order Form'!C82","v":0},{"$f":"IF(A70=\"SEL\",VLOOKUP(VLOOKUP(C70,Items!A:I,9,FALSE),$C$2:$D$9,2,FALSE),IF(A70=\"CR\",VLOOKUP(VLOOKUP(C70,Items!A:I,9,FALSE),$C$2:$E$9,3,FALSE),\"\"))","v":""},{"$f":"'Order Form'!D82","v":0},{"$nulls":4},{"$f":"VLOOKUP(C70,Items!A:M,13,FALSE)","v":{"$error":"#N/A"}},0]
[{"$f":"'Order Form'!H83","v":""},{"$f":"VLOOKUP(C71,Items!A:J,10,FALSE)","v":{"$error":"#N/A"}},{"$f":"'Order Form'!C83","v":0},{"$f":"IF(A71=\"SEL\",VLOOKUP(VLOOKUP(C71,Items!A:I,9,FALSE),$C$2:$D$9,2,FALSE),IF(A71=\"CR\",VLOOKUP(VLOOKUP(C71,Items!A:I,9,FALSE),$C$2:$E$9,3,FALSE),\"\"))","v":""},{"$f":"'Order Form'!D83","v":0},{"$nulls":4},{"$f":"VLOOKUP(C71,Items!A:M,13,FALSE)","v":{"$error":"#N/A"}},0]
[{"$f":"'Order Form'!H84","v":""},{"$f":"VLOOKUP(C72,Items!A:J,10,FALSE)","v":{"$error":"#N/A"}},{"$f":"'Order Form'!C84","v":0},{"$f":"IF(A72=\"SEL\",VLOOKUP(VLOOKUP(C72,Items!A:I,9,FALSE),$C$2:$D$9,2,FALSE),IF(A72=\"CR\",VLOOKUP(VLOOKUP(C72,Items!A:I,9,FALSE),$C$2:$E$9,3,FALSE),\"\"))","v":""},{"$f":"'Order Form'!D84","v":0},{"$nulls":4},{"$f":"VLOOKUP(C72,Items!A:M,13,FALSE)","v":{"$error":"#N/A"}},0]
[{"$f":"'Order Form'!H85","v":""},{"$f":"VLOOKUP(C73,Items!A:J,10,FALSE)","v":{"$error":"#N/A"}},{"$f":"'Order Form'!C85","v":0},{"$f":"IF(A73=\"SEL\",VLOOKUP(VLOOKUP(C73,Items!A:I,9,FALSE),$C$2:$D$9,2,FALSE),IF(A73=\"CR\",VLOOKUP(VLOOKUP(C73,Items!A:I,9,FALSE),$C$2:$E$9,3,FALSE),\"\"))","v":""},{"$f":"'Order Form'!D85","v":0},{"$nulls":4},{"$f":"VLOOKUP(C73,Items!A:M,13,FALSE)","v":{"$error":"#N/A"}},0]
[{"$f":"'Order Form'!H86","v":""},{"$f":"VLOOKUP(C74,Items!A:J,10,FALSE)","v":{"$error":"#N/A"}},{"$f":"'Order Form'!C86","v":0},{"$f":"IF(A74=\"SEL\",VLOOKUP(VLOOKUP(C74,Items!A:I,9,FALSE),$C$2:$D$9,2,FALSE),IF(A74=\"CR\",VLOOKUP(VLOOKUP(C74,Items!A:I,9,FALSE),$C$2:$E$9,3,FALSE),\"\"))","v":""},{"$f":"'Order Form'!D86","v":0},{"$nulls":4},{"$f":"VLOOKUP(C74,Items!A:M,13,FALSE)","v":{"$error":"#N/A"}},0]
[{"$f":"'Order Form'!H87","v":""},{"$f":"VLOOKUP(C75,Items!A:J,10,FALSE)","v":{"$error":"#N/A"}},{"$f":"'Order Form'!C87","v":0},{"$f":"IF(A75=\"SEL\",VLOOKUP(VLOOKUP(C75,Items!A:I,9,FALSE),$C$2:$D$9,2,FALSE),IF(A75=\"CR\",VLOOKUP(VLOOKUP(C75,Items!A:I,9,FALSE),$C$2:$E$9,3,FALSE),\"\"))","v":""},{"$f":"'Order Form'!D87","v":0},{"$nulls":4},{"$f":"VLOOKUP(C75,Items!A:M,13,FALSE)","v":{"$error":"#N/A"}},0]
[{"$f":"'Order Form'!H88","v":""},{"$f":"VLOOKUP(C76,Items!A:J,10,FALSE)","v":{"$error":"#N/A"}},{"$f":"'Order Form'!C88","v":0},{"$f":"IF(A76=\"SEL\",VLOOKUP(VLOOKUP(C76,Items!A:I,9,FALSE),$C$2:$D$9,2,FALSE),IF(A76=\"CR\",VLOOKUP(VLOOKUP(C76,Items!A:I,9,FALSE),$C$2:$E$9,3,FALSE),\"\"))","v":""},{"$f":"'Order Form'!D88","v":0},{"$nulls":4},{"$f":"VLOOKUP(C76,Items!A:M,13,FALSE)","v":{"$error":"#N/A"}},{"$f":"IFERROR(J76*E76,0)","v":0}]
[{"$f":"'Order Form'!H89","v":""},{"$f":"VLOOKUP(C77,Items!A:J,10,FALSE)","v":{"$error":"#N/A"}},{"$f":"'Order Form'!C89","v":0},{"$f":"IF(A77=\"SEL\",VLOOKUP(VLOOKUP(C77,Items!A:I,9,FALSE),$C$2:$D$9,2,FALSE),IF(A77=\"CR\",VLOOKUP(VLOOKUP(C77,Items!A:I,9,FALSE),$C$2:$E$9,3,FALSE),\"\"))","v":""},{"$f":"'Order Form'!D89","v":0},{"$nulls":4},{"$f":"VLOOKUP(C77,Items!A:M,13,FALSE)","v":{"$error":"#N/A"}},0]
[{"$f":"'Order Form'!H90","v":""},{"$f":"VLOOKUP(C78,Items!A:J,10,FALSE)","v":{"$error":"#N/A"}},{"$f":"'Order Form'!C90","v":0},{"$f":"IF(A78=\"SEL\",VLOOKUP(VLOOKUP(C78,Items!A:I,9,FALSE),$C$2:$D$9,2,FALSE),IF(A78=\"CR\",VLOOKUP(VLOOKUP(C78,Items!A:I,9,FALSE),$C$2:$E$9,3,FALSE),\"\"))","v":""},{"$f":"'Order Form'!D90","v":0},{"$nulls":4},{"$f":"VLOOKUP(C78,Items!A:M,13,FALSE)","v":{"$error":"#N/A"}},0]
[{"$f":"'Order Form'!H91","v":""},{"$f":"VLOOKUP(C79,Items!A:J,10,FALSE)","v":{"$error":"#N/A"}},{"$f":"'Order Form'!C91","v":0},{"$f":"IF(A79=\"SEL\",VLOOKUP(VLOOKUP(C79,Items!A:I,9,FALSE),$C$2:$D$9,2,FALSE),IF(A79=\"CR\",VLOOKUP(VLOOKUP(C79,Items!A:I,9,FALSE),$C$2:$E$9,3,FALSE),\"\"))","v":""},{"$f":"'Order Form'!D91","v":0},{"$nulls":4},{"$f":"VLOOKUP(C79,Items!A:M,13,FALSE)","v":{"$error":"#N/A"}},0]
[{"$f":"'Order Form'!H92","v":""},{"$f":"VLOOKUP(C80,Items!A:J,10,FALSE)","v":{"$error":"#N/A"}},{"$f":"'Order Form'!C92","v":0},{"$f":"IF(A80=\"SEL\",VLOOKUP(VLOOKUP(C80,Items!A:I,9,FALSE),$C$2:$D$9,2,FALSE),IF(A80=\"CR\",VLOOKUP(VLOOKUP(C80,Items!A:I,9,FALSE),$C$2:$E$9,3,FALSE),\"\"))","v":""},{"$f":"'Order Form'!D92","v":0},{"$nulls":4},{"$f":"VLOOKUP(C80,Items!A:M,13,FALSE)","v":{"$error":"#N/A"}},0]
[{"$f":"'Order Form'!H93","v":""},{"$f":"VLOOKUP(C81,Items!A:J,10,FALSE)","v":{"$error":"#N/A"}},{"$f":"'Order Form'!C93","v":0},{"$f":"IF(A81=\"SEL\",VLOOKUP(VLOOKUP(C81,Items!A:I,9,FALSE),$C$2:$D$9,2,FALSE),IF(A81=\"CR\",VLOOKUP(VLOOKUP(C81,Items!A:I,9,FALSE),$C$2:$E$9,3,FALSE),\"\"))","v":""},{"$f":"'Order Form'!D93","v":0},{"$nulls":4},{"$f":"VLOOKUP(C81,Items!A:M,13,FALSE)","v":{"$error":"#N/A"}},0]
[{"$f":"'Order Form'!H94","v":""},{"$f":"VLOOKUP(C82,Items!A:J,10,FALSE)","v":{"$error":"#N/A"}},{"$f":"'Order Form'!C94","v":0},{"$f":"IF(A82=\"SEL\",VLOOKUP(VLOOKUP(C82,Items!A:I,9,FALSE),$C$2:$D$9,2,FALSE),IF(A82=\"CR\",VLOOKUP(VLOOKUP(C82,Items!A:I,9,FALSE),$C$2:$E$9,3,FALSE),\"\"))","v":""},{"$f":"'Order Form'!D94","v":0},{"$nulls":4},{"$f":"VLOOKUP(C82,Items!A:M,13,FALSE)","v":{"$error":"#N/A"}},0]
[{"$f":"'Order Form'!H95","v":""},{"$f":"VLOOKUP(C83,Items!A:J,10,FALSE)","v":{"$error":"#N/A"}},{"$f":"'Order Form'!C95","v":0},{"$f":"IF(A83=\"SEL\",VLOOKUP(VLOOKUP(C83,Items!A:I,9,FALSE),$C$2:$D$9,2,FALSE),IF(A83=\"CR\",VLOOKUP(VLOOKUP(C83,Items!A:I,9,FALSE),$C$2:$E$9,3,FALSE),\"\"))","v":""},{"$f":"'Order Form'!D95","v":0},{"$nulls":4},{"$f":"VLOOKUP(C83,Items!A:M,13,FALSE)","v":{"$error":"#N/A"}},0]
[{"$f":"'Order Form'!H96","v":""},{"$f":"VLOOKUP(C84,Items!A:J,10,FALSE)","v":{"$error":"#N/A"}},{"$f":"'Order Form'!C96","v":0},{"$f":"IF(A84=\"SEL\",VLOOKUP(VLOOKUP(C84,Items!A:I,9,FALSE),$C$2:$D$9,2,FALSE),IF(A84=\"CR\",VLOOKUP(VLOOKUP(C84,Items!A:I,9,FALSE),$C$2:$E$9,3,FALSE),\"\"))","v":""},{"$f":"'Order Form'!D96","v":0},{"$nulls":4},{"$f":"VLOOKUP(C84,Items!A:M,13,FALSE)","v":{"$error":"#N/A"}},0]
[{"$f":"'Order Form'!H97","v":""},{"$f":"VLOOKUP(C85,Items!A:J,10,FALSE)","v":{"$error":"#N/A"}},{"$f":"'Order Form'!C97","v":0},{"$f":"IF(A85=\"SEL\",VLOOKUP(VLOOKUP(C85,Items!A:I,9,FALSE),$C$2:$D$9,2,FALSE),IF(A85=\"CR\",VLOOKUP(VLOOKUP(C85,Items!A:I,9,FALSE),$C$2:$E$9,3,FALSE),\"\"))","v":""},{"$f":"'Order Form'!D97","v":0},{"$nulls":4},{"$f":"VLOOKUP(C85,Items!A:M,13,FALSE)","v":{"$error":"#N/A"}},0]
[{"$f":"'Order Form'!H98","v":""},{"$f":"VLOOKUP(C86,Items!A:J,10,FALSE)","v":{"$error":"#N/A"}},{"$f":"'Order Form'!C98","v":0},{"$f":"IF(A86=\"SEL\",VLOOKUP(VLOOKUP(C86,Items!A:I,9,FALSE),$C$2:$D$9,2,FALSE),IF(A86=\"CR\",VLOOKUP(VLOOKUP(C86,Items!A:I,9,FALSE),$C$2:$E$9,3,FALSE),\"\"))","v":""},{"$f":"'Order Form'!D98","v":0},{"$nulls":4},{"$f":"VLOOKUP(C86,Items!A:M,13,FALSE)","v":{"$error":"#N/A"}},0]
[{"$f":"'Order Form'!H99","v":""},{"$f":"VLOOKUP(C87,Items!A:J,10,FALSE)","v":{"$error":"#N/A"}},{"$f":"'Order Form'!C99","v":0},{"$f":"IF(A87=\"SEL\",VLOOKUP(VLOOKUP(C87,Items!A:I,9,FALSE),$C$2:$D$9,2,FALSE),IF(A87=\"CR\",VLOOKUP(VLOOKUP(C87,Items!A:I,9,FALSE),$C$2:$E$9,3,FALSE),\"\"))","v":""},{"$f":"'Order Form'!D99","v":0},{"$nulls":4},{"$f":"VLOOKUP(C87,Items!A:M,13,FALSE)","v":{"$error":"#N/A"}},0]
[{"$f":"'Order Form'!H100","v":""},{"$f":"VLOOKUP(C88,Items!A:J,10,FALSE)","v":{"$error":"#N/A"}},{"$f":"'Order Form'!C100","v":0},{"$f":"IF(A88=\"SEL\",VLOOKUP(VLOOKUP(C88,Items!A:I,9,FALSE),$C$2:$D$9,2,FALSE),IF(A88=\"CR\",VLOOKUP(VLOOKUP(C88,Items!A:I,9,FALSE),$C$2:$E$9,3,FALSE),\"\"))","v":""},{"$f":"'Order Form'!D100","v":0},{"$nulls":4},{"$f":"VLOOKUP(C88,Items!A:M,13,FALSE)","v":{"$error":"#N/A"}},0]
[{"$f":"'Order Form'!H101","v":""},{"$f":"VLOOKUP(C89,Items!A:J,10,FALSE)","v":{"$error":"#N/A"}},{"$f":"'Order Form'!C101","v":0},{"$f":"IF(A89=\"SEL\",VLOOKUP(VLOOKUP(C89,Items!A:I,9,FALSE),$C$2:$D$9,2,FALSE),IF(A89=\"CR\",VLOOKUP(VLOOKUP(C89,Items!A:I,9,FALSE),$C$2:$E$9,3,FALSE),\"\"))","v":""},{"$f":"'Order Form'!D101","v":0},{"$nulls":4},{"$f":"VLOOKUP(C89,Items!A:M,13,FALSE)","v":{"$error":"#N/A"}},0]
[{"$f":"'Order Form'!H102","v":""},{"$f":"VLOOKUP(C90,Items!A:J,10,FALSE)","v":{"$error":"#N/A"}},{"$f":"'Order Form'!C102","v":0},{"$f":"IF(A90=\"SEL\",VLOOKUP(VLOOKUP(C90,Items!A:I,9,FALSE),$C$2:$D$9,2,FALSE),IF(A90=\"CR\",VLOOKUP(VLOOKUP(C90,Items!A:I,9,FALSE),$C$2:$E$9,3,FALSE),\"\"))","v":""},{"$f":"'Order Form'!D102","v":0},{"$nulls":4},{"$f":"VLOOKUP(C90,Items!A:M,13,FALSE)","v":{"$error":"#N/A"}},0]
[{"$f":"'Order Form'!H103","v":""},{"$f":"VLOOKUP(C91,Items!A:J,10,FALSE)","v":{"$error":"#N/A"}},{"$f":"'Order Form'!C103","v":0},{"$f":"IF(A91=\"SEL\",VLOOKUP(VLOOKUP(C91,Items!A:I,9,FALSE),$C$2:$D$9,2,FALSE),IF(A91=\"CR\",VLOOKUP(VLOOKUP(C91,Items!A:I,9,FALSE),$C$2:$E$9,3,FALSE),\"\"))","v":""},{"$f":"'Order Form'!D103","v":0},{"$nulls":4},{"$f":"VLOOKUP(C91,Items!A:M,13,FALSE)","v":{"$error":"#N/A"}},0]
[{"$f":"'Order Form'!H104","v":""},{"$f":"VLOOKUP(C92,Items!A:J,10,FALSE)","v":{"$error":"#N/A"}},{"$f":"'Order Form'!C104","v":0},{"$f":"IF(A92=\"SEL\",VLOOKUP(VLOOKUP(C92,Items!A:I,9,FALSE),$C$2:$D$9,2,FALSE),IF(A92=\"CR\",VLOOKUP(VLOOKUP(C92,Items!A:I,9,FALSE),$C$2:$E$9,3,FALSE),\"\"))","v":""},{"$f":"'Order Form'!D104","v":0},{"$nulls":4},{"$f":"VLOOKUP(C92,Items!A:M,13,FALSE)","v":{"$error":"#N/A"}},0]
[{"$f":"'Order Form'!H105","v":""},{"$f":"VLOOKUP(C93,Items!A:J,10,FALSE)","v":{"$error":"#N/A"}},{"$f":"'Order Form'!C105","v":0},{"$f":"IF(A93=\"SEL\",VLOOKUP(VLOOKUP(C93,Items!A:I,9,FALSE),$C$2:$D$9,2,FALSE),IF(A93=\"CR\",VLOOKUP(VLOOKUP(C93,Items!A:I,9,FALSE),$C$2:$E$9,3,FALSE),\"\"))","v":""},{"$f":"'Order Form'!D105","v":0},{"$nulls":4},{"$f":"VLOOKUP(C93,Items!A:M,13,FALSE)","v":{"$error":"#N/A"}},0]
[{"$f":"'Order Form'!H106","v":""},{"$f":"VLOOKUP(C94,Items!A:J,10,FALSE)","v":{"$error":"#N/A"}},{"$f":"'Order Form'!C106","v":0},{"$f":"IF(A94=\"SEL\",VLOOKUP(VLOOKUP(C94,Items!A:I,9,FALSE),$C$2:$D$9,2,FALSE),IF(A94=\"CR\",VLOOKUP(VLOOKUP(C94,Items!A:I,9,FALSE),$C$2:$E$9,3,FALSE),\"\"))","v":""},{"$f":"'Order Form'!D106","v":0},{"$nulls":4},{"$f":"VLOOKUP(C94,Items!A:M,13,FALSE)","v":{"$error":"#N/A"}},0]
[{"$f":"'Order Form'!H107","v":""},{"$f":"VLOOKUP(C95,Items!A:J,10,FALSE)","v":{"$error":"#N/A"}},{"$f":"'Order Form'!C107","v":0},{"$f":"IF(A95=\"SEL\",VLOOKUP(VLOOKUP(C95,Items!A:I,9,FALSE),$C$2:$D$9,2,FALSE),IF(A95=\"CR\",VLOOKUP(VLOOKUP(C95,Items!A:I,9,FALSE),$C$2:$E$9,3,FALSE),\"\"))","v":""},{"$f":"'Order Form'!D107","v":0},{"$nulls":4},{"$f":"VLOOKUP(C95,Items!A:M,13,FALSE)","v":{"$error":"#N/A"}},0]
[{"$f":"'Order Form'!H108","v":""},{"$f":"VLOOKUP(C96,Items!A:J,10,FALSE)","v":{"$error":"#N/A"}},{"$f":"'Order Form'!C108","v":0},{"$f":"IF(A96=\"SEL\",VLOOKUP(VLOOKUP(C96,Items!A:I,9,FALSE),$C$2:$D$9,2,FALSE),IF(A96=\"CR\",VLOOKUP(VLOOKUP(C96,Items!A:I,9,FALSE),$C$2:$E$9,3,FALSE),\"\"))","v":""},{"$f":"'Order Form'!D108","v":0},{"$nulls":4},{"$f":"VLOOKUP(C96,Items!A:M,13,FALSE)","v":{"$error":"#N/A"}},0]
[{"$f":"'Order Form'!H109","v":""},{"$f":"VLOOKUP(C97,Items!A:J,10,FALSE)","v":{"$error":"#N/A"}},{"$f":"'Order Form'!C109","v":0},{"$f":"IF(A97=\"SEL\",VLOOKUP(VLOOKUP(C97,Items!A:I,9,FALSE),$C$2:$D$9,2,FALSE),IF(A97=\"CR\",VLOOKUP(VLOOKUP(C97,Items!A:I,9,FALSE),$C$2:$E$9,3,FALSE),\"\"))","v":""},{"$f":"'Order Form'!D109","v":0},{"$nulls":4},{"$f":"VLOOKUP(C97,Items!A:M,13,FALSE)","v":{"$error":"#N/A"}},0]
[{"$f":"'Order Form'!H110","v":""},{"$f":"VLOOKUP(C98,Items!A:J,10,FALSE)","v":{"$error":"#N/A"}},{"$f":"'Order Form'!C110","v":0},{"$f":"IF(A98=\"SEL\",VLOOKUP(VLOOKUP(C98,Items!A:I,9,FALSE),$C$2:$D$9,2,FALSE),IF(A98=\"CR\",VLOOKUP(VLOOKUP(C98,Items!A:I,9,FALSE),$C$2:$E$9,3,FALSE),\"\"))","v":""},{"$f":"'Order Form'!D110","v":0},{"$nulls":4},{"$f":"VLOOKUP(C98,Items!A:M,13,FALSE)","v":{"$error":"#N/A"}},0]
[{"$f":"'Order Form'!H111","v":""},{"$f":"VLOOKUP(C99,Items!A:J,10,FALSE)","v":{"$error":"#N/A"}},{"$f":"'Order Form'!C111","v":0},{"$f":"IF(A99=\"SEL\",VLOOKUP(VLOOKUP(C99,Items!A:I,9,FALSE),$C$2:$D$9,2,FALSE),IF(A99=\"CR\",VLOOKUP(VLOOKUP(C99,Items!A:I,9,FALSE),$C$2:$E$9,3,FALSE),\"\"))","v":""},{"$f":"'Order Form'!D111","v":0},{"$nulls":4},{"$f":"VLOOKUP(C99,Items!A:M,13,FALSE)","v":{"$error":"#N/A"}},0]
[{"$f":"'Order Form'!H112","v":""},{"$f":"VLOOKUP(C100,Items!A:J,10,FALSE)","v":{"$error":"#N/A"}},{"$f":"'Order Form'!C112","v":0},{"$f":"IF(A100=\"SEL\",VLOOKUP(VLOOKUP(C100,Items!A:I,9,FALSE),$C$2:$D$9,2,FALSE),IF(A100=\"CR\",VLOOKUP(VLOOKUP(C100,Items!A:I,9,FALSE),$C$2:$E$9,3,FALSE),\"\"))","v":""},{"$f":"'Order Form'!D112","v":0},{"$nulls":4},{"$f":"VLOOKUP(C100,Items!A:M,13,FALSE)","v":{"$error":"#N/A"}},0]
[{"$f":"'Order Form'!H113","v":""},{"$f":"VLOOKUP(C101,Items!A:J,10,FALSE)","v":{"$error":"#N/A"}},{"$f":"'Order Form'!C113","v":0},{"$f":"IF(A101=\"SEL\",VLOOKUP(VLOOKUP(C101,Items!A:I,9,FALSE),$C$2:$D$9,2,FALSE),IF(A101=\"CR\",VLOOKUP(VLOOKUP(C101,Items!A:I,9,FALSE),$C$2:$E$9,3,FALSE),\"\"))","v":""},{"$f":"'Order Form'!D113","v":0},{"$nulls":4},{"$f":"VLOOKUP(C101,Items!A:M,13,FALSE)","v":{"$error":"#N/A"}},0]
[{"$f":"'Order Form'!H114","v":""},{"$f":"VLOOKUP(C102,Items!A:J,10,FALSE)","v":{"$error":"#N/A"}},{"$f":"'Order Form'!C114","v":0},{"$f":"IF(A102=\"SEL\",VLOOKUP(VLOOKUP(C102,Items!A:I,9,FALSE),$C$2:$D$9,2,FALSE),IF(A102=\"CR\",VLOOKUP(VLOOKUP(C102,Items!A:I,9,FALSE),$C$2:$E$9,3,FALSE),\"\"))","v":""},{"$f":"'Order Form'!D114","v":0},{"$nulls":4},{"$f":"VLOOKUP(C102,Items!A:M,13,FALSE)","v":{"$error":"#N/A"}},0]